{"text_format":"1","workbook":"xlsx","n_sheets":20,"sheets":["YARIŞMA BİLGİLERİ","KAYIT LİSTESİ","1.Gün Start Listesi","100m.","400m.","1500m.","100m.Eng","10000M.","Gülle","Çekiç","1.GÜN","2.Gün Start Listesi ","2.GÜN","800m.","200m.","3000m.Eng","5000m.","400m.Eng","Disk","Cirit"],"not_rendered":{"charts":0,"images":24,"macros":1,"external_links":0,"defined_names":44,"comments":0,"pivot_tables":0},"unopened":[],"bounds":{"document_bytes":16777216,"sheet_cells":100000,"rows_first":2000,"rows_last":500,"rows_between":2000,"halvings":0,"cell_chars":16384,"cell_head_chars":4096},"cells_cut":0,"cells_raw":0,"read":"whole","date_system":"1900"}

{"sheet":"YARIŞMA BİLGİLERİ","index":0,"n_rows":23,"n_cols":6,"rows_kept":23,"cut":false,"hidden":false,"merged":[[22,0,22,4],[20,5,20,10],[21,5,21,10],[23,5,23,10],[26,0,26,10],[24,0,24,10],[1,0,1,10],[12,0,12,10],[14,0,14,10],[13,0,13,10],[23,0,23,4],[18,5,18,10],[19,5,19,10],[17,0,17,10],[11,0,11,10],[16,0,16,10],[18,0,18,4],[19,0,19,4],[20,0,20,4],[21,0,21,4]]}
[]
["Türkiye Atletizm Federasyonu\nMersin Atletizm İl Temsilciliği\n"]
[]
[]
[]
[]
[]
[]
[]
[]
[]
[]
[]
[{"$f":"F19","v":"Olimpik Baraj  Yarışmaları"}]
[]
[]
[]
["Yarışma Bilgileri"]
["Yarışma Adı :",null,null,null,null,"Olimpik Baraj  Yarışmaları"]
["Yarışmanın Yapıldığı İl :",null,null,null,null,"Mersin"]
["Kategori :",null,null,null,null,"Kadınlar"]
["Tarih :",null,null,null,null,"8-9 AĞUSTOS 2015"]
["Katılan Sporcu Sayısı :"]

{"sheet":"KAYIT LİSTESİ","index":1,"n_rows":85,"n_cols":12,"rows_kept":85,"cut":false,"hidden":false,"merged":[[0,0,0,11],[1,0,1,5],[1,8,1,11]]}
[{"$f":"'YARIŞMA BİLGİLERİ'!F19","v":"Olimpik Baraj  Yarışmaları"}]
[{"$f":"'YARIŞMA BİLGİLERİ'!F21","v":"Kadınlar"},null,null,null,null,null,"Kayıt Listesi",null,{"$f":"NOW()","v":42222.536638541664}]
["S.N.","SERİ-KULVAR FORMÜLÜ","GÖĞÜS NO","TC NO","DOĞUM TARİHİ","ADI VE SOYADI","İli-Okulu","YARIŞACAĞI \nBRANŞ","EN İYİ DERECESİ","SERİ","KULVAR","ATMA-ATLAMA SIRASI"]
[1,{"$f":"CONCATENATE(H4,\"-\",J4,\"-\",K4)","v":"100M-1-3"},600,16595978976,"1987-03-30","SİBEL İPEK","DİYARBAKIR","100M","12.50","1","3"]
[2,"100M-1-6",611,18530018488,"1999-08-28","AYSEL YILMAZ","GAZİANTEP","100M",null,"1","6"]
[3,"100M-1-4",618,51883307960,"1994-08-25","Tuğba AYDIN","MERSİN","100M","12.51","1","4"]
[4,"100M-1-2",626,10050138424,"1999-02-02","ESRA KARAKAYA","AKSARAY","100M","13.50","1","2"]
[5,"100M-1-5",627,72268063486,"1999-05-13","BERIVAN KAYA","AKSARAY","100M","13.76","1","5"]
[1,"400M-1-2",600,16595978976,"1987-03-30","SİBEL İPEK","DİYARBAKIR","400M","58.30","1","2"]
[2,"400M-1-4",604,11933221608,"1997-03-15","RÜYA KAYA","MERSİN","400M","57.00","1","4"]
[3,"400M-1-3",609,20284514376,"1989-09-28","Nihan Karuk","karaman","400M","56.12","1","3"]
[4,"400M-1-7",615,18596098714,"1997-01-19","SEVNUR ALADAĞ","HATAY","400M","59.80","1","7"]
[5,"400M-1-5",624,37066040534,"1997-03-17","BAHAR ILDIRKAYA","BURSA","400M","58.88","1","5"]
[6,"400M-1-6",625,43531090522,"1999-11-01","KARDELEN YILDIRIM","ERZİNCAN","400M","59.03","1","6"]
[7,"400M-1-8",628,66493254368,"1997-08-04","HATICE DEDE ","AKSARAY","400M","63.22","1","8"]
[null,null,null,null,null,null,null,"400M"]
[1,{"$f":"CONCATENATE(H17,\"-\",J17,\"-\",K17)","v":"1500M-1-2"},612,17210896576,"1999-06-23","FADİME KOŞAR","KONYA","1500M","4.36","1","2"]
[2,"1500M-1-3",614,24583892708,"1999-08-15","SELENAY BATİ","HATAY","1500M","4.40","1","3"]
[3,"1500M-1-5",617,24460893972,"1999-06-03","SEÇİL AKPINAR","HATAY","1500M","4.57","1","5"]
[4,"1500M-1-1",629,38860092118,"1998-01-18","SEMRA KARASLAN","KIRIKKALE","1500M","4,25","1","1"]
[5,{"$f":"CONCATENATE(H21,\"-\",J21,\"-\",K21)","v":"1500M-1-4"},630,64192315618,"1998-12-30","BELHUDE SALMANLI","KIRIKKALE","1500M","4,50","1","4"]
[1,"100M.ENG-1-3",601,23386015222,"15.11.1992","İLKAY AVCI","ESKİŞEHİR","100M.ENG","14.17","1","3"]
[2,"100M.ENG-1-4",602,11023959404,"1984-03-28","SERPİL KOÇAK","İSTABUL","100M.ENG","13.99","1","4"]
[3,"100M.ENG-1-2",610,301613,"1994-01-29","Zühre ACERMAN","KKTC. MAGUSA","100M.ENG","15.40","1","2"]
[null,null," ",null," "]
[null,null," ",null," "]
[21,"10000M-1-2",616,24466893754,"1995-12-06","SABAHAT AKPINAR","HATAY","10000M","39.20","1","2"]
[22,{"$f":"CONCATENATE(H28,\"-\",L28)","v":"10000M-"}," ",null," ",null,null,"10000M"]
[23,"10000M-"," ",null," ",null,null,"10000M"]
[24,"10000M-"," ",null," ",null,null,"10000M"]
[25,{"$f":"CONCATENATE(H31,\"-\",L31)","v":"10000M-"}," ",null," ",null,null,"10000M"]
[26,"GÜLLE-1",623,37609758612,"1999-02-09","SİMGE ALTIOK","KAYSERİ","GÜLLE",null,null,null,1]
[null,null," ",null," "]
[null,null," ",null," "]
[null,null," ",null," "]
[null,null," ",null," "]
[1,"ÇEKİÇ-1",603,31102691834,"1988-05-01","TUĞÇE ŞAHUTOĞLU","MERSİN","ÇEKİÇ","74.17",null,null,1]
[null,"-"," ",null," "]
[null,"-"," ",null," "]
[null,"-"," ",null," "]
[null,"-"," ",null," "]
[1,{"$f":"CONCATENATE(H42,\"-\",J42,\"-\",K42)","v":"200M-1-4"},600,16595978976,"1987-03-30","SİBEL İPEK","DİYARBAKIR","200M","25.70","1","4"]
[2,"200M-1-6",611,18530018488,"1999-08-28","AYSEL YILMAZ","GAZİANTEP","200M","27.34","1","6"]
[3,"200M-1-3",602,11023959404,"1984-03-28","Serpil Koçak","istanbul","200M","25.00","1","3"]
[4,"200M-1-5",615,18596098714,"1997-01-19","SEVNUR ALADAĞ","HATAY","200M","26.50","1","5"]
[5,"200M-1-2",624,37066040534,"1997-03-17","BAHAR ILDIRKAYA","BURSA","200M","26.10","1","2"]
[6,"200M-1-7",627,72268063486,"1999-05-13","BERIVAN KAYA","AKSARAY","200M","28.33","1","7"]
[7,"200M-1-8",626,10050138424,"1999-02-02","ESRA KARAKAYA","AKSARAY","200M","27.88","1","8"]
[]
[1,"800M-2-3",604,11933221608,"1997-03-15","RÜYA KAYA","MERSİN","800M","2.12.00","2","3"]
[2,"800M-1-4",612,17210896576,"1999-06-23","FADİME KOŞAR","KONYA","800M","2.13 ","1","4"]
[3,"800M-1-5",614,24583892708,"1999-08-15","SELENAY BATİ","HATAY","800M","2.20","1","5"]
[4,"800M-2-6",617,24460893972,"1999-06-03","SEÇİL AKPINAR","HATAY","800M","2.24","2","6"]
[5,"800M-2-2",620,42958584904,"1995-01-05","SİNEM NUR ERARSLAN","KAYSERİ","800M","2,17,05","2","2"]
[6,"800M-1-2",621,21022259542,"1998-06-10","HATİCE TAŞÇI","KAYSERİ","800M","2,17,01","1","2"]
[7,"800M-2-4",622,23636469492,"1998-10-03","KEZİBAN DEMİRALP","KAYSERİ","800M","2,13,04","2","4"]
[8,"800M-2-5",625,43531090522,"1999-11-01","KARDELEN YILDIRIM","ERZİNCAN","800M","2.21","2","5"]
[9,"800M-2-7",628,66493254368,"1997-08-04","HATICE DEDE ","AKSARAY","800M","2.45","2","7"]
[10,"800M-1-3",629,38860092118,"1998-01-18","SEMRA KARASLAN","KIRIKKALE","800M","2,10","1","3"]
[11,"800M-1-6",630,64192315618,"1998-12-30","BELHUDE SALMANLI","KIRIKKALE","800M","2,21","1","6"]
[]
[46,{"$f":"CONCATENATE(H62,\"-\",J62,\"-\",K62)","v":"5000M-1-3"},613,47083141176,"1995-12-07","EMİNE HATUN TUNA","HATAY","5000M","16.29","1","3"]
[47,"5000M-1-2",616,24466893754,"1995-12-06","SABAHAT AKPINAR","HATAY","5000M","17.50","1","2"]
[48,"5000M--"," ",null," ",null,null,"5000M"]
[49,"5000M--"," ",null," ",null,null,"5000M"]
[50,"5000M--"," ",null," ",null,null,"5000M"]
[null,"3000M.ENG-1-2"," ",null,null,"KATILIM YOK.",null,"3000M.ENG",null,"1","2"]
[null,null," ",null," "]
[null,null," ",null," "]
[null,null," ",null," "]
[null,null," ",null," "]
[1,"400M.ENG-1-2",631,12265874050,"14.02.1990","ELİF YİLDİRİM","BURSA","400M.ENG","56.56","1","2"]
[null,null," ",null," "]
[null,null," ",null," "]
[null,null," ",null," "]
[null,null," ",null," "]
[1,{"$f":"CONCATENATE(H77,\"-\",L77)","v":"DİSK-1"},607,15026230010,"1997-10-01","MELİKE TAN","MERSİN","DİSK",null,null,null,1]
[2,"DİSK-2",611,18530018488,"1999-08-28","AYSEL YILMAZ","GAZİANTEP","DİSK",null,null,null,2]
[]
[]
[]
[1,{"$f":"CONCATENATE(H82,\"-\",L82)","v":"CİRİT-3"},605,17183855198,"1993-09-22","BERİVAN ŞAKIR","MERSİN","CİRİT","53,34",null,null,3]
[2,"CİRİT-2",606,20474048896,"1998-08-05","AYŞE SU KAŞ","MERSİN","CİRİT","42,00",null,null,2]
[3,"CİRİT-1",608,22066852898,"1998-04-03","RABİA KARAMAN","MERSİN","CİRİT",null,null,null,1]
[4,{"$f":"CONCATENATE(H85,\"-\",L85)","v":"CİRİT-4"},619,13801539358,"1997-03-27","  Eda TUĞSUZ","ANTALYA","CİRİT","56.52",null,null,4]

{"sheet":"1.Gün Start Listesi","index":2,"n_rows":143,"n_cols":16,"rows_kept":143,"cut":false,"hidden":true,"merged":[[100,0,100,6],[114,0,114,6],[128,0,128,6],[85,0,85,6],[45,0,45,6],[55,0,55,6],[65,0,65,6],[75,0,75,6],[14,9,14,15],[24,9,24,15],[34,9,34,15],[44,0,44,6],[86,0,86,6],[45,11,46,11],[45,14,46,14],[45,15,46,15],[72,9,72,15],[73,9,74,9],[73,10,74,10],[73,11,74,11],[73,12,74,12],[73,13,74,13],[73,14,74,14],[73,15,74,15],[0,0,0,15],[1,0,1,15],[2,0,2,15],[44,9,44,15],[45,12,46,12],[45,13,46,13],[45,9,46,9],[45,10,46,10],[3,9,3,15],[4,9,4,15],[34,0,34,6],[3,0,3,6],[4,8,5,8],[4,0,4,6],[14,0,14,6],[24,0,24,6],[115,9,115,15],[116,9,117,9],[116,10,117,10],[116,11,117,11],[116,12,117,12],[116,13,117,13],[116,14,117,14],[116,15,117,15]]}
[{"$f":"('YARIŞMA BİLGİLERİ'!A2)","v":"Türkiye Atletizm Federasyonu\nMersin Atletizm İl Temsilciliği\n"}]
[{"$f":"'YARIŞMA BİLGİLERİ'!F19","v":"Olimpik Baraj  Yarışmaları"}]
["1.GÜN GENÇ KIZLAR START LİSTELERİ"]
["100 METRE",null,null,null,null,null,null,null,null,"400 METRE"]
["1. SERİ",null,null,null,null,null,null,null,"SIRA NO","1. SERİ"]
["Sıra No","Formül","Göğüs No","Doğum Tarihi","Adı ve Soyadı","İli-Okulu","Start Kontrol",null,null,"Sıra No","Formül","Göğüs No","Doğum Tarihi","Adı ve Soyadı","İli-Okulu","Start Kontrol"]
[1,"100M-1-1",{"$f":"IF(ISERROR(VLOOKUP(B7,'KAYIT LİSTESİ'!$B$4:$H$664,2,0)),\"\",(VLOOKUP(B7,'KAYIT LİSTESİ'!$B$4:$H$664,2,0)))","v":""},{"$f":"IF(ISERROR(VLOOKUP(B7,'KAYIT LİSTESİ'!$B$4:$H$664,4,0)),\"\",(VLOOKUP(B7,'KAYIT LİSTESİ'!$B$4:$H$664,4,0)))","v":""},{"$f":"IF(ISERROR(VLOOKUP(B7,'KAYIT LİSTESİ'!$B$4:$H$664,5,0)),\"\",(VLOOKUP(B7,'KAYIT LİSTESİ'!$B$4:$H$664,5,0)))","v":""},{"$f":"IF(ISERROR(VLOOKUP(B7,'KAYIT LİSTESİ'!$B$4:$H$664,6,0)),\"\",(VLOOKUP(B7,'KAYIT LİSTESİ'!$B$4:$H$664,6,0)))","v":""},null,null,1,1,"400M-1-1",{"$f":"IF(ISERROR(VLOOKUP(K7,'KAYIT LİSTESİ'!$B$4:$H$664,2,0)),\"\",(VLOOKUP(K7,'KAYIT LİSTESİ'!$B$4:$H$664,2,0)))","v":""},{"$f":"IF(ISERROR(VLOOKUP(K7,'KAYIT LİSTESİ'!$B$4:$H$664,4,0)),\"\",(VLOOKUP(K7,'KAYIT LİSTESİ'!$B$4:$H$664,4,0)))","v":""},{"$f":"IF(ISERROR(VLOOKUP(K7,'KAYIT LİSTESİ'!$B$4:$H$664,5,0)),\"\",(VLOOKUP(K7,'KAYIT LİSTESİ'!$B$4:$H$664,5,0)))","v":""},{"$f":"IF(ISERROR(VLOOKUP(K7,'KAYIT LİSTESİ'!$B$4:$H$664,6,0)),\"\",(VLOOKUP(K7,'KAYIT LİSTESİ'!$B$4:$H$664,6,0)))","v":""}]
[2,"100M-1-2",{"$f":"IF(ISERROR(VLOOKUP(B8,'KAYIT LİSTESİ'!$B$4:$H$664,2,0)),\"\",(VLOOKUP(B8,'KAYIT LİSTESİ'!$B$4:$H$664,2,0)))","v":626},{"$f":"IF(ISERROR(VLOOKUP(B8,'KAYIT LİSTESİ'!$B$4:$H$664,4,0)),\"\",(VLOOKUP(B8,'KAYIT LİSTESİ'!$B$4:$H$664,4,0)))","v":"1999-02-02"},{"$f":"IF(ISERROR(VLOOKUP(B8,'KAYIT LİSTESİ'!$B$4:$H$664,5,0)),\"\",(VLOOKUP(B8,'KAYIT LİSTESİ'!$B$4:$H$664,5,0)))","v":"ESRA KARAKAYA"},{"$f":"IF(ISERROR(VLOOKUP(B8,'KAYIT LİSTESİ'!$B$4:$H$664,6,0)),\"\",(VLOOKUP(B8,'KAYIT LİSTESİ'!$B$4:$H$664,6,0)))","v":"AKSARAY"},null,null,2,2,"400M-1-2",{"$f":"IF(ISERROR(VLOOKUP(K8,'KAYIT LİSTESİ'!$B$4:$H$664,2,0)),\"\",(VLOOKUP(K8,'KAYIT LİSTESİ'!$B$4:$H$664,2,0)))","v":600},{"$f":"IF(ISERROR(VLOOKUP(K8,'KAYIT LİSTESİ'!$B$4:$H$664,4,0)),\"\",(VLOOKUP(K8,'KAYIT LİSTESİ'!$B$4:$H$664,4,0)))","v":"1987-03-30"},{"$f":"IF(ISERROR(VLOOKUP(K8,'KAYIT LİSTESİ'!$B$4:$H$664,5,0)),\"\",(VLOOKUP(K8,'KAYIT LİSTESİ'!$B$4:$H$664,5,0)))","v":"SİBEL İPEK"},{"$f":"IF(ISERROR(VLOOKUP(K8,'KAYIT LİSTESİ'!$B$4:$H$664,6,0)),\"\",(VLOOKUP(K8,'KAYIT LİSTESİ'!$B$4:$H$664,6,0)))","v":"DİYARBAKIR"}]
[3,"100M-1-3",{"$f":"IF(ISERROR(VLOOKUP(B9,'KAYIT LİSTESİ'!$B$4:$H$664,2,0)),\"\",(VLOOKUP(B9,'KAYIT LİSTESİ'!$B$4:$H$664,2,0)))","v":600},{"$f":"IF(ISERROR(VLOOKUP(B9,'KAYIT LİSTESİ'!$B$4:$H$664,4,0)),\"\",(VLOOKUP(B9,'KAYIT LİSTESİ'!$B$4:$H$664,4,0)))","v":"1987-03-30"},{"$f":"IF(ISERROR(VLOOKUP(B9,'KAYIT LİSTESİ'!$B$4:$H$664,5,0)),\"\",(VLOOKUP(B9,'KAYIT LİSTESİ'!$B$4:$H$664,5,0)))","v":"SİBEL İPEK"},{"$f":"IF(ISERROR(VLOOKUP(B9,'KAYIT LİSTESİ'!$B$4:$H$664,6,0)),\"\",(VLOOKUP(B9,'KAYIT LİSTESİ'!$B$4:$H$664,6,0)))","v":"DİYARBAKIR"},null,null,3,3,"400M-1-3",{"$f":"IF(ISERROR(VLOOKUP(K9,'KAYIT LİSTESİ'!$B$4:$H$664,2,0)),\"\",(VLOOKUP(K9,'KAYIT LİSTESİ'!$B$4:$H$664,2,0)))","v":609},{"$f":"IF(ISERROR(VLOOKUP(K9,'KAYIT LİSTESİ'!$B$4:$H$664,4,0)),\"\",(VLOOKUP(K9,'KAYIT LİSTESİ'!$B$4:$H$664,4,0)))","v":"1989-09-28"},{"$f":"IF(ISERROR(VLOOKUP(K9,'KAYIT LİSTESİ'!$B$4:$H$664,5,0)),\"\",(VLOOKUP(K9,'KAYIT LİSTESİ'!$B$4:$H$664,5,0)))","v":"Nihan Karuk"},{"$f":"IF(ISERROR(VLOOKUP(K9,'KAYIT LİSTESİ'!$B$4:$H$664,6,0)),\"\",(VLOOKUP(K9,'KAYIT LİSTESİ'!$B$4:$H$664,6,0)))","v":"karaman"}]
[4,"100M-1-4",{"$f":"IF(ISERROR(VLOOKUP(B10,'KAYIT LİSTESİ'!$B$4:$H$664,2,0)),\"\",(VLOOKUP(B10,'KAYIT LİSTESİ'!$B$4:$H$664,2,0)))","v":618},{"$f":"IF(ISERROR(VLOOKUP(B10,'KAYIT LİSTESİ'!$B$4:$H$664,4,0)),\"\",(VLOOKUP(B10,'KAYIT LİSTESİ'!$B$4:$H$664,4,0)))","v":"1994-08-25"},{"$f":"IF(ISERROR(VLOOKUP(B10,'KAYIT LİSTESİ'!$B$4:$H$664,5,0)),\"\",(VLOOKUP(B10,'KAYIT LİSTESİ'!$B$4:$H$664,5,0)))","v":"Tuğba AYDIN"},{"$f":"IF(ISERROR(VLOOKUP(B10,'KAYIT LİSTESİ'!$B$4:$H$664,6,0)),\"\",(VLOOKUP(B10,'KAYIT LİSTESİ'!$B$4:$H$664,6,0)))","v":"MERSİN"},null,null,4,4,"400M-1-4",{"$f":"IF(ISERROR(VLOOKUP(K10,'KAYIT LİSTESİ'!$B$4:$H$664,2,0)),\"\",(VLOOKUP(K10,'KAYIT LİSTESİ'!$B$4:$H$664,2,0)))","v":604},{"$f":"IF(ISERROR(VLOOKUP(K10,'KAYIT LİSTESİ'!$B$4:$H$664,4,0)),\"\",(VLOOKUP(K10,'KAYIT LİSTESİ'!$B$4:$H$664,4,0)))","v":"1997-03-15"},{"$f":"IF(ISERROR(VLOOKUP(K10,'KAYIT LİSTESİ'!$B$4:$H$664,5,0)),\"\",(VLOOKUP(K10,'KAYIT LİSTESİ'!$B$4:$H$664,5,0)))","v":"RÜYA KAYA"},{"$f":"IF(ISERROR(VLOOKUP(K10,'KAYIT LİSTESİ'!$B$4:$H$664,6,0)),\"\",(VLOOKUP(K10,'KAYIT LİSTESİ'!$B$4:$H$664,6,0)))","v":"MERSİN"}]
[5,"100M-1-5",{"$f":"IF(ISERROR(VLOOKUP(B11,'KAYIT LİSTESİ'!$B$4:$H$664,2,0)),\"\",(VLOOKUP(B11,'KAYIT LİSTESİ'!$B$4:$H$664,2,0)))","v":627},{"$f":"IF(ISERROR(VLOOKUP(B11,'KAYIT LİSTESİ'!$B$4:$H$664,4,0)),\"\",(VLOOKUP(B11,'KAYIT LİSTESİ'!$B$4:$H$664,4,0)))","v":"1999-05-13"},{"$f":"IF(ISERROR(VLOOKUP(B11,'KAYIT LİSTESİ'!$B$4:$H$664,5,0)),\"\",(VLOOKUP(B11,'KAYIT LİSTESİ'!$B$4:$H$664,5,0)))","v":"BERIVAN KAYA"},{"$f":"IF(ISERROR(VLOOKUP(B11,'KAYIT LİSTESİ'!$B$4:$H$664,6,0)),\"\",(VLOOKUP(B11,'KAYIT LİSTESİ'!$B$4:$H$664,6,0)))","v":"AKSARAY"},null,null,5,5,"400M-1-5",{"$f":"IF(ISERROR(VLOOKUP(K11,'KAYIT LİSTESİ'!$B$4:$H$664,2,0)),\"\",(VLOOKUP(K11,'KAYIT LİSTESİ'!$B$4:$H$664,2,0)))","v":624},{"$f":"IF(ISERROR(VLOOKUP(K11,'KAYIT LİSTESİ'!$B$4:$H$664,4,0)),\"\",(VLOOKUP(K11,'KAYIT LİSTESİ'!$B$4:$H$664,4,0)))","v":"1997-03-17"},{"$f":"IF(ISERROR(VLOOKUP(K11,'KAYIT LİSTESİ'!$B$4:$H$664,5,0)),\"\",(VLOOKUP(K11,'KAYIT LİSTESİ'!$B$4:$H$664,5,0)))","v":"BAHAR ILDIRKAYA"},{"$f":"IF(ISERROR(VLOOKUP(K11,'KAYIT LİSTESİ'!$B$4:$H$664,6,0)),\"\",(VLOOKUP(K11,'KAYIT LİSTESİ'!$B$4:$H$664,6,0)))","v":"BURSA"}]
[6,"100M-1-6",{"$f":"IF(ISERROR(VLOOKUP(B12,'KAYIT LİSTESİ'!$B$4:$H$664,2,0)),\"\",(VLOOKUP(B12,'KAYIT LİSTESİ'!$B$4:$H$664,2,0)))","v":611},{"$f":"IF(ISERROR(VLOOKUP(B12,'KAYIT LİSTESİ'!$B$4:$H$664,4,0)),\"\",(VLOOKUP(B12,'KAYIT LİSTESİ'!$B$4:$H$664,4,0)))","v":"1999-08-28"},{"$f":"IF(ISERROR(VLOOKUP(B12,'KAYIT LİSTESİ'!$B$4:$H$664,5,0)),\"\",(VLOOKUP(B12,'KAYIT LİSTESİ'!$B$4:$H$664,5,0)))","v":"AYSEL YILMAZ"},{"$f":"IF(ISERROR(VLOOKUP(B12,'KAYIT LİSTESİ'!$B$4:$H$664,6,0)),\"\",(VLOOKUP(B12,'KAYIT LİSTESİ'!$B$4:$H$664,6,0)))","v":"GAZİANTEP"},null,null,6,6,"400M-1-6",{"$f":"IF(ISERROR(VLOOKUP(K12,'KAYIT LİSTESİ'!$B$4:$H$664,2,0)),\"\",(VLOOKUP(K12,'KAYIT LİSTESİ'!$B$4:$H$664,2,0)))","v":625},{"$f":"IF(ISERROR(VLOOKUP(K12,'KAYIT LİSTESİ'!$B$4:$H$664,4,0)),\"\",(VLOOKUP(K12,'KAYIT LİSTESİ'!$B$4:$H$664,4,0)))","v":"1999-11-01"},{"$f":"IF(ISERROR(VLOOKUP(K12,'KAYIT LİSTESİ'!$B$4:$H$664,5,0)),\"\",(VLOOKUP(K12,'KAYIT LİSTESİ'!$B$4:$H$664,5,0)))","v":"KARDELEN YILDIRIM"},{"$f":"IF(ISERROR(VLOOKUP(K12,'KAYIT LİSTESİ'!$B$4:$H$664,6,0)),\"\",(VLOOKUP(K12,'KAYIT LİSTESİ'!$B$4:$H$664,6,0)))","v":"ERZİNCAN"}]
[7,"100M-1-7",{"$f":"IF(ISERROR(VLOOKUP(B13,'KAYIT LİSTESİ'!$B$4:$H$664,2,0)),\"\",(VLOOKUP(B13,'KAYIT LİSTESİ'!$B$4:$H$664,2,0)))","v":""},{"$f":"IF(ISERROR(VLOOKUP(B13,'KAYIT LİSTESİ'!$B$4:$H$664,4,0)),\"\",(VLOOKUP(B13,'KAYIT LİSTESİ'!$B$4:$H$664,4,0)))","v":""},{"$f":"IF(ISERROR(VLOOKUP(B13,'KAYIT LİSTESİ'!$B$4:$H$664,5,0)),\"\",(VLOOKUP(B13,'KAYIT LİSTESİ'!$B$4:$H$664,5,0)))","v":""},{"$f":"IF(ISERROR(VLOOKUP(B13,'KAYIT LİSTESİ'!$B$4:$H$664,6,0)),\"\",(VLOOKUP(B13,'KAYIT LİSTESİ'!$B$4:$H$664,6,0)))","v":""},null,null,7,7,"400M-1-7",{"$f":"IF(ISERROR(VLOOKUP(K13,'KAYIT LİSTESİ'!$B$4:$H$664,2,0)),\"\",(VLOOKUP(K13,'KAYIT LİSTESİ'!$B$4:$H$664,2,0)))","v":615},{"$f":"IF(ISERROR(VLOOKUP(K13,'KAYIT LİSTESİ'!$B$4:$H$664,4,0)),\"\",(VLOOKUP(K13,'KAYIT LİSTESİ'!$B$4:$H$664,4,0)))","v":"1997-01-19"},{"$f":"IF(ISERROR(VLOOKUP(K13,'KAYIT LİSTESİ'!$B$4:$H$664,5,0)),\"\",(VLOOKUP(K13,'KAYIT LİSTESİ'!$B$4:$H$664,5,0)))","v":"SEVNUR ALADAĞ"},{"$f":"IF(ISERROR(VLOOKUP(K13,'KAYIT LİSTESİ'!$B$4:$H$664,6,0)),\"\",(VLOOKUP(K13,'KAYIT LİSTESİ'!$B$4:$H$664,6,0)))","v":"HATAY"}]
[8,"100M-1-8",{"$f":"IF(ISERROR(VLOOKUP(B14,'KAYIT LİSTESİ'!$B$4:$H$664,2,0)),\"\",(VLOOKUP(B14,'KAYIT LİSTESİ'!$B$4:$H$664,2,0)))","v":""},{"$f":"IF(ISERROR(VLOOKUP(B14,'KAYIT LİSTESİ'!$B$4:$H$664,4,0)),\"\",(VLOOKUP(B14,'KAYIT LİSTESİ'!$B$4:$H$664,4,0)))","v":""},{"$f":"IF(ISERROR(VLOOKUP(B14,'KAYIT LİSTESİ'!$B$4:$H$664,5,0)),\"\",(VLOOKUP(B14,'KAYIT LİSTESİ'!$B$4:$H$664,5,0)))","v":""},{"$f":"IF(ISERROR(VLOOKUP(B14,'KAYIT LİSTESİ'!$B$4:$H$664,6,0)),\"\",(VLOOKUP(B14,'KAYIT LİSTESİ'!$B$4:$H$664,6,0)))","v":""},null,null,8,8,"400M-1-8",{"$f":"IF(ISERROR(VLOOKUP(K14,'KAYIT LİSTESİ'!$B$4:$H$664,2,0)),\"\",(VLOOKUP(K14,'KAYIT LİSTESİ'!$B$4:$H$664,2,0)))","v":628},{"$f":"IF(ISERROR(VLOOKUP(K14,'KAYIT LİSTESİ'!$B$4:$H$664,4,0)),\"\",(VLOOKUP(K14,'KAYIT LİSTESİ'!$B$4:$H$664,4,0)))","v":"1997-08-04"},{"$f":"IF(ISERROR(VLOOKUP(K14,'KAYIT LİSTESİ'!$B$4:$H$664,5,0)),\"\",(VLOOKUP(K14,'KAYIT LİSTESİ'!$B$4:$H$664,5,0)))","v":"HATICE DEDE "},{"$f":"IF(ISERROR(VLOOKUP(K14,'KAYIT LİSTESİ'!$B$4:$H$664,6,0)),\"\",(VLOOKUP(K14,'KAYIT LİSTESİ'!$B$4:$H$664,6,0)))","v":"AKSARAY"}]
["2. SERİ",null,null,null,null,null,null,null,9,"2. SERİ"]
["Sıra No","Formül","Göğüs No","Doğum Tarihi","Adı ve Soyadı","İli-Okulu","Start Kontrol",null,10,"Sıra No","Formül","Göğüs No","Doğum Tarihi","Adı ve Soyadı","İli-Okulu","Start Kontrol"]
[1,"100M-2-1",{"$f":"IF(ISERROR(VLOOKUP(B17,'KAYIT LİSTESİ'!$B$4:$H$664,2,0)),\"\",(VLOOKUP(B17,'KAYIT LİSTESİ'!$B$4:$H$664,2,0)))","v":""},{"$f":"IF(ISERROR(VLOOKUP(B17,'KAYIT LİSTESİ'!$B$4:$H$664,4,0)),\"\",(VLOOKUP(B17,'KAYIT LİSTESİ'!$B$4:$H$664,4,0)))","v":""},{"$f":"IF(ISERROR(VLOOKUP(B17,'KAYIT LİSTESİ'!$B$4:$H$664,5,0)),\"\",(VLOOKUP(B17,'KAYIT LİSTESİ'!$B$4:$H$664,5,0)))","v":""},{"$f":"IF(ISERROR(VLOOKUP(B17,'KAYIT LİSTESİ'!$B$4:$H$664,6,0)),\"\",(VLOOKUP(B17,'KAYIT LİSTESİ'!$B$4:$H$664,6,0)))","v":""},null,null,11,1,"400M-2-1",{"$f":"IF(ISERROR(VLOOKUP(K17,'KAYIT LİSTESİ'!$B$4:$H$664,2,0)),\"\",(VLOOKUP(K17,'KAYIT LİSTESİ'!$B$4:$H$664,2,0)))","v":""},{"$f":"IF(ISERROR(VLOOKUP(K17,'KAYIT LİSTESİ'!$B$4:$H$664,4,0)),\"\",(VLOOKUP(K17,'KAYIT LİSTESİ'!$B$4:$H$664,4,0)))","v":""},{"$f":"IF(ISERROR(VLOOKUP(K17,'KAYIT LİSTESİ'!$B$4:$H$664,5,0)),\"\",(VLOOKUP(K17,'KAYIT LİSTESİ'!$B$4:$H$664,5,0)))","v":""},{"$f":"IF(ISERROR(VLOOKUP(K17,'KAYIT LİSTESİ'!$B$4:$H$664,6,0)),\"\",(VLOOKUP(K17,'KAYIT LİSTESİ'!$B$4:$H$664,6,0)))","v":""}]
[2,"100M-2-2",{"$f":"IF(ISERROR(VLOOKUP(B18,'KAYIT LİSTESİ'!$B$4:$H$664,2,0)),\"\",(VLOOKUP(B18,'KAYIT LİSTESİ'!$B$4:$H$664,2,0)))","v":""},{"$f":"IF(ISERROR(VLOOKUP(B18,'KAYIT LİSTESİ'!$B$4:$H$664,4,0)),\"\",(VLOOKUP(B18,'KAYIT LİSTESİ'!$B$4:$H$664,4,0)))","v":""},{"$f":"IF(ISERROR(VLOOKUP(B18,'KAYIT LİSTESİ'!$B$4:$H$664,5,0)),\"\",(VLOOKUP(B18,'KAYIT LİSTESİ'!$B$4:$H$664,5,0)))","v":""},{"$f":"IF(ISERROR(VLOOKUP(B18,'KAYIT LİSTESİ'!$B$4:$H$664,6,0)),\"\",(VLOOKUP(B18,'KAYIT LİSTESİ'!$B$4:$H$664,6,0)))","v":""},null,null,12,2,"400M-2-2",{"$f":"IF(ISERROR(VLOOKUP(K18,'KAYIT LİSTESİ'!$B$4:$H$664,2,0)),\"\",(VLOOKUP(K18,'KAYIT LİSTESİ'!$B$4:$H$664,2,0)))","v":""},{"$f":"IF(ISERROR(VLOOKUP(K18,'KAYIT LİSTESİ'!$B$4:$H$664,4,0)),\"\",(VLOOKUP(K18,'KAYIT LİSTESİ'!$B$4:$H$664,4,0)))","v":""},{"$f":"IF(ISERROR(VLOOKUP(K18,'KAYIT LİSTESİ'!$B$4:$H$664,5,0)),\"\",(VLOOKUP(K18,'KAYIT LİSTESİ'!$B$4:$H$664,5,0)))","v":""},{"$f":"IF(ISERROR(VLOOKUP(K18,'KAYIT LİSTESİ'!$B$4:$H$664,6,0)),\"\",(VLOOKUP(K18,'KAYIT LİSTESİ'!$B$4:$H$664,6,0)))","v":""}]
[3,"100M-2-3",{"$f":"IF(ISERROR(VLOOKUP(B19,'KAYIT LİSTESİ'!$B$4:$H$664,2,0)),\"\",(VLOOKUP(B19,'KAYIT LİSTESİ'!$B$4:$H$664,2,0)))","v":""},{"$f":"IF(ISERROR(VLOOKUP(B19,'KAYIT LİSTESİ'!$B$4:$H$664,4,0)),\"\",(VLOOKUP(B19,'KAYIT LİSTESİ'!$B$4:$H$664,4,0)))","v":""},{"$f":"IF(ISERROR(VLOOKUP(B19,'KAYIT LİSTESİ'!$B$4:$H$664,5,0)),\"\",(VLOOKUP(B19,'KAYIT LİSTESİ'!$B$4:$H$664,5,0)))","v":""},{"$f":"IF(ISERROR(VLOOKUP(B19,'KAYIT LİSTESİ'!$B$4:$H$664,6,0)),\"\",(VLOOKUP(B19,'KAYIT LİSTESİ'!$B$4:$H$664,6,0)))","v":""},null,null,13,3,"400M-2-3",{"$f":"IF(ISERROR(VLOOKUP(K19,'KAYIT LİSTESİ'!$B$4:$H$664,2,0)),\"\",(VLOOKUP(K19,'KAYIT LİSTESİ'!$B$4:$H$664,2,0)))","v":""},{"$f":"IF(ISERROR(VLOOKUP(K19,'KAYIT LİSTESİ'!$B$4:$H$664,4,0)),\"\",(VLOOKUP(K19,'KAYIT LİSTESİ'!$B$4:$H$664,4,0)))","v":""},{"$f":"IF(ISERROR(VLOOKUP(K19,'KAYIT LİSTESİ'!$B$4:$H$664,5,0)),\"\",(VLOOKUP(K19,'KAYIT LİSTESİ'!$B$4:$H$664,5,0)))","v":""},{"$f":"IF(ISERROR(VLOOKUP(K19,'KAYIT LİSTESİ'!$B$4:$H$664,6,0)),\"\",(VLOOKUP(K19,'KAYIT LİSTESİ'!$B$4:$H$664,6,0)))","v":""}]
[4,"100M-2-4",{"$f":"IF(ISERROR(VLOOKUP(B20,'KAYIT LİSTESİ'!$B$4:$H$664,2,0)),\"\",(VLOOKUP(B20,'KAYIT LİSTESİ'!$B$4:$H$664,2,0)))","v":""},{"$f":"IF(ISERROR(VLOOKUP(B20,'KAYIT LİSTESİ'!$B$4:$H$664,4,0)),\"\",(VLOOKUP(B20,'KAYIT LİSTESİ'!$B$4:$H$664,4,0)))","v":""},{"$f":"IF(ISERROR(VLOOKUP(B20,'KAYIT LİSTESİ'!$B$4:$H$664,5,0)),\"\",(VLOOKUP(B20,'KAYIT LİSTESİ'!$B$4:$H$664,5,0)))","v":""},{"$f":"IF(ISERROR(VLOOKUP(B20,'KAYIT LİSTESİ'!$B$4:$H$664,6,0)),\"\",(VLOOKUP(B20,'KAYIT LİSTESİ'!$B$4:$H$664,6,0)))","v":""},null,null,14,4,"400M-2-4",{"$f":"IF(ISERROR(VLOOKUP(K20,'KAYIT LİSTESİ'!$B$4:$H$664,2,0)),\"\",(VLOOKUP(K20,'KAYIT LİSTESİ'!$B$4:$H$664,2,0)))","v":""},{"$f":"IF(ISERROR(VLOOKUP(K20,'KAYIT LİSTESİ'!$B$4:$H$664,4,0)),\"\",(VLOOKUP(K20,'KAYIT LİSTESİ'!$B$4:$H$664,4,0)))","v":""},{"$f":"IF(ISERROR(VLOOKUP(K20,'KAYIT LİSTESİ'!$B$4:$H$664,5,0)),\"\",(VLOOKUP(K20,'KAYIT LİSTESİ'!$B$4:$H$664,5,0)))","v":""},{"$f":"IF(ISERROR(VLOOKUP(K20,'KAYIT LİSTESİ'!$B$4:$H$664,6,0)),\"\",(VLOOKUP(K20,'KAYIT LİSTESİ'!$B$4:$H$664,6,0)))","v":""}]
[5,"100M-2-5",{"$f":"IF(ISERROR(VLOOKUP(B21,'KAYIT LİSTESİ'!$B$4:$H$664,2,0)),\"\",(VLOOKUP(B21,'KAYIT LİSTESİ'!$B$4:$H$664,2,0)))","v":""},{"$f":"IF(ISERROR(VLOOKUP(B21,'KAYIT LİSTESİ'!$B$4:$H$664,4,0)),\"\",(VLOOKUP(B21,'KAYIT LİSTESİ'!$B$4:$H$664,4,0)))","v":""},{"$f":"IF(ISERROR(VLOOKUP(B21,'KAYIT LİSTESİ'!$B$4:$H$664,5,0)),\"\",(VLOOKUP(B21,'KAYIT LİSTESİ'!$B$4:$H$664,5,0)))","v":""},{"$f":"IF(ISERROR(VLOOKUP(B21,'KAYIT LİSTESİ'!$B$4:$H$664,6,0)),\"\",(VLOOKUP(B21,'KAYIT LİSTESİ'!$B$4:$H$664,6,0)))","v":""},null,null,15,5,"400M-2-5",{"$f":"IF(ISERROR(VLOOKUP(K21,'KAYIT LİSTESİ'!$B$4:$H$664,2,0)),\"\",(VLOOKUP(K21,'KAYIT LİSTESİ'!$B$4:$H$664,2,0)))","v":""},{"$f":"IF(ISERROR(VLOOKUP(K21,'KAYIT LİSTESİ'!$B$4:$H$664,4,0)),\"\",(VLOOKUP(K21,'KAYIT LİSTESİ'!$B$4:$H$664,4,0)))","v":""},{"$f":"IF(ISERROR(VLOOKUP(K21,'KAYIT LİSTESİ'!$B$4:$H$664,5,0)),\"\",(VLOOKUP(K21,'KAYIT LİSTESİ'!$B$4:$H$664,5,0)))","v":""},{"$f":"IF(ISERROR(VLOOKUP(K21,'KAYIT LİSTESİ'!$B$4:$H$664,6,0)),\"\",(VLOOKUP(K21,'KAYIT LİSTESİ'!$B$4:$H$664,6,0)))","v":""}]
[6,"100M-2-6",{"$f":"IF(ISERROR(VLOOKUP(B22,'KAYIT LİSTESİ'!$B$4:$H$664,2,0)),\"\",(VLOOKUP(B22,'KAYIT LİSTESİ'!$B$4:$H$664,2,0)))","v":""},{"$f":"IF(ISERROR(VLOOKUP(B22,'KAYIT LİSTESİ'!$B$4:$H$664,4,0)),\"\",(VLOOKUP(B22,'KAYIT LİSTESİ'!$B$4:$H$664,4,0)))","v":""},{"$f":"IF(ISERROR(VLOOKUP(B22,'KAYIT LİSTESİ'!$B$4:$H$664,5,0)),\"\",(VLOOKUP(B22,'KAYIT LİSTESİ'!$B$4:$H$664,5,0)))","v":""},{"$f":"IF(ISERROR(VLOOKUP(B22,'KAYIT LİSTESİ'!$B$4:$H$664,6,0)),\"\",(VLOOKUP(B22,'KAYIT LİSTESİ'!$B$4:$H$664,6,0)))","v":""},null,null,16,6,"400M-2-6",{"$f":"IF(ISERROR(VLOOKUP(K22,'KAYIT LİSTESİ'!$B$4:$H$664,2,0)),\"\",(VLOOKUP(K22,'KAYIT LİSTESİ'!$B$4:$H$664,2,0)))","v":""},{"$f":"IF(ISERROR(VLOOKUP(K22,'KAYIT LİSTESİ'!$B$4:$H$664,4,0)),\"\",(VLOOKUP(K22,'KAYIT LİSTESİ'!$B$4:$H$664,4,0)))","v":""},{"$f":"IF(ISERROR(VLOOKUP(K22,'KAYIT LİSTESİ'!$B$4:$H$664,5,0)),\"\",(VLOOKUP(K22,'KAYIT LİSTESİ'!$B$4:$H$664,5,0)))","v":""},{"$f":"IF(ISERROR(VLOOKUP(K22,'KAYIT LİSTESİ'!$B$4:$H$664,6,0)),\"\",(VLOOKUP(K22,'KAYIT LİSTESİ'!$B$4:$H$664,6,0)))","v":""}]
[7,"100M-2-7",{"$f":"IF(ISERROR(VLOOKUP(B23,'KAYIT LİSTESİ'!$B$4:$H$664,2,0)),\"\",(VLOOKUP(B23,'KAYIT LİSTESİ'!$B$4:$H$664,2,0)))","v":""},{"$f":"IF(ISERROR(VLOOKUP(B23,'KAYIT LİSTESİ'!$B$4:$H$664,4,0)),\"\",(VLOOKUP(B23,'KAYIT LİSTESİ'!$B$4:$H$664,4,0)))","v":""},{"$f":"IF(ISERROR(VLOOKUP(B23,'KAYIT LİSTESİ'!$B$4:$H$664,5,0)),\"\",(VLOOKUP(B23,'KAYIT LİSTESİ'!$B$4:$H$664,5,0)))","v":""},{"$f":"IF(ISERROR(VLOOKUP(B23,'KAYIT LİSTESİ'!$B$4:$H$664,6,0)),\"\",(VLOOKUP(B23,'KAYIT LİSTESİ'!$B$4:$H$664,6,0)))","v":""},null,null,17,7,"400M-2-7",{"$f":"IF(ISERROR(VLOOKUP(K23,'KAYIT LİSTESİ'!$B$4:$H$664,2,0)),\"\",(VLOOKUP(K23,'KAYIT LİSTESİ'!$B$4:$H$664,2,0)))","v":""},{"$f":"IF(ISERROR(VLOOKUP(K23,'KAYIT LİSTESİ'!$B$4:$H$664,4,0)),\"\",(VLOOKUP(K23,'KAYIT LİSTESİ'!$B$4:$H$664,4,0)))","v":""},{"$f":"IF(ISERROR(VLOOKUP(K23,'KAYIT LİSTESİ'!$B$4:$H$664,5,0)),\"\",(VLOOKUP(K23,'KAYIT LİSTESİ'!$B$4:$H$664,5,0)))","v":""},{"$f":"IF(ISERROR(VLOOKUP(K23,'KAYIT LİSTESİ'!$B$4:$H$664,6,0)),\"\",(VLOOKUP(K23,'KAYIT LİSTESİ'!$B$4:$H$664,6,0)))","v":""}]
[8,"100M-2-8",{"$f":"IF(ISERROR(VLOOKUP(B24,'KAYIT LİSTESİ'!$B$4:$H$664,2,0)),\"\",(VLOOKUP(B24,'KAYIT LİSTESİ'!$B$4:$H$664,2,0)))","v":""},{"$f":"IF(ISERROR(VLOOKUP(B24,'KAYIT LİSTESİ'!$B$4:$H$664,4,0)),\"\",(VLOOKUP(B24,'KAYIT LİSTESİ'!$B$4:$H$664,4,0)))","v":""},{"$f":"IF(ISERROR(VLOOKUP(B24,'KAYIT LİSTESİ'!$B$4:$H$664,5,0)),\"\",(VLOOKUP(B24,'KAYIT LİSTESİ'!$B$4:$H$664,5,0)))","v":""},{"$f":"IF(ISERROR(VLOOKUP(B24,'KAYIT LİSTESİ'!$B$4:$H$664,6,0)),\"\",(VLOOKUP(B24,'KAYIT LİSTESİ'!$B$4:$H$664,6,0)))","v":""},null,null,18,8,"400M-2-8",{"$f":"IF(ISERROR(VLOOKUP(K24,'KAYIT LİSTESİ'!$B$4:$H$664,2,0)),\"\",(VLOOKUP(K24,'KAYIT LİSTESİ'!$B$4:$H$664,2,0)))","v":""},{"$f":"IF(ISERROR(VLOOKUP(K24,'KAYIT LİSTESİ'!$B$4:$H$664,4,0)),\"\",(VLOOKUP(K24,'KAYIT LİSTESİ'!$B$4:$H$664,4,0)))","v":""},{"$f":"IF(ISERROR(VLOOKUP(K24,'KAYIT LİSTESİ'!$B$4:$H$664,5,0)),\"\",(VLOOKUP(K24,'KAYIT LİSTESİ'!$B$4:$H$664,5,0)))","v":""},{"$f":"IF(ISERROR(VLOOKUP(K24,'KAYIT LİSTESİ'!$B$4:$H$664,6,0)),\"\",(VLOOKUP(K24,'KAYIT LİSTESİ'!$B$4:$H$664,6,0)))","v":""}]
["3. SERİ",null,null,null,null,null,null,null,19,"3. SERİ"]
["Sıra No","Formül","Göğüs No","Doğum Tarihi","Adı ve Soyadı","İli-Okulu","Start Kontrol",null,20,"Sıra No","Formül","Göğüs No","Doğum Tarihi","Adı ve Soyadı","İli-Okulu","Start Kontrol"]
[1,"100M-3-1",{"$f":"IF(ISERROR(VLOOKUP(B27,'KAYIT LİSTESİ'!$B$4:$H$664,2,0)),\"\",(VLOOKUP(B27,'KAYIT LİSTESİ'!$B$4:$H$664,2,0)))","v":""},{"$f":"IF(ISERROR(VLOOKUP(B27,'KAYIT LİSTESİ'!$B$4:$H$664,4,0)),\"\",(VLOOKUP(B27,'KAYIT LİSTESİ'!$B$4:$H$664,4,0)))","v":""},{"$f":"IF(ISERROR(VLOOKUP(B27,'KAYIT LİSTESİ'!$B$4:$H$664,5,0)),\"\",(VLOOKUP(B27,'KAYIT LİSTESİ'!$B$4:$H$664,5,0)))","v":""},{"$f":"IF(ISERROR(VLOOKUP(B27,'KAYIT LİSTESİ'!$B$4:$H$664,6,0)),\"\",(VLOOKUP(B27,'KAYIT LİSTESİ'!$B$4:$H$664,6,0)))","v":""},null,null,21,1,"400M-3-1",{"$f":"IF(ISERROR(VLOOKUP(K27,'KAYIT LİSTESİ'!$B$4:$H$664,2,0)),\"\",(VLOOKUP(K27,'KAYIT LİSTESİ'!$B$4:$H$664,2,0)))","v":""},{"$f":"IF(ISERROR(VLOOKUP(K27,'KAYIT LİSTESİ'!$B$4:$H$664,4,0)),\"\",(VLOOKUP(K27,'KAYIT LİSTESİ'!$B$4:$H$664,4,0)))","v":""},{"$f":"IF(ISERROR(VLOOKUP(K27,'KAYIT LİSTESİ'!$B$4:$H$664,5,0)),\"\",(VLOOKUP(K27,'KAYIT LİSTESİ'!$B$4:$H$664,5,0)))","v":""},{"$f":"IF(ISERROR(VLOOKUP(K27,'KAYIT LİSTESİ'!$B$4:$H$664,6,0)),\"\",(VLOOKUP(K27,'KAYIT LİSTESİ'!$B$4:$H$664,6,0)))","v":""}]
[2,"100M-3-2",{"$f":"IF(ISERROR(VLOOKUP(B28,'KAYIT LİSTESİ'!$B$4:$H$664,2,0)),\"\",(VLOOKUP(B28,'KAYIT LİSTESİ'!$B$4:$H$664,2,0)))","v":""},{"$f":"IF(ISERROR(VLOOKUP(B28,'KAYIT LİSTESİ'!$B$4:$H$664,4,0)),\"\",(VLOOKUP(B28,'KAYIT LİSTESİ'!$B$4:$H$664,4,0)))","v":""},{"$f":"IF(ISERROR(VLOOKUP(B28,'KAYIT LİSTESİ'!$B$4:$H$664,5,0)),\"\",(VLOOKUP(B28,'KAYIT LİSTESİ'!$B$4:$H$664,5,0)))","v":""},{"$f":"IF(ISERROR(VLOOKUP(B28,'KAYIT LİSTESİ'!$B$4:$H$664,6,0)),\"\",(VLOOKUP(B28,'KAYIT LİSTESİ'!$B$4:$H$664,6,0)))","v":""},null,null,22,2,"400M-3-2",{"$f":"IF(ISERROR(VLOOKUP(K28,'KAYIT LİSTESİ'!$B$4:$H$664,2,0)),\"\",(VLOOKUP(K28,'KAYIT LİSTESİ'!$B$4:$H$664,2,0)))","v":""},{"$f":"IF(ISERROR(VLOOKUP(K28,'KAYIT LİSTESİ'!$B$4:$H$664,4,0)),\"\",(VLOOKUP(K28,'KAYIT LİSTESİ'!$B$4:$H$664,4,0)))","v":""},{"$f":"IF(ISERROR(VLOOKUP(K28,'KAYIT LİSTESİ'!$B$4:$H$664,5,0)),\"\",(VLOOKUP(K28,'KAYIT LİSTESİ'!$B$4:$H$664,5,0)))","v":""},{"$f":"IF(ISERROR(VLOOKUP(K28,'KAYIT LİSTESİ'!$B$4:$H$664,6,0)),\"\",(VLOOKUP(K28,'KAYIT LİSTESİ'!$B$4:$H$664,6,0)))","v":""}]
[3,"100M-3-3",{"$f":"IF(ISERROR(VLOOKUP(B29,'KAYIT LİSTESİ'!$B$4:$H$664,2,0)),\"\",(VLOOKUP(B29,'KAYIT LİSTESİ'!$B$4:$H$664,2,0)))","v":""},{"$f":"IF(ISERROR(VLOOKUP(B29,'KAYIT LİSTESİ'!$B$4:$H$664,4,0)),\"\",(VLOOKUP(B29,'KAYIT LİSTESİ'!$B$4:$H$664,4,0)))","v":""},{"$f":"IF(ISERROR(VLOOKUP(B29,'KAYIT LİSTESİ'!$B$4:$H$664,5,0)),\"\",(VLOOKUP(B29,'KAYIT LİSTESİ'!$B$4:$H$664,5,0)))","v":""},{"$f":"IF(ISERROR(VLOOKUP(B29,'KAYIT LİSTESİ'!$B$4:$H$664,6,0)),\"\",(VLOOKUP(B29,'KAYIT LİSTESİ'!$B$4:$H$664,6,0)))","v":""},null,null,23,3,"400M-3-3",{"$f":"IF(ISERROR(VLOOKUP(K29,'KAYIT LİSTESİ'!$B$4:$H$664,2,0)),\"\",(VLOOKUP(K29,'KAYIT LİSTESİ'!$B$4:$H$664,2,0)))","v":""},{"$f":"IF(ISERROR(VLOOKUP(K29,'KAYIT LİSTESİ'!$B$4:$H$664,4,0)),\"\",(VLOOKUP(K29,'KAYIT LİSTESİ'!$B$4:$H$664,4,0)))","v":""},{"$f":"IF(ISERROR(VLOOKUP(K29,'KAYIT LİSTESİ'!$B$4:$H$664,5,0)),\"\",(VLOOKUP(K29,'KAYIT LİSTESİ'!$B$4:$H$664,5,0)))","v":""},{"$f":"IF(ISERROR(VLOOKUP(K29,'KAYIT LİSTESİ'!$B$4:$H$664,6,0)),\"\",(VLOOKUP(K29,'KAYIT LİSTESİ'!$B$4:$H$664,6,0)))","v":""}]
[4,"100M-3-4",{"$f":"IF(ISERROR(VLOOKUP(B30,'KAYIT LİSTESİ'!$B$4:$H$664,2,0)),\"\",(VLOOKUP(B30,'KAYIT LİSTESİ'!$B$4:$H$664,2,0)))","v":""},{"$f":"IF(ISERROR(VLOOKUP(B30,'KAYIT LİSTESİ'!$B$4:$H$664,4,0)),\"\",(VLOOKUP(B30,'KAYIT LİSTESİ'!$B$4:$H$664,4,0)))","v":""},{"$f":"IF(ISERROR(VLOOKUP(B30,'KAYIT LİSTESİ'!$B$4:$H$664,5,0)),\"\",(VLOOKUP(B30,'KAYIT LİSTESİ'!$B$4:$H$664,5,0)))","v":""},{"$f":"IF(ISERROR(VLOOKUP(B30,'KAYIT LİSTESİ'!$B$4:$H$664,6,0)),\"\",(VLOOKUP(B30,'KAYIT LİSTESİ'!$B$4:$H$664,6,0)))","v":""},null,null,24,4,"400M-3-4",{"$f":"IF(ISERROR(VLOOKUP(K30,'KAYIT LİSTESİ'!$B$4:$H$664,2,0)),\"\",(VLOOKUP(K30,'KAYIT LİSTESİ'!$B$4:$H$664,2,0)))","v":""},{"$f":"IF(ISERROR(VLOOKUP(K30,'KAYIT LİSTESİ'!$B$4:$H$664,4,0)),\"\",(VLOOKUP(K30,'KAYIT LİSTESİ'!$B$4:$H$664,4,0)))","v":""},{"$f":"IF(ISERROR(VLOOKUP(K30,'KAYIT LİSTESİ'!$B$4:$H$664,5,0)),\"\",(VLOOKUP(K30,'KAYIT LİSTESİ'!$B$4:$H$664,5,0)))","v":""},{"$f":"IF(ISERROR(VLOOKUP(K30,'KAYIT LİSTESİ'!$B$4:$H$664,6,0)),\"\",(VLOOKUP(K30,'KAYIT LİSTESİ'!$B$4:$H$664,6,0)))","v":""}]
[5,"100M-3-5",{"$f":"IF(ISERROR(VLOOKUP(B31,'KAYIT LİSTESİ'!$B$4:$H$664,2,0)),\"\",(VLOOKUP(B31,'KAYIT LİSTESİ'!$B$4:$H$664,2,0)))","v":""},{"$f":"IF(ISERROR(VLOOKUP(B31,'KAYIT LİSTESİ'!$B$4:$H$664,4,0)),\"\",(VLOOKUP(B31,'KAYIT LİSTESİ'!$B$4:$H$664,4,0)))","v":""},{"$f":"IF(ISERROR(VLOOKUP(B31,'KAYIT LİSTESİ'!$B$4:$H$664,5,0)),\"\",(VLOOKUP(B31,'KAYIT LİSTESİ'!$B$4:$H$664,5,0)))","v":""},{"$f":"IF(ISERROR(VLOOKUP(B31,'KAYIT LİSTESİ'!$B$4:$H$664,6,0)),\"\",(VLOOKUP(B31,'KAYIT LİSTESİ'!$B$4:$H$664,6,0)))","v":""},null,null,25,5,"400M-3-5",{"$f":"IF(ISERROR(VLOOKUP(K31,'KAYIT LİSTESİ'!$B$4:$H$664,2,0)),\"\",(VLOOKUP(K31,'KAYIT LİSTESİ'!$B$4:$H$664,2,0)))","v":""},{"$f":"IF(ISERROR(VLOOKUP(K31,'KAYIT LİSTESİ'!$B$4:$H$664,4,0)),\"\",(VLOOKUP(K31,'KAYIT LİSTESİ'!$B$4:$H$664,4,0)))","v":""},{"$f":"IF(ISERROR(VLOOKUP(K31,'KAYIT LİSTESİ'!$B$4:$H$664,5,0)),\"\",(VLOOKUP(K31,'KAYIT LİSTESİ'!$B$4:$H$664,5,0)))","v":""},{"$f":"IF(ISERROR(VLOOKUP(K31,'KAYIT LİSTESİ'!$B$4:$H$664,6,0)),\"\",(VLOOKUP(K31,'KAYIT LİSTESİ'!$B$4:$H$664,6,0)))","v":""}]
[6,"100M-3-6",{"$f":"IF(ISERROR(VLOOKUP(B32,'KAYIT LİSTESİ'!$B$4:$H$664,2,0)),\"\",(VLOOKUP(B32,'KAYIT LİSTESİ'!$B$4:$H$664,2,0)))","v":""},{"$f":"IF(ISERROR(VLOOKUP(B32,'KAYIT LİSTESİ'!$B$4:$H$664,4,0)),\"\",(VLOOKUP(B32,'KAYIT LİSTESİ'!$B$4:$H$664,4,0)))","v":""},{"$f":"IF(ISERROR(VLOOKUP(B32,'KAYIT LİSTESİ'!$B$4:$H$664,5,0)),\"\",(VLOOKUP(B32,'KAYIT LİSTESİ'!$B$4:$H$664,5,0)))","v":""},{"$f":"IF(ISERROR(VLOOKUP(B32,'KAYIT LİSTESİ'!$B$4:$H$664,6,0)),\"\",(VLOOKUP(B32,'KAYIT LİSTESİ'!$B$4:$H$664,6,0)))","v":""},null,null,null,6,"400M-3-6",{"$f":"IF(ISERROR(VLOOKUP(K32,'KAYIT LİSTESİ'!$B$4:$H$664,2,0)),\"\",(VLOOKUP(K32,'KAYIT LİSTESİ'!$B$4:$H$664,2,0)))","v":""},{"$f":"IF(ISERROR(VLOOKUP(K32,'KAYIT LİSTESİ'!$B$4:$H$664,4,0)),\"\",(VLOOKUP(K32,'KAYIT LİSTESİ'!$B$4:$H$664,4,0)))","v":""},{"$f":"IF(ISERROR(VLOOKUP(K32,'KAYIT LİSTESİ'!$B$4:$H$664,5,0)),\"\",(VLOOKUP(K32,'KAYIT LİSTESİ'!$B$4:$H$664,5,0)))","v":""},{"$f":"IF(ISERROR(VLOOKUP(K32,'KAYIT LİSTESİ'!$B$4:$H$664,6,0)),\"\",(VLOOKUP(K32,'KAYIT LİSTESİ'!$B$4:$H$664,6,0)))","v":""}]
[7,"100M-3-7",{"$f":"IF(ISERROR(VLOOKUP(B33,'KAYIT LİSTESİ'!$B$4:$H$664,2,0)),\"\",(VLOOKUP(B33,'KAYIT LİSTESİ'!$B$4:$H$664,2,0)))","v":""},{"$f":"IF(ISERROR(VLOOKUP(B33,'KAYIT LİSTESİ'!$B$4:$H$664,4,0)),\"\",(VLOOKUP(B33,'KAYIT LİSTESİ'!$B$4:$H$664,4,0)))","v":""},{"$f":"IF(ISERROR(VLOOKUP(B33,'KAYIT LİSTESİ'!$B$4:$H$664,5,0)),\"\",(VLOOKUP(B33,'KAYIT LİSTESİ'!$B$4:$H$664,5,0)))","v":""},{"$f":"IF(ISERROR(VLOOKUP(B33,'KAYIT LİSTESİ'!$B$4:$H$664,6,0)),\"\",(VLOOKUP(B33,'KAYIT LİSTESİ'!$B$4:$H$664,6,0)))","v":""},null,null,null,7,"400M-3-7",{"$f":"IF(ISERROR(VLOOKUP(K33,'KAYIT LİSTESİ'!$B$4:$H$664,2,0)),\"\",(VLOOKUP(K33,'KAYIT LİSTESİ'!$B$4:$H$664,2,0)))","v":""},{"$f":"IF(ISERROR(VLOOKUP(K33,'KAYIT LİSTESİ'!$B$4:$H$664,4,0)),\"\",(VLOOKUP(K33,'KAYIT LİSTESİ'!$B$4:$H$664,4,0)))","v":""},{"$f":"IF(ISERROR(VLOOKUP(K33,'KAYIT LİSTESİ'!$B$4:$H$664,5,0)),\"\",(VLOOKUP(K33,'KAYIT LİSTESİ'!$B$4:$H$664,5,0)))","v":""},{"$f":"IF(ISERROR(VLOOKUP(K33,'KAYIT LİSTESİ'!$B$4:$H$664,6,0)),\"\",(VLOOKUP(K33,'KAYIT LİSTESİ'!$B$4:$H$664,6,0)))","v":""}]
[8,"100M-3-8",{"$f":"IF(ISERROR(VLOOKUP(B34,'KAYIT LİSTESİ'!$B$4:$H$664,2,0)),\"\",(VLOOKUP(B34,'KAYIT LİSTESİ'!$B$4:$H$664,2,0)))","v":""},{"$f":"IF(ISERROR(VLOOKUP(B34,'KAYIT LİSTESİ'!$B$4:$H$664,4,0)),\"\",(VLOOKUP(B34,'KAYIT LİSTESİ'!$B$4:$H$664,4,0)))","v":""},{"$f":"IF(ISERROR(VLOOKUP(B34,'KAYIT LİSTESİ'!$B$4:$H$664,5,0)),\"\",(VLOOKUP(B34,'KAYIT LİSTESİ'!$B$4:$H$664,5,0)))","v":""},{"$f":"IF(ISERROR(VLOOKUP(B34,'KAYIT LİSTESİ'!$B$4:$H$664,6,0)),\"\",(VLOOKUP(B34,'KAYIT LİSTESİ'!$B$4:$H$664,6,0)))","v":""},null,null,null,8,"400M-3-8",{"$f":"IF(ISERROR(VLOOKUP(K34,'KAYIT LİSTESİ'!$B$4:$H$664,2,0)),\"\",(VLOOKUP(K34,'KAYIT LİSTESİ'!$B$4:$H$664,2,0)))","v":""},{"$f":"IF(ISERROR(VLOOKUP(K34,'KAYIT LİSTESİ'!$B$4:$H$664,4,0)),\"\",(VLOOKUP(K34,'KAYIT LİSTESİ'!$B$4:$H$664,4,0)))","v":""},{"$f":"IF(ISERROR(VLOOKUP(K34,'KAYIT LİSTESİ'!$B$4:$H$664,5,0)),\"\",(VLOOKUP(K34,'KAYIT LİSTESİ'!$B$4:$H$664,5,0)))","v":""},{"$f":"IF(ISERROR(VLOOKUP(K34,'KAYIT LİSTESİ'!$B$4:$H$664,6,0)),\"\",(VLOOKUP(K34,'KAYIT LİSTESİ'!$B$4:$H$664,6,0)))","v":""}]
["4. SERİ",null,null,null,null,null,null,null,null,"4. SERİ"]
["Sıra No","Formül","Göğüs No","Doğum Tarihi","Adı ve Soyadı","İli-Okulu","Start Kontrol",null,null,"Sıra No","Formül","Göğüs No","Doğum Tarihi","Adı ve Soyadı","İli-Okulu","Start Kontrol"]
[1,"100M-4-1",{"$f":"IF(ISERROR(VLOOKUP(B37,'KAYIT LİSTESİ'!$B$4:$H$664,2,0)),\"\",(VLOOKUP(B37,'KAYIT LİSTESİ'!$B$4:$H$664,2,0)))","v":""},{"$f":"IF(ISERROR(VLOOKUP(B37,'KAYIT LİSTESİ'!$B$4:$H$664,4,0)),\"\",(VLOOKUP(B37,'KAYIT LİSTESİ'!$B$4:$H$664,4,0)))","v":""},{"$f":"IF(ISERROR(VLOOKUP(B37,'KAYIT LİSTESİ'!$B$4:$H$664,5,0)),\"\",(VLOOKUP(B37,'KAYIT LİSTESİ'!$B$4:$H$664,5,0)))","v":""},{"$f":"IF(ISERROR(VLOOKUP(B37,'KAYIT LİSTESİ'!$B$4:$H$664,6,0)),\"\",(VLOOKUP(B37,'KAYIT LİSTESİ'!$B$4:$H$664,6,0)))","v":""},null,null,null,1,"400M-4-1",{"$f":"IF(ISERROR(VLOOKUP(K37,'KAYIT LİSTESİ'!$B$4:$H$664,2,0)),\"\",(VLOOKUP(K37,'KAYIT LİSTESİ'!$B$4:$H$664,2,0)))","v":""},{"$f":"IF(ISERROR(VLOOKUP(K37,'KAYIT LİSTESİ'!$B$4:$H$664,4,0)),\"\",(VLOOKUP(K37,'KAYIT LİSTESİ'!$B$4:$H$664,4,0)))","v":""},{"$f":"IF(ISERROR(VLOOKUP(K37,'KAYIT LİSTESİ'!$B$4:$H$664,5,0)),\"\",(VLOOKUP(K37,'KAYIT LİSTESİ'!$B$4:$H$664,5,0)))","v":""},{"$f":"IF(ISERROR(VLOOKUP(K37,'KAYIT LİSTESİ'!$B$4:$H$664,6,0)),\"\",(VLOOKUP(K37,'KAYIT LİSTESİ'!$B$4:$H$664,6,0)))","v":""}]
[2,"100M-4-2",{"$f":"IF(ISERROR(VLOOKUP(B38,'KAYIT LİSTESİ'!$B$4:$H$664,2,0)),\"\",(VLOOKUP(B38,'KAYIT LİSTESİ'!$B$4:$H$664,2,0)))","v":""},{"$f":"IF(ISERROR(VLOOKUP(B38,'KAYIT LİSTESİ'!$B$4:$H$664,4,0)),\"\",(VLOOKUP(B38,'KAYIT LİSTESİ'!$B$4:$H$664,4,0)))","v":""},{"$f":"IF(ISERROR(VLOOKUP(B38,'KAYIT LİSTESİ'!$B$4:$H$664,5,0)),\"\",(VLOOKUP(B38,'KAYIT LİSTESİ'!$B$4:$H$664,5,0)))","v":""},{"$f":"IF(ISERROR(VLOOKUP(B38,'KAYIT LİSTESİ'!$B$4:$H$664,6,0)),\"\",(VLOOKUP(B38,'KAYIT LİSTESİ'!$B$4:$H$664,6,0)))","v":""},null,null,null,2,"400M-4-2",{"$f":"IF(ISERROR(VLOOKUP(K38,'KAYIT LİSTESİ'!$B$4:$H$664,2,0)),\"\",(VLOOKUP(K38,'KAYIT LİSTESİ'!$B$4:$H$664,2,0)))","v":""},{"$f":"IF(ISERROR(VLOOKUP(K38,'KAYIT LİSTESİ'!$B$4:$H$664,4,0)),\"\",(VLOOKUP(K38,'KAYIT LİSTESİ'!$B$4:$H$664,4,0)))","v":""},{"$f":"IF(ISERROR(VLOOKUP(K38,'KAYIT LİSTESİ'!$B$4:$H$664,5,0)),\"\",(VLOOKUP(K38,'KAYIT LİSTESİ'!$B$4:$H$664,5,0)))","v":""},{"$f":"IF(ISERROR(VLOOKUP(K38,'KAYIT LİSTESİ'!$B$4:$H$664,6,0)),\"\",(VLOOKUP(K38,'KAYIT LİSTESİ'!$B$4:$H$664,6,0)))","v":""}]
[3,"100M-4-3",{"$f":"IF(ISERROR(VLOOKUP(B39,'KAYIT LİSTESİ'!$B$4:$H$664,2,0)),\"\",(VLOOKUP(B39,'KAYIT LİSTESİ'!$B$4:$H$664,2,0)))","v":""},{"$f":"IF(ISERROR(VLOOKUP(B39,'KAYIT LİSTESİ'!$B$4:$H$664,4,0)),\"\",(VLOOKUP(B39,'KAYIT LİSTESİ'!$B$4:$H$664,4,0)))","v":""},{"$f":"IF(ISERROR(VLOOKUP(B39,'KAYIT LİSTESİ'!$B$4:$H$664,5,0)),\"\",(VLOOKUP(B39,'KAYIT LİSTESİ'!$B$4:$H$664,5,0)))","v":""},{"$f":"IF(ISERROR(VLOOKUP(B39,'KAYIT LİSTESİ'!$B$4:$H$664,6,0)),\"\",(VLOOKUP(B39,'KAYIT LİSTESİ'!$B$4:$H$664,6,0)))","v":""},null,null,null,3,"400M-4-3",{"$f":"IF(ISERROR(VLOOKUP(K39,'KAYIT LİSTESİ'!$B$4:$H$664,2,0)),\"\",(VLOOKUP(K39,'KAYIT LİSTESİ'!$B$4:$H$664,2,0)))","v":""},{"$f":"IF(ISERROR(VLOOKUP(K39,'KAYIT LİSTESİ'!$B$4:$H$664,4,0)),\"\",(VLOOKUP(K39,'KAYIT LİSTESİ'!$B$4:$H$664,4,0)))","v":""},{"$f":"IF(ISERROR(VLOOKUP(K39,'KAYIT LİSTESİ'!$B$4:$H$664,5,0)),\"\",(VLOOKUP(K39,'KAYIT LİSTESİ'!$B$4:$H$664,5,0)))","v":""},{"$f":"IF(ISERROR(VLOOKUP(K39,'KAYIT LİSTESİ'!$B$4:$H$664,6,0)),\"\",(VLOOKUP(K39,'KAYIT LİSTESİ'!$B$4:$H$664,6,0)))","v":""}]
[4,"100M-4-4",{"$f":"IF(ISERROR(VLOOKUP(B40,'KAYIT LİSTESİ'!$B$4:$H$664,2,0)),\"\",(VLOOKUP(B40,'KAYIT LİSTESİ'!$B$4:$H$664,2,0)))","v":""},{"$f":"IF(ISERROR(VLOOKUP(B40,'KAYIT LİSTESİ'!$B$4:$H$664,4,0)),\"\",(VLOOKUP(B40,'KAYIT LİSTESİ'!$B$4:$H$664,4,0)))","v":""},{"$f":"IF(ISERROR(VLOOKUP(B40,'KAYIT LİSTESİ'!$B$4:$H$664,5,0)),\"\",(VLOOKUP(B40,'KAYIT LİSTESİ'!$B$4:$H$664,5,0)))","v":""},{"$f":"IF(ISERROR(VLOOKUP(B40,'KAYIT LİSTESİ'!$B$4:$H$664,6,0)),\"\",(VLOOKUP(B40,'KAYIT LİSTESİ'!$B$4:$H$664,6,0)))","v":""},null,null,null,4,"400M-4-4",{"$f":"IF(ISERROR(VLOOKUP(K40,'KAYIT LİSTESİ'!$B$4:$H$664,2,0)),\"\",(VLOOKUP(K40,'KAYIT LİSTESİ'!$B$4:$H$664,2,0)))","v":""},{"$f":"IF(ISERROR(VLOOKUP(K40,'KAYIT LİSTESİ'!$B$4:$H$664,4,0)),\"\",(VLOOKUP(K40,'KAYIT LİSTESİ'!$B$4:$H$664,4,0)))","v":""},{"$f":"IF(ISERROR(VLOOKUP(K40,'KAYIT LİSTESİ'!$B$4:$H$664,5,0)),\"\",(VLOOKUP(K40,'KAYIT LİSTESİ'!$B$4:$H$664,5,0)))","v":""},{"$f":"IF(ISERROR(VLOOKUP(K40,'KAYIT LİSTESİ'!$B$4:$H$664,6,0)),\"\",(VLOOKUP(K40,'KAYIT LİSTESİ'!$B$4:$H$664,6,0)))","v":""}]
[5,"100M-4-5",{"$f":"IF(ISERROR(VLOOKUP(B41,'KAYIT LİSTESİ'!$B$4:$H$664,2,0)),\"\",(VLOOKUP(B41,'KAYIT LİSTESİ'!$B$4:$H$664,2,0)))","v":""},{"$f":"IF(ISERROR(VLOOKUP(B41,'KAYIT LİSTESİ'!$B$4:$H$664,4,0)),\"\",(VLOOKUP(B41,'KAYIT LİSTESİ'!$B$4:$H$664,4,0)))","v":""},{"$f":"IF(ISERROR(VLOOKUP(B41,'KAYIT LİSTESİ'!$B$4:$H$664,5,0)),\"\",(VLOOKUP(B41,'KAYIT LİSTESİ'!$B$4:$H$664,5,0)))","v":""},{"$f":"IF(ISERROR(VLOOKUP(B41,'KAYIT LİSTESİ'!$B$4:$H$664,6,0)),\"\",(VLOOKUP(B41,'KAYIT LİSTESİ'!$B$4:$H$664,6,0)))","v":""},null,null,null,5,"400M-4-5",{"$f":"IF(ISERROR(VLOOKUP(K41,'KAYIT LİSTESİ'!$B$4:$H$664,2,0)),\"\",(VLOOKUP(K41,'KAYIT LİSTESİ'!$B$4:$H$664,2,0)))","v":""},{"$f":"IF(ISERROR(VLOOKUP(K41,'KAYIT LİSTESİ'!$B$4:$H$664,4,0)),\"\",(VLOOKUP(K41,'KAYIT LİSTESİ'!$B$4:$H$664,4,0)))","v":""},{"$f":"IF(ISERROR(VLOOKUP(K41,'KAYIT LİSTESİ'!$B$4:$H$664,5,0)),\"\",(VLOOKUP(K41,'KAYIT LİSTESİ'!$B$4:$H$664,5,0)))","v":""},{"$f":"IF(ISERROR(VLOOKUP(K41,'KAYIT LİSTESİ'!$B$4:$H$664,6,0)),\"\",(VLOOKUP(K41,'KAYIT LİSTESİ'!$B$4:$H$664,6,0)))","v":""}]
[6,"100M-4-6",{"$f":"IF(ISERROR(VLOOKUP(B42,'KAYIT LİSTESİ'!$B$4:$H$664,2,0)),\"\",(VLOOKUP(B42,'KAYIT LİSTESİ'!$B$4:$H$664,2,0)))","v":""},{"$f":"IF(ISERROR(VLOOKUP(B42,'KAYIT LİSTESİ'!$B$4:$H$664,4,0)),\"\",(VLOOKUP(B42,'KAYIT LİSTESİ'!$B$4:$H$664,4,0)))","v":""},{"$f":"IF(ISERROR(VLOOKUP(B42,'KAYIT LİSTESİ'!$B$4:$H$664,5,0)),\"\",(VLOOKUP(B42,'KAYIT LİSTESİ'!$B$4:$H$664,5,0)))","v":""},{"$f":"IF(ISERROR(VLOOKUP(B42,'KAYIT LİSTESİ'!$B$4:$H$664,6,0)),\"\",(VLOOKUP(B42,'KAYIT LİSTESİ'!$B$4:$H$664,6,0)))","v":""},null,null,null,6,"400M-4-6",{"$f":"IF(ISERROR(VLOOKUP(K42,'KAYIT LİSTESİ'!$B$4:$H$664,2,0)),\"\",(VLOOKUP(K42,'KAYIT LİSTESİ'!$B$4:$H$664,2,0)))","v":""},{"$f":"IF(ISERROR(VLOOKUP(K42,'KAYIT LİSTESİ'!$B$4:$H$664,4,0)),\"\",(VLOOKUP(K42,'KAYIT LİSTESİ'!$B$4:$H$664,4,0)))","v":""},{"$f":"IF(ISERROR(VLOOKUP(K42,'KAYIT LİSTESİ'!$B$4:$H$664,5,0)),\"\",(VLOOKUP(K42,'KAYIT LİSTESİ'!$B$4:$H$664,5,0)))","v":""},{"$f":"IF(ISERROR(VLOOKUP(K42,'KAYIT LİSTESİ'!$B$4:$H$664,6,0)),\"\",(VLOOKUP(K42,'KAYIT LİSTESİ'!$B$4:$H$664,6,0)))","v":""}]
[7,"100M-4-7",{"$f":"IF(ISERROR(VLOOKUP(B43,'KAYIT LİSTESİ'!$B$4:$H$664,2,0)),\"\",(VLOOKUP(B43,'KAYIT LİSTESİ'!$B$4:$H$664,2,0)))","v":""},{"$f":"IF(ISERROR(VLOOKUP(B43,'KAYIT LİSTESİ'!$B$4:$H$664,4,0)),\"\",(VLOOKUP(B43,'KAYIT LİSTESİ'!$B$4:$H$664,4,0)))","v":""},{"$f":"IF(ISERROR(VLOOKUP(B43,'KAYIT LİSTESİ'!$B$4:$H$664,5,0)),\"\",(VLOOKUP(B43,'KAYIT LİSTESİ'!$B$4:$H$664,5,0)))","v":""},{"$f":"IF(ISERROR(VLOOKUP(B43,'KAYIT LİSTESİ'!$B$4:$H$664,6,0)),\"\",(VLOOKUP(B43,'KAYIT LİSTESİ'!$B$4:$H$664,6,0)))","v":""},null,null,null,7,"400M-4-7",{"$f":"IF(ISERROR(VLOOKUP(K43,'KAYIT LİSTESİ'!$B$4:$H$664,2,0)),\"\",(VLOOKUP(K43,'KAYIT LİSTESİ'!$B$4:$H$664,2,0)))","v":""},{"$f":"IF(ISERROR(VLOOKUP(K43,'KAYIT LİSTESİ'!$B$4:$H$664,4,0)),\"\",(VLOOKUP(K43,'KAYIT LİSTESİ'!$B$4:$H$664,4,0)))","v":""},{"$f":"IF(ISERROR(VLOOKUP(K43,'KAYIT LİSTESİ'!$B$4:$H$664,5,0)),\"\",(VLOOKUP(K43,'KAYIT LİSTESİ'!$B$4:$H$664,5,0)))","v":""},{"$f":"IF(ISERROR(VLOOKUP(K43,'KAYIT LİSTESİ'!$B$4:$H$664,6,0)),\"\",(VLOOKUP(K43,'KAYIT LİSTESİ'!$B$4:$H$664,6,0)))","v":""}]
[8,"100M-4-8",{"$f":"IF(ISERROR(VLOOKUP(B44,'KAYIT LİSTESİ'!$B$4:$H$664,2,0)),\"\",(VLOOKUP(B44,'KAYIT LİSTESİ'!$B$4:$H$664,2,0)))","v":""},{"$f":"IF(ISERROR(VLOOKUP(B44,'KAYIT LİSTESİ'!$B$4:$H$664,4,0)),\"\",(VLOOKUP(B44,'KAYIT LİSTESİ'!$B$4:$H$664,4,0)))","v":""},{"$f":"IF(ISERROR(VLOOKUP(B44,'KAYIT LİSTESİ'!$B$4:$H$664,5,0)),\"\",(VLOOKUP(B44,'KAYIT LİSTESİ'!$B$4:$H$664,5,0)))","v":""},{"$f":"IF(ISERROR(VLOOKUP(B44,'KAYIT LİSTESİ'!$B$4:$H$664,6,0)),\"\",(VLOOKUP(B44,'KAYIT LİSTESİ'!$B$4:$H$664,6,0)))","v":""},null,null,null,8,"400M-4-8",{"$f":"IF(ISERROR(VLOOKUP(K44,'KAYIT LİSTESİ'!$B$4:$H$664,2,0)),\"\",(VLOOKUP(K44,'KAYIT LİSTESİ'!$B$4:$H$664,2,0)))","v":""},{"$f":"IF(ISERROR(VLOOKUP(K44,'KAYIT LİSTESİ'!$B$4:$H$664,4,0)),\"\",(VLOOKUP(K44,'KAYIT LİSTESİ'!$B$4:$H$664,4,0)))","v":""},{"$f":"IF(ISERROR(VLOOKUP(K44,'KAYIT LİSTESİ'!$B$4:$H$664,5,0)),\"\",(VLOOKUP(K44,'KAYIT LİSTESİ'!$B$4:$H$664,5,0)))","v":""},{"$f":"IF(ISERROR(VLOOKUP(K44,'KAYIT LİSTESİ'!$B$4:$H$664,6,0)),\"\",(VLOOKUP(K44,'KAYIT LİSTESİ'!$B$4:$H$664,6,0)))","v":""}]
["100 METRE ENGELLİ",null,null,null,null,null,null,null,null,"SIRIKLA ATLAMA"]
["1. SERİ",null,null,null,null,null,null,null,null,"SIRA NO",null,"GÖĞÜS NO","DOĞUM TARİHİ","ADI VE SOYADI","İli-Okulu","Start Kontrol"]
["Sıra No","Formül","Göğüs No","Doğum Tarihi","Adı ve Soyadı","İli-Okulu","Start Kontrol"]
[1,"100M.ENG-1-1",{"$f":"IF(ISERROR(VLOOKUP(B48,'KAYIT LİSTESİ'!$B$4:$H$664,2,0)),\"\",(VLOOKUP(B48,'KAYIT LİSTESİ'!$B$4:$H$664,2,0)))","v":""},{"$f":"IF(ISERROR(VLOOKUP(B48,'KAYIT LİSTESİ'!$B$4:$H$664,4,0)),\"\",(VLOOKUP(B48,'KAYIT LİSTESİ'!$B$4:$H$664,4,0)))","v":""},{"$f":"IF(ISERROR(VLOOKUP(B48,'KAYIT LİSTESİ'!$B$4:$H$664,5,0)),\"\",(VLOOKUP(B48,'KAYIT LİSTESİ'!$B$4:$H$664,5,0)))","v":""},{"$f":"IF(ISERROR(VLOOKUP(B48,'KAYIT LİSTESİ'!$B$4:$H$664,6,0)),\"\",(VLOOKUP(B48,'KAYIT LİSTESİ'!$B$4:$H$664,6,0)))","v":""},null,null,null,1,"Sırık-1",{"$f":"IF(ISERROR(VLOOKUP(K48,'KAYIT LİSTESİ'!$B$4:$H$664,2,0)),\"\",(VLOOKUP(K48,'KAYIT LİSTESİ'!$B$4:$H$664,2,0)))","v":""},{"$f":"IF(ISERROR(VLOOKUP(K48,'KAYIT LİSTESİ'!$B$4:$H$664,4,0)),\"\",(VLOOKUP(K48,'KAYIT LİSTESİ'!$B$4:$H$664,4,0)))","v":""},{"$f":"IF(ISERROR(VLOOKUP(K48,'KAYIT LİSTESİ'!$B$4:$H$664,5,0)),\"\",(VLOOKUP(K48,'KAYIT LİSTESİ'!$B$4:$H$664,5,0)))","v":""},{"$f":"IF(ISERROR(VLOOKUP(K48,'KAYIT LİSTESİ'!$B$4:$H$664,6,0)),\"\",(VLOOKUP(K48,'KAYIT LİSTESİ'!$B$4:$H$664,6,0)))","v":""}]
[2,"100M.ENG-1-2",{"$f":"IF(ISERROR(VLOOKUP(B49,'KAYIT LİSTESİ'!$B$4:$H$664,2,0)),\"\",(VLOOKUP(B49,'KAYIT LİSTESİ'!$B$4:$H$664,2,0)))","v":610},{"$f":"IF(ISERROR(VLOOKUP(B49,'KAYIT LİSTESİ'!$B$4:$H$664,4,0)),\"\",(VLOOKUP(B49,'KAYIT LİSTESİ'!$B$4:$H$664,4,0)))","v":"1994-01-29"},{"$f":"IF(ISERROR(VLOOKUP(B49,'KAYIT LİSTESİ'!$B$4:$H$664,5,0)),\"\",(VLOOKUP(B49,'KAYIT LİSTESİ'!$B$4:$H$664,5,0)))","v":"Zühre ACERMAN"},{"$f":"IF(ISERROR(VLOOKUP(B49,'KAYIT LİSTESİ'!$B$4:$H$664,6,0)),\"\",(VLOOKUP(B49,'KAYIT LİSTESİ'!$B$4:$H$664,6,0)))","v":"KKTC. MAGUSA"},null,null,null,2,"Sırık-2",{"$f":"IF(ISERROR(VLOOKUP(K49,'KAYIT LİSTESİ'!$B$4:$H$664,2,0)),\"\",(VLOOKUP(K49,'KAYIT LİSTESİ'!$B$4:$H$664,2,0)))","v":""},{"$f":"IF(ISERROR(VLOOKUP(K49,'KAYIT LİSTESİ'!$B$4:$H$664,4,0)),\"\",(VLOOKUP(K49,'KAYIT LİSTESİ'!$B$4:$H$664,4,0)))","v":""},{"$f":"IF(ISERROR(VLOOKUP(K49,'KAYIT LİSTESİ'!$B$4:$H$664,5,0)),\"\",(VLOOKUP(K49,'KAYIT LİSTESİ'!$B$4:$H$664,5,0)))","v":""},{"$f":"IF(ISERROR(VLOOKUP(K49,'KAYIT LİSTESİ'!$B$4:$H$664,6,0)),\"\",(VLOOKUP(K49,'KAYIT LİSTESİ'!$B$4:$H$664,6,0)))","v":""}]
[3,"100M.ENG-1-3",{"$f":"IF(ISERROR(VLOOKUP(B50,'KAYIT LİSTESİ'!$B$4:$H$664,2,0)),\"\",(VLOOKUP(B50,'KAYIT LİSTESİ'!$B$4:$H$664,2,0)))","v":601},{"$f":"IF(ISERROR(VLOOKUP(B50,'KAYIT LİSTESİ'!$B$4:$H$664,4,0)),\"\",(VLOOKUP(B50,'KAYIT LİSTESİ'!$B$4:$H$664,4,0)))","v":"15.11.1992"},{"$f":"IF(ISERROR(VLOOKUP(B50,'KAYIT LİSTESİ'!$B$4:$H$664,5,0)),\"\",(VLOOKUP(B50,'KAYIT LİSTESİ'!$B$4:$H$664,5,0)))","v":"İLKAY AVCI"},{"$f":"IF(ISERROR(VLOOKUP(B50,'KAYIT LİSTESİ'!$B$4:$H$664,6,0)),\"\",(VLOOKUP(B50,'KAYIT LİSTESİ'!$B$4:$H$664,6,0)))","v":"ESKİŞEHİR"},null,null,null,3,"Sırık-3",{"$f":"IF(ISERROR(VLOOKUP(K50,'KAYIT LİSTESİ'!$B$4:$H$664,2,0)),\"\",(VLOOKUP(K50,'KAYIT LİSTESİ'!$B$4:$H$664,2,0)))","v":""},{"$f":"IF(ISERROR(VLOOKUP(K50,'KAYIT LİSTESİ'!$B$4:$H$664,4,0)),\"\",(VLOOKUP(K50,'KAYIT LİSTESİ'!$B$4:$H$664,4,0)))","v":""},{"$f":"IF(ISERROR(VLOOKUP(K50,'KAYIT LİSTESİ'!$B$4:$H$664,5,0)),\"\",(VLOOKUP(K50,'KAYIT LİSTESİ'!$B$4:$H$664,5,0)))","v":""},{"$f":"IF(ISERROR(VLOOKUP(K50,'KAYIT LİSTESİ'!$B$4:$H$664,6,0)),\"\",(VLOOKUP(K50,'KAYIT LİSTESİ'!$B$4:$H$664,6,0)))","v":""}]
[4,"100M.ENG-1-4",{"$f":"IF(ISERROR(VLOOKUP(B51,'KAYIT LİSTESİ'!$B$4:$H$664,2,0)),\"\",(VLOOKUP(B51,'KAYIT LİSTESİ'!$B$4:$H$664,2,0)))","v":602},{"$f":"IF(ISERROR(VLOOKUP(B51,'KAYIT LİSTESİ'!$B$4:$H$664,4,0)),\"\",(VLOOKUP(B51,'KAYIT LİSTESİ'!$B$4:$H$664,4,0)))","v":"1984-03-28"},{"$f":"IF(ISERROR(VLOOKUP(B51,'KAYIT LİSTESİ'!$B$4:$H$664,5,0)),\"\",(VLOOKUP(B51,'KAYIT LİSTESİ'!$B$4:$H$664,5,0)))","v":"SERPİL KOÇAK"},{"$f":"IF(ISERROR(VLOOKUP(B51,'KAYIT LİSTESİ'!$B$4:$H$664,6,0)),\"\",(VLOOKUP(B51,'KAYIT LİSTESİ'!$B$4:$H$664,6,0)))","v":"İSTABUL"},null,null,null,4,"Sırık-4",{"$f":"IF(ISERROR(VLOOKUP(K51,'KAYIT LİSTESİ'!$B$4:$H$664,2,0)),\"\",(VLOOKUP(K51,'KAYIT LİSTESİ'!$B$4:$H$664,2,0)))","v":""},{"$f":"IF(ISERROR(VLOOKUP(K51,'KAYIT LİSTESİ'!$B$4:$H$664,4,0)),\"\",(VLOOKUP(K51,'KAYIT LİSTESİ'!$B$4:$H$664,4,0)))","v":""},{"$f":"IF(ISERROR(VLOOKUP(K51,'KAYIT LİSTESİ'!$B$4:$H$664,5,0)),\"\",(VLOOKUP(K51,'KAYIT LİSTESİ'!$B$4:$H$664,5,0)))","v":""},{"$f":"IF(ISERROR(VLOOKUP(K51,'KAYIT LİSTESİ'!$B$4:$H$664,6,0)),\"\",(VLOOKUP(K51,'KAYIT LİSTESİ'!$B$4:$H$664,6,0)))","v":""}]
[5,"100M.ENG-1-5",{"$f":"IF(ISERROR(VLOOKUP(B52,'KAYIT LİSTESİ'!$B$4:$H$664,2,0)),\"\",(VLOOKUP(B52,'KAYIT LİSTESİ'!$B$4:$H$664,2,0)))","v":""},{"$f":"IF(ISERROR(VLOOKUP(B52,'KAYIT LİSTESİ'!$B$4:$H$664,4,0)),\"\",(VLOOKUP(B52,'KAYIT LİSTESİ'!$B$4:$H$664,4,0)))","v":""},{"$f":"IF(ISERROR(VLOOKUP(B52,'KAYIT LİSTESİ'!$B$4:$H$664,5,0)),\"\",(VLOOKUP(B52,'KAYIT LİSTESİ'!$B$4:$H$664,5,0)))","v":""},{"$f":"IF(ISERROR(VLOOKUP(B52,'KAYIT LİSTESİ'!$B$4:$H$664,6,0)),\"\",(VLOOKUP(B52,'KAYIT LİSTESİ'!$B$4:$H$664,6,0)))","v":""},null,null,null,5,"Sırık-5",{"$f":"IF(ISERROR(VLOOKUP(K52,'KAYIT LİSTESİ'!$B$4:$H$664,2,0)),\"\",(VLOOKUP(K52,'KAYIT LİSTESİ'!$B$4:$H$664,2,0)))","v":""},{"$f":"IF(ISERROR(VLOOKUP(K52,'KAYIT LİSTESİ'!$B$4:$H$664,4,0)),\"\",(VLOOKUP(K52,'KAYIT LİSTESİ'!$B$4:$H$664,4,0)))","v":""},{"$f":"IF(ISERROR(VLOOKUP(K52,'KAYIT LİSTESİ'!$B$4:$H$664,5,0)),\"\",(VLOOKUP(K52,'KAYIT LİSTESİ'!$B$4:$H$664,5,0)))","v":""},{"$f":"IF(ISERROR(VLOOKUP(K52,'KAYIT LİSTESİ'!$B$4:$H$664,6,0)),\"\",(VLOOKUP(K52,'KAYIT LİSTESİ'!$B$4:$H$664,6,0)))","v":""}]
[6,"100M.ENG-1-6",{"$f":"IF(ISERROR(VLOOKUP(B53,'KAYIT LİSTESİ'!$B$4:$H$664,2,0)),\"\",(VLOOKUP(B53,'KAYIT LİSTESİ'!$B$4:$H$664,2,0)))","v":""},{"$f":"IF(ISERROR(VLOOKUP(B53,'KAYIT LİSTESİ'!$B$4:$H$664,4,0)),\"\",(VLOOKUP(B53,'KAYIT LİSTESİ'!$B$4:$H$664,4,0)))","v":""},{"$f":"IF(ISERROR(VLOOKUP(B53,'KAYIT LİSTESİ'!$B$4:$H$664,5,0)),\"\",(VLOOKUP(B53,'KAYIT LİSTESİ'!$B$4:$H$664,5,0)))","v":""},{"$f":"IF(ISERROR(VLOOKUP(B53,'KAYIT LİSTESİ'!$B$4:$H$664,6,0)),\"\",(VLOOKUP(B53,'KAYIT LİSTESİ'!$B$4:$H$664,6,0)))","v":""},null,null,null,6,"Sırık-6",{"$f":"IF(ISERROR(VLOOKUP(K53,'KAYIT LİSTESİ'!$B$4:$H$664,2,0)),\"\",(VLOOKUP(K53,'KAYIT LİSTESİ'!$B$4:$H$664,2,0)))","v":""},{"$f":"IF(ISERROR(VLOOKUP(K53,'KAYIT LİSTESİ'!$B$4:$H$664,4,0)),\"\",(VLOOKUP(K53,'KAYIT LİSTESİ'!$B$4:$H$664,4,0)))","v":""},{"$f":"IF(ISERROR(VLOOKUP(K53,'KAYIT LİSTESİ'!$B$4:$H$664,5,0)),\"\",(VLOOKUP(K53,'KAYIT LİSTESİ'!$B$4:$H$664,5,0)))","v":""},{"$f":"IF(ISERROR(VLOOKUP(K53,'KAYIT LİSTESİ'!$B$4:$H$664,6,0)),\"\",(VLOOKUP(K53,'KAYIT LİSTESİ'!$B$4:$H$664,6,0)))","v":""}]
[7,"100M.ENG-1-7",{"$f":"IF(ISERROR(VLOOKUP(B54,'KAYIT LİSTESİ'!$B$4:$H$664,2,0)),\"\",(VLOOKUP(B54,'KAYIT LİSTESİ'!$B$4:$H$664,2,0)))","v":""},{"$f":"IF(ISERROR(VLOOKUP(B54,'KAYIT LİSTESİ'!$B$4:$H$664,4,0)),\"\",(VLOOKUP(B54,'KAYIT LİSTESİ'!$B$4:$H$664,4,0)))","v":""},{"$f":"IF(ISERROR(VLOOKUP(B54,'KAYIT LİSTESİ'!$B$4:$H$664,5,0)),\"\",(VLOOKUP(B54,'KAYIT LİSTESİ'!$B$4:$H$664,5,0)))","v":""},{"$f":"IF(ISERROR(VLOOKUP(B54,'KAYIT LİSTESİ'!$B$4:$H$664,6,0)),\"\",(VLOOKUP(B54,'KAYIT LİSTESİ'!$B$4:$H$664,6,0)))","v":""},null,null,null,7,"Sırık-7",{"$f":"IF(ISERROR(VLOOKUP(K54,'KAYIT LİSTESİ'!$B$4:$H$664,2,0)),\"\",(VLOOKUP(K54,'KAYIT LİSTESİ'!$B$4:$H$664,2,0)))","v":""},{"$f":"IF(ISERROR(VLOOKUP(K54,'KAYIT LİSTESİ'!$B$4:$H$664,4,0)),\"\",(VLOOKUP(K54,'KAYIT LİSTESİ'!$B$4:$H$664,4,0)))","v":""},{"$f":"IF(ISERROR(VLOOKUP(K54,'KAYIT LİSTESİ'!$B$4:$H$664,5,0)),\"\",(VLOOKUP(K54,'KAYIT LİSTESİ'!$B$4:$H$664,5,0)))","v":""},{"$f":"IF(ISERROR(VLOOKUP(K54,'KAYIT LİSTESİ'!$B$4:$H$664,6,0)),\"\",(VLOOKUP(K54,'KAYIT LİSTESİ'!$B$4:$H$664,6,0)))","v":""}]
[8,"100M.ENG-1-8",{"$f":"IF(ISERROR(VLOOKUP(B55,'KAYIT LİSTESİ'!$B$4:$H$664,2,0)),\"\",(VLOOKUP(B55,'KAYIT LİSTESİ'!$B$4:$H$664,2,0)))","v":""},{"$f":"IF(ISERROR(VLOOKUP(B55,'KAYIT LİSTESİ'!$B$4:$H$664,4,0)),\"\",(VLOOKUP(B55,'KAYIT LİSTESİ'!$B$4:$H$664,4,0)))","v":""},{"$f":"IF(ISERROR(VLOOKUP(B55,'KAYIT LİSTESİ'!$B$4:$H$664,5,0)),\"\",(VLOOKUP(B55,'KAYIT LİSTESİ'!$B$4:$H$664,5,0)))","v":""},{"$f":"IF(ISERROR(VLOOKUP(B55,'KAYIT LİSTESİ'!$B$4:$H$664,6,0)),\"\",(VLOOKUP(B55,'KAYIT LİSTESİ'!$B$4:$H$664,6,0)))","v":""},null,null,null,8,"Sırık-8",{"$f":"IF(ISERROR(VLOOKUP(K55,'KAYIT LİSTESİ'!$B$4:$H$664,2,0)),\"\",(VLOOKUP(K55,'KAYIT LİSTESİ'!$B$4:$H$664,2,0)))","v":""},{"$f":"IF(ISERROR(VLOOKUP(K55,'KAYIT LİSTESİ'!$B$4:$H$664,4,0)),\"\",(VLOOKUP(K55,'KAYIT LİSTESİ'!$B$4:$H$664,4,0)))","v":""},{"$f":"IF(ISERROR(VLOOKUP(K55,'KAYIT LİSTESİ'!$B$4:$H$664,5,0)),\"\",(VLOOKUP(K55,'KAYIT LİSTESİ'!$B$4:$H$664,5,0)))","v":""},{"$f":"IF(ISERROR(VLOOKUP(K55,'KAYIT LİSTESİ'!$B$4:$H$664,6,0)),\"\",(VLOOKUP(K55,'KAYIT LİSTESİ'!$B$4:$H$664,6,0)))","v":""}]
["2. SERİ",null,null,null,null,null,null,null,null,9,"Sırık-9",{"$f":"IF(ISERROR(VLOOKUP(K56,'KAYIT LİSTESİ'!$B$4:$H$664,2,0)),\"\",(VLOOKUP(K56,'KAYIT LİSTESİ'!$B$4:$H$664,2,0)))","v":""},{"$f":"IF(ISERROR(VLOOKUP(K56,'KAYIT LİSTESİ'!$B$4:$H$664,4,0)),\"\",(VLOOKUP(K56,'KAYIT LİSTESİ'!$B$4:$H$664,4,0)))","v":""},{"$f":"IF(ISERROR(VLOOKUP(K56,'KAYIT LİSTESİ'!$B$4:$H$664,5,0)),\"\",(VLOOKUP(K56,'KAYIT LİSTESİ'!$B$4:$H$664,5,0)))","v":""},{"$f":"IF(ISERROR(VLOOKUP(K56,'KAYIT LİSTESİ'!$B$4:$H$664,6,0)),\"\",(VLOOKUP(K56,'KAYIT LİSTESİ'!$B$4:$H$664,6,0)))","v":""}]
["Sıra No","Formül","Göğüs No","Doğum Tarihi","Adı ve Soyadı","İli-Okulu","Start Kontrol",null,null,10,"Sırık-10",{"$f":"IF(ISERROR(VLOOKUP(K57,'KAYIT LİSTESİ'!$B$4:$H$664,2,0)),\"\",(VLOOKUP(K57,'KAYIT LİSTESİ'!$B$4:$H$664,2,0)))","v":""},{"$f":"IF(ISERROR(VLOOKUP(K57,'KAYIT LİSTESİ'!$B$4:$H$664,4,0)),\"\",(VLOOKUP(K57,'KAYIT LİSTESİ'!$B$4:$H$664,4,0)))","v":""},{"$f":"IF(ISERROR(VLOOKUP(K57,'KAYIT LİSTESİ'!$B$4:$H$664,5,0)),\"\",(VLOOKUP(K57,'KAYIT LİSTESİ'!$B$4:$H$664,5,0)))","v":""},{"$f":"IF(ISERROR(VLOOKUP(K57,'KAYIT LİSTESİ'!$B$4:$H$664,6,0)),\"\",(VLOOKUP(K57,'KAYIT LİSTESİ'!$B$4:$H$664,6,0)))","v":""}]
[1,"100M.ENG-2-1",{"$f":"IF(ISERROR(VLOOKUP(B58,'KAYIT LİSTESİ'!$B$4:$H$664,2,0)),\"\",(VLOOKUP(B58,'KAYIT LİSTESİ'!$B$4:$H$664,2,0)))","v":""},{"$f":"IF(ISERROR(VLOOKUP(B58,'KAYIT LİSTESİ'!$B$4:$H$664,4,0)),\"\",(VLOOKUP(B58,'KAYIT LİSTESİ'!$B$4:$H$664,4,0)))","v":""},{"$f":"IF(ISERROR(VLOOKUP(B58,'KAYIT LİSTESİ'!$B$4:$H$664,5,0)),\"\",(VLOOKUP(B58,'KAYIT LİSTESİ'!$B$4:$H$664,5,0)))","v":""},{"$f":"IF(ISERROR(VLOOKUP(B58,'KAYIT LİSTESİ'!$B$4:$H$664,6,0)),\"\",(VLOOKUP(B58,'KAYIT LİSTESİ'!$B$4:$H$664,6,0)))","v":""},null,null,null,11,"Sırık-11",{"$f":"IF(ISERROR(VLOOKUP(K58,'KAYIT LİSTESİ'!$B$4:$H$664,2,0)),\"\",(VLOOKUP(K58,'KAYIT LİSTESİ'!$B$4:$H$664,2,0)))","v":""},{"$f":"IF(ISERROR(VLOOKUP(K58,'KAYIT LİSTESİ'!$B$4:$H$664,4,0)),\"\",(VLOOKUP(K58,'KAYIT LİSTESİ'!$B$4:$H$664,4,0)))","v":""},{"$f":"IF(ISERROR(VLOOKUP(K58,'KAYIT LİSTESİ'!$B$4:$H$664,5,0)),\"\",(VLOOKUP(K58,'KAYIT LİSTESİ'!$B$4:$H$664,5,0)))","v":""},{"$f":"IF(ISERROR(VLOOKUP(K58,'KAYIT LİSTESİ'!$B$4:$H$664,6,0)),\"\",(VLOOKUP(K58,'KAYIT LİSTESİ'!$B$4:$H$664,6,0)))","v":""}]
[2,"100M.ENG-2-2",{"$f":"IF(ISERROR(VLOOKUP(B59,'KAYIT LİSTESİ'!$B$4:$H$664,2,0)),\"\",(VLOOKUP(B59,'KAYIT LİSTESİ'!$B$4:$H$664,2,0)))","v":""},{"$f":"IF(ISERROR(VLOOKUP(B59,'KAYIT LİSTESİ'!$B$4:$H$664,4,0)),\"\",(VLOOKUP(B59,'KAYIT LİSTESİ'!$B$4:$H$664,4,0)))","v":""},{"$f":"IF(ISERROR(VLOOKUP(B59,'KAYIT LİSTESİ'!$B$4:$H$664,5,0)),\"\",(VLOOKUP(B59,'KAYIT LİSTESİ'!$B$4:$H$664,5,0)))","v":""},{"$f":"IF(ISERROR(VLOOKUP(B59,'KAYIT LİSTESİ'!$B$4:$H$664,6,0)),\"\",(VLOOKUP(B59,'KAYIT LİSTESİ'!$B$4:$H$664,6,0)))","v":""},null,null,null,12,"Sırık-12",{"$f":"IF(ISERROR(VLOOKUP(K59,'KAYIT LİSTESİ'!$B$4:$H$664,2,0)),\"\",(VLOOKUP(K59,'KAYIT LİSTESİ'!$B$4:$H$664,2,0)))","v":""},{"$f":"IF(ISERROR(VLOOKUP(K59,'KAYIT LİSTESİ'!$B$4:$H$664,4,0)),\"\",(VLOOKUP(K59,'KAYIT LİSTESİ'!$B$4:$H$664,4,0)))","v":""},{"$f":"IF(ISERROR(VLOOKUP(K59,'KAYIT LİSTESİ'!$B$4:$H$664,5,0)),\"\",(VLOOKUP(K59,'KAYIT LİSTESİ'!$B$4:$H$664,5,0)))","v":""},{"$f":"IF(ISERROR(VLOOKUP(K59,'KAYIT LİSTESİ'!$B$4:$H$664,6,0)),\"\",(VLOOKUP(K59,'KAYIT LİSTESİ'!$B$4:$H$664,6,0)))","v":""}]
[3,"100M.ENG-2-3",{"$f":"IF(ISERROR(VLOOKUP(B60,'KAYIT LİSTESİ'!$B$4:$H$664,2,0)),\"\",(VLOOKUP(B60,'KAYIT LİSTESİ'!$B$4:$H$664,2,0)))","v":""},{"$f":"IF(ISERROR(VLOOKUP(B60,'KAYIT LİSTESİ'!$B$4:$H$664,4,0)),\"\",(VLOOKUP(B60,'KAYIT LİSTESİ'!$B$4:$H$664,4,0)))","v":""},{"$f":"IF(ISERROR(VLOOKUP(B60,'KAYIT LİSTESİ'!$B$4:$H$664,5,0)),\"\",(VLOOKUP(B60,'KAYIT LİSTESİ'!$B$4:$H$664,5,0)))","v":""},{"$f":"IF(ISERROR(VLOOKUP(B60,'KAYIT LİSTESİ'!$B$4:$H$664,6,0)),\"\",(VLOOKUP(B60,'KAYIT LİSTESİ'!$B$4:$H$664,6,0)))","v":""},null,null,null,13,"Sırık-13",{"$f":"IF(ISERROR(VLOOKUP(K60,'KAYIT LİSTESİ'!$B$4:$H$664,2,0)),\"\",(VLOOKUP(K60,'KAYIT LİSTESİ'!$B$4:$H$664,2,0)))","v":""},{"$f":"IF(ISERROR(VLOOKUP(K60,'KAYIT LİSTESİ'!$B$4:$H$664,4,0)),\"\",(VLOOKUP(K60,'KAYIT LİSTESİ'!$B$4:$H$664,4,0)))","v":""},{"$f":"IF(ISERROR(VLOOKUP(K60,'KAYIT LİSTESİ'!$B$4:$H$664,5,0)),\"\",(VLOOKUP(K60,'KAYIT LİSTESİ'!$B$4:$H$664,5,0)))","v":""},{"$f":"IF(ISERROR(VLOOKUP(K60,'KAYIT LİSTESİ'!$B$4:$H$664,6,0)),\"\",(VLOOKUP(K60,'KAYIT LİSTESİ'!$B$4:$H$664,6,0)))","v":""}]
[4,"100M.ENG-2-4",{"$f":"IF(ISERROR(VLOOKUP(B61,'KAYIT LİSTESİ'!$B$4:$H$664,2,0)),\"\",(VLOOKUP(B61,'KAYIT LİSTESİ'!$B$4:$H$664,2,0)))","v":""},{"$f":"IF(ISERROR(VLOOKUP(B61,'KAYIT LİSTESİ'!$B$4:$H$664,4,0)),\"\",(VLOOKUP(B61,'KAYIT LİSTESİ'!$B$4:$H$664,4,0)))","v":""},{"$f":"IF(ISERROR(VLOOKUP(B61,'KAYIT LİSTESİ'!$B$4:$H$664,5,0)),\"\",(VLOOKUP(B61,'KAYIT LİSTESİ'!$B$4:$H$664,5,0)))","v":""},{"$f":"IF(ISERROR(VLOOKUP(B61,'KAYIT LİSTESİ'!$B$4:$H$664,6,0)),\"\",(VLOOKUP(B61,'KAYIT LİSTESİ'!$B$4:$H$664,6,0)))","v":""},null,null,null,14,"Sırık-14",{"$f":"IF(ISERROR(VLOOKUP(K61,'KAYIT LİSTESİ'!$B$4:$H$664,2,0)),\"\",(VLOOKUP(K61,'KAYIT LİSTESİ'!$B$4:$H$664,2,0)))","v":""},{"$f":"IF(ISERROR(VLOOKUP(K61,'KAYIT LİSTESİ'!$B$4:$H$664,4,0)),\"\",(VLOOKUP(K61,'KAYIT LİSTESİ'!$B$4:$H$664,4,0)))","v":""},{"$f":"IF(ISERROR(VLOOKUP(K61,'KAYIT LİSTESİ'!$B$4:$H$664,5,0)),\"\",(VLOOKUP(K61,'KAYIT LİSTESİ'!$B$4:$H$664,5,0)))","v":""},{"$f":"IF(ISERROR(VLOOKUP(K61,'KAYIT LİSTESİ'!$B$4:$H$664,6,0)),\"\",(VLOOKUP(K61,'KAYIT LİSTESİ'!$B$4:$H$664,6,0)))","v":""}]
[5,"100M.ENG-2-5",{"$f":"IF(ISERROR(VLOOKUP(B62,'KAYIT LİSTESİ'!$B$4:$H$664,2,0)),\"\",(VLOOKUP(B62,'KAYIT LİSTESİ'!$B$4:$H$664,2,0)))","v":""},{"$f":"IF(ISERROR(VLOOKUP(B62,'KAYIT LİSTESİ'!$B$4:$H$664,4,0)),\"\",(VLOOKUP(B62,'KAYIT LİSTESİ'!$B$4:$H$664,4,0)))","v":""},{"$f":"IF(ISERROR(VLOOKUP(B62,'KAYIT LİSTESİ'!$B$4:$H$664,5,0)),\"\",(VLOOKUP(B62,'KAYIT LİSTESİ'!$B$4:$H$664,5,0)))","v":""},{"$f":"IF(ISERROR(VLOOKUP(B62,'KAYIT LİSTESİ'!$B$4:$H$664,6,0)),\"\",(VLOOKUP(B62,'KAYIT LİSTESİ'!$B$4:$H$664,6,0)))","v":""},null,null,null,15,"Sırık-15",{"$f":"IF(ISERROR(VLOOKUP(K62,'KAYIT LİSTESİ'!$B$4:$H$664,2,0)),\"\",(VLOOKUP(K62,'KAYIT LİSTESİ'!$B$4:$H$664,2,0)))","v":""},{"$f":"IF(ISERROR(VLOOKUP(K62,'KAYIT LİSTESİ'!$B$4:$H$664,4,0)),\"\",(VLOOKUP(K62,'KAYIT LİSTESİ'!$B$4:$H$664,4,0)))","v":""},{"$f":"IF(ISERROR(VLOOKUP(K62,'KAYIT LİSTESİ'!$B$4:$H$664,5,0)),\"\",(VLOOKUP(K62,'KAYIT LİSTESİ'!$B$4:$H$664,5,0)))","v":""},{"$f":"IF(ISERROR(VLOOKUP(K62,'KAYIT LİSTESİ'!$B$4:$H$664,6,0)),\"\",(VLOOKUP(K62,'KAYIT LİSTESİ'!$B$4:$H$664,6,0)))","v":""}]
[6,"100M.ENG-2-6",{"$f":"IF(ISERROR(VLOOKUP(B63,'KAYIT LİSTESİ'!$B$4:$H$664,2,0)),\"\",(VLOOKUP(B63,'KAYIT LİSTESİ'!$B$4:$H$664,2,0)))","v":""},{"$f":"IF(ISERROR(VLOOKUP(B63,'KAYIT LİSTESİ'!$B$4:$H$664,4,0)),\"\",(VLOOKUP(B63,'KAYIT LİSTESİ'!$B$4:$H$664,4,0)))","v":""},{"$f":"IF(ISERROR(VLOOKUP(B63,'KAYIT LİSTESİ'!$B$4:$H$664,5,0)),\"\",(VLOOKUP(B63,'KAYIT LİSTESİ'!$B$4:$H$664,5,0)))","v":""},{"$f":"IF(ISERROR(VLOOKUP(B63,'KAYIT LİSTESİ'!$B$4:$H$664,6,0)),\"\",(VLOOKUP(B63,'KAYIT LİSTESİ'!$B$4:$H$664,6,0)))","v":""},null,null,null,16,"Sırık-16",{"$f":"IF(ISERROR(VLOOKUP(K63,'KAYIT LİSTESİ'!$B$4:$H$664,2,0)),\"\",(VLOOKUP(K63,'KAYIT LİSTESİ'!$B$4:$H$664,2,0)))","v":""},{"$f":"IF(ISERROR(VLOOKUP(K63,'KAYIT LİSTESİ'!$B$4:$H$664,4,0)),\"\",(VLOOKUP(K63,'KAYIT LİSTESİ'!$B$4:$H$664,4,0)))","v":""},{"$f":"IF(ISERROR(VLOOKUP(K63,'KAYIT LİSTESİ'!$B$4:$H$664,5,0)),\"\",(VLOOKUP(K63,'KAYIT LİSTESİ'!$B$4:$H$664,5,0)))","v":""},{"$f":"IF(ISERROR(VLOOKUP(K63,'KAYIT LİSTESİ'!$B$4:$H$664,6,0)),\"\",(VLOOKUP(K63,'KAYIT LİSTESİ'!$B$4:$H$664,6,0)))","v":""}]
[7,"100M.ENG-2-7",{"$f":"IF(ISERROR(VLOOKUP(B64,'KAYIT LİSTESİ'!$B$4:$H$664,2,0)),\"\",(VLOOKUP(B64,'KAYIT LİSTESİ'!$B$4:$H$664,2,0)))","v":""},{"$f":"IF(ISERROR(VLOOKUP(B64,'KAYIT LİSTESİ'!$B$4:$H$664,4,0)),\"\",(VLOOKUP(B64,'KAYIT LİSTESİ'!$B$4:$H$664,4,0)))","v":""},{"$f":"IF(ISERROR(VLOOKUP(B64,'KAYIT LİSTESİ'!$B$4:$H$664,5,0)),\"\",(VLOOKUP(B64,'KAYIT LİSTESİ'!$B$4:$H$664,5,0)))","v":""},{"$f":"IF(ISERROR(VLOOKUP(B64,'KAYIT LİSTESİ'!$B$4:$H$664,6,0)),\"\",(VLOOKUP(B64,'KAYIT LİSTESİ'!$B$4:$H$664,6,0)))","v":""},null,null,null,17,"Sırık-17",{"$f":"IF(ISERROR(VLOOKUP(K64,'KAYIT LİSTESİ'!$B$4:$H$664,2,0)),\"\",(VLOOKUP(K64,'KAYIT LİSTESİ'!$B$4:$H$664,2,0)))","v":""},{"$f":"IF(ISERROR(VLOOKUP(K64,'KAYIT LİSTESİ'!$B$4:$H$664,4,0)),\"\",(VLOOKUP(K64,'KAYIT LİSTESİ'!$B$4:$H$664,4,0)))","v":""},{"$f":"IF(ISERROR(VLOOKUP(K64,'KAYIT LİSTESİ'!$B$4:$H$664,5,0)),\"\",(VLOOKUP(K64,'KAYIT LİSTESİ'!$B$4:$H$664,5,0)))","v":""},{"$f":"IF(ISERROR(VLOOKUP(K64,'KAYIT LİSTESİ'!$B$4:$H$664,6,0)),\"\",(VLOOKUP(K64,'KAYIT LİSTESİ'!$B$4:$H$664,6,0)))","v":""}]
[8,"100M.ENG-2-8",{"$f":"IF(ISERROR(VLOOKUP(B65,'KAYIT LİSTESİ'!$B$4:$H$664,2,0)),\"\",(VLOOKUP(B65,'KAYIT LİSTESİ'!$B$4:$H$664,2,0)))","v":""},{"$f":"IF(ISERROR(VLOOKUP(B65,'KAYIT LİSTESİ'!$B$4:$H$664,4,0)),\"\",(VLOOKUP(B65,'KAYIT LİSTESİ'!$B$4:$H$664,4,0)))","v":""},{"$f":"IF(ISERROR(VLOOKUP(B65,'KAYIT LİSTESİ'!$B$4:$H$664,5,0)),\"\",(VLOOKUP(B65,'KAYIT LİSTESİ'!$B$4:$H$664,5,0)))","v":""},{"$f":"IF(ISERROR(VLOOKUP(B65,'KAYIT LİSTESİ'!$B$4:$H$664,6,0)),\"\",(VLOOKUP(B65,'KAYIT LİSTESİ'!$B$4:$H$664,6,0)))","v":""},null,null,null,18,"Sırık-18",{"$f":"IF(ISERROR(VLOOKUP(K65,'KAYIT LİSTESİ'!$B$4:$H$664,2,0)),\"\",(VLOOKUP(K65,'KAYIT LİSTESİ'!$B$4:$H$664,2,0)))","v":""},{"$f":"IF(ISERROR(VLOOKUP(K65,'KAYIT LİSTESİ'!$B$4:$H$664,4,0)),\"\",(VLOOKUP(K65,'KAYIT LİSTESİ'!$B$4:$H$664,4,0)))","v":""},{"$f":"IF(ISERROR(VLOOKUP(K65,'KAYIT LİSTESİ'!$B$4:$H$664,5,0)),\"\",(VLOOKUP(K65,'KAYIT LİSTESİ'!$B$4:$H$664,5,0)))","v":""},{"$f":"IF(ISERROR(VLOOKUP(K65,'KAYIT LİSTESİ'!$B$4:$H$664,6,0)),\"\",(VLOOKUP(K65,'KAYIT LİSTESİ'!$B$4:$H$664,6,0)))","v":""}]
["3. SERİ",null,null,null,null,null,null,null,null,19,"Sırık-19",{"$f":"IF(ISERROR(VLOOKUP(K66,'KAYIT LİSTESİ'!$B$4:$H$664,2,0)),\"\",(VLOOKUP(K66,'KAYIT LİSTESİ'!$B$4:$H$664,2,0)))","v":""},{"$f":"IF(ISERROR(VLOOKUP(K66,'KAYIT LİSTESİ'!$B$4:$H$664,4,0)),\"\",(VLOOKUP(K66,'KAYIT LİSTESİ'!$B$4:$H$664,4,0)))","v":""},{"$f":"IF(ISERROR(VLOOKUP(K66,'KAYIT LİSTESİ'!$B$4:$H$664,5,0)),\"\",(VLOOKUP(K66,'KAYIT LİSTESİ'!$B$4:$H$664,5,0)))","v":""},{"$f":"IF(ISERROR(VLOOKUP(K66,'KAYIT LİSTESİ'!$B$4:$H$664,6,0)),\"\",(VLOOKUP(K66,'KAYIT LİSTESİ'!$B$4:$H$664,6,0)))","v":""}]
["Sıra No","Formül","Göğüs No","Doğum Tarihi","Adı ve Soyadı","İli-Okulu","Start Kontrol",null,null,20,"Sırık-20",{"$f":"IF(ISERROR(VLOOKUP(K67,'KAYIT LİSTESİ'!$B$4:$H$664,2,0)),\"\",(VLOOKUP(K67,'KAYIT LİSTESİ'!$B$4:$H$664,2,0)))","v":""},{"$f":"IF(ISERROR(VLOOKUP(K67,'KAYIT LİSTESİ'!$B$4:$H$664,4,0)),\"\",(VLOOKUP(K67,'KAYIT LİSTESİ'!$B$4:$H$664,4,0)))","v":""},{"$f":"IF(ISERROR(VLOOKUP(K67,'KAYIT LİSTESİ'!$B$4:$H$664,5,0)),\"\",(VLOOKUP(K67,'KAYIT LİSTESİ'!$B$4:$H$664,5,0)))","v":""},{"$f":"IF(ISERROR(VLOOKUP(K67,'KAYIT LİSTESİ'!$B$4:$H$664,6,0)),\"\",(VLOOKUP(K67,'KAYIT LİSTESİ'!$B$4:$H$664,6,0)))","v":""}]
[1,"100M.ENG-3-1",{"$f":"IF(ISERROR(VLOOKUP(B68,'KAYIT LİSTESİ'!$B$4:$H$664,2,0)),\"\",(VLOOKUP(B68,'KAYIT LİSTESİ'!$B$4:$H$664,2,0)))","v":""},{"$f":"IF(ISERROR(VLOOKUP(B68,'KAYIT LİSTESİ'!$B$4:$H$664,4,0)),\"\",(VLOOKUP(B68,'KAYIT LİSTESİ'!$B$4:$H$664,4,0)))","v":""},{"$f":"IF(ISERROR(VLOOKUP(B68,'KAYIT LİSTESİ'!$B$4:$H$664,5,0)),\"\",(VLOOKUP(B68,'KAYIT LİSTESİ'!$B$4:$H$664,5,0)))","v":""},{"$f":"IF(ISERROR(VLOOKUP(B68,'KAYIT LİSTESİ'!$B$4:$H$664,6,0)),\"\",(VLOOKUP(B68,'KAYIT LİSTESİ'!$B$4:$H$664,6,0)))","v":""},null,null,null,21,"Sırık-21",{"$f":"IF(ISERROR(VLOOKUP(K68,'KAYIT LİSTESİ'!$B$4:$H$664,2,0)),\"\",(VLOOKUP(K68,'KAYIT LİSTESİ'!$B$4:$H$664,2,0)))","v":""},{"$f":"IF(ISERROR(VLOOKUP(K68,'KAYIT LİSTESİ'!$B$4:$H$664,4,0)),\"\",(VLOOKUP(K68,'KAYIT LİSTESİ'!$B$4:$H$664,4,0)))","v":""},{"$f":"IF(ISERROR(VLOOKUP(K68,'KAYIT LİSTESİ'!$B$4:$H$664,5,0)),\"\",(VLOOKUP(K68,'KAYIT LİSTESİ'!$B$4:$H$664,5,0)))","v":""},{"$f":"IF(ISERROR(VLOOKUP(K68,'KAYIT LİSTESİ'!$B$4:$H$664,6,0)),\"\",(VLOOKUP(K68,'KAYIT LİSTESİ'!$B$4:$H$664,6,0)))","v":""}]
[2,"100M.ENG-3-2",{"$f":"IF(ISERROR(VLOOKUP(B69,'KAYIT LİSTESİ'!$B$4:$H$664,2,0)),\"\",(VLOOKUP(B69,'KAYIT LİSTESİ'!$B$4:$H$664,2,0)))","v":""},{"$f":"IF(ISERROR(VLOOKUP(B69,'KAYIT LİSTESİ'!$B$4:$H$664,4,0)),\"\",(VLOOKUP(B69,'KAYIT LİSTESİ'!$B$4:$H$664,4,0)))","v":""},{"$f":"IF(ISERROR(VLOOKUP(B69,'KAYIT LİSTESİ'!$B$4:$H$664,5,0)),\"\",(VLOOKUP(B69,'KAYIT LİSTESİ'!$B$4:$H$664,5,0)))","v":""},{"$f":"IF(ISERROR(VLOOKUP(B69,'KAYIT LİSTESİ'!$B$4:$H$664,6,0)),\"\",(VLOOKUP(B69,'KAYIT LİSTESİ'!$B$4:$H$664,6,0)))","v":""},null,null,null,22,"Sırık-22",{"$f":"IF(ISERROR(VLOOKUP(K69,'KAYIT LİSTESİ'!$B$4:$H$664,2,0)),\"\",(VLOOKUP(K69,'KAYIT LİSTESİ'!$B$4:$H$664,2,0)))","v":""},{"$f":"IF(ISERROR(VLOOKUP(K69,'KAYIT LİSTESİ'!$B$4:$H$664,4,0)),\"\",(VLOOKUP(K69,'KAYIT LİSTESİ'!$B$4:$H$664,4,0)))","v":""},{"$f":"IF(ISERROR(VLOOKUP(K69,'KAYIT LİSTESİ'!$B$4:$H$664,5,0)),\"\",(VLOOKUP(K69,'KAYIT LİSTESİ'!$B$4:$H$664,5,0)))","v":""},{"$f":"IF(ISERROR(VLOOKUP(K69,'KAYIT LİSTESİ'!$B$4:$H$664,6,0)),\"\",(VLOOKUP(K69,'KAYIT LİSTESİ'!$B$4:$H$664,6,0)))","v":""}]
[3,"100M.ENG-3-3",{"$f":"IF(ISERROR(VLOOKUP(B70,'KAYIT LİSTESİ'!$B$4:$H$664,2,0)),\"\",(VLOOKUP(B70,'KAYIT LİSTESİ'!$B$4:$H$664,2,0)))","v":""},{"$f":"IF(ISERROR(VLOOKUP(B70,'KAYIT LİSTESİ'!$B$4:$H$664,4,0)),\"\",(VLOOKUP(B70,'KAYIT LİSTESİ'!$B$4:$H$664,4,0)))","v":""},{"$f":"IF(ISERROR(VLOOKUP(B70,'KAYIT LİSTESİ'!$B$4:$H$664,5,0)),\"\",(VLOOKUP(B70,'KAYIT LİSTESİ'!$B$4:$H$664,5,0)))","v":""},{"$f":"IF(ISERROR(VLOOKUP(B70,'KAYIT LİSTESİ'!$B$4:$H$664,6,0)),\"\",(VLOOKUP(B70,'KAYIT LİSTESİ'!$B$4:$H$664,6,0)))","v":""},null,null,null,23,"Sırık-23",{"$f":"IF(ISERROR(VLOOKUP(K70,'KAYIT LİSTESİ'!$B$4:$H$664,2,0)),\"\",(VLOOKUP(K70,'KAYIT LİSTESİ'!$B$4:$H$664,2,0)))","v":""},{"$f":"IF(ISERROR(VLOOKUP(K70,'KAYIT LİSTESİ'!$B$4:$H$664,4,0)),\"\",(VLOOKUP(K70,'KAYIT LİSTESİ'!$B$4:$H$664,4,0)))","v":""},{"$f":"IF(ISERROR(VLOOKUP(K70,'KAYIT LİSTESİ'!$B$4:$H$664,5,0)),\"\",(VLOOKUP(K70,'KAYIT LİSTESİ'!$B$4:$H$664,5,0)))","v":""},{"$f":"IF(ISERROR(VLOOKUP(K70,'KAYIT LİSTESİ'!$B$4:$H$664,6,0)),\"\",(VLOOKUP(K70,'KAYIT LİSTESİ'!$B$4:$H$664,6,0)))","v":""}]
[4,"100M.ENG-3-4",{"$f":"IF(ISERROR(VLOOKUP(B71,'KAYIT LİSTESİ'!$B$4:$H$664,2,0)),\"\",(VLOOKUP(B71,'KAYIT LİSTESİ'!$B$4:$H$664,2,0)))","v":""},{"$f":"IF(ISERROR(VLOOKUP(B71,'KAYIT LİSTESİ'!$B$4:$H$664,4,0)),\"\",(VLOOKUP(B71,'KAYIT LİSTESİ'!$B$4:$H$664,4,0)))","v":""},{"$f":"IF(ISERROR(VLOOKUP(B71,'KAYIT LİSTESİ'!$B$4:$H$664,5,0)),\"\",(VLOOKUP(B71,'KAYIT LİSTESİ'!$B$4:$H$664,5,0)))","v":""},{"$f":"IF(ISERROR(VLOOKUP(B71,'KAYIT LİSTESİ'!$B$4:$H$664,6,0)),\"\",(VLOOKUP(B71,'KAYIT LİSTESİ'!$B$4:$H$664,6,0)))","v":""},null,null,null,24,"Sırık-24",{"$f":"IF(ISERROR(VLOOKUP(K71,'KAYIT LİSTESİ'!$B$4:$H$664,2,0)),\"\",(VLOOKUP(K71,'KAYIT LİSTESİ'!$B$4:$H$664,2,0)))","v":""},{"$f":"IF(ISERROR(VLOOKUP(K71,'KAYIT LİSTESİ'!$B$4:$H$664,4,0)),\"\",(VLOOKUP(K71,'KAYIT LİSTESİ'!$B$4:$H$664,4,0)))","v":""},{"$f":"IF(ISERROR(VLOOKUP(K71,'KAYIT LİSTESİ'!$B$4:$H$664,5,0)),\"\",(VLOOKUP(K71,'KAYIT LİSTESİ'!$B$4:$H$664,5,0)))","v":""},{"$f":"IF(ISERROR(VLOOKUP(K71,'KAYIT LİSTESİ'!$B$4:$H$664,6,0)),\"\",(VLOOKUP(K71,'KAYIT LİSTESİ'!$B$4:$H$664,6,0)))","v":""}]
[5,"100M.ENG-3-5",{"$f":"IF(ISERROR(VLOOKUP(B72,'KAYIT LİSTESİ'!$B$4:$H$664,2,0)),\"\",(VLOOKUP(B72,'KAYIT LİSTESİ'!$B$4:$H$664,2,0)))","v":""},{"$f":"IF(ISERROR(VLOOKUP(B72,'KAYIT LİSTESİ'!$B$4:$H$664,4,0)),\"\",(VLOOKUP(B72,'KAYIT LİSTESİ'!$B$4:$H$664,4,0)))","v":""},{"$f":"IF(ISERROR(VLOOKUP(B72,'KAYIT LİSTESİ'!$B$4:$H$664,5,0)),\"\",(VLOOKUP(B72,'KAYIT LİSTESİ'!$B$4:$H$664,5,0)))","v":""},{"$f":"IF(ISERROR(VLOOKUP(B72,'KAYIT LİSTESİ'!$B$4:$H$664,6,0)),\"\",(VLOOKUP(B72,'KAYIT LİSTESİ'!$B$4:$H$664,6,0)))","v":""},null,null,null,25,"Sırık-25",{"$f":"IF(ISERROR(VLOOKUP(K72,'KAYIT LİSTESİ'!$B$4:$H$664,2,0)),\"\",(VLOOKUP(K72,'KAYIT LİSTESİ'!$B$4:$H$664,2,0)))","v":""},{"$f":"IF(ISERROR(VLOOKUP(K72,'KAYIT LİSTESİ'!$B$4:$H$664,4,0)),\"\",(VLOOKUP(K72,'KAYIT LİSTESİ'!$B$4:$H$664,4,0)))","v":""},{"$f":"IF(ISERROR(VLOOKUP(K72,'KAYIT LİSTESİ'!$B$4:$H$664,5,0)),\"\",(VLOOKUP(K72,'KAYIT LİSTESİ'!$B$4:$H$664,5,0)))","v":""},{"$f":"IF(ISERROR(VLOOKUP(K72,'KAYIT LİSTESİ'!$B$4:$H$664,6,0)),\"\",(VLOOKUP(K72,'KAYIT LİSTESİ'!$B$4:$H$664,6,0)))","v":""}]
[6,"100M.ENG-3-6",{"$f":"IF(ISERROR(VLOOKUP(B73,'KAYIT LİSTESİ'!$B$4:$H$664,2,0)),\"\",(VLOOKUP(B73,'KAYIT LİSTESİ'!$B$4:$H$664,2,0)))","v":""},{"$f":"IF(ISERROR(VLOOKUP(B73,'KAYIT LİSTESİ'!$B$4:$H$664,4,0)),\"\",(VLOOKUP(B73,'KAYIT LİSTESİ'!$B$4:$H$664,4,0)))","v":""},{"$f":"IF(ISERROR(VLOOKUP(B73,'KAYIT LİSTESİ'!$B$4:$H$664,5,0)),\"\",(VLOOKUP(B73,'KAYIT LİSTESİ'!$B$4:$H$664,5,0)))","v":""},{"$f":"IF(ISERROR(VLOOKUP(B73,'KAYIT LİSTESİ'!$B$4:$H$664,6,0)),\"\",(VLOOKUP(B73,'KAYIT LİSTESİ'!$B$4:$H$664,6,0)))","v":""},null,null,null,"GÜLLE ATMA"]
[7,"100M.ENG-3-7",{"$f":"IF(ISERROR(VLOOKUP(B74,'KAYIT LİSTESİ'!$B$4:$H$664,2,0)),\"\",(VLOOKUP(B74,'KAYIT LİSTESİ'!$B$4:$H$664,2,0)))","v":""},{"$f":"IF(ISERROR(VLOOKUP(B74,'KAYIT LİSTESİ'!$B$4:$H$664,4,0)),\"\",(VLOOKUP(B74,'KAYIT LİSTESİ'!$B$4:$H$664,4,0)))","v":""},{"$f":"IF(ISERROR(VLOOKUP(B74,'KAYIT LİSTESİ'!$B$4:$H$664,5,0)),\"\",(VLOOKUP(B74,'KAYIT LİSTESİ'!$B$4:$H$664,5,0)))","v":""},{"$f":"IF(ISERROR(VLOOKUP(B74,'KAYIT LİSTESİ'!$B$4:$H$664,6,0)),\"\",(VLOOKUP(B74,'KAYIT LİSTESİ'!$B$4:$H$664,6,0)))","v":""},null,null,null,"SIRA NO",null,"GÖĞÜS NO","DOĞUM TARİHİ","ADI VE SOYADI","İli-Okulu","Start Kontrol"]
[8,"100M.ENG-3-8",{"$f":"IF(ISERROR(VLOOKUP(B75,'KAYIT LİSTESİ'!$B$4:$H$664,2,0)),\"\",(VLOOKUP(B75,'KAYIT LİSTESİ'!$B$4:$H$664,2,0)))","v":""},{"$f":"IF(ISERROR(VLOOKUP(B75,'KAYIT LİSTESİ'!$B$4:$H$664,4,0)),\"\",(VLOOKUP(B75,'KAYIT LİSTESİ'!$B$4:$H$664,4,0)))","v":""},{"$f":"IF(ISERROR(VLOOKUP(B75,'KAYIT LİSTESİ'!$B$4:$H$664,5,0)),\"\",(VLOOKUP(B75,'KAYIT LİSTESİ'!$B$4:$H$664,5,0)))","v":""},{"$f":"IF(ISERROR(VLOOKUP(B75,'KAYIT LİSTESİ'!$B$4:$H$664,6,0)),\"\",(VLOOKUP(B75,'KAYIT LİSTESİ'!$B$4:$H$664,6,0)))","v":""}]
["4. SERİ",null,null,null,null,null,null,null,null,1,"GÜLLE-1",{"$f":"IF(ISERROR(VLOOKUP(K76,'KAYIT LİSTESİ'!$B$4:$H$664,2,0)),\"\",(VLOOKUP(K76,'KAYIT LİSTESİ'!$B$4:$H$664,2,0)))","v":623},{"$f":"IF(ISERROR(VLOOKUP(K76,'KAYIT LİSTESİ'!$B$4:$H$664,4,0)),\"\",(VLOOKUP(K76,'KAYIT LİSTESİ'!$B$4:$H$664,4,0)))","v":"1999-02-09"},{"$f":"IF(ISERROR(VLOOKUP(K76,'KAYIT LİSTESİ'!$B$4:$H$664,5,0)),\"\",(VLOOKUP(K76,'KAYIT LİSTESİ'!$B$4:$H$664,5,0)))","v":"SİMGE ALTIOK"},{"$f":"IF(ISERROR(VLOOKUP(K76,'KAYIT LİSTESİ'!$B$4:$H$664,6,0)),\"\",(VLOOKUP(K76,'KAYIT LİSTESİ'!$B$4:$H$664,6,0)))","v":"KAYSERİ"}]
["Sıra No","Formül","Göğüs No","Doğum Tarihi","Adı ve Soyadı","İli-Okulu","Start Kontrol",null,null,2,"GÜLLE-2",{"$f":"IF(ISERROR(VLOOKUP(K77,'KAYIT LİSTESİ'!$B$4:$H$664,2,0)),\"\",(VLOOKUP(K77,'KAYIT LİSTESİ'!$B$4:$H$664,2,0)))","v":""},{"$f":"IF(ISERROR(VLOOKUP(K77,'KAYIT LİSTESİ'!$B$4:$H$664,4,0)),\"\",(VLOOKUP(K77,'KAYIT LİSTESİ'!$B$4:$H$664,4,0)))","v":""},{"$f":"IF(ISERROR(VLOOKUP(K77,'KAYIT LİSTESİ'!$B$4:$H$664,5,0)),\"\",(VLOOKUP(K77,'KAYIT LİSTESİ'!$B$4:$H$664,5,0)))","v":""},{"$f":"IF(ISERROR(VLOOKUP(K77,'KAYIT LİSTESİ'!$B$4:$H$664,6,0)),\"\",(VLOOKUP(K77,'KAYIT LİSTESİ'!$B$4:$H$664,6,0)))","v":""}]
[1,"100M.ENG-4-1",{"$f":"IF(ISERROR(VLOOKUP(B78,'KAYIT LİSTESİ'!$B$4:$H$664,2,0)),\"\",(VLOOKUP(B78,'KAYIT LİSTESİ'!$B$4:$H$664,2,0)))","v":""},{"$f":"IF(ISERROR(VLOOKUP(B78,'KAYIT LİSTESİ'!$B$4:$H$664,4,0)),\"\",(VLOOKUP(B78,'KAYIT LİSTESİ'!$B$4:$H$664,4,0)))","v":""},{"$f":"IF(ISERROR(VLOOKUP(B78,'KAYIT LİSTESİ'!$B$4:$H$664,5,0)),\"\",(VLOOKUP(B78,'KAYIT LİSTESİ'!$B$4:$H$664,5,0)))","v":""},{"$f":"IF(ISERROR(VLOOKUP(B78,'KAYIT LİSTESİ'!$B$4:$H$664,6,0)),\"\",(VLOOKUP(B78,'KAYIT LİSTESİ'!$B$4:$H$664,6,0)))","v":""},null,null,null,3,"GÜLLE-3",{"$f":"IF(ISERROR(VLOOKUP(K78,'KAYIT LİSTESİ'!$B$4:$H$664,2,0)),\"\",(VLOOKUP(K78,'KAYIT LİSTESİ'!$B$4:$H$664,2,0)))","v":""},{"$f":"IF(ISERROR(VLOOKUP(K78,'KAYIT LİSTESİ'!$B$4:$H$664,4,0)),\"\",(VLOOKUP(K78,'KAYIT LİSTESİ'!$B$4:$H$664,4,0)))","v":""},{"$f":"IF(ISERROR(VLOOKUP(K78,'KAYIT LİSTESİ'!$B$4:$H$664,5,0)),\"\",(VLOOKUP(K78,'KAYIT LİSTESİ'!$B$4:$H$664,5,0)))","v":""},{"$f":"IF(ISERROR(VLOOKUP(K78,'KAYIT LİSTESİ'!$B$4:$H$664,6,0)),\"\",(VLOOKUP(K78,'KAYIT LİSTESİ'!$B$4:$H$664,6,0)))","v":""}]
[2,"100M.ENG-4-2",{"$f":"IF(ISERROR(VLOOKUP(B79,'KAYIT LİSTESİ'!$B$4:$H$664,2,0)),\"\",(VLOOKUP(B79,'KAYIT LİSTESİ'!$B$4:$H$664,2,0)))","v":""},{"$f":"IF(ISERROR(VLOOKUP(B79,'KAYIT LİSTESİ'!$B$4:$H$664,4,0)),\"\",(VLOOKUP(B79,'KAYIT LİSTESİ'!$B$4:$H$664,4,0)))","v":""},{"$f":"IF(ISERROR(VLOOKUP(B79,'KAYIT LİSTESİ'!$B$4:$H$664,5,0)),\"\",(VLOOKUP(B79,'KAYIT LİSTESİ'!$B$4:$H$664,5,0)))","v":""},{"$f":"IF(ISERROR(VLOOKUP(B79,'KAYIT LİSTESİ'!$B$4:$H$664,6,0)),\"\",(VLOOKUP(B79,'KAYIT LİSTESİ'!$B$4:$H$664,6,0)))","v":""},null,null,null,4,"GÜLLE-4",{"$f":"IF(ISERROR(VLOOKUP(K79,'KAYIT LİSTESİ'!$B$4:$H$664,2,0)),\"\",(VLOOKUP(K79,'KAYIT LİSTESİ'!$B$4:$H$664,2,0)))","v":""},{"$f":"IF(ISERROR(VLOOKUP(K79,'KAYIT LİSTESİ'!$B$4:$H$664,4,0)),\"\",(VLOOKUP(K79,'KAYIT LİSTESİ'!$B$4:$H$664,4,0)))","v":""},{"$f":"IF(ISERROR(VLOOKUP(K79,'KAYIT LİSTESİ'!$B$4:$H$664,5,0)),\"\",(VLOOKUP(K79,'KAYIT LİSTESİ'!$B$4:$H$664,5,0)))","v":""},{"$f":"IF(ISERROR(VLOOKUP(K79,'KAYIT LİSTESİ'!$B$4:$H$664,6,0)),\"\",(VLOOKUP(K79,'KAYIT LİSTESİ'!$B$4:$H$664,6,0)))","v":""}]
[3,"100M.ENG-4-3",{"$f":"IF(ISERROR(VLOOKUP(B80,'KAYIT LİSTESİ'!$B$4:$H$664,2,0)),\"\",(VLOOKUP(B80,'KAYIT LİSTESİ'!$B$4:$H$664,2,0)))","v":""},{"$f":"IF(ISERROR(VLOOKUP(B80,'KAYIT LİSTESİ'!$B$4:$H$664,4,0)),\"\",(VLOOKUP(B80,'KAYIT LİSTESİ'!$B$4:$H$664,4,0)))","v":""},{"$f":"IF(ISERROR(VLOOKUP(B80,'KAYIT LİSTESİ'!$B$4:$H$664,5,0)),\"\",(VLOOKUP(B80,'KAYIT LİSTESİ'!$B$4:$H$664,5,0)))","v":""},{"$f":"IF(ISERROR(VLOOKUP(B80,'KAYIT LİSTESİ'!$B$4:$H$664,6,0)),\"\",(VLOOKUP(B80,'KAYIT LİSTESİ'!$B$4:$H$664,6,0)))","v":""},null,null,null,5,"GÜLLE-5",{"$f":"IF(ISERROR(VLOOKUP(K80,'KAYIT LİSTESİ'!$B$4:$H$664,2,0)),\"\",(VLOOKUP(K80,'KAYIT LİSTESİ'!$B$4:$H$664,2,0)))","v":""},{"$f":"IF(ISERROR(VLOOKUP(K80,'KAYIT LİSTESİ'!$B$4:$H$664,4,0)),\"\",(VLOOKUP(K80,'KAYIT LİSTESİ'!$B$4:$H$664,4,0)))","v":""},{"$f":"IF(ISERROR(VLOOKUP(K80,'KAYIT LİSTESİ'!$B$4:$H$664,5,0)),\"\",(VLOOKUP(K80,'KAYIT LİSTESİ'!$B$4:$H$664,5,0)))","v":""},{"$f":"IF(ISERROR(VLOOKUP(K80,'KAYIT LİSTESİ'!$B$4:$H$664,6,0)),\"\",(VLOOKUP(K80,'KAYIT LİSTESİ'!$B$4:$H$664,6,0)))","v":""}]
[4,"100M.ENG-4-4",{"$f":"IF(ISERROR(VLOOKUP(B81,'KAYIT LİSTESİ'!$B$4:$H$664,2,0)),\"\",(VLOOKUP(B81,'KAYIT LİSTESİ'!$B$4:$H$664,2,0)))","v":""},{"$f":"IF(ISERROR(VLOOKUP(B81,'KAYIT LİSTESİ'!$B$4:$H$664,4,0)),\"\",(VLOOKUP(B81,'KAYIT LİSTESİ'!$B$4:$H$664,4,0)))","v":""},{"$f":"IF(ISERROR(VLOOKUP(B81,'KAYIT LİSTESİ'!$B$4:$H$664,5,0)),\"\",(VLOOKUP(B81,'KAYIT LİSTESİ'!$B$4:$H$664,5,0)))","v":""},{"$f":"IF(ISERROR(VLOOKUP(B81,'KAYIT LİSTESİ'!$B$4:$H$664,6,0)),\"\",(VLOOKUP(B81,'KAYIT LİSTESİ'!$B$4:$H$664,6,0)))","v":""},null,null,null,6,"GÜLLE-6",{"$f":"IF(ISERROR(VLOOKUP(K81,'KAYIT LİSTESİ'!$B$4:$H$664,2,0)),\"\",(VLOOKUP(K81,'KAYIT LİSTESİ'!$B$4:$H$664,2,0)))","v":""},{"$f":"IF(ISERROR(VLOOKUP(K81,'KAYIT LİSTESİ'!$B$4:$H$664,4,0)),\"\",(VLOOKUP(K81,'KAYIT LİSTESİ'!$B$4:$H$664,4,0)))","v":""},{"$f":"IF(ISERROR(VLOOKUP(K81,'KAYIT LİSTESİ'!$B$4:$H$664,5,0)),\"\",(VLOOKUP(K81,'KAYIT LİSTESİ'!$B$4:$H$664,5,0)))","v":""},{"$f":"IF(ISERROR(VLOOKUP(K81,'KAYIT LİSTESİ'!$B$4:$H$664,6,0)),\"\",(VLOOKUP(K81,'KAYIT LİSTESİ'!$B$4:$H$664,6,0)))","v":""}]
[5,"100M.ENG-4-5",{"$f":"IF(ISERROR(VLOOKUP(B82,'KAYIT LİSTESİ'!$B$4:$H$664,2,0)),\"\",(VLOOKUP(B82,'KAYIT LİSTESİ'!$B$4:$H$664,2,0)))","v":""},{"$f":"IF(ISERROR(VLOOKUP(B82,'KAYIT LİSTESİ'!$B$4:$H$664,4,0)),\"\",(VLOOKUP(B82,'KAYIT LİSTESİ'!$B$4:$H$664,4,0)))","v":""},{"$f":"IF(ISERROR(VLOOKUP(B82,'KAYIT LİSTESİ'!$B$4:$H$664,5,0)),\"\",(VLOOKUP(B82,'KAYIT LİSTESİ'!$B$4:$H$664,5,0)))","v":""},{"$f":"IF(ISERROR(VLOOKUP(B82,'KAYIT LİSTESİ'!$B$4:$H$664,6,0)),\"\",(VLOOKUP(B82,'KAYIT LİSTESİ'!$B$4:$H$664,6,0)))","v":""},null,null,null,7,"GÜLLE-7",{"$f":"IF(ISERROR(VLOOKUP(K82,'KAYIT LİSTESİ'!$B$4:$H$664,2,0)),\"\",(VLOOKUP(K82,'KAYIT LİSTESİ'!$B$4:$H$664,2,0)))","v":""},{"$f":"IF(ISERROR(VLOOKUP(K82,'KAYIT LİSTESİ'!$B$4:$H$664,4,0)),\"\",(VLOOKUP(K82,'KAYIT LİSTESİ'!$B$4:$H$664,4,0)))","v":""},{"$f":"IF(ISERROR(VLOOKUP(K82,'KAYIT LİSTESİ'!$B$4:$H$664,5,0)),\"\",(VLOOKUP(K82,'KAYIT LİSTESİ'!$B$4:$H$664,5,0)))","v":""},{"$f":"IF(ISERROR(VLOOKUP(K82,'KAYIT LİSTESİ'!$B$4:$H$664,6,0)),\"\",(VLOOKUP(K82,'KAYIT LİSTESİ'!$B$4:$H$664,6,0)))","v":""}]
[6,"100M.ENG-4-6",{"$f":"IF(ISERROR(VLOOKUP(B83,'KAYIT LİSTESİ'!$B$4:$H$664,2,0)),\"\",(VLOOKUP(B83,'KAYIT LİSTESİ'!$B$4:$H$664,2,0)))","v":""},{"$f":"IF(ISERROR(VLOOKUP(B83,'KAYIT LİSTESİ'!$B$4:$H$664,4,0)),\"\",(VLOOKUP(B83,'KAYIT LİSTESİ'!$B$4:$H$664,4,0)))","v":""},{"$f":"IF(ISERROR(VLOOKUP(B83,'KAYIT LİSTESİ'!$B$4:$H$664,5,0)),\"\",(VLOOKUP(B83,'KAYIT LİSTESİ'!$B$4:$H$664,5,0)))","v":""},{"$f":"IF(ISERROR(VLOOKUP(B83,'KAYIT LİSTESİ'!$B$4:$H$664,6,0)),\"\",(VLOOKUP(B83,'KAYIT LİSTESİ'!$B$4:$H$664,6,0)))","v":""},null,null,null,8,"GÜLLE-8",{"$f":"IF(ISERROR(VLOOKUP(K83,'KAYIT LİSTESİ'!$B$4:$H$664,2,0)),\"\",(VLOOKUP(K83,'KAYIT LİSTESİ'!$B$4:$H$664,2,0)))","v":""},{"$f":"IF(ISERROR(VLOOKUP(K83,'KAYIT LİSTESİ'!$B$4:$H$664,4,0)),\"\",(VLOOKUP(K83,'KAYIT LİSTESİ'!$B$4:$H$664,4,0)))","v":""},{"$f":"IF(ISERROR(VLOOKUP(K83,'KAYIT LİSTESİ'!$B$4:$H$664,5,0)),\"\",(VLOOKUP(K83,'KAYIT LİSTESİ'!$B$4:$H$664,5,0)))","v":""},{"$f":"IF(ISERROR(VLOOKUP(K83,'KAYIT LİSTESİ'!$B$4:$H$664,6,0)),\"\",(VLOOKUP(K83,'KAYIT LİSTESİ'!$B$4:$H$664,6,0)))","v":""}]
[7,"100M.ENG-4-7",{"$f":"IF(ISERROR(VLOOKUP(B84,'KAYIT LİSTESİ'!$B$4:$H$664,2,0)),\"\",(VLOOKUP(B84,'KAYIT LİSTESİ'!$B$4:$H$664,2,0)))","v":""},{"$f":"IF(ISERROR(VLOOKUP(B84,'KAYIT LİSTESİ'!$B$4:$H$664,4,0)),\"\",(VLOOKUP(B84,'KAYIT LİSTESİ'!$B$4:$H$664,4,0)))","v":""},{"$f":"IF(ISERROR(VLOOKUP(B84,'KAYIT LİSTESİ'!$B$4:$H$664,5,0)),\"\",(VLOOKUP(B84,'KAYIT LİSTESİ'!$B$4:$H$664,5,0)))","v":""},{"$f":"IF(ISERROR(VLOOKUP(B84,'KAYIT LİSTESİ'!$B$4:$H$664,6,0)),\"\",(VLOOKUP(B84,'KAYIT LİSTESİ'!$B$4:$H$664,6,0)))","v":""},null,null,null,9,"GÜLLE-9",{"$f":"IF(ISERROR(VLOOKUP(K84,'KAYIT LİSTESİ'!$B$4:$H$664,2,0)),\"\",(VLOOKUP(K84,'KAYIT LİSTESİ'!$B$4:$H$664,2,0)))","v":""},{"$f":"IF(ISERROR(VLOOKUP(K84,'KAYIT LİSTESİ'!$B$4:$H$664,4,0)),\"\",(VLOOKUP(K84,'KAYIT LİSTESİ'!$B$4:$H$664,4,0)))","v":""},{"$f":"IF(ISERROR(VLOOKUP(K84,'KAYIT LİSTESİ'!$B$4:$H$664,5,0)),\"\",(VLOOKUP(K84,'KAYIT LİSTESİ'!$B$4:$H$664,5,0)))","v":""},{"$f":"IF(ISERROR(VLOOKUP(K84,'KAYIT LİSTESİ'!$B$4:$H$664,6,0)),\"\",(VLOOKUP(K84,'KAYIT LİSTESİ'!$B$4:$H$664,6,0)))","v":""}]
[8,"100M.ENG-4-8",{"$f":"IF(ISERROR(VLOOKUP(B85,'KAYIT LİSTESİ'!$B$4:$H$664,2,0)),\"\",(VLOOKUP(B85,'KAYIT LİSTESİ'!$B$4:$H$664,2,0)))","v":""},{"$f":"IF(ISERROR(VLOOKUP(B85,'KAYIT LİSTESİ'!$B$4:$H$664,4,0)),\"\",(VLOOKUP(B85,'KAYIT LİSTESİ'!$B$4:$H$664,4,0)))","v":""},{"$f":"IF(ISERROR(VLOOKUP(B85,'KAYIT LİSTESİ'!$B$4:$H$664,5,0)),\"\",(VLOOKUP(B85,'KAYIT LİSTESİ'!$B$4:$H$664,5,0)))","v":""},{"$f":"IF(ISERROR(VLOOKUP(B85,'KAYIT LİSTESİ'!$B$4:$H$664,6,0)),\"\",(VLOOKUP(B85,'KAYIT LİSTESİ'!$B$4:$H$664,6,0)))","v":""},null,null,null,10,"GÜLLE-10",{"$f":"IF(ISERROR(VLOOKUP(K85,'KAYIT LİSTESİ'!$B$4:$H$664,2,0)),\"\",(VLOOKUP(K85,'KAYIT LİSTESİ'!$B$4:$H$664,2,0)))","v":""},{"$f":"IF(ISERROR(VLOOKUP(K85,'KAYIT LİSTESİ'!$B$4:$H$664,4,0)),\"\",(VLOOKUP(K85,'KAYIT LİSTESİ'!$B$4:$H$664,4,0)))","v":""},{"$f":"IF(ISERROR(VLOOKUP(K85,'KAYIT LİSTESİ'!$B$4:$H$664,5,0)),\"\",(VLOOKUP(K85,'KAYIT LİSTESİ'!$B$4:$H$664,5,0)))","v":""},{"$f":"IF(ISERROR(VLOOKUP(K85,'KAYIT LİSTESİ'!$B$4:$H$664,6,0)),\"\",(VLOOKUP(K85,'KAYIT LİSTESİ'!$B$4:$H$664,6,0)))","v":""}]
["1500 METRE",null,null,null,null,null,null,null,null,11,"GÜLLE-11",{"$f":"IF(ISERROR(VLOOKUP(K86,'KAYIT LİSTESİ'!$B$4:$H$664,2,0)),\"\",(VLOOKUP(K86,'KAYIT LİSTESİ'!$B$4:$H$664,2,0)))","v":""},{"$f":"IF(ISERROR(VLOOKUP(K86,'KAYIT LİSTESİ'!$B$4:$H$664,4,0)),\"\",(VLOOKUP(K86,'KAYIT LİSTESİ'!$B$4:$H$664,4,0)))","v":""},{"$f":"IF(ISERROR(VLOOKUP(K86,'KAYIT LİSTESİ'!$B$4:$H$664,5,0)),\"\",(VLOOKUP(K86,'KAYIT LİSTESİ'!$B$4:$H$664,5,0)))","v":""},{"$f":"IF(ISERROR(VLOOKUP(K86,'KAYIT LİSTESİ'!$B$4:$H$664,6,0)),\"\",(VLOOKUP(K86,'KAYIT LİSTESİ'!$B$4:$H$664,6,0)))","v":""}]
["1. SERİ",null,null,null,null,null,null,null,null,12,"GÜLLE-12",{"$f":"IF(ISERROR(VLOOKUP(K87,'KAYIT LİSTESİ'!$B$4:$H$664,2,0)),\"\",(VLOOKUP(K87,'KAYIT LİSTESİ'!$B$4:$H$664,2,0)))","v":""},{"$f":"IF(ISERROR(VLOOKUP(K87,'KAYIT LİSTESİ'!$B$4:$H$664,4,0)),\"\",(VLOOKUP(K87,'KAYIT LİSTESİ'!$B$4:$H$664,4,0)))","v":""},{"$f":"IF(ISERROR(VLOOKUP(K87,'KAYIT LİSTESİ'!$B$4:$H$664,5,0)),\"\",(VLOOKUP(K87,'KAYIT LİSTESİ'!$B$4:$H$664,5,0)))","v":""},{"$f":"IF(ISERROR(VLOOKUP(K87,'KAYIT LİSTESİ'!$B$4:$H$664,6,0)),\"\",(VLOOKUP(K87,'KAYIT LİSTESİ'!$B$4:$H$664,6,0)))","v":""}]
["Sıra No","Formül","Göğüs No","Doğum Tarihi","Adı ve Soyadı","İli-Okulu","Start Kontrol",null,null,13,"GÜLLE-13",{"$f":"IF(ISERROR(VLOOKUP(K88,'KAYIT LİSTESİ'!$B$4:$H$664,2,0)),\"\",(VLOOKUP(K88,'KAYIT LİSTESİ'!$B$4:$H$664,2,0)))","v":""},{"$f":"IF(ISERROR(VLOOKUP(K88,'KAYIT LİSTESİ'!$B$4:$H$664,4,0)),\"\",(VLOOKUP(K88,'KAYIT LİSTESİ'!$B$4:$H$664,4,0)))","v":""},{"$f":"IF(ISERROR(VLOOKUP(K88,'KAYIT LİSTESİ'!$B$4:$H$664,5,0)),\"\",(VLOOKUP(K88,'KAYIT LİSTESİ'!$B$4:$H$664,5,0)))","v":""},{"$f":"IF(ISERROR(VLOOKUP(K88,'KAYIT LİSTESİ'!$B$4:$H$664,6,0)),\"\",(VLOOKUP(K88,'KAYIT LİSTESİ'!$B$4:$H$664,6,0)))","v":""}]
[1,"1500M-1-1",{"$f":"IF(ISERROR(VLOOKUP(B89,'KAYIT LİSTESİ'!$B$4:$H$664,2,0)),\"\",(VLOOKUP(B89,'KAYIT LİSTESİ'!$B$4:$H$664,2,0)))","v":629},{"$f":"IF(ISERROR(VLOOKUP(B89,'KAYIT LİSTESİ'!$B$4:$H$664,4,0)),\"\",(VLOOKUP(B89,'KAYIT LİSTESİ'!$B$4:$H$664,4,0)))","v":"1998-01-18"},{"$f":"IF(ISERROR(VLOOKUP(B89,'KAYIT LİSTESİ'!$B$4:$H$664,5,0)),\"\",(VLOOKUP(B89,'KAYIT LİSTESİ'!$B$4:$H$664,5,0)))","v":"SEMRA KARASLAN"},{"$f":"IF(ISERROR(VLOOKUP(B89,'KAYIT LİSTESİ'!$B$4:$H$664,6,0)),\"\",(VLOOKUP(B89,'KAYIT LİSTESİ'!$B$4:$H$664,6,0)))","v":"KIRIKKALE"},null,null,null,14,"GÜLLE-14",{"$f":"IF(ISERROR(VLOOKUP(K89,'KAYIT LİSTESİ'!$B$4:$H$664,2,0)),\"\",(VLOOKUP(K89,'KAYIT LİSTESİ'!$B$4:$H$664,2,0)))","v":""},{"$f":"IF(ISERROR(VLOOKUP(K89,'KAYIT LİSTESİ'!$B$4:$H$664,4,0)),\"\",(VLOOKUP(K89,'KAYIT LİSTESİ'!$B$4:$H$664,4,0)))","v":""},{"$f":"IF(ISERROR(VLOOKUP(K89,'KAYIT LİSTESİ'!$B$4:$H$664,5,0)),\"\",(VLOOKUP(K89,'KAYIT LİSTESİ'!$B$4:$H$664,5,0)))","v":""},{"$f":"IF(ISERROR(VLOOKUP(K89,'KAYIT LİSTESİ'!$B$4:$H$664,6,0)),\"\",(VLOOKUP(K89,'KAYIT LİSTESİ'!$B$4:$H$664,6,0)))","v":""}]
[2,"1500M-1-2",{"$f":"IF(ISERROR(VLOOKUP(B90,'KAYIT LİSTESİ'!$B$4:$H$664,2,0)),\"\",(VLOOKUP(B90,'KAYIT LİSTESİ'!$B$4:$H$664,2,0)))","v":612},{"$f":"IF(ISERROR(VLOOKUP(B90,'KAYIT LİSTESİ'!$B$4:$H$664,4,0)),\"\",(VLOOKUP(B90,'KAYIT LİSTESİ'!$B$4:$H$664,4,0)))","v":"1999-06-23"},{"$f":"IF(ISERROR(VLOOKUP(B90,'KAYIT LİSTESİ'!$B$4:$H$664,5,0)),\"\",(VLOOKUP(B90,'KAYIT LİSTESİ'!$B$4:$H$664,5,0)))","v":"FADİME KOŞAR"},{"$f":"IF(ISERROR(VLOOKUP(B90,'KAYIT LİSTESİ'!$B$4:$H$664,6,0)),\"\",(VLOOKUP(B90,'KAYIT LİSTESİ'!$B$4:$H$664,6,0)))","v":"KONYA"},null,null,null,15,"GÜLLE-15",{"$f":"IF(ISERROR(VLOOKUP(K90,'KAYIT LİSTESİ'!$B$4:$H$664,2,0)),\"\",(VLOOKUP(K90,'KAYIT LİSTESİ'!$B$4:$H$664,2,0)))","v":""},{"$f":"IF(ISERROR(VLOOKUP(K90,'KAYIT LİSTESİ'!$B$4:$H$664,4,0)),\"\",(VLOOKUP(K90,'KAYIT LİSTESİ'!$B$4:$H$664,4,0)))","v":""},{"$f":"IF(ISERROR(VLOOKUP(K90,'KAYIT LİSTESİ'!$B$4:$H$664,5,0)),\"\",(VLOOKUP(K90,'KAYIT LİSTESİ'!$B$4:$H$664,5,0)))","v":""},{"$f":"IF(ISERROR(VLOOKUP(K90,'KAYIT LİSTESİ'!$B$4:$H$664,6,0)),\"\",(VLOOKUP(K90,'KAYIT LİSTESİ'!$B$4:$H$664,6,0)))","v":""}]
[3,"1500M-1-3",{"$f":"IF(ISERROR(VLOOKUP(B91,'KAYIT LİSTESİ'!$B$4:$H$664,2,0)),\"\",(VLOOKUP(B91,'KAYIT LİSTESİ'!$B$4:$H$664,2,0)))","v":614},{"$f":"IF(ISERROR(VLOOKUP(B91,'KAYIT LİSTESİ'!$B$4:$H$664,4,0)),\"\",(VLOOKUP(B91,'KAYIT LİSTESİ'!$B$4:$H$664,4,0)))","v":"1999-08-15"},{"$f":"IF(ISERROR(VLOOKUP(B91,'KAYIT LİSTESİ'!$B$4:$H$664,5,0)),\"\",(VLOOKUP(B91,'KAYIT LİSTESİ'!$B$4:$H$664,5,0)))","v":"SELENAY BATİ"},{"$f":"IF(ISERROR(VLOOKUP(B91,'KAYIT LİSTESİ'!$B$4:$H$664,6,0)),\"\",(VLOOKUP(B91,'KAYIT LİSTESİ'!$B$4:$H$664,6,0)))","v":"HATAY"},null,null,null,16,"GÜLLE-16",{"$f":"IF(ISERROR(VLOOKUP(K91,'KAYIT LİSTESİ'!$B$4:$H$664,2,0)),\"\",(VLOOKUP(K91,'KAYIT LİSTESİ'!$B$4:$H$664,2,0)))","v":""},{"$f":"IF(ISERROR(VLOOKUP(K91,'KAYIT LİSTESİ'!$B$4:$H$664,4,0)),\"\",(VLOOKUP(K91,'KAYIT LİSTESİ'!$B$4:$H$664,4,0)))","v":""},{"$f":"IF(ISERROR(VLOOKUP(K91,'KAYIT LİSTESİ'!$B$4:$H$664,5,0)),\"\",(VLOOKUP(K91,'KAYIT LİSTESİ'!$B$4:$H$664,5,0)))","v":""},{"$f":"IF(ISERROR(VLOOKUP(K91,'KAYIT LİSTESİ'!$B$4:$H$664,6,0)),\"\",(VLOOKUP(K91,'KAYIT LİSTESİ'!$B$4:$H$664,6,0)))","v":""}]
[4,"1500M-1-4",{"$f":"IF(ISERROR(VLOOKUP(B92,'KAYIT LİSTESİ'!$B$4:$H$664,2,0)),\"\",(VLOOKUP(B92,'KAYIT LİSTESİ'!$B$4:$H$664,2,0)))","v":630},{"$f":"IF(ISERROR(VLOOKUP(B92,'KAYIT LİSTESİ'!$B$4:$H$664,4,0)),\"\",(VLOOKUP(B92,'KAYIT LİSTESİ'!$B$4:$H$664,4,0)))","v":"1998-12-30"},{"$f":"IF(ISERROR(VLOOKUP(B92,'KAYIT LİSTESİ'!$B$4:$H$664,5,0)),\"\",(VLOOKUP(B92,'KAYIT LİSTESİ'!$B$4:$H$664,5,0)))","v":"BELHUDE SALMANLI"},{"$f":"IF(ISERROR(VLOOKUP(B92,'KAYIT LİSTESİ'!$B$4:$H$664,6,0)),\"\",(VLOOKUP(B92,'KAYIT LİSTESİ'!$B$4:$H$664,6,0)))","v":"KIRIKKALE"},null,null,null,17,"GÜLLE-17",{"$f":"IF(ISERROR(VLOOKUP(K92,'KAYIT LİSTESİ'!$B$4:$H$664,2,0)),\"\",(VLOOKUP(K92,'KAYIT LİSTESİ'!$B$4:$H$664,2,0)))","v":""},{"$f":"IF(ISERROR(VLOOKUP(K92,'KAYIT LİSTESİ'!$B$4:$H$664,4,0)),\"\",(VLOOKUP(K92,'KAYIT LİSTESİ'!$B$4:$H$664,4,0)))","v":""},{"$f":"IF(ISERROR(VLOOKUP(K92,'KAYIT LİSTESİ'!$B$4:$H$664,5,0)),\"\",(VLOOKUP(K92,'KAYIT LİSTESİ'!$B$4:$H$664,5,0)))","v":""},{"$f":"IF(ISERROR(VLOOKUP(K92,'KAYIT LİSTESİ'!$B$4:$H$664,6,0)),\"\",(VLOOKUP(K92,'KAYIT LİSTESİ'!$B$4:$H$664,6,0)))","v":""}]
[5,"1500M-1-5",{"$f":"IF(ISERROR(VLOOKUP(B93,'KAYIT LİSTESİ'!$B$4:$H$664,2,0)),\"\",(VLOOKUP(B93,'KAYIT LİSTESİ'!$B$4:$H$664,2,0)))","v":617},{"$f":"IF(ISERROR(VLOOKUP(B93,'KAYIT LİSTESİ'!$B$4:$H$664,4,0)),\"\",(VLOOKUP(B93,'KAYIT LİSTESİ'!$B$4:$H$664,4,0)))","v":"1999-06-03"},{"$f":"IF(ISERROR(VLOOKUP(B93,'KAYIT LİSTESİ'!$B$4:$H$664,5,0)),\"\",(VLOOKUP(B93,'KAYIT LİSTESİ'!$B$4:$H$664,5,0)))","v":"SEÇİL AKPINAR"},{"$f":"IF(ISERROR(VLOOKUP(B93,'KAYIT LİSTESİ'!$B$4:$H$664,6,0)),\"\",(VLOOKUP(B93,'KAYIT LİSTESİ'!$B$4:$H$664,6,0)))","v":"HATAY"},null,null,null,18,"GÜLLE-18",{"$f":"IF(ISERROR(VLOOKUP(K93,'KAYIT LİSTESİ'!$B$4:$H$664,2,0)),\"\",(VLOOKUP(K93,'KAYIT LİSTESİ'!$B$4:$H$664,2,0)))","v":""},{"$f":"IF(ISERROR(VLOOKUP(K93,'KAYIT LİSTESİ'!$B$4:$H$664,4,0)),\"\",(VLOOKUP(K93,'KAYIT LİSTESİ'!$B$4:$H$664,4,0)))","v":""},{"$f":"IF(ISERROR(VLOOKUP(K93,'KAYIT LİSTESİ'!$B$4:$H$664,5,0)),\"\",(VLOOKUP(K93,'KAYIT LİSTESİ'!$B$4:$H$664,5,0)))","v":""},{"$f":"IF(ISERROR(VLOOKUP(K93,'KAYIT LİSTESİ'!$B$4:$H$664,6,0)),\"\",(VLOOKUP(K93,'KAYIT LİSTESİ'!$B$4:$H$664,6,0)))","v":""}]
[6,"1500M-1-6",{"$f":"IF(ISERROR(VLOOKUP(B94,'KAYIT LİSTESİ'!$B$4:$H$664,2,0)),\"\",(VLOOKUP(B94,'KAYIT LİSTESİ'!$B$4:$H$664,2,0)))","v":""},{"$f":"IF(ISERROR(VLOOKUP(B94,'KAYIT LİSTESİ'!$B$4:$H$664,4,0)),\"\",(VLOOKUP(B94,'KAYIT LİSTESİ'!$B$4:$H$664,4,0)))","v":""},{"$f":"IF(ISERROR(VLOOKUP(B94,'KAYIT LİSTESİ'!$B$4:$H$664,5,0)),\"\",(VLOOKUP(B94,'KAYIT LİSTESİ'!$B$4:$H$664,5,0)))","v":""},{"$f":"IF(ISERROR(VLOOKUP(B94,'KAYIT LİSTESİ'!$B$4:$H$664,6,0)),\"\",(VLOOKUP(B94,'KAYIT LİSTESİ'!$B$4:$H$664,6,0)))","v":""},null,null,null,19,"GÜLLE-19",{"$f":"IF(ISERROR(VLOOKUP(K94,'KAYIT LİSTESİ'!$B$4:$H$664,2,0)),\"\",(VLOOKUP(K94,'KAYIT LİSTESİ'!$B$4:$H$664,2,0)))","v":""},{"$f":"IF(ISERROR(VLOOKUP(K94,'KAYIT LİSTESİ'!$B$4:$H$664,4,0)),\"\",(VLOOKUP(K94,'KAYIT LİSTESİ'!$B$4:$H$664,4,0)))","v":""},{"$f":"IF(ISERROR(VLOOKUP(K94,'KAYIT LİSTESİ'!$B$4:$H$664,5,0)),\"\",(VLOOKUP(K94,'KAYIT LİSTESİ'!$B$4:$H$664,5,0)))","v":""},{"$f":"IF(ISERROR(VLOOKUP(K94,'KAYIT LİSTESİ'!$B$4:$H$664,6,0)),\"\",(VLOOKUP(K94,'KAYIT LİSTESİ'!$B$4:$H$664,6,0)))","v":""}]
[7,"1500M-1-7",{"$f":"IF(ISERROR(VLOOKUP(B95,'KAYIT LİSTESİ'!$B$4:$H$664,2,0)),\"\",(VLOOKUP(B95,'KAYIT LİSTESİ'!$B$4:$H$664,2,0)))","v":""},{"$f":"IF(ISERROR(VLOOKUP(B95,'KAYIT LİSTESİ'!$B$4:$H$664,4,0)),\"\",(VLOOKUP(B95,'KAYIT LİSTESİ'!$B$4:$H$664,4,0)))","v":""},{"$f":"IF(ISERROR(VLOOKUP(B95,'KAYIT LİSTESİ'!$B$4:$H$664,5,0)),\"\",(VLOOKUP(B95,'KAYIT LİSTESİ'!$B$4:$H$664,5,0)))","v":""},{"$f":"IF(ISERROR(VLOOKUP(B95,'KAYIT LİSTESİ'!$B$4:$H$664,6,0)),\"\",(VLOOKUP(B95,'KAYIT LİSTESİ'!$B$4:$H$664,6,0)))","v":""},null,null,null,20,"GÜLLE-20",{"$f":"IF(ISERROR(VLOOKUP(K95,'KAYIT LİSTESİ'!$B$4:$H$664,2,0)),\"\",(VLOOKUP(K95,'KAYIT LİSTESİ'!$B$4:$H$664,2,0)))","v":""},{"$f":"IF(ISERROR(VLOOKUP(K95,'KAYIT LİSTESİ'!$B$4:$H$664,4,0)),\"\",(VLOOKUP(K95,'KAYIT LİSTESİ'!$B$4:$H$664,4,0)))","v":""},{"$f":"IF(ISERROR(VLOOKUP(K95,'KAYIT LİSTESİ'!$B$4:$H$664,5,0)),\"\",(VLOOKUP(K95,'KAYIT LİSTESİ'!$B$4:$H$664,5,0)))","v":""},{"$f":"IF(ISERROR(VLOOKUP(K95,'KAYIT LİSTESİ'!$B$4:$H$664,6,0)),\"\",(VLOOKUP(K95,'KAYIT LİSTESİ'!$B$4:$H$664,6,0)))","v":""}]
[8,"1500M-1-8",{"$f":"IF(ISERROR(VLOOKUP(B96,'KAYIT LİSTESİ'!$B$4:$H$664,2,0)),\"\",(VLOOKUP(B96,'KAYIT LİSTESİ'!$B$4:$H$664,2,0)))","v":""},{"$f":"IF(ISERROR(VLOOKUP(B96,'KAYIT LİSTESİ'!$B$4:$H$664,4,0)),\"\",(VLOOKUP(B96,'KAYIT LİSTESİ'!$B$4:$H$664,4,0)))","v":""},{"$f":"IF(ISERROR(VLOOKUP(B96,'KAYIT LİSTESİ'!$B$4:$H$664,5,0)),\"\",(VLOOKUP(B96,'KAYIT LİSTESİ'!$B$4:$H$664,5,0)))","v":""},{"$f":"IF(ISERROR(VLOOKUP(B96,'KAYIT LİSTESİ'!$B$4:$H$664,6,0)),\"\",(VLOOKUP(B96,'KAYIT LİSTESİ'!$B$4:$H$664,6,0)))","v":""},null,null,null,21,"GÜLLE-21",{"$f":"IF(ISERROR(VLOOKUP(K96,'KAYIT LİSTESİ'!$B$4:$H$664,2,0)),\"\",(VLOOKUP(K96,'KAYIT LİSTESİ'!$B$4:$H$664,2,0)))","v":""},{"$f":"IF(ISERROR(VLOOKUP(K96,'KAYIT LİSTESİ'!$B$4:$H$664,4,0)),\"\",(VLOOKUP(K96,'KAYIT LİSTESİ'!$B$4:$H$664,4,0)))","v":""},{"$f":"IF(ISERROR(VLOOKUP(K96,'KAYIT LİSTESİ'!$B$4:$H$664,5,0)),\"\",(VLOOKUP(K96,'KAYIT LİSTESİ'!$B$4:$H$664,5,0)))","v":""},{"$f":"IF(ISERROR(VLOOKUP(K96,'KAYIT LİSTESİ'!$B$4:$H$664,6,0)),\"\",(VLOOKUP(K96,'KAYIT LİSTESİ'!$B$4:$H$664,6,0)))","v":""}]
[9,"1500M-1-9",{"$f":"IF(ISERROR(VLOOKUP(B97,'KAYIT LİSTESİ'!$B$4:$H$664,2,0)),\"\",(VLOOKUP(B97,'KAYIT LİSTESİ'!$B$4:$H$664,2,0)))","v":""},{"$f":"IF(ISERROR(VLOOKUP(B97,'KAYIT LİSTESİ'!$B$4:$H$664,4,0)),\"\",(VLOOKUP(B97,'KAYIT LİSTESİ'!$B$4:$H$664,4,0)))","v":""},{"$f":"IF(ISERROR(VLOOKUP(B97,'KAYIT LİSTESİ'!$B$4:$H$664,5,0)),\"\",(VLOOKUP(B97,'KAYIT LİSTESİ'!$B$4:$H$664,5,0)))","v":""},{"$f":"IF(ISERROR(VLOOKUP(B97,'KAYIT LİSTESİ'!$B$4:$H$664,6,0)),\"\",(VLOOKUP(B97,'KAYIT LİSTESİ'!$B$4:$H$664,6,0)))","v":""},null,null,null,22,"GÜLLE-22",{"$f":"IF(ISERROR(VLOOKUP(K97,'KAYIT LİSTESİ'!$B$4:$H$664,2,0)),\"\",(VLOOKUP(K97,'KAYIT LİSTESİ'!$B$4:$H$664,2,0)))","v":""},{"$f":"IF(ISERROR(VLOOKUP(K97,'KAYIT LİSTESİ'!$B$4:$H$664,4,0)),\"\",(VLOOKUP(K97,'KAYIT LİSTESİ'!$B$4:$H$664,4,0)))","v":""},{"$f":"IF(ISERROR(VLOOKUP(K97,'KAYIT LİSTESİ'!$B$4:$H$664,5,0)),\"\",(VLOOKUP(K97,'KAYIT LİSTESİ'!$B$4:$H$664,5,0)))","v":""},{"$f":"IF(ISERROR(VLOOKUP(K97,'KAYIT LİSTESİ'!$B$4:$H$664,6,0)),\"\",(VLOOKUP(K97,'KAYIT LİSTESİ'!$B$4:$H$664,6,0)))","v":""}]
[10,"1500M-1-10",{"$f":"IF(ISERROR(VLOOKUP(B98,'KAYIT LİSTESİ'!$B$4:$H$664,2,0)),\"\",(VLOOKUP(B98,'KAYIT LİSTESİ'!$B$4:$H$664,2,0)))","v":""},{"$f":"IF(ISERROR(VLOOKUP(B98,'KAYIT LİSTESİ'!$B$4:$H$664,4,0)),\"\",(VLOOKUP(B98,'KAYIT LİSTESİ'!$B$4:$H$664,4,0)))","v":""},{"$f":"IF(ISERROR(VLOOKUP(B98,'KAYIT LİSTESİ'!$B$4:$H$664,5,0)),\"\",(VLOOKUP(B98,'KAYIT LİSTESİ'!$B$4:$H$664,5,0)))","v":""},{"$f":"IF(ISERROR(VLOOKUP(B98,'KAYIT LİSTESİ'!$B$4:$H$664,6,0)),\"\",(VLOOKUP(B98,'KAYIT LİSTESİ'!$B$4:$H$664,6,0)))","v":""},null,null,null,23,"GÜLLE-23",{"$f":"IF(ISERROR(VLOOKUP(K98,'KAYIT LİSTESİ'!$B$4:$H$664,2,0)),\"\",(VLOOKUP(K98,'KAYIT LİSTESİ'!$B$4:$H$664,2,0)))","v":""},{"$f":"IF(ISERROR(VLOOKUP(K98,'KAYIT LİSTESİ'!$B$4:$H$664,4,0)),\"\",(VLOOKUP(K98,'KAYIT LİSTESİ'!$B$4:$H$664,4,0)))","v":""},{"$f":"IF(ISERROR(VLOOKUP(K98,'KAYIT LİSTESİ'!$B$4:$H$664,5,0)),\"\",(VLOOKUP(K98,'KAYIT LİSTESİ'!$B$4:$H$664,5,0)))","v":""},{"$f":"IF(ISERROR(VLOOKUP(K98,'KAYIT LİSTESİ'!$B$4:$H$664,6,0)),\"\",(VLOOKUP(K98,'KAYIT LİSTESİ'!$B$4:$H$664,6,0)))","v":""}]
[11,"1500M-1-11",{"$f":"IF(ISERROR(VLOOKUP(B99,'KAYIT LİSTESİ'!$B$4:$H$664,2,0)),\"\",(VLOOKUP(B99,'KAYIT LİSTESİ'!$B$4:$H$664,2,0)))","v":""},{"$f":"IF(ISERROR(VLOOKUP(B99,'KAYIT LİSTESİ'!$B$4:$H$664,4,0)),\"\",(VLOOKUP(B99,'KAYIT LİSTESİ'!$B$4:$H$664,4,0)))","v":""},{"$f":"IF(ISERROR(VLOOKUP(B99,'KAYIT LİSTESİ'!$B$4:$H$664,5,0)),\"\",(VLOOKUP(B99,'KAYIT LİSTESİ'!$B$4:$H$664,5,0)))","v":""},{"$f":"IF(ISERROR(VLOOKUP(B99,'KAYIT LİSTESİ'!$B$4:$H$664,6,0)),\"\",(VLOOKUP(B99,'KAYIT LİSTESİ'!$B$4:$H$664,6,0)))","v":""},null,null,null,24,"GÜLLE-24",{"$f":"IF(ISERROR(VLOOKUP(K99,'KAYIT LİSTESİ'!$B$4:$H$664,2,0)),\"\",(VLOOKUP(K99,'KAYIT LİSTESİ'!$B$4:$H$664,2,0)))","v":""},{"$f":"IF(ISERROR(VLOOKUP(K99,'KAYIT LİSTESİ'!$B$4:$H$664,4,0)),\"\",(VLOOKUP(K99,'KAYIT LİSTESİ'!$B$4:$H$664,4,0)))","v":""},{"$f":"IF(ISERROR(VLOOKUP(K99,'KAYIT LİSTESİ'!$B$4:$H$664,5,0)),\"\",(VLOOKUP(K99,'KAYIT LİSTESİ'!$B$4:$H$664,5,0)))","v":""},{"$f":"IF(ISERROR(VLOOKUP(K99,'KAYIT LİSTESİ'!$B$4:$H$664,6,0)),\"\",(VLOOKUP(K99,'KAYIT LİSTESİ'!$B$4:$H$664,6,0)))","v":""}]
[12,"1500M-1-12",{"$f":"IF(ISERROR(VLOOKUP(B100,'KAYIT LİSTESİ'!$B$4:$H$664,2,0)),\"\",(VLOOKUP(B100,'KAYIT LİSTESİ'!$B$4:$H$664,2,0)))","v":""},{"$f":"IF(ISERROR(VLOOKUP(B100,'KAYIT LİSTESİ'!$B$4:$H$664,4,0)),\"\",(VLOOKUP(B100,'KAYIT LİSTESİ'!$B$4:$H$664,4,0)))","v":""},{"$f":"IF(ISERROR(VLOOKUP(B100,'KAYIT LİSTESİ'!$B$4:$H$664,5,0)),\"\",(VLOOKUP(B100,'KAYIT LİSTESİ'!$B$4:$H$664,5,0)))","v":""},{"$f":"IF(ISERROR(VLOOKUP(B100,'KAYIT LİSTESİ'!$B$4:$H$664,6,0)),\"\",(VLOOKUP(B100,'KAYIT LİSTESİ'!$B$4:$H$664,6,0)))","v":""},null,null,null,25,"GÜLLE-25",{"$f":"IF(ISERROR(VLOOKUP(K100,'KAYIT LİSTESİ'!$B$4:$H$664,2,0)),\"\",(VLOOKUP(K100,'KAYIT LİSTESİ'!$B$4:$H$664,2,0)))","v":""},{"$f":"IF(ISERROR(VLOOKUP(K100,'KAYIT LİSTESİ'!$B$4:$H$664,4,0)),\"\",(VLOOKUP(K100,'KAYIT LİSTESİ'!$B$4:$H$664,4,0)))","v":""},{"$f":"IF(ISERROR(VLOOKUP(K100,'KAYIT LİSTESİ'!$B$4:$H$664,5,0)),\"\",(VLOOKUP(K100,'KAYIT LİSTESİ'!$B$4:$H$664,5,0)))","v":""},{"$f":"IF(ISERROR(VLOOKUP(K100,'KAYIT LİSTESİ'!$B$4:$H$664,6,0)),\"\",(VLOOKUP(K100,'KAYIT LİSTESİ'!$B$4:$H$664,6,0)))","v":""}]
["2. SERİ",null,null,null,null,null,null,null,null,26,"GÜLLE-26",{"$f":"IF(ISERROR(VLOOKUP(K101,'KAYIT LİSTESİ'!$B$4:$H$664,2,0)),\"\",(VLOOKUP(K101,'KAYIT LİSTESİ'!$B$4:$H$664,2,0)))","v":""},{"$f":"IF(ISERROR(VLOOKUP(K101,'KAYIT LİSTESİ'!$B$4:$H$664,4,0)),\"\",(VLOOKUP(K101,'KAYIT LİSTESİ'!$B$4:$H$664,4,0)))","v":""},{"$f":"IF(ISERROR(VLOOKUP(K101,'KAYIT LİSTESİ'!$B$4:$H$664,5,0)),\"\",(VLOOKUP(K101,'KAYIT LİSTESİ'!$B$4:$H$664,5,0)))","v":""},{"$f":"IF(ISERROR(VLOOKUP(K101,'KAYIT LİSTESİ'!$B$4:$H$664,6,0)),\"\",(VLOOKUP(K101,'KAYIT LİSTESİ'!$B$4:$H$664,6,0)))","v":""}]
["Sıra No","Formül","Göğüs No","Doğum Tarihi","Adı ve Soyadı","İli-Okulu","Start Kontrol",null,null,27,"GÜLLE-27",{"$f":"IF(ISERROR(VLOOKUP(K102,'KAYIT LİSTESİ'!$B$4:$H$664,2,0)),\"\",(VLOOKUP(K102,'KAYIT LİSTESİ'!$B$4:$H$664,2,0)))","v":""},{"$f":"IF(ISERROR(VLOOKUP(K102,'KAYIT LİSTESİ'!$B$4:$H$664,4,0)),\"\",(VLOOKUP(K102,'KAYIT LİSTESİ'!$B$4:$H$664,4,0)))","v":""},{"$f":"IF(ISERROR(VLOOKUP(K102,'KAYIT LİSTESİ'!$B$4:$H$664,5,0)),\"\",(VLOOKUP(K102,'KAYIT LİSTESİ'!$B$4:$H$664,5,0)))","v":""},{"$f":"IF(ISERROR(VLOOKUP(K102,'KAYIT LİSTESİ'!$B$4:$H$664,6,0)),\"\",(VLOOKUP(K102,'KAYIT LİSTESİ'!$B$4:$H$664,6,0)))","v":""}]
[1,"1500M-2-1",{"$f":"IF(ISERROR(VLOOKUP(B103,'KAYIT LİSTESİ'!$B$4:$H$664,2,0)),\"\",(VLOOKUP(B103,'KAYIT LİSTESİ'!$B$4:$H$664,2,0)))","v":""},{"$f":"IF(ISERROR(VLOOKUP(B103,'KAYIT LİSTESİ'!$B$4:$H$664,4,0)),\"\",(VLOOKUP(B103,'KAYIT LİSTESİ'!$B$4:$H$664,4,0)))","v":""},{"$f":"IF(ISERROR(VLOOKUP(B103,'KAYIT LİSTESİ'!$B$4:$H$664,5,0)),\"\",(VLOOKUP(B103,'KAYIT LİSTESİ'!$B$4:$H$664,5,0)))","v":""},{"$f":"IF(ISERROR(VLOOKUP(B103,'KAYIT LİSTESİ'!$B$4:$H$664,6,0)),\"\",(VLOOKUP(B103,'KAYIT LİSTESİ'!$B$4:$H$664,6,0)))","v":""},null,null,null,28,"GÜLLE-28",{"$f":"IF(ISERROR(VLOOKUP(K103,'KAYIT LİSTESİ'!$B$4:$H$664,2,0)),\"\",(VLOOKUP(K103,'KAYIT LİSTESİ'!$B$4:$H$664,2,0)))","v":""},{"$f":"IF(ISERROR(VLOOKUP(K103,'KAYIT LİSTESİ'!$B$4:$H$664,4,0)),\"\",(VLOOKUP(K103,'KAYIT LİSTESİ'!$B$4:$H$664,4,0)))","v":""},{"$f":"IF(ISERROR(VLOOKUP(K103,'KAYIT LİSTESİ'!$B$4:$H$664,5,0)),\"\",(VLOOKUP(K103,'KAYIT LİSTESİ'!$B$4:$H$664,5,0)))","v":""},{"$f":"IF(ISERROR(VLOOKUP(K103,'KAYIT LİSTESİ'!$B$4:$H$664,6,0)),\"\",(VLOOKUP(K103,'KAYIT LİSTESİ'!$B$4:$H$664,6,0)))","v":""}]
[2,"1500M-2-2",{"$f":"IF(ISERROR(VLOOKUP(B104,'KAYIT LİSTESİ'!$B$4:$H$664,2,0)),\"\",(VLOOKUP(B104,'KAYIT LİSTESİ'!$B$4:$H$664,2,0)))","v":""},{"$f":"IF(ISERROR(VLOOKUP(B104,'KAYIT LİSTESİ'!$B$4:$H$664,4,0)),\"\",(VLOOKUP(B104,'KAYIT LİSTESİ'!$B$4:$H$664,4,0)))","v":""},{"$f":"IF(ISERROR(VLOOKUP(B104,'KAYIT LİSTESİ'!$B$4:$H$664,5,0)),\"\",(VLOOKUP(B104,'KAYIT LİSTESİ'!$B$4:$H$664,5,0)))","v":""},{"$f":"IF(ISERROR(VLOOKUP(B104,'KAYIT LİSTESİ'!$B$4:$H$664,6,0)),\"\",(VLOOKUP(B104,'KAYIT LİSTESİ'!$B$4:$H$664,6,0)))","v":""},null,null,null,29,"GÜLLE-29",{"$f":"IF(ISERROR(VLOOKUP(K104,'KAYIT LİSTESİ'!$B$4:$H$664,2,0)),\"\",(VLOOKUP(K104,'KAYIT LİSTESİ'!$B$4:$H$664,2,0)))","v":""},{"$f":"IF(ISERROR(VLOOKUP(K104,'KAYIT LİSTESİ'!$B$4:$H$664,4,0)),\"\",(VLOOKUP(K104,'KAYIT LİSTESİ'!$B$4:$H$664,4,0)))","v":""},{"$f":"IF(ISERROR(VLOOKUP(K104,'KAYIT LİSTESİ'!$B$4:$H$664,5,0)),\"\",(VLOOKUP(K104,'KAYIT LİSTESİ'!$B$4:$H$664,5,0)))","v":""},{"$f":"IF(ISERROR(VLOOKUP(K104,'KAYIT LİSTESİ'!$B$4:$H$664,6,0)),\"\",(VLOOKUP(K104,'KAYIT LİSTESİ'!$B$4:$H$664,6,0)))","v":""}]
[3,"1500M-2-3",{"$f":"IF(ISERROR(VLOOKUP(B105,'KAYIT LİSTESİ'!$B$4:$H$664,2,0)),\"\",(VLOOKUP(B105,'KAYIT LİSTESİ'!$B$4:$H$664,2,0)))","v":""},{"$f":"IF(ISERROR(VLOOKUP(B105,'KAYIT LİSTESİ'!$B$4:$H$664,4,0)),\"\",(VLOOKUP(B105,'KAYIT LİSTESİ'!$B$4:$H$664,4,0)))","v":""},{"$f":"IF(ISERROR(VLOOKUP(B105,'KAYIT LİSTESİ'!$B$4:$H$664,5,0)),\"\",(VLOOKUP(B105,'KAYIT LİSTESİ'!$B$4:$H$664,5,0)))","v":""},{"$f":"IF(ISERROR(VLOOKUP(B105,'KAYIT LİSTESİ'!$B$4:$H$664,6,0)),\"\",(VLOOKUP(B105,'KAYIT LİSTESİ'!$B$4:$H$664,6,0)))","v":""},null,null,null,30,"GÜLLE-30",{"$f":"IF(ISERROR(VLOOKUP(K105,'KAYIT LİSTESİ'!$B$4:$H$664,2,0)),\"\",(VLOOKUP(K105,'KAYIT LİSTESİ'!$B$4:$H$664,2,0)))","v":""},{"$f":"IF(ISERROR(VLOOKUP(K105,'KAYIT LİSTESİ'!$B$4:$H$664,4,0)),\"\",(VLOOKUP(K105,'KAYIT LİSTESİ'!$B$4:$H$664,4,0)))","v":""},{"$f":"IF(ISERROR(VLOOKUP(K105,'KAYIT LİSTESİ'!$B$4:$H$664,5,0)),\"\",(VLOOKUP(K105,'KAYIT LİSTESİ'!$B$4:$H$664,5,0)))","v":""},{"$f":"IF(ISERROR(VLOOKUP(K105,'KAYIT LİSTESİ'!$B$4:$H$664,6,0)),\"\",(VLOOKUP(K105,'KAYIT LİSTESİ'!$B$4:$H$664,6,0)))","v":""}]
[4,"1500M-2-4",{"$f":"IF(ISERROR(VLOOKUP(B106,'KAYIT LİSTESİ'!$B$4:$H$664,2,0)),\"\",(VLOOKUP(B106,'KAYIT LİSTESİ'!$B$4:$H$664,2,0)))","v":""},{"$f":"IF(ISERROR(VLOOKUP(B106,'KAYIT LİSTESİ'!$B$4:$H$664,4,0)),\"\",(VLOOKUP(B106,'KAYIT LİSTESİ'!$B$4:$H$664,4,0)))","v":""},{"$f":"IF(ISERROR(VLOOKUP(B106,'KAYIT LİSTESİ'!$B$4:$H$664,5,0)),\"\",(VLOOKUP(B106,'KAYIT LİSTESİ'!$B$4:$H$664,5,0)))","v":""},{"$f":"IF(ISERROR(VLOOKUP(B106,'KAYIT LİSTESİ'!$B$4:$H$664,6,0)),\"\",(VLOOKUP(B106,'KAYIT LİSTESİ'!$B$4:$H$664,6,0)))","v":""},null,null,null,31,"GÜLLE-31",{"$f":"IF(ISERROR(VLOOKUP(K106,'KAYIT LİSTESİ'!$B$4:$H$664,2,0)),\"\",(VLOOKUP(K106,'KAYIT LİSTESİ'!$B$4:$H$664,2,0)))","v":""},{"$f":"IF(ISERROR(VLOOKUP(K106,'KAYIT LİSTESİ'!$B$4:$H$664,4,0)),\"\",(VLOOKUP(K106,'KAYIT LİSTESİ'!$B$4:$H$664,4,0)))","v":""},{"$f":"IF(ISERROR(VLOOKUP(K106,'KAYIT LİSTESİ'!$B$4:$H$664,5,0)),\"\",(VLOOKUP(K106,'KAYIT LİSTESİ'!$B$4:$H$664,5,0)))","v":""},{"$f":"IF(ISERROR(VLOOKUP(K106,'KAYIT LİSTESİ'!$B$4:$H$664,6,0)),\"\",(VLOOKUP(K106,'KAYIT LİSTESİ'!$B$4:$H$664,6,0)))","v":""}]
[5,"1500M-2-5",{"$f":"IF(ISERROR(VLOOKUP(B107,'KAYIT LİSTESİ'!$B$4:$H$664,2,0)),\"\",(VLOOKUP(B107,'KAYIT LİSTESİ'!$B$4:$H$664,2,0)))","v":""},{"$f":"IF(ISERROR(VLOOKUP(B107,'KAYIT LİSTESİ'!$B$4:$H$664,4,0)),\"\",(VLOOKUP(B107,'KAYIT LİSTESİ'!$B$4:$H$664,4,0)))","v":""},{"$f":"IF(ISERROR(VLOOKUP(B107,'KAYIT LİSTESİ'!$B$4:$H$664,5,0)),\"\",(VLOOKUP(B107,'KAYIT LİSTESİ'!$B$4:$H$664,5,0)))","v":""},{"$f":"IF(ISERROR(VLOOKUP(B107,'KAYIT LİSTESİ'!$B$4:$H$664,6,0)),\"\",(VLOOKUP(B107,'KAYIT LİSTESİ'!$B$4:$H$664,6,0)))","v":""},null,null,null,32,"GÜLLE-32",{"$f":"IF(ISERROR(VLOOKUP(K107,'KAYIT LİSTESİ'!$B$4:$H$664,2,0)),\"\",(VLOOKUP(K107,'KAYIT LİSTESİ'!$B$4:$H$664,2,0)))","v":""},{"$f":"IF(ISERROR(VLOOKUP(K107,'KAYIT LİSTESİ'!$B$4:$H$664,4,0)),\"\",(VLOOKUP(K107,'KAYIT LİSTESİ'!$B$4:$H$664,4,0)))","v":""},{"$f":"IF(ISERROR(VLOOKUP(K107,'KAYIT LİSTESİ'!$B$4:$H$664,5,0)),\"\",(VLOOKUP(K107,'KAYIT LİSTESİ'!$B$4:$H$664,5,0)))","v":""},{"$f":"IF(ISERROR(VLOOKUP(K107,'KAYIT LİSTESİ'!$B$4:$H$664,6,0)),\"\",(VLOOKUP(K107,'KAYIT LİSTESİ'!$B$4:$H$664,6,0)))","v":""}]
[6,"1500M-2-6",{"$f":"IF(ISERROR(VLOOKUP(B108,'KAYIT LİSTESİ'!$B$4:$H$664,2,0)),\"\",(VLOOKUP(B108,'KAYIT LİSTESİ'!$B$4:$H$664,2,0)))","v":""},{"$f":"IF(ISERROR(VLOOKUP(B108,'KAYIT LİSTESİ'!$B$4:$H$664,4,0)),\"\",(VLOOKUP(B108,'KAYIT LİSTESİ'!$B$4:$H$664,4,0)))","v":""},{"$f":"IF(ISERROR(VLOOKUP(B108,'KAYIT LİSTESİ'!$B$4:$H$664,5,0)),\"\",(VLOOKUP(B108,'KAYIT LİSTESİ'!$B$4:$H$664,5,0)))","v":""},{"$f":"IF(ISERROR(VLOOKUP(B108,'KAYIT LİSTESİ'!$B$4:$H$664,6,0)),\"\",(VLOOKUP(B108,'KAYIT LİSTESİ'!$B$4:$H$664,6,0)))","v":""},null,null,null,33,"GÜLLE-33",{"$f":"IF(ISERROR(VLOOKUP(K108,'KAYIT LİSTESİ'!$B$4:$H$664,2,0)),\"\",(VLOOKUP(K108,'KAYIT LİSTESİ'!$B$4:$H$664,2,0)))","v":""},{"$f":"IF(ISERROR(VLOOKUP(K108,'KAYIT LİSTESİ'!$B$4:$H$664,4,0)),\"\",(VLOOKUP(K108,'KAYIT LİSTESİ'!$B$4:$H$664,4,0)))","v":""},{"$f":"IF(ISERROR(VLOOKUP(K108,'KAYIT LİSTESİ'!$B$4:$H$664,5,0)),\"\",(VLOOKUP(K108,'KAYIT LİSTESİ'!$B$4:$H$664,5,0)))","v":""},{"$f":"IF(ISERROR(VLOOKUP(K108,'KAYIT LİSTESİ'!$B$4:$H$664,6,0)),\"\",(VLOOKUP(K108,'KAYIT LİSTESİ'!$B$4:$H$664,6,0)))","v":""}]
[7,"1500M-2-7",{"$f":"IF(ISERROR(VLOOKUP(B109,'KAYIT LİSTESİ'!$B$4:$H$664,2,0)),\"\",(VLOOKUP(B109,'KAYIT LİSTESİ'!$B$4:$H$664,2,0)))","v":""},{"$f":"IF(ISERROR(VLOOKUP(B109,'KAYIT LİSTESİ'!$B$4:$H$664,4,0)),\"\",(VLOOKUP(B109,'KAYIT LİSTESİ'!$B$4:$H$664,4,0)))","v":""},{"$f":"IF(ISERROR(VLOOKUP(B109,'KAYIT LİSTESİ'!$B$4:$H$664,5,0)),\"\",(VLOOKUP(B109,'KAYIT LİSTESİ'!$B$4:$H$664,5,0)))","v":""},{"$f":"IF(ISERROR(VLOOKUP(B109,'KAYIT LİSTESİ'!$B$4:$H$664,6,0)),\"\",(VLOOKUP(B109,'KAYIT LİSTESİ'!$B$4:$H$664,6,0)))","v":""},null,null,null,34,"GÜLLE-34",{"$f":"IF(ISERROR(VLOOKUP(K109,'KAYIT LİSTESİ'!$B$4:$H$664,2,0)),\"\",(VLOOKUP(K109,'KAYIT LİSTESİ'!$B$4:$H$664,2,0)))","v":""},{"$f":"IF(ISERROR(VLOOKUP(K109,'KAYIT LİSTESİ'!$B$4:$H$664,4,0)),\"\",(VLOOKUP(K109,'KAYIT LİSTESİ'!$B$4:$H$664,4,0)))","v":""},{"$f":"IF(ISERROR(VLOOKUP(K109,'KAYIT LİSTESİ'!$B$4:$H$664,5,0)),\"\",(VLOOKUP(K109,'KAYIT LİSTESİ'!$B$4:$H$664,5,0)))","v":""},{"$f":"IF(ISERROR(VLOOKUP(K109,'KAYIT LİSTESİ'!$B$4:$H$664,6,0)),\"\",(VLOOKUP(K109,'KAYIT LİSTESİ'!$B$4:$H$664,6,0)))","v":""}]
[8,"1500M-2-8",{"$f":"IF(ISERROR(VLOOKUP(B110,'KAYIT LİSTESİ'!$B$4:$H$664,2,0)),\"\",(VLOOKUP(B110,'KAYIT LİSTESİ'!$B$4:$H$664,2,0)))","v":""},{"$f":"IF(ISERROR(VLOOKUP(B110,'KAYIT LİSTESİ'!$B$4:$H$664,4,0)),\"\",(VLOOKUP(B110,'KAYIT LİSTESİ'!$B$4:$H$664,4,0)))","v":""},{"$f":"IF(ISERROR(VLOOKUP(B110,'KAYIT LİSTESİ'!$B$4:$H$664,5,0)),\"\",(VLOOKUP(B110,'KAYIT LİSTESİ'!$B$4:$H$664,5,0)))","v":""},{"$f":"IF(ISERROR(VLOOKUP(B110,'KAYIT LİSTESİ'!$B$4:$H$664,6,0)),\"\",(VLOOKUP(B110,'KAYIT LİSTESİ'!$B$4:$H$664,6,0)))","v":""},null,null,null,35,"GÜLLE-35",{"$f":"IF(ISERROR(VLOOKUP(K110,'KAYIT LİSTESİ'!$B$4:$H$664,2,0)),\"\",(VLOOKUP(K110,'KAYIT LİSTESİ'!$B$4:$H$664,2,0)))","v":""},{"$f":"IF(ISERROR(VLOOKUP(K110,'KAYIT LİSTESİ'!$B$4:$H$664,4,0)),\"\",(VLOOKUP(K110,'KAYIT LİSTESİ'!$B$4:$H$664,4,0)))","v":""},{"$f":"IF(ISERROR(VLOOKUP(K110,'KAYIT LİSTESİ'!$B$4:$H$664,5,0)),\"\",(VLOOKUP(K110,'KAYIT LİSTESİ'!$B$4:$H$664,5,0)))","v":""},{"$f":"IF(ISERROR(VLOOKUP(K110,'KAYIT LİSTESİ'!$B$4:$H$664,6,0)),\"\",(VLOOKUP(K110,'KAYIT LİSTESİ'!$B$4:$H$664,6,0)))","v":""}]
[9,"1500M-2-9",{"$f":"IF(ISERROR(VLOOKUP(B111,'KAYIT LİSTESİ'!$B$4:$H$664,2,0)),\"\",(VLOOKUP(B111,'KAYIT LİSTESİ'!$B$4:$H$664,2,0)))","v":""},{"$f":"IF(ISERROR(VLOOKUP(B111,'KAYIT LİSTESİ'!$B$4:$H$664,4,0)),\"\",(VLOOKUP(B111,'KAYIT LİSTESİ'!$B$4:$H$664,4,0)))","v":""},{"$f":"IF(ISERROR(VLOOKUP(B111,'KAYIT LİSTESİ'!$B$4:$H$664,5,0)),\"\",(VLOOKUP(B111,'KAYIT LİSTESİ'!$B$4:$H$664,5,0)))","v":""},{"$f":"IF(ISERROR(VLOOKUP(B111,'KAYIT LİSTESİ'!$B$4:$H$664,6,0)),\"\",(VLOOKUP(B111,'KAYIT LİSTESİ'!$B$4:$H$664,6,0)))","v":""},null,null,null,36,"GÜLLE-36",{"$f":"IF(ISERROR(VLOOKUP(K111,'KAYIT LİSTESİ'!$B$4:$H$664,2,0)),\"\",(VLOOKUP(K111,'KAYIT LİSTESİ'!$B$4:$H$664,2,0)))","v":""},{"$f":"IF(ISERROR(VLOOKUP(K111,'KAYIT LİSTESİ'!$B$4:$H$664,4,0)),\"\",(VLOOKUP(K111,'KAYIT LİSTESİ'!$B$4:$H$664,4,0)))","v":""},{"$f":"IF(ISERROR(VLOOKUP(K111,'KAYIT LİSTESİ'!$B$4:$H$664,5,0)),\"\",(VLOOKUP(K111,'KAYIT LİSTESİ'!$B$4:$H$664,5,0)))","v":""},{"$f":"IF(ISERROR(VLOOKUP(K111,'KAYIT LİSTESİ'!$B$4:$H$664,6,0)),\"\",(VLOOKUP(K111,'KAYIT LİSTESİ'!$B$4:$H$664,6,0)))","v":""}]
[10,"1500M-2-10",{"$f":"IF(ISERROR(VLOOKUP(B112,'KAYIT LİSTESİ'!$B$4:$H$664,2,0)),\"\",(VLOOKUP(B112,'KAYIT LİSTESİ'!$B$4:$H$664,2,0)))","v":""},{"$f":"IF(ISERROR(VLOOKUP(B112,'KAYIT LİSTESİ'!$B$4:$H$664,4,0)),\"\",(VLOOKUP(B112,'KAYIT LİSTESİ'!$B$4:$H$664,4,0)))","v":""},{"$f":"IF(ISERROR(VLOOKUP(B112,'KAYIT LİSTESİ'!$B$4:$H$664,5,0)),\"\",(VLOOKUP(B112,'KAYIT LİSTESİ'!$B$4:$H$664,5,0)))","v":""},{"$f":"IF(ISERROR(VLOOKUP(B112,'KAYIT LİSTESİ'!$B$4:$H$664,6,0)),\"\",(VLOOKUP(B112,'KAYIT LİSTESİ'!$B$4:$H$664,6,0)))","v":""},null,null,null,37,"GÜLLE-37",{"$f":"IF(ISERROR(VLOOKUP(K112,'KAYIT LİSTESİ'!$B$4:$H$664,2,0)),\"\",(VLOOKUP(K112,'KAYIT LİSTESİ'!$B$4:$H$664,2,0)))","v":""},{"$f":"IF(ISERROR(VLOOKUP(K112,'KAYIT LİSTESİ'!$B$4:$H$664,4,0)),\"\",(VLOOKUP(K112,'KAYIT LİSTESİ'!$B$4:$H$664,4,0)))","v":""},{"$f":"IF(ISERROR(VLOOKUP(K112,'KAYIT LİSTESİ'!$B$4:$H$664,5,0)),\"\",(VLOOKUP(K112,'KAYIT LİSTESİ'!$B$4:$H$664,5,0)))","v":""},{"$f":"IF(ISERROR(VLOOKUP(K112,'KAYIT LİSTESİ'!$B$4:$H$664,6,0)),\"\",(VLOOKUP(K112,'KAYIT LİSTESİ'!$B$4:$H$664,6,0)))","v":""}]
[11,"1500M-2-11",{"$f":"IF(ISERROR(VLOOKUP(B113,'KAYIT LİSTESİ'!$B$4:$H$664,2,0)),\"\",(VLOOKUP(B113,'KAYIT LİSTESİ'!$B$4:$H$664,2,0)))","v":""},{"$f":"IF(ISERROR(VLOOKUP(B113,'KAYIT LİSTESİ'!$B$4:$H$664,4,0)),\"\",(VLOOKUP(B113,'KAYIT LİSTESİ'!$B$4:$H$664,4,0)))","v":""},{"$f":"IF(ISERROR(VLOOKUP(B113,'KAYIT LİSTESİ'!$B$4:$H$664,5,0)),\"\",(VLOOKUP(B113,'KAYIT LİSTESİ'!$B$4:$H$664,5,0)))","v":""},{"$f":"IF(ISERROR(VLOOKUP(B113,'KAYIT LİSTESİ'!$B$4:$H$664,6,0)),\"\",(VLOOKUP(B113,'KAYIT LİSTESİ'!$B$4:$H$664,6,0)))","v":""},null,null,null,38,"GÜLLE-38",{"$f":"IF(ISERROR(VLOOKUP(K113,'KAYIT LİSTESİ'!$B$4:$H$664,2,0)),\"\",(VLOOKUP(K113,'KAYIT LİSTESİ'!$B$4:$H$664,2,0)))","v":""},{"$f":"IF(ISERROR(VLOOKUP(K113,'KAYIT LİSTESİ'!$B$4:$H$664,4,0)),\"\",(VLOOKUP(K113,'KAYIT LİSTESİ'!$B$4:$H$664,4,0)))","v":""},{"$f":"IF(ISERROR(VLOOKUP(K113,'KAYIT LİSTESİ'!$B$4:$H$664,5,0)),\"\",(VLOOKUP(K113,'KAYIT LİSTESİ'!$B$4:$H$664,5,0)))","v":""},{"$f":"IF(ISERROR(VLOOKUP(K113,'KAYIT LİSTESİ'!$B$4:$H$664,6,0)),\"\",(VLOOKUP(K113,'KAYIT LİSTESİ'!$B$4:$H$664,6,0)))","v":""}]
[12,"1500M-2-12",{"$f":"IF(ISERROR(VLOOKUP(B114,'KAYIT LİSTESİ'!$B$4:$H$664,2,0)),\"\",(VLOOKUP(B114,'KAYIT LİSTESİ'!$B$4:$H$664,2,0)))","v":""},{"$f":"IF(ISERROR(VLOOKUP(B114,'KAYIT LİSTESİ'!$B$4:$H$664,4,0)),\"\",(VLOOKUP(B114,'KAYIT LİSTESİ'!$B$4:$H$664,4,0)))","v":""},{"$f":"IF(ISERROR(VLOOKUP(B114,'KAYIT LİSTESİ'!$B$4:$H$664,5,0)),\"\",(VLOOKUP(B114,'KAYIT LİSTESİ'!$B$4:$H$664,5,0)))","v":""},{"$f":"IF(ISERROR(VLOOKUP(B114,'KAYIT LİSTESİ'!$B$4:$H$664,6,0)),\"\",(VLOOKUP(B114,'KAYIT LİSTESİ'!$B$4:$H$664,6,0)))","v":""},null,null,null,39,"GÜLLE-39",{"$f":"IF(ISERROR(VLOOKUP(K114,'KAYIT LİSTESİ'!$B$4:$H$664,2,0)),\"\",(VLOOKUP(K114,'KAYIT LİSTESİ'!$B$4:$H$664,2,0)))","v":""},{"$f":"IF(ISERROR(VLOOKUP(K114,'KAYIT LİSTESİ'!$B$4:$H$664,4,0)),\"\",(VLOOKUP(K114,'KAYIT LİSTESİ'!$B$4:$H$664,4,0)))","v":""},{"$f":"IF(ISERROR(VLOOKUP(K114,'KAYIT LİSTESİ'!$B$4:$H$664,5,0)),\"\",(VLOOKUP(K114,'KAYIT LİSTESİ'!$B$4:$H$664,5,0)))","v":""},{"$f":"IF(ISERROR(VLOOKUP(K114,'KAYIT LİSTESİ'!$B$4:$H$664,6,0)),\"\",(VLOOKUP(K114,'KAYIT LİSTESİ'!$B$4:$H$664,6,0)))","v":""}]
["3. SERİ",null,null,null,null,null,null,null,null,40,"GÜLLE-40",{"$f":"IF(ISERROR(VLOOKUP(K115,'KAYIT LİSTESİ'!$B$4:$H$664,2,0)),\"\",(VLOOKUP(K115,'KAYIT LİSTESİ'!$B$4:$H$664,2,0)))","v":""},{"$f":"IF(ISERROR(VLOOKUP(K115,'KAYIT LİSTESİ'!$B$4:$H$664,4,0)),\"\",(VLOOKUP(K115,'KAYIT LİSTESİ'!$B$4:$H$664,4,0)))","v":""},{"$f":"IF(ISERROR(VLOOKUP(K115,'KAYIT LİSTESİ'!$B$4:$H$664,5,0)),\"\",(VLOOKUP(K115,'KAYIT LİSTESİ'!$B$4:$H$664,5,0)))","v":""},{"$f":"IF(ISERROR(VLOOKUP(K115,'KAYIT LİSTESİ'!$B$4:$H$664,6,0)),\"\",(VLOOKUP(K115,'KAYIT LİSTESİ'!$B$4:$H$664,6,0)))","v":""}]
["Sıra No","Formül","Göğüs No","Doğum Tarihi","Adı ve Soyadı","İli-Okulu","Start Kontrol",null,null,"ÜÇ ADIM ATLAMA"]
[1,"1500M-3-1",{"$f":"IF(ISERROR(VLOOKUP(B117,'KAYIT LİSTESİ'!$B$4:$H$664,2,0)),\"\",(VLOOKUP(B117,'KAYIT LİSTESİ'!$B$4:$H$664,2,0)))","v":""},{"$f":"IF(ISERROR(VLOOKUP(B117,'KAYIT LİSTESİ'!$B$4:$H$664,4,0)),\"\",(VLOOKUP(B117,'KAYIT LİSTESİ'!$B$4:$H$664,4,0)))","v":""},{"$f":"IF(ISERROR(VLOOKUP(B117,'KAYIT LİSTESİ'!$B$4:$H$664,5,0)),\"\",(VLOOKUP(B117,'KAYIT LİSTESİ'!$B$4:$H$664,5,0)))","v":""},{"$f":"IF(ISERROR(VLOOKUP(B117,'KAYIT LİSTESİ'!$B$4:$H$664,6,0)),\"\",(VLOOKUP(B117,'KAYIT LİSTESİ'!$B$4:$H$664,6,0)))","v":""},null,null,null,"SIRA NO",null,"GÖĞÜS NO","DOĞUM TARİHİ","ADI VE SOYADI","İli-Okulu","Start Kontrol"]
[2,"1500M-3-2",{"$f":"IF(ISERROR(VLOOKUP(B118,'KAYIT LİSTESİ'!$B$4:$H$664,2,0)),\"\",(VLOOKUP(B118,'KAYIT LİSTESİ'!$B$4:$H$664,2,0)))","v":""},{"$f":"IF(ISERROR(VLOOKUP(B118,'KAYIT LİSTESİ'!$B$4:$H$664,4,0)),\"\",(VLOOKUP(B118,'KAYIT LİSTESİ'!$B$4:$H$664,4,0)))","v":""},{"$f":"IF(ISERROR(VLOOKUP(B118,'KAYIT LİSTESİ'!$B$4:$H$664,5,0)),\"\",(VLOOKUP(B118,'KAYIT LİSTESİ'!$B$4:$H$664,5,0)))","v":""},{"$f":"IF(ISERROR(VLOOKUP(B118,'KAYIT LİSTESİ'!$B$4:$H$664,6,0)),\"\",(VLOOKUP(B118,'KAYIT LİSTESİ'!$B$4:$H$664,6,0)))","v":""}]
[3,"1500M-3-3",{"$f":"IF(ISERROR(VLOOKUP(B119,'KAYIT LİSTESİ'!$B$4:$H$664,2,0)),\"\",(VLOOKUP(B119,'KAYIT LİSTESİ'!$B$4:$H$664,2,0)))","v":""},{"$f":"IF(ISERROR(VLOOKUP(B119,'KAYIT LİSTESİ'!$B$4:$H$664,4,0)),\"\",(VLOOKUP(B119,'KAYIT LİSTESİ'!$B$4:$H$664,4,0)))","v":""},{"$f":"IF(ISERROR(VLOOKUP(B119,'KAYIT LİSTESİ'!$B$4:$H$664,5,0)),\"\",(VLOOKUP(B119,'KAYIT LİSTESİ'!$B$4:$H$664,5,0)))","v":""},{"$f":"IF(ISERROR(VLOOKUP(B119,'KAYIT LİSTESİ'!$B$4:$H$664,6,0)),\"\",(VLOOKUP(B119,'KAYIT LİSTESİ'!$B$4:$H$664,6,0)))","v":""},null,null,null,1,"Üçadım-1",{"$f":"IF(ISERROR(VLOOKUP(K119,'KAYIT LİSTESİ'!$B$4:$H$664,2,0)),\"\",(VLOOKUP(K119,'KAYIT LİSTESİ'!$B$4:$H$664,2,0)))","v":""},{"$f":"IF(ISERROR(VLOOKUP(K119,'KAYIT LİSTESİ'!$B$4:$H$664,4,0)),\"\",(VLOOKUP(K119,'KAYIT LİSTESİ'!$B$4:$H$664,4,0)))","v":""},{"$f":"IF(ISERROR(VLOOKUP(K119,'KAYIT LİSTESİ'!$B$4:$H$664,5,0)),\"\",(VLOOKUP(K119,'KAYIT LİSTESİ'!$B$4:$H$664,5,0)))","v":""},{"$f":"IF(ISERROR(VLOOKUP(K119,'KAYIT LİSTESİ'!$B$4:$H$664,6,0)),\"\",(VLOOKUP(K119,'KAYIT LİSTESİ'!$B$4:$H$664,6,0)))","v":""}]
[4,"1500M-3-4",{"$f":"IF(ISERROR(VLOOKUP(B120,'KAYIT LİSTESİ'!$B$4:$H$664,2,0)),\"\",(VLOOKUP(B120,'KAYIT LİSTESİ'!$B$4:$H$664,2,0)))","v":""},{"$f":"IF(ISERROR(VLOOKUP(B120,'KAYIT LİSTESİ'!$B$4:$H$664,4,0)),\"\",(VLOOKUP(B120,'KAYIT LİSTESİ'!$B$4:$H$664,4,0)))","v":""},{"$f":"IF(ISERROR(VLOOKUP(B120,'KAYIT LİSTESİ'!$B$4:$H$664,5,0)),\"\",(VLOOKUP(B120,'KAYIT LİSTESİ'!$B$4:$H$664,5,0)))","v":""},{"$f":"IF(ISERROR(VLOOKUP(B120,'KAYIT LİSTESİ'!$B$4:$H$664,6,0)),\"\",(VLOOKUP(B120,'KAYIT LİSTESİ'!$B$4:$H$664,6,0)))","v":""},null,null,null,2,"Üçadım-2",{"$f":"IF(ISERROR(VLOOKUP(K120,'KAYIT LİSTESİ'!$B$4:$H$664,2,0)),\"\",(VLOOKUP(K120,'KAYIT LİSTESİ'!$B$4:$H$664,2,0)))","v":""},{"$f":"IF(ISERROR(VLOOKUP(K120,'KAYIT LİSTESİ'!$B$4:$H$664,4,0)),\"\",(VLOOKUP(K120,'KAYIT LİSTESİ'!$B$4:$H$664,4,0)))","v":""},{"$f":"IF(ISERROR(VLOOKUP(K120,'KAYIT LİSTESİ'!$B$4:$H$664,5,0)),\"\",(VLOOKUP(K120,'KAYIT LİSTESİ'!$B$4:$H$664,5,0)))","v":""},{"$f":"IF(ISERROR(VLOOKUP(K120,'KAYIT LİSTESİ'!$B$4:$H$664,6,0)),\"\",(VLOOKUP(K120,'KAYIT LİSTESİ'!$B$4:$H$664,6,0)))","v":""}]
[5,"1500M-3-5",{"$f":"IF(ISERROR(VLOOKUP(B121,'KAYIT LİSTESİ'!$B$4:$H$664,2,0)),\"\",(VLOOKUP(B121,'KAYIT LİSTESİ'!$B$4:$H$664,2,0)))","v":""},{"$f":"IF(ISERROR(VLOOKUP(B121,'KAYIT LİSTESİ'!$B$4:$H$664,4,0)),\"\",(VLOOKUP(B121,'KAYIT LİSTESİ'!$B$4:$H$664,4,0)))","v":""},{"$f":"IF(ISERROR(VLOOKUP(B121,'KAYIT LİSTESİ'!$B$4:$H$664,5,0)),\"\",(VLOOKUP(B121,'KAYIT LİSTESİ'!$B$4:$H$664,5,0)))","v":""},{"$f":"IF(ISERROR(VLOOKUP(B121,'KAYIT LİSTESİ'!$B$4:$H$664,6,0)),\"\",(VLOOKUP(B121,'KAYIT LİSTESİ'!$B$4:$H$664,6,0)))","v":""},null,null,null,3,"Üçadım-3",{"$f":"IF(ISERROR(VLOOKUP(K121,'KAYIT LİSTESİ'!$B$4:$H$664,2,0)),\"\",(VLOOKUP(K121,'KAYIT LİSTESİ'!$B$4:$H$664,2,0)))","v":""},{"$f":"IF(ISERROR(VLOOKUP(K121,'KAYIT LİSTESİ'!$B$4:$H$664,4,0)),\"\",(VLOOKUP(K121,'KAYIT LİSTESİ'!$B$4:$H$664,4,0)))","v":""},{"$f":"IF(ISERROR(VLOOKUP(K121,'KAYIT LİSTESİ'!$B$4:$H$664,5,0)),\"\",(VLOOKUP(K121,'KAYIT LİSTESİ'!$B$4:$H$664,5,0)))","v":""},{"$f":"IF(ISERROR(VLOOKUP(K121,'KAYIT LİSTESİ'!$B$4:$H$664,6,0)),\"\",(VLOOKUP(K121,'KAYIT LİSTESİ'!$B$4:$H$664,6,0)))","v":""}]
[6,"1500M-3-6",{"$f":"IF(ISERROR(VLOOKUP(B122,'KAYIT LİSTESİ'!$B$4:$H$664,2,0)),\"\",(VLOOKUP(B122,'KAYIT LİSTESİ'!$B$4:$H$664,2,0)))","v":""},{"$f":"IF(ISERROR(VLOOKUP(B122,'KAYIT LİSTESİ'!$B$4:$H$664,4,0)),\"\",(VLOOKUP(B122,'KAYIT LİSTESİ'!$B$4:$H$664,4,0)))","v":""},{"$f":"IF(ISERROR(VLOOKUP(B122,'KAYIT LİSTESİ'!$B$4:$H$664,5,0)),\"\",(VLOOKUP(B122,'KAYIT LİSTESİ'!$B$4:$H$664,5,0)))","v":""},{"$f":"IF(ISERROR(VLOOKUP(B122,'KAYIT LİSTESİ'!$B$4:$H$664,6,0)),\"\",(VLOOKUP(B122,'KAYIT LİSTESİ'!$B$4:$H$664,6,0)))","v":""},null,null,null,4,"Üçadım-4",{"$f":"IF(ISERROR(VLOOKUP(K122,'KAYIT LİSTESİ'!$B$4:$H$664,2,0)),\"\",(VLOOKUP(K122,'KAYIT LİSTESİ'!$B$4:$H$664,2,0)))","v":""},{"$f":"IF(ISERROR(VLOOKUP(K122,'KAYIT LİSTESİ'!$B$4:$H$664,4,0)),\"\",(VLOOKUP(K122,'KAYIT LİSTESİ'!$B$4:$H$664,4,0)))","v":""},{"$f":"IF(ISERROR(VLOOKUP(K122,'KAYIT LİSTESİ'!$B$4:$H$664,5,0)),\"\",(VLOOKUP(K122,'KAYIT LİSTESİ'!$B$4:$H$664,5,0)))","v":""},{"$f":"IF(ISERROR(VLOOKUP(K122,'KAYIT LİSTESİ'!$B$4:$H$664,6,0)),\"\",(VLOOKUP(K122,'KAYIT LİSTESİ'!$B$4:$H$664,6,0)))","v":""}]
[7,"1500M-3-7",{"$f":"IF(ISERROR(VLOOKUP(B123,'KAYIT LİSTESİ'!$B$4:$H$664,2,0)),\"\",(VLOOKUP(B123,'KAYIT LİSTESİ'!$B$4:$H$664,2,0)))","v":""},{"$f":"IF(ISERROR(VLOOKUP(B123,'KAYIT LİSTESİ'!$B$4:$H$664,4,0)),\"\",(VLOOKUP(B123,'KAYIT LİSTESİ'!$B$4:$H$664,4,0)))","v":""},{"$f":"IF(ISERROR(VLOOKUP(B123,'KAYIT LİSTESİ'!$B$4:$H$664,5,0)),\"\",(VLOOKUP(B123,'KAYIT LİSTESİ'!$B$4:$H$664,5,0)))","v":""},{"$f":"IF(ISERROR(VLOOKUP(B123,'KAYIT LİSTESİ'!$B$4:$H$664,6,0)),\"\",(VLOOKUP(B123,'KAYIT LİSTESİ'!$B$4:$H$664,6,0)))","v":""},null,null,null,5,"Üçadım-5",{"$f":"IF(ISERROR(VLOOKUP(K123,'KAYIT LİSTESİ'!$B$4:$H$664,2,0)),\"\",(VLOOKUP(K123,'KAYIT LİSTESİ'!$B$4:$H$664,2,0)))","v":""},{"$f":"IF(ISERROR(VLOOKUP(K123,'KAYIT LİSTESİ'!$B$4:$H$664,4,0)),\"\",(VLOOKUP(K123,'KAYIT LİSTESİ'!$B$4:$H$664,4,0)))","v":""},{"$f":"IF(ISERROR(VLOOKUP(K123,'KAYIT LİSTESİ'!$B$4:$H$664,5,0)),\"\",(VLOOKUP(K123,'KAYIT LİSTESİ'!$B$4:$H$664,5,0)))","v":""},{"$f":"IF(ISERROR(VLOOKUP(K123,'KAYIT LİSTESİ'!$B$4:$H$664,6,0)),\"\",(VLOOKUP(K123,'KAYIT LİSTESİ'!$B$4:$H$664,6,0)))","v":""}]
[8,"1500M-3-8",{"$f":"IF(ISERROR(VLOOKUP(B124,'KAYIT LİSTESİ'!$B$4:$H$664,2,0)),\"\",(VLOOKUP(B124,'KAYIT LİSTESİ'!$B$4:$H$664,2,0)))","v":""},{"$f":"IF(ISERROR(VLOOKUP(B124,'KAYIT LİSTESİ'!$B$4:$H$664,4,0)),\"\",(VLOOKUP(B124,'KAYIT LİSTESİ'!$B$4:$H$664,4,0)))","v":""},{"$f":"IF(ISERROR(VLOOKUP(B124,'KAYIT LİSTESİ'!$B$4:$H$664,5,0)),\"\",(VLOOKUP(B124,'KAYIT LİSTESİ'!$B$4:$H$664,5,0)))","v":""},{"$f":"IF(ISERROR(VLOOKUP(B124,'KAYIT LİSTESİ'!$B$4:$H$664,6,0)),\"\",(VLOOKUP(B124,'KAYIT LİSTESİ'!$B$4:$H$664,6,0)))","v":""},null,null,null,6,"Üçadım-6",{"$f":"IF(ISERROR(VLOOKUP(K124,'KAYIT LİSTESİ'!$B$4:$H$664,2,0)),\"\",(VLOOKUP(K124,'KAYIT LİSTESİ'!$B$4:$H$664,2,0)))","v":""},{"$f":"IF(ISERROR(VLOOKUP(K124,'KAYIT LİSTESİ'!$B$4:$H$664,4,0)),\"\",(VLOOKUP(K124,'KAYIT LİSTESİ'!$B$4:$H$664,4,0)))","v":""},{"$f":"IF(ISERROR(VLOOKUP(K124,'KAYIT LİSTESİ'!$B$4:$H$664,5,0)),\"\",(VLOOKUP(K124,'KAYIT LİSTESİ'!$B$4:$H$664,5,0)))","v":""},{"$f":"IF(ISERROR(VLOOKUP(K124,'KAYIT LİSTESİ'!$B$4:$H$664,6,0)),\"\",(VLOOKUP(K124,'KAYIT LİSTESİ'!$B$4:$H$664,6,0)))","v":""}]
[9,"1500M-3-9",{"$f":"IF(ISERROR(VLOOKUP(B125,'KAYIT LİSTESİ'!$B$4:$H$664,2,0)),\"\",(VLOOKUP(B125,'KAYIT LİSTESİ'!$B$4:$H$664,2,0)))","v":""},{"$f":"IF(ISERROR(VLOOKUP(B125,'KAYIT LİSTESİ'!$B$4:$H$664,4,0)),\"\",(VLOOKUP(B125,'KAYIT LİSTESİ'!$B$4:$H$664,4,0)))","v":""},{"$f":"IF(ISERROR(VLOOKUP(B125,'KAYIT LİSTESİ'!$B$4:$H$664,5,0)),\"\",(VLOOKUP(B125,'KAYIT LİSTESİ'!$B$4:$H$664,5,0)))","v":""},{"$f":"IF(ISERROR(VLOOKUP(B125,'KAYIT LİSTESİ'!$B$4:$H$664,6,0)),\"\",(VLOOKUP(B125,'KAYIT LİSTESİ'!$B$4:$H$664,6,0)))","v":""},null,null,null,7,"Üçadım-7",{"$f":"IF(ISERROR(VLOOKUP(K125,'KAYIT LİSTESİ'!$B$4:$H$664,2,0)),\"\",(VLOOKUP(K125,'KAYIT LİSTESİ'!$B$4:$H$664,2,0)))","v":""},{"$f":"IF(ISERROR(VLOOKUP(K125,'KAYIT LİSTESİ'!$B$4:$H$664,4,0)),\"\",(VLOOKUP(K125,'KAYIT LİSTESİ'!$B$4:$H$664,4,0)))","v":""},{"$f":"IF(ISERROR(VLOOKUP(K125,'KAYIT LİSTESİ'!$B$4:$H$664,5,0)),\"\",(VLOOKUP(K125,'KAYIT LİSTESİ'!$B$4:$H$664,5,0)))","v":""},{"$f":"IF(ISERROR(VLOOKUP(K125,'KAYIT LİSTESİ'!$B$4:$H$664,6,0)),\"\",(VLOOKUP(K125,'KAYIT LİSTESİ'!$B$4:$H$664,6,0)))","v":""}]
[10,"1500M-3-10",{"$f":"IF(ISERROR(VLOOKUP(B126,'KAYIT LİSTESİ'!$B$4:$H$664,2,0)),\"\",(VLOOKUP(B126,'KAYIT LİSTESİ'!$B$4:$H$664,2,0)))","v":""},{"$f":"IF(ISERROR(VLOOKUP(B126,'KAYIT LİSTESİ'!$B$4:$H$664,4,0)),\"\",(VLOOKUP(B126,'KAYIT LİSTESİ'!$B$4:$H$664,4,0)))","v":""},{"$f":"IF(ISERROR(VLOOKUP(B126,'KAYIT LİSTESİ'!$B$4:$H$664,5,0)),\"\",(VLOOKUP(B126,'KAYIT LİSTESİ'!$B$4:$H$664,5,0)))","v":""},{"$f":"IF(ISERROR(VLOOKUP(B126,'KAYIT LİSTESİ'!$B$4:$H$664,6,0)),\"\",(VLOOKUP(B126,'KAYIT LİSTESİ'!$B$4:$H$664,6,0)))","v":""},null,null,null,8,"Üçadım-8",{"$f":"IF(ISERROR(VLOOKUP(K126,'KAYIT LİSTESİ'!$B$4:$H$664,2,0)),\"\",(VLOOKUP(K126,'KAYIT LİSTESİ'!$B$4:$H$664,2,0)))","v":""},{"$f":"IF(ISERROR(VLOOKUP(K126,'KAYIT LİSTESİ'!$B$4:$H$664,4,0)),\"\",(VLOOKUP(K126,'KAYIT LİSTESİ'!$B$4:$H$664,4,0)))","v":""},{"$f":"IF(ISERROR(VLOOKUP(K126,'KAYIT LİSTESİ'!$B$4:$H$664,5,0)),\"\",(VLOOKUP(K126,'KAYIT LİSTESİ'!$B$4:$H$664,5,0)))","v":""},{"$f":"IF(ISERROR(VLOOKUP(K126,'KAYIT LİSTESİ'!$B$4:$H$664,6,0)),\"\",(VLOOKUP(K126,'KAYIT LİSTESİ'!$B$4:$H$664,6,0)))","v":""}]
[11,"1500M-3-11",{"$f":"IF(ISERROR(VLOOKUP(B127,'KAYIT LİSTESİ'!$B$4:$H$664,2,0)),\"\",(VLOOKUP(B127,'KAYIT LİSTESİ'!$B$4:$H$664,2,0)))","v":""},{"$f":"IF(ISERROR(VLOOKUP(B127,'KAYIT LİSTESİ'!$B$4:$H$664,4,0)),\"\",(VLOOKUP(B127,'KAYIT LİSTESİ'!$B$4:$H$664,4,0)))","v":""},{"$f":"IF(ISERROR(VLOOKUP(B127,'KAYIT LİSTESİ'!$B$4:$H$664,5,0)),\"\",(VLOOKUP(B127,'KAYIT LİSTESİ'!$B$4:$H$664,5,0)))","v":""},{"$f":"IF(ISERROR(VLOOKUP(B127,'KAYIT LİSTESİ'!$B$4:$H$664,6,0)),\"\",(VLOOKUP(B127,'KAYIT LİSTESİ'!$B$4:$H$664,6,0)))","v":""},null,null,null,9,"Üçadım-9",{"$f":"IF(ISERROR(VLOOKUP(K127,'KAYIT LİSTESİ'!$B$4:$H$664,2,0)),\"\",(VLOOKUP(K127,'KAYIT LİSTESİ'!$B$4:$H$664,2,0)))","v":""},{"$f":"IF(ISERROR(VLOOKUP(K127,'KAYIT LİSTESİ'!$B$4:$H$664,4,0)),\"\",(VLOOKUP(K127,'KAYIT LİSTESİ'!$B$4:$H$664,4,0)))","v":""},{"$f":"IF(ISERROR(VLOOKUP(K127,'KAYIT LİSTESİ'!$B$4:$H$664,5,0)),\"\",(VLOOKUP(K127,'KAYIT LİSTESİ'!$B$4:$H$664,5,0)))","v":""},{"$f":"IF(ISERROR(VLOOKUP(K127,'KAYIT LİSTESİ'!$B$4:$H$664,6,0)),\"\",(VLOOKUP(K127,'KAYIT LİSTESİ'!$B$4:$H$664,6,0)))","v":""}]
[12,"1500M-3-12",{"$f":"IF(ISERROR(VLOOKUP(B128,'KAYIT LİSTESİ'!$B$4:$H$664,2,0)),\"\",(VLOOKUP(B128,'KAYIT LİSTESİ'!$B$4:$H$664,2,0)))","v":""},{"$f":"IF(ISERROR(VLOOKUP(B128,'KAYIT LİSTESİ'!$B$4:$H$664,4,0)),\"\",(VLOOKUP(B128,'KAYIT LİSTESİ'!$B$4:$H$664,4,0)))","v":""},{"$f":"IF(ISERROR(VLOOKUP(B128,'KAYIT LİSTESİ'!$B$4:$H$664,5,0)),\"\",(VLOOKUP(B128,'KAYIT LİSTESİ'!$B$4:$H$664,5,0)))","v":""},{"$f":"IF(ISERROR(VLOOKUP(B128,'KAYIT LİSTESİ'!$B$4:$H$664,6,0)),\"\",(VLOOKUP(B128,'KAYIT LİSTESİ'!$B$4:$H$664,6,0)))","v":""},null,null,null,10,"Üçadım-10",{"$f":"IF(ISERROR(VLOOKUP(K128,'KAYIT LİSTESİ'!$B$4:$H$664,2,0)),\"\",(VLOOKUP(K128,'KAYIT LİSTESİ'!$B$4:$H$664,2,0)))","v":""},{"$f":"IF(ISERROR(VLOOKUP(K128,'KAYIT LİSTESİ'!$B$4:$H$664,4,0)),\"\",(VLOOKUP(K128,'KAYIT LİSTESİ'!$B$4:$H$664,4,0)))","v":""},{"$f":"IF(ISERROR(VLOOKUP(K128,'KAYIT LİSTESİ'!$B$4:$H$664,5,0)),\"\",(VLOOKUP(K128,'KAYIT LİSTESİ'!$B$4:$H$664,5,0)))","v":""},{"$f":"IF(ISERROR(VLOOKUP(K128,'KAYIT LİSTESİ'!$B$4:$H$664,6,0)),\"\",(VLOOKUP(K128,'KAYIT LİSTESİ'!$B$4:$H$664,6,0)))","v":""}]
["4. SERİ",null,null,null,null,null,null,null,null,11,"Üçadım-11",{"$f":"IF(ISERROR(VLOOKUP(K129,'KAYIT LİSTESİ'!$B$4:$H$664,2,0)),\"\",(VLOOKUP(K129,'KAYIT LİSTESİ'!$B$4:$H$664,2,0)))","v":""},{"$f":"IF(ISERROR(VLOOKUP(K129,'KAYIT LİSTESİ'!$B$4:$H$664,4,0)),\"\",(VLOOKUP(K129,'KAYIT LİSTESİ'!$B$4:$H$664,4,0)))","v":""},{"$f":"IF(ISERROR(VLOOKUP(K129,'KAYIT LİSTESİ'!$B$4:$H$664,5,0)),\"\",(VLOOKUP(K129,'KAYIT LİSTESİ'!$B$4:$H$664,5,0)))","v":""},{"$f":"IF(ISERROR(VLOOKUP(K129,'KAYIT LİSTESİ'!$B$4:$H$664,6,0)),\"\",(VLOOKUP(K129,'KAYIT LİSTESİ'!$B$4:$H$664,6,0)))","v":""}]
["Sıra No","Formül","Göğüs No","Doğum Tarihi","Adı ve Soyadı","İli-Okulu","Start Kontrol",null,null,12,"Üçadım-12",{"$f":"IF(ISERROR(VLOOKUP(K130,'KAYIT LİSTESİ'!$B$4:$H$664,2,0)),\"\",(VLOOKUP(K130,'KAYIT LİSTESİ'!$B$4:$H$664,2,0)))","v":""},{"$f":"IF(ISERROR(VLOOKUP(K130,'KAYIT LİSTESİ'!$B$4:$H$664,4,0)),\"\",(VLOOKUP(K130,'KAYIT LİSTESİ'!$B$4:$H$664,4,0)))","v":""},{"$f":"IF(ISERROR(VLOOKUP(K130,'KAYIT LİSTESİ'!$B$4:$H$664,5,0)),\"\",(VLOOKUP(K130,'KAYIT LİSTESİ'!$B$4:$H$664,5,0)))","v":""},{"$f":"IF(ISERROR(VLOOKUP(K130,'KAYIT LİSTESİ'!$B$4:$H$664,6,0)),\"\",(VLOOKUP(K130,'KAYIT LİSTESİ'!$B$4:$H$664,6,0)))","v":""}]
[1,"1500M-4-1",{"$f":"IF(ISERROR(VLOOKUP(B131,'KAYIT LİSTESİ'!$B$4:$H$664,2,0)),\"\",(VLOOKUP(B131,'KAYIT LİSTESİ'!$B$4:$H$664,2,0)))","v":""},{"$f":"IF(ISERROR(VLOOKUP(B131,'KAYIT LİSTESİ'!$B$4:$H$664,4,0)),\"\",(VLOOKUP(B131,'KAYIT LİSTESİ'!$B$4:$H$664,4,0)))","v":""},{"$f":"IF(ISERROR(VLOOKUP(B131,'KAYIT LİSTESİ'!$B$4:$H$664,5,0)),\"\",(VLOOKUP(B131,'KAYIT LİSTESİ'!$B$4:$H$664,5,0)))","v":""},{"$f":"IF(ISERROR(VLOOKUP(B131,'KAYIT LİSTESİ'!$B$4:$H$664,6,0)),\"\",(VLOOKUP(B131,'KAYIT LİSTESİ'!$B$4:$H$664,6,0)))","v":""},null,null,null,13,"Üçadım-13",{"$f":"IF(ISERROR(VLOOKUP(K131,'KAYIT LİSTESİ'!$B$4:$H$664,2,0)),\"\",(VLOOKUP(K131,'KAYIT LİSTESİ'!$B$4:$H$664,2,0)))","v":""},{"$f":"IF(ISERROR(VLOOKUP(K131,'KAYIT LİSTESİ'!$B$4:$H$664,4,0)),\"\",(VLOOKUP(K131,'KAYIT LİSTESİ'!$B$4:$H$664,4,0)))","v":""},{"$f":"IF(ISERROR(VLOOKUP(K131,'KAYIT LİSTESİ'!$B$4:$H$664,5,0)),\"\",(VLOOKUP(K131,'KAYIT LİSTESİ'!$B$4:$H$664,5,0)))","v":""},{"$f":"IF(ISERROR(VLOOKUP(K131,'KAYIT LİSTESİ'!$B$4:$H$664,6,0)),\"\",(VLOOKUP(K131,'KAYIT LİSTESİ'!$B$4:$H$664,6,0)))","v":""}]
[2,"1500M-4-2",{"$f":"IF(ISERROR(VLOOKUP(B132,'KAYIT LİSTESİ'!$B$4:$H$664,2,0)),\"\",(VLOOKUP(B132,'KAYIT LİSTESİ'!$B$4:$H$664,2,0)))","v":""},{"$f":"IF(ISERROR(VLOOKUP(B132,'KAYIT LİSTESİ'!$B$4:$H$664,4,0)),\"\",(VLOOKUP(B132,'KAYIT LİSTESİ'!$B$4:$H$664,4,0)))","v":""},{"$f":"IF(ISERROR(VLOOKUP(B132,'KAYIT LİSTESİ'!$B$4:$H$664,5,0)),\"\",(VLOOKUP(B132,'KAYIT LİSTESİ'!$B$4:$H$664,5,0)))","v":""},{"$f":"IF(ISERROR(VLOOKUP(B132,'KAYIT LİSTESİ'!$B$4:$H$664,6,0)),\"\",(VLOOKUP(B132,'KAYIT LİSTESİ'!$B$4:$H$664,6,0)))","v":""},null,null,null,14,"Üçadım-14",{"$f":"IF(ISERROR(VLOOKUP(K132,'KAYIT LİSTESİ'!$B$4:$H$664,2,0)),\"\",(VLOOKUP(K132,'KAYIT LİSTESİ'!$B$4:$H$664,2,0)))","v":""},{"$f":"IF(ISERROR(VLOOKUP(K132,'KAYIT LİSTESİ'!$B$4:$H$664,4,0)),\"\",(VLOOKUP(K132,'KAYIT LİSTESİ'!$B$4:$H$664,4,0)))","v":""},{"$f":"IF(ISERROR(VLOOKUP(K132,'KAYIT LİSTESİ'!$B$4:$H$664,5,0)),\"\",(VLOOKUP(K132,'KAYIT LİSTESİ'!$B$4:$H$664,5,0)))","v":""},{"$f":"IF(ISERROR(VLOOKUP(K132,'KAYIT LİSTESİ'!$B$4:$H$664,6,0)),\"\",(VLOOKUP(K132,'KAYIT LİSTESİ'!$B$4:$H$664,6,0)))","v":""}]
[3,"1500M-4-3",{"$f":"IF(ISERROR(VLOOKUP(B133,'KAYIT LİSTESİ'!$B$4:$H$664,2,0)),\"\",(VLOOKUP(B133,'KAYIT LİSTESİ'!$B$4:$H$664,2,0)))","v":""},{"$f":"IF(ISERROR(VLOOKUP(B133,'KAYIT LİSTESİ'!$B$4:$H$664,4,0)),\"\",(VLOOKUP(B133,'KAYIT LİSTESİ'!$B$4:$H$664,4,0)))","v":""},{"$f":"IF(ISERROR(VLOOKUP(B133,'KAYIT LİSTESİ'!$B$4:$H$664,5,0)),\"\",(VLOOKUP(B133,'KAYIT LİSTESİ'!$B$4:$H$664,5,0)))","v":""},{"$f":"IF(ISERROR(VLOOKUP(B133,'KAYIT LİSTESİ'!$B$4:$H$664,6,0)),\"\",(VLOOKUP(B133,'KAYIT LİSTESİ'!$B$4:$H$664,6,0)))","v":""},null,null,null,15,"Üçadım-15",{"$f":"IF(ISERROR(VLOOKUP(K133,'KAYIT LİSTESİ'!$B$4:$H$664,2,0)),\"\",(VLOOKUP(K133,'KAYIT LİSTESİ'!$B$4:$H$664,2,0)))","v":""},{"$f":"IF(ISERROR(VLOOKUP(K133,'KAYIT LİSTESİ'!$B$4:$H$664,4,0)),\"\",(VLOOKUP(K133,'KAYIT LİSTESİ'!$B$4:$H$664,4,0)))","v":""},{"$f":"IF(ISERROR(VLOOKUP(K133,'KAYIT LİSTESİ'!$B$4:$H$664,5,0)),\"\",(VLOOKUP(K133,'KAYIT LİSTESİ'!$B$4:$H$664,5,0)))","v":""},{"$f":"IF(ISERROR(VLOOKUP(K133,'KAYIT LİSTESİ'!$B$4:$H$664,6,0)),\"\",(VLOOKUP(K133,'KAYIT LİSTESİ'!$B$4:$H$664,6,0)))","v":""}]
[4,"1500M-4-4",{"$f":"IF(ISERROR(VLOOKUP(B134,'KAYIT LİSTESİ'!$B$4:$H$664,2,0)),\"\",(VLOOKUP(B134,'KAYIT LİSTESİ'!$B$4:$H$664,2,0)))","v":""},{"$f":"IF(ISERROR(VLOOKUP(B134,'KAYIT LİSTESİ'!$B$4:$H$664,4,0)),\"\",(VLOOKUP(B134,'KAYIT LİSTESİ'!$B$4:$H$664,4,0)))","v":""},{"$f":"IF(ISERROR(VLOOKUP(B134,'KAYIT LİSTESİ'!$B$4:$H$664,5,0)),\"\",(VLOOKUP(B134,'KAYIT LİSTESİ'!$B$4:$H$664,5,0)))","v":""},{"$f":"IF(ISERROR(VLOOKUP(B134,'KAYIT LİSTESİ'!$B$4:$H$664,6,0)),\"\",(VLOOKUP(B134,'KAYIT LİSTESİ'!$B$4:$H$664,6,0)))","v":""},null,null,null,16,"Üçadım-16",{"$f":"IF(ISERROR(VLOOKUP(K134,'KAYIT LİSTESİ'!$B$4:$H$664,2,0)),\"\",(VLOOKUP(K134,'KAYIT LİSTESİ'!$B$4:$H$664,2,0)))","v":""},{"$f":"IF(ISERROR(VLOOKUP(K134,'KAYIT LİSTESİ'!$B$4:$H$664,4,0)),\"\",(VLOOKUP(K134,'KAYIT LİSTESİ'!$B$4:$H$664,4,0)))","v":""},{"$f":"IF(ISERROR(VLOOKUP(K134,'KAYIT LİSTESİ'!$B$4:$H$664,5,0)),\"\",(VLOOKUP(K134,'KAYIT LİSTESİ'!$B$4:$H$664,5,0)))","v":""},{"$f":"IF(ISERROR(VLOOKUP(K134,'KAYIT LİSTESİ'!$B$4:$H$664,6,0)),\"\",(VLOOKUP(K134,'KAYIT LİSTESİ'!$B$4:$H$664,6,0)))","v":""}]
[5,"1500M-4-5",{"$f":"IF(ISERROR(VLOOKUP(B135,'KAYIT LİSTESİ'!$B$4:$H$664,2,0)),\"\",(VLOOKUP(B135,'KAYIT LİSTESİ'!$B$4:$H$664,2,0)))","v":""},{"$f":"IF(ISERROR(VLOOKUP(B135,'KAYIT LİSTESİ'!$B$4:$H$664,4,0)),\"\",(VLOOKUP(B135,'KAYIT LİSTESİ'!$B$4:$H$664,4,0)))","v":""},{"$f":"IF(ISERROR(VLOOKUP(B135,'KAYIT LİSTESİ'!$B$4:$H$664,5,0)),\"\",(VLOOKUP(B135,'KAYIT LİSTESİ'!$B$4:$H$664,5,0)))","v":""},{"$f":"IF(ISERROR(VLOOKUP(B135,'KAYIT LİSTESİ'!$B$4:$H$664,6,0)),\"\",(VLOOKUP(B135,'KAYIT LİSTESİ'!$B$4:$H$664,6,0)))","v":""},null,null,null,17,"Üçadım-17",{"$f":"IF(ISERROR(VLOOKUP(K135,'KAYIT LİSTESİ'!$B$4:$H$664,2,0)),\"\",(VLOOKUP(K135,'KAYIT LİSTESİ'!$B$4:$H$664,2,0)))","v":""},{"$f":"IF(ISERROR(VLOOKUP(K135,'KAYIT LİSTESİ'!$B$4:$H$664,4,0)),\"\",(VLOOKUP(K135,'KAYIT LİSTESİ'!$B$4:$H$664,4,0)))","v":""},{"$f":"IF(ISERROR(VLOOKUP(K135,'KAYIT LİSTESİ'!$B$4:$H$664,5,0)),\"\",(VLOOKUP(K135,'KAYIT LİSTESİ'!$B$4:$H$664,5,0)))","v":""},{"$f":"IF(ISERROR(VLOOKUP(K135,'KAYIT LİSTESİ'!$B$4:$H$664,6,0)),\"\",(VLOOKUP(K135,'KAYIT LİSTESİ'!$B$4:$H$664,6,0)))","v":""}]
[6,"1500M-4-6",{"$f":"IF(ISERROR(VLOOKUP(B136,'KAYIT LİSTESİ'!$B$4:$H$664,2,0)),\"\",(VLOOKUP(B136,'KAYIT LİSTESİ'!$B$4:$H$664,2,0)))","v":""},{"$f":"IF(ISERROR(VLOOKUP(B136,'KAYIT LİSTESİ'!$B$4:$H$664,4,0)),\"\",(VLOOKUP(B136,'KAYIT LİSTESİ'!$B$4:$H$664,4,0)))","v":""},{"$f":"IF(ISERROR(VLOOKUP(B136,'KAYIT LİSTESİ'!$B$4:$H$664,5,0)),\"\",(VLOOKUP(B136,'KAYIT LİSTESİ'!$B$4:$H$664,5,0)))","v":""},{"$f":"IF(ISERROR(VLOOKUP(B136,'KAYIT LİSTESİ'!$B$4:$H$664,6,0)),\"\",(VLOOKUP(B136,'KAYIT LİSTESİ'!$B$4:$H$664,6,0)))","v":""},null,null,null,18,"Üçadım-18",{"$f":"IF(ISERROR(VLOOKUP(K136,'KAYIT LİSTESİ'!$B$4:$H$664,2,0)),\"\",(VLOOKUP(K136,'KAYIT LİSTESİ'!$B$4:$H$664,2,0)))","v":""},{"$f":"IF(ISERROR(VLOOKUP(K136,'KAYIT LİSTESİ'!$B$4:$H$664,4,0)),\"\",(VLOOKUP(K136,'KAYIT LİSTESİ'!$B$4:$H$664,4,0)))","v":""},{"$f":"IF(ISERROR(VLOOKUP(K136,'KAYIT LİSTESİ'!$B$4:$H$664,5,0)),\"\",(VLOOKUP(K136,'KAYIT LİSTESİ'!$B$4:$H$664,5,0)))","v":""},{"$f":"IF(ISERROR(VLOOKUP(K136,'KAYIT LİSTESİ'!$B$4:$H$664,6,0)),\"\",(VLOOKUP(K136,'KAYIT LİSTESİ'!$B$4:$H$664,6,0)))","v":""}]
[7,"1500M-4-7",{"$f":"IF(ISERROR(VLOOKUP(B137,'KAYIT LİSTESİ'!$B$4:$H$664,2,0)),\"\",(VLOOKUP(B137,'KAYIT LİSTESİ'!$B$4:$H$664,2,0)))","v":""},{"$f":"IF(ISERROR(VLOOKUP(B137,'KAYIT LİSTESİ'!$B$4:$H$664,4,0)),\"\",(VLOOKUP(B137,'KAYIT LİSTESİ'!$B$4:$H$664,4,0)))","v":""},{"$f":"IF(ISERROR(VLOOKUP(B137,'KAYIT LİSTESİ'!$B$4:$H$664,5,0)),\"\",(VLOOKUP(B137,'KAYIT LİSTESİ'!$B$4:$H$664,5,0)))","v":""},{"$f":"IF(ISERROR(VLOOKUP(B137,'KAYIT LİSTESİ'!$B$4:$H$664,6,0)),\"\",(VLOOKUP(B137,'KAYIT LİSTESİ'!$B$4:$H$664,6,0)))","v":""},null,null,null,19,"Üçadım-19",{"$f":"IF(ISERROR(VLOOKUP(K137,'KAYIT LİSTESİ'!$B$4:$H$664,2,0)),\"\",(VLOOKUP(K137,'KAYIT LİSTESİ'!$B$4:$H$664,2,0)))","v":""},{"$f":"IF(ISERROR(VLOOKUP(K137,'KAYIT LİSTESİ'!$B$4:$H$664,4,0)),\"\",(VLOOKUP(K137,'KAYIT LİSTESİ'!$B$4:$H$664,4,0)))","v":""},{"$f":"IF(ISERROR(VLOOKUP(K137,'KAYIT LİSTESİ'!$B$4:$H$664,5,0)),\"\",(VLOOKUP(K137,'KAYIT LİSTESİ'!$B$4:$H$664,5,0)))","v":""},{"$f":"IF(ISERROR(VLOOKUP(K137,'KAYIT LİSTESİ'!$B$4:$H$664,6,0)),\"\",(VLOOKUP(K137,'KAYIT LİSTESİ'!$B$4:$H$664,6,0)))","v":""}]
[8,"1500M-4-8",{"$f":"IF(ISERROR(VLOOKUP(B138,'KAYIT LİSTESİ'!$B$4:$H$664,2,0)),\"\",(VLOOKUP(B138,'KAYIT LİSTESİ'!$B$4:$H$664,2,0)))","v":""},{"$f":"IF(ISERROR(VLOOKUP(B138,'KAYIT LİSTESİ'!$B$4:$H$664,4,0)),\"\",(VLOOKUP(B138,'KAYIT LİSTESİ'!$B$4:$H$664,4,0)))","v":""},{"$f":"IF(ISERROR(VLOOKUP(B138,'KAYIT LİSTESİ'!$B$4:$H$664,5,0)),\"\",(VLOOKUP(B138,'KAYIT LİSTESİ'!$B$4:$H$664,5,0)))","v":""},{"$f":"IF(ISERROR(VLOOKUP(B138,'KAYIT LİSTESİ'!$B$4:$H$664,6,0)),\"\",(VLOOKUP(B138,'KAYIT LİSTESİ'!$B$4:$H$664,6,0)))","v":""},null,null,null,20,"Üçadım-20",{"$f":"IF(ISERROR(VLOOKUP(K138,'KAYIT LİSTESİ'!$B$4:$H$664,2,0)),\"\",(VLOOKUP(K138,'KAYIT LİSTESİ'!$B$4:$H$664,2,0)))","v":""},{"$f":"IF(ISERROR(VLOOKUP(K138,'KAYIT LİSTESİ'!$B$4:$H$664,4,0)),\"\",(VLOOKUP(K138,'KAYIT LİSTESİ'!$B$4:$H$664,4,0)))","v":""},{"$f":"IF(ISERROR(VLOOKUP(K138,'KAYIT LİSTESİ'!$B$4:$H$664,5,0)),\"\",(VLOOKUP(K138,'KAYIT LİSTESİ'!$B$4:$H$664,5,0)))","v":""},{"$f":"IF(ISERROR(VLOOKUP(K138,'KAYIT LİSTESİ'!$B$4:$H$664,6,0)),\"\",(VLOOKUP(K138,'KAYIT LİSTESİ'!$B$4:$H$664,6,0)))","v":""}]
[9,"1500M-4-9",{"$f":"IF(ISERROR(VLOOKUP(B139,'KAYIT LİSTESİ'!$B$4:$H$664,2,0)),\"\",(VLOOKUP(B139,'KAYIT LİSTESİ'!$B$4:$H$664,2,0)))","v":""},{"$f":"IF(ISERROR(VLOOKUP(B139,'KAYIT LİSTESİ'!$B$4:$H$664,4,0)),\"\",(VLOOKUP(B139,'KAYIT LİSTESİ'!$B$4:$H$664,4,0)))","v":""},{"$f":"IF(ISERROR(VLOOKUP(B139,'KAYIT LİSTESİ'!$B$4:$H$664,5,0)),\"\",(VLOOKUP(B139,'KAYIT LİSTESİ'!$B$4:$H$664,5,0)))","v":""},{"$f":"IF(ISERROR(VLOOKUP(B139,'KAYIT LİSTESİ'!$B$4:$H$664,6,0)),\"\",(VLOOKUP(B139,'KAYIT LİSTESİ'!$B$4:$H$664,6,0)))","v":""},null,null,null,21,"Üçadım-21",{"$f":"IF(ISERROR(VLOOKUP(K139,'KAYIT LİSTESİ'!$B$4:$H$664,2,0)),\"\",(VLOOKUP(K139,'KAYIT LİSTESİ'!$B$4:$H$664,2,0)))","v":""},{"$f":"IF(ISERROR(VLOOKUP(K139,'KAYIT LİSTESİ'!$B$4:$H$664,4,0)),\"\",(VLOOKUP(K139,'KAYIT LİSTESİ'!$B$4:$H$664,4,0)))","v":""},{"$f":"IF(ISERROR(VLOOKUP(K139,'KAYIT LİSTESİ'!$B$4:$H$664,5,0)),\"\",(VLOOKUP(K139,'KAYIT LİSTESİ'!$B$4:$H$664,5,0)))","v":""},{"$f":"IF(ISERROR(VLOOKUP(K139,'KAYIT LİSTESİ'!$B$4:$H$664,6,0)),\"\",(VLOOKUP(K139,'KAYIT LİSTESİ'!$B$4:$H$664,6,0)))","v":""}]
[10,"1500M-4-10",{"$f":"IF(ISERROR(VLOOKUP(B140,'KAYIT LİSTESİ'!$B$4:$H$664,2,0)),\"\",(VLOOKUP(B140,'KAYIT LİSTESİ'!$B$4:$H$664,2,0)))","v":""},{"$f":"IF(ISERROR(VLOOKUP(B140,'KAYIT LİSTESİ'!$B$4:$H$664,4,0)),\"\",(VLOOKUP(B140,'KAYIT LİSTESİ'!$B$4:$H$664,4,0)))","v":""},{"$f":"IF(ISERROR(VLOOKUP(B140,'KAYIT LİSTESİ'!$B$4:$H$664,5,0)),\"\",(VLOOKUP(B140,'KAYIT LİSTESİ'!$B$4:$H$664,5,0)))","v":""},{"$f":"IF(ISERROR(VLOOKUP(B140,'KAYIT LİSTESİ'!$B$4:$H$664,6,0)),\"\",(VLOOKUP(B140,'KAYIT LİSTESİ'!$B$4:$H$664,6,0)))","v":""},null,null,null,22,"Üçadım-22",{"$f":"IF(ISERROR(VLOOKUP(K140,'KAYIT LİSTESİ'!$B$4:$H$664,2,0)),\"\",(VLOOKUP(K140,'KAYIT LİSTESİ'!$B$4:$H$664,2,0)))","v":""},{"$f":"IF(ISERROR(VLOOKUP(K140,'KAYIT LİSTESİ'!$B$4:$H$664,4,0)),\"\",(VLOOKUP(K140,'KAYIT LİSTESİ'!$B$4:$H$664,4,0)))","v":""},{"$f":"IF(ISERROR(VLOOKUP(K140,'KAYIT LİSTESİ'!$B$4:$H$664,5,0)),\"\",(VLOOKUP(K140,'KAYIT LİSTESİ'!$B$4:$H$664,5,0)))","v":""},{"$f":"IF(ISERROR(VLOOKUP(K140,'KAYIT LİSTESİ'!$B$4:$H$664,6,0)),\"\",(VLOOKUP(K140,'KAYIT LİSTESİ'!$B$4:$H$664,6,0)))","v":""}]
[11,"1500M-4-11",{"$f":"IF(ISERROR(VLOOKUP(B141,'KAYIT LİSTESİ'!$B$4:$H$664,2,0)),\"\",(VLOOKUP(B141,'KAYIT LİSTESİ'!$B$4:$H$664,2,0)))","v":""},{"$f":"IF(ISERROR(VLOOKUP(B141,'KAYIT LİSTESİ'!$B$4:$H$664,4,0)),\"\",(VLOOKUP(B141,'KAYIT LİSTESİ'!$B$4:$H$664,4,0)))","v":""},{"$f":"IF(ISERROR(VLOOKUP(B141,'KAYIT LİSTESİ'!$B$4:$H$664,5,0)),\"\",(VLOOKUP(B141,'KAYIT LİSTESİ'!$B$4:$H$664,5,0)))","v":""},{"$f":"IF(ISERROR(VLOOKUP(B141,'KAYIT LİSTESİ'!$B$4:$H$664,6,0)),\"\",(VLOOKUP(B141,'KAYIT LİSTESİ'!$B$4:$H$664,6,0)))","v":""},null,null,null,23,"Üçadım-23",{"$f":"IF(ISERROR(VLOOKUP(K141,'KAYIT LİSTESİ'!$B$4:$H$664,2,0)),\"\",(VLOOKUP(K141,'KAYIT LİSTESİ'!$B$4:$H$664,2,0)))","v":""},{"$f":"IF(ISERROR(VLOOKUP(K141,'KAYIT LİSTESİ'!$B$4:$H$664,4,0)),\"\",(VLOOKUP(K141,'KAYIT LİSTESİ'!$B$4:$H$664,4,0)))","v":""},{"$f":"IF(ISERROR(VLOOKUP(K141,'KAYIT LİSTESİ'!$B$4:$H$664,5,0)),\"\",(VLOOKUP(K141,'KAYIT LİSTESİ'!$B$4:$H$664,5,0)))","v":""},{"$f":"IF(ISERROR(VLOOKUP(K141,'KAYIT LİSTESİ'!$B$4:$H$664,6,0)),\"\",(VLOOKUP(K141,'KAYIT LİSTESİ'!$B$4:$H$664,6,0)))","v":""}]
[12,"1500M-4-12",{"$f":"IF(ISERROR(VLOOKUP(B142,'KAYIT LİSTESİ'!$B$4:$H$664,2,0)),\"\",(VLOOKUP(B142,'KAYIT LİSTESİ'!$B$4:$H$664,2,0)))","v":""},{"$f":"IF(ISERROR(VLOOKUP(B142,'KAYIT LİSTESİ'!$B$4:$H$664,4,0)),\"\",(VLOOKUP(B142,'KAYIT LİSTESİ'!$B$4:$H$664,4,0)))","v":""},{"$f":"IF(ISERROR(VLOOKUP(B142,'KAYIT LİSTESİ'!$B$4:$H$664,5,0)),\"\",(VLOOKUP(B142,'KAYIT LİSTESİ'!$B$4:$H$664,5,0)))","v":""},{"$f":"IF(ISERROR(VLOOKUP(B142,'KAYIT LİSTESİ'!$B$4:$H$664,6,0)),\"\",(VLOOKUP(B142,'KAYIT LİSTESİ'!$B$4:$H$664,6,0)))","v":""},null,null,null,24,"Üçadım-24",{"$f":"IF(ISERROR(VLOOKUP(K142,'KAYIT LİSTESİ'!$B$4:$H$664,2,0)),\"\",(VLOOKUP(K142,'KAYIT LİSTESİ'!$B$4:$H$664,2,0)))","v":""},{"$f":"IF(ISERROR(VLOOKUP(K142,'KAYIT LİSTESİ'!$B$4:$H$664,4,0)),\"\",(VLOOKUP(K142,'KAYIT LİSTESİ'!$B$4:$H$664,4,0)))","v":""},{"$f":"IF(ISERROR(VLOOKUP(K142,'KAYIT LİSTESİ'!$B$4:$H$664,5,0)),\"\",(VLOOKUP(K142,'KAYIT LİSTESİ'!$B$4:$H$664,5,0)))","v":""},{"$f":"IF(ISERROR(VLOOKUP(K142,'KAYIT LİSTESİ'!$B$4:$H$664,6,0)),\"\",(VLOOKUP(K142,'KAYIT LİSTESİ'!$B$4:$H$664,6,0)))","v":""}]
[null,null,null,null,null,null,null,null,null,25,"Üçadım-25",{"$f":"IF(ISERROR(VLOOKUP(K143,'KAYIT LİSTESİ'!$B$4:$H$664,2,0)),\"\",(VLOOKUP(K143,'KAYIT LİSTESİ'!$B$4:$H$664,2,0)))","v":""},{"$f":"IF(ISERROR(VLOOKUP(K143,'KAYIT LİSTESİ'!$B$4:$H$664,4,0)),\"\",(VLOOKUP(K143,'KAYIT LİSTESİ'!$B$4:$H$664,4,0)))","v":""},{"$f":"IF(ISERROR(VLOOKUP(K143,'KAYIT LİSTESİ'!$B$4:$H$664,5,0)),\"\",(VLOOKUP(K143,'KAYIT LİSTESİ'!$B$4:$H$664,5,0)))","v":""},{"$f":"IF(ISERROR(VLOOKUP(K143,'KAYIT LİSTESİ'!$B$4:$H$664,6,0)),\"\",(VLOOKUP(K143,'KAYIT LİSTESİ'!$B$4:$H$664,6,0)))","v":""}]

{"sheet":"100m.","index":3,"n_rows":47,"n_cols":17,"rows_kept":47,"cut":false,"hidden":false,"merged":[[0,0,0,16],[1,0,1,16],[2,0,2,2],[2,3,2,4],[2,5,2,6],[2,8,2,11],[5,2,6,2],[5,3,6,3],[5,6,6,6],[4,13,4,16],[2,13,2,16],[3,13,3,16],[3,0,3,2],[3,3,3,4],[5,0,6,0],[5,4,6,4],[5,5,6,5],[5,1,6,1]]}
[{"$f":"('YARIŞMA BİLGİLERİ'!A2)","v":"Türkiye Atletizm Federasyonu\nMersin Atletizm İl Temsilciliği\n"}]
[{"$f":"'YARIŞMA BİLGİLERİ'!F19","v":"Olimpik Baraj  Yarışmaları"}]
["Yarışma :",null,null,{"$f":"#REF!","v":{"$error":"#REF!"}},null,"Baraj Derecesi ",null,":",{"$f":"#REF!","v":{"$error":"#REF!"}}]
["Kategori :",null,null,{"$f":"'YARIŞMA BİLGİLERİ'!F21","v":"Kadınlar"},null,null,null,null,null,null,null,null,"Tarih-Saat :",{"$f":"#REF!","v":{"$error":"#REF!"}}]
[null,null,null,null,null,null,null,null,null,null,null,null,null,{"$f":"NOW()","v":42222.536638541664}]
["Sıra No","Göğüs No","Doğum Tarihi\nGün/Ay/Yıl","Adı ve Soyadı","İli-Okulu","Derece","Puan",null,"1. SERİ",null,null,null,"Rüzgar:"]
[null,null,null,null,null,null,null,null,"Sıra No","Formül","Göğüs No","Doğum Tarihi","Adı ve Soyadı","İli-Okulu","Elektronik Kronometre","El Kronometre","Seri Geliş"]
[1,null,null,null,null,null,{"$f":"IF(ISTEXT(F8),0,IFERROR(VLOOKUP(SMALL(#REF!,COUNTIF(#REF!,\"<\"&F8)+1),#REF!, 2,0),\"\"))","v":""},null,1,"100M-1-1",{"$f":"IF(ISERROR(VLOOKUP(J8,'KAYIT LİSTESİ'!$B$4:$H$664,2,0)),\"\",(VLOOKUP(J8,'KAYIT LİSTESİ'!$B$4:$H$664,2,0)))","v":""},{"$f":"IF(ISERROR(VLOOKUP(J8,'KAYIT LİSTESİ'!$B$4:$H$664,4,0)),\"\",(VLOOKUP(J8,'KAYIT LİSTESİ'!$B$4:$H$664,4,0)))","v":""},{"$f":"IF(ISERROR(VLOOKUP(J8,'KAYIT LİSTESİ'!$B$4:$H$664,5,0)),\"\",(VLOOKUP(J8,'KAYIT LİSTESİ'!$B$4:$H$664,5,0)))","v":""},{"$f":"IF(ISERROR(VLOOKUP(J8,'KAYIT LİSTESİ'!$B$4:$H$664,6,0)),\"\",(VLOOKUP(J8,'KAYIT LİSTESİ'!$B$4:$H$664,6,0)))","v":""},{"$f":"IF(IF(OR(P8=\"NM\",P8=\"DNF\",P8=\"DNS\",P8=\"DQ\",P8=\"\"),P8,(ROUNDUP(P8,)+24))=0,\" \",IF(OR(P8=\"NM\",P8=\"DNF\",P8=\"DNS\",P8=\"DQ\",P8=\"\"),P8,(ROUNDUP(P8,)+24)))","v":" "}]
[2,null,null,null,null,null,{"$f":"IF(ISTEXT(F9),0,IFERROR(VLOOKUP(SMALL(#REF!,COUNTIF(#REF!,\"<\"&F9)+1),#REF!, 2,0),\"\"))","v":""},null,2,"100M-1-2",{"$f":"IF(ISERROR(VLOOKUP(J9,'KAYIT LİSTESİ'!$B$4:$H$664,2,0)),\"\",(VLOOKUP(J9,'KAYIT LİSTESİ'!$B$4:$H$664,2,0)))","v":626},{"$f":"IF(ISERROR(VLOOKUP(J9,'KAYIT LİSTESİ'!$B$4:$H$664,4,0)),\"\",(VLOOKUP(J9,'KAYIT LİSTESİ'!$B$4:$H$664,4,0)))","v":"1999-02-02"},{"$f":"IF(ISERROR(VLOOKUP(J9,'KAYIT LİSTESİ'!$B$4:$H$664,5,0)),\"\",(VLOOKUP(J9,'KAYIT LİSTESİ'!$B$4:$H$664,5,0)))","v":"ESRA KARAKAYA"},{"$f":"IF(ISERROR(VLOOKUP(J9,'KAYIT LİSTESİ'!$B$4:$H$664,6,0)),\"\",(VLOOKUP(J9,'KAYIT LİSTESİ'!$B$4:$H$664,6,0)))","v":"AKSARAY"},{"$f":"IF(IF(OR(P9=\"NM\",P9=\"DNF\",P9=\"DNS\",P9=\"DQ\",P9=\"\"),P9,(ROUNDUP(P9,)+24))=0,\" \",IF(OR(P9=\"NM\",P9=\"DNF\",P9=\"DNS\",P9=\"DQ\",P9=\"\"),P9,(ROUNDUP(P9,)+24)))","v":" "}]
[3,null,null,null,null,null,{"$f":"IF(ISTEXT(F10),0,IFERROR(VLOOKUP(SMALL(#REF!,COUNTIF(#REF!,\"<\"&F10)+1),#REF!, 2,0),\"\"))","v":""},null,3,"100M-1-3",{"$f":"IF(ISERROR(VLOOKUP(J10,'KAYIT LİSTESİ'!$B$4:$H$664,2,0)),\"\",(VLOOKUP(J10,'KAYIT LİSTESİ'!$B$4:$H$664,2,0)))","v":600},{"$f":"IF(ISERROR(VLOOKUP(J10,'KAYIT LİSTESİ'!$B$4:$H$664,4,0)),\"\",(VLOOKUP(J10,'KAYIT LİSTESİ'!$B$4:$H$664,4,0)))","v":"1987-03-30"},{"$f":"IF(ISERROR(VLOOKUP(J10,'KAYIT LİSTESİ'!$B$4:$H$664,5,0)),\"\",(VLOOKUP(J10,'KAYIT LİSTESİ'!$B$4:$H$664,5,0)))","v":"SİBEL İPEK"},{"$f":"IF(ISERROR(VLOOKUP(J10,'KAYIT LİSTESİ'!$B$4:$H$664,6,0)),\"\",(VLOOKUP(J10,'KAYIT LİSTESİ'!$B$4:$H$664,6,0)))","v":"DİYARBAKIR"}," "]
[4,null,null,null,null,null,{"$f":"IF(ISTEXT(F11),0,IFERROR(VLOOKUP(SMALL(#REF!,COUNTIF(#REF!,\"<\"&F11)+1),#REF!, 2,0),\"\"))","v":""},null,4,"100M-1-4",{"$f":"IF(ISERROR(VLOOKUP(J11,'KAYIT LİSTESİ'!$B$4:$H$664,2,0)),\"\",(VLOOKUP(J11,'KAYIT LİSTESİ'!$B$4:$H$664,2,0)))","v":618},{"$f":"IF(ISERROR(VLOOKUP(J11,'KAYIT LİSTESİ'!$B$4:$H$664,4,0)),\"\",(VLOOKUP(J11,'KAYIT LİSTESİ'!$B$4:$H$664,4,0)))","v":"1994-08-25"},{"$f":"IF(ISERROR(VLOOKUP(J11,'KAYIT LİSTESİ'!$B$4:$H$664,5,0)),\"\",(VLOOKUP(J11,'KAYIT LİSTESİ'!$B$4:$H$664,5,0)))","v":"Tuğba AYDIN"},{"$f":"IF(ISERROR(VLOOKUP(J11,'KAYIT LİSTESİ'!$B$4:$H$664,6,0)),\"\",(VLOOKUP(J11,'KAYIT LİSTESİ'!$B$4:$H$664,6,0)))","v":"MERSİN"}," "]
[5,null,null,null,null,null,{"$f":"IF(ISTEXT(F12),0,IFERROR(VLOOKUP(SMALL(#REF!,COUNTIF(#REF!,\"<\"&F12)+1),#REF!, 2,0),\"\"))","v":""},null,5,"100M-1-5",{"$f":"IF(ISERROR(VLOOKUP(J12,'KAYIT LİSTESİ'!$B$4:$H$664,2,0)),\"\",(VLOOKUP(J12,'KAYIT LİSTESİ'!$B$4:$H$664,2,0)))","v":627},{"$f":"IF(ISERROR(VLOOKUP(J12,'KAYIT LİSTESİ'!$B$4:$H$664,4,0)),\"\",(VLOOKUP(J12,'KAYIT LİSTESİ'!$B$4:$H$664,4,0)))","v":"1999-05-13"},{"$f":"IF(ISERROR(VLOOKUP(J12,'KAYIT LİSTESİ'!$B$4:$H$664,5,0)),\"\",(VLOOKUP(J12,'KAYIT LİSTESİ'!$B$4:$H$664,5,0)))","v":"BERIVAN KAYA"},{"$f":"IF(ISERROR(VLOOKUP(J12,'KAYIT LİSTESİ'!$B$4:$H$664,6,0)),\"\",(VLOOKUP(J12,'KAYIT LİSTESİ'!$B$4:$H$664,6,0)))","v":"AKSARAY"}," "]
[6,null,null,null,null,null,{"$f":"IF(ISTEXT(F13),0,IFERROR(VLOOKUP(SMALL(#REF!,COUNTIF(#REF!,\"<\"&F13)+1),#REF!, 2,0),\"\"))","v":""},null,6,"100M-1-6",{"$f":"IF(ISERROR(VLOOKUP(J13,'KAYIT LİSTESİ'!$B$4:$H$664,2,0)),\"\",(VLOOKUP(J13,'KAYIT LİSTESİ'!$B$4:$H$664,2,0)))","v":611},{"$f":"IF(ISERROR(VLOOKUP(J13,'KAYIT LİSTESİ'!$B$4:$H$664,4,0)),\"\",(VLOOKUP(J13,'KAYIT LİSTESİ'!$B$4:$H$664,4,0)))","v":"1999-08-28"},{"$f":"IF(ISERROR(VLOOKUP(J13,'KAYIT LİSTESİ'!$B$4:$H$664,5,0)),\"\",(VLOOKUP(J13,'KAYIT LİSTESİ'!$B$4:$H$664,5,0)))","v":"AYSEL YILMAZ"},{"$f":"IF(ISERROR(VLOOKUP(J13,'KAYIT LİSTESİ'!$B$4:$H$664,6,0)),\"\",(VLOOKUP(J13,'KAYIT LİSTESİ'!$B$4:$H$664,6,0)))","v":"GAZİANTEP"}," "]
[7,null,null,null,null,null,{"$f":"IF(ISTEXT(F14),0,IFERROR(VLOOKUP(SMALL(#REF!,COUNTIF(#REF!,\"<\"&F14)+1),#REF!, 2,0),\"\"))","v":""},null,7,"100M-1-7",{"$f":"IF(ISERROR(VLOOKUP(J14,'KAYIT LİSTESİ'!$B$4:$H$664,2,0)),\"\",(VLOOKUP(J14,'KAYIT LİSTESİ'!$B$4:$H$664,2,0)))","v":""},{"$f":"IF(ISERROR(VLOOKUP(J14,'KAYIT LİSTESİ'!$B$4:$H$664,4,0)),\"\",(VLOOKUP(J14,'KAYIT LİSTESİ'!$B$4:$H$664,4,0)))","v":""},{"$f":"IF(ISERROR(VLOOKUP(J14,'KAYIT LİSTESİ'!$B$4:$H$664,5,0)),\"\",(VLOOKUP(J14,'KAYIT LİSTESİ'!$B$4:$H$664,5,0)))","v":""},{"$f":"IF(ISERROR(VLOOKUP(J14,'KAYIT LİSTESİ'!$B$4:$H$664,6,0)),\"\",(VLOOKUP(J14,'KAYIT LİSTESİ'!$B$4:$H$664,6,0)))","v":""}," "]
[8,null,null,null,null,null,{"$f":"IF(ISTEXT(F15),0,IFERROR(VLOOKUP(SMALL(#REF!,COUNTIF(#REF!,\"<\"&F15)+1),#REF!, 2,0),\"\"))","v":""},null,8,"100M-1-8",{"$f":"IF(ISERROR(VLOOKUP(J15,'KAYIT LİSTESİ'!$B$4:$H$664,2,0)),\"\",(VLOOKUP(J15,'KAYIT LİSTESİ'!$B$4:$H$664,2,0)))","v":""},{"$f":"IF(ISERROR(VLOOKUP(J15,'KAYIT LİSTESİ'!$B$4:$H$664,4,0)),\"\",(VLOOKUP(J15,'KAYIT LİSTESİ'!$B$4:$H$664,4,0)))","v":""},{"$f":"IF(ISERROR(VLOOKUP(J15,'KAYIT LİSTESİ'!$B$4:$H$664,5,0)),\"\",(VLOOKUP(J15,'KAYIT LİSTESİ'!$B$4:$H$664,5,0)))","v":""},{"$f":"IF(ISERROR(VLOOKUP(J15,'KAYIT LİSTESİ'!$B$4:$H$664,6,0)),\"\",(VLOOKUP(J15,'KAYIT LİSTESİ'!$B$4:$H$664,6,0)))","v":""}," "]
[9,null,null,null,null,null,{"$f":"IF(ISTEXT(F16),0,IFERROR(VLOOKUP(SMALL(#REF!,COUNTIF(#REF!,\"<\"&F16)+1),#REF!, 2,0),\"\"))","v":""},null,"2. SERİ",null,null,null,"Rüzgar:"]
[10,null,null,null,null,null,{"$f":"IF(ISTEXT(F17),0,IFERROR(VLOOKUP(SMALL(#REF!,COUNTIF(#REF!,\"<\"&F17)+1),#REF!, 2,0),\"\"))","v":""},null,"Sıra No","Formül","Göğüs No","Doğum Tarihi","Adı ve Soyadı","İli-Okulu","Elektronik Kronometre","El Kronometre","Seri Geliş"]
[11,null,null,null,null,null,{"$f":"IF(ISTEXT(F18),0,IFERROR(VLOOKUP(SMALL(#REF!,COUNTIF(#REF!,\"<\"&F18)+1),#REF!, 2,0),\"\"))","v":""},null,1,"100M-2-1",{"$f":"IF(ISERROR(VLOOKUP(J18,'KAYIT LİSTESİ'!$B$4:$H$664,2,0)),\"\",(VLOOKUP(J18,'KAYIT LİSTESİ'!$B$4:$H$664,2,0)))","v":""},{"$f":"IF(ISERROR(VLOOKUP(J18,'KAYIT LİSTESİ'!$B$4:$H$664,4,0)),\"\",(VLOOKUP(J18,'KAYIT LİSTESİ'!$B$4:$H$664,4,0)))","v":""},{"$f":"IF(ISERROR(VLOOKUP(J18,'KAYIT LİSTESİ'!$B$4:$H$664,5,0)),\"\",(VLOOKUP(J18,'KAYIT LİSTESİ'!$B$4:$H$664,5,0)))","v":""},{"$f":"IF(ISERROR(VLOOKUP(J18,'KAYIT LİSTESİ'!$B$4:$H$664,6,0)),\"\",(VLOOKUP(J18,'KAYIT LİSTESİ'!$B$4:$H$664,6,0)))","v":""},{"$f":"IF(IF(OR(P18=\"NM\",P18=\"DNF\",P18=\"DNS\",P18=\"DQ\",P18=\"\"),P18,(ROUNDUP(P18,)+24))=0,\" \",IF(OR(P18=\"NM\",P18=\"DNF\",P18=\"DNS\",P18=\"DQ\",P18=\"\"),P18,(ROUNDUP(P18,)+24)))","v":" "}]
[12,null,null,null,null,null,{"$f":"IF(ISTEXT(F19),0,IFERROR(VLOOKUP(SMALL(#REF!,COUNTIF(#REF!,\"<\"&F19)+1),#REF!, 2,0),\"\"))","v":""},null,2,"100M-2-2",{"$f":"IF(ISERROR(VLOOKUP(J19,'KAYIT LİSTESİ'!$B$4:$H$664,2,0)),\"\",(VLOOKUP(J19,'KAYIT LİSTESİ'!$B$4:$H$664,2,0)))","v":""},{"$f":"IF(ISERROR(VLOOKUP(J19,'KAYIT LİSTESİ'!$B$4:$H$664,4,0)),\"\",(VLOOKUP(J19,'KAYIT LİSTESİ'!$B$4:$H$664,4,0)))","v":""},{"$f":"IF(ISERROR(VLOOKUP(J19,'KAYIT LİSTESİ'!$B$4:$H$664,5,0)),\"\",(VLOOKUP(J19,'KAYIT LİSTESİ'!$B$4:$H$664,5,0)))","v":""},{"$f":"IF(ISERROR(VLOOKUP(J19,'KAYIT LİSTESİ'!$B$4:$H$664,6,0)),\"\",(VLOOKUP(J19,'KAYIT LİSTESİ'!$B$4:$H$664,6,0)))","v":""}," "]
[13,null,null,null,null,null,{"$f":"IF(ISTEXT(F20),0,IFERROR(VLOOKUP(SMALL(#REF!,COUNTIF(#REF!,\"<\"&F20)+1),#REF!, 2,0),\"\"))","v":""},null,3,"100M-2-3",{"$f":"IF(ISERROR(VLOOKUP(J20,'KAYIT LİSTESİ'!$B$4:$H$664,2,0)),\"\",(VLOOKUP(J20,'KAYIT LİSTESİ'!$B$4:$H$664,2,0)))","v":""},{"$f":"IF(ISERROR(VLOOKUP(J20,'KAYIT LİSTESİ'!$B$4:$H$664,4,0)),\"\",(VLOOKUP(J20,'KAYIT LİSTESİ'!$B$4:$H$664,4,0)))","v":""},{"$f":"IF(ISERROR(VLOOKUP(J20,'KAYIT LİSTESİ'!$B$4:$H$664,5,0)),\"\",(VLOOKUP(J20,'KAYIT LİSTESİ'!$B$4:$H$664,5,0)))","v":""},{"$f":"IF(ISERROR(VLOOKUP(J20,'KAYIT LİSTESİ'!$B$4:$H$664,6,0)),\"\",(VLOOKUP(J20,'KAYIT LİSTESİ'!$B$4:$H$664,6,0)))","v":""}," "]
[14,null,null,null,null,null,{"$f":"IF(ISTEXT(F21),0,IFERROR(VLOOKUP(SMALL(#REF!,COUNTIF(#REF!,\"<\"&F21)+1),#REF!, 2,0),\"\"))","v":""},null,4,"100M-2-4",{"$f":"IF(ISERROR(VLOOKUP(J21,'KAYIT LİSTESİ'!$B$4:$H$664,2,0)),\"\",(VLOOKUP(J21,'KAYIT LİSTESİ'!$B$4:$H$664,2,0)))","v":""},{"$f":"IF(ISERROR(VLOOKUP(J21,'KAYIT LİSTESİ'!$B$4:$H$664,4,0)),\"\",(VLOOKUP(J21,'KAYIT LİSTESİ'!$B$4:$H$664,4,0)))","v":""},{"$f":"IF(ISERROR(VLOOKUP(J21,'KAYIT LİSTESİ'!$B$4:$H$664,5,0)),\"\",(VLOOKUP(J21,'KAYIT LİSTESİ'!$B$4:$H$664,5,0)))","v":""},{"$f":"IF(ISERROR(VLOOKUP(J21,'KAYIT LİSTESİ'!$B$4:$H$664,6,0)),\"\",(VLOOKUP(J21,'KAYIT LİSTESİ'!$B$4:$H$664,6,0)))","v":""}," "]
[15,null,null,null,null,null,{"$f":"IF(ISTEXT(F22),0,IFERROR(VLOOKUP(SMALL(#REF!,COUNTIF(#REF!,\"<\"&F22)+1),#REF!, 2,0),\"\"))","v":""},null,5,"100M-2-5",{"$f":"IF(ISERROR(VLOOKUP(J22,'KAYIT LİSTESİ'!$B$4:$H$664,2,0)),\"\",(VLOOKUP(J22,'KAYIT LİSTESİ'!$B$4:$H$664,2,0)))","v":""},{"$f":"IF(ISERROR(VLOOKUP(J22,'KAYIT LİSTESİ'!$B$4:$H$664,4,0)),\"\",(VLOOKUP(J22,'KAYIT LİSTESİ'!$B$4:$H$664,4,0)))","v":""},{"$f":"IF(ISERROR(VLOOKUP(J22,'KAYIT LİSTESİ'!$B$4:$H$664,5,0)),\"\",(VLOOKUP(J22,'KAYIT LİSTESİ'!$B$4:$H$664,5,0)))","v":""},{"$f":"IF(ISERROR(VLOOKUP(J22,'KAYIT LİSTESİ'!$B$4:$H$664,6,0)),\"\",(VLOOKUP(J22,'KAYIT LİSTESİ'!$B$4:$H$664,6,0)))","v":""}," "]
[16,null,null,null,null,null,{"$f":"IF(ISTEXT(F23),0,IFERROR(VLOOKUP(SMALL(#REF!,COUNTIF(#REF!,\"<\"&F23)+1),#REF!, 2,0),\"\"))","v":""},null,6,"100M-2-6",{"$f":"IF(ISERROR(VLOOKUP(J23,'KAYIT LİSTESİ'!$B$4:$H$664,2,0)),\"\",(VLOOKUP(J23,'KAYIT LİSTESİ'!$B$4:$H$664,2,0)))","v":""},{"$f":"IF(ISERROR(VLOOKUP(J23,'KAYIT LİSTESİ'!$B$4:$H$664,4,0)),\"\",(VLOOKUP(J23,'KAYIT LİSTESİ'!$B$4:$H$664,4,0)))","v":""},{"$f":"IF(ISERROR(VLOOKUP(J23,'KAYIT LİSTESİ'!$B$4:$H$664,5,0)),\"\",(VLOOKUP(J23,'KAYIT LİSTESİ'!$B$4:$H$664,5,0)))","v":""},{"$f":"IF(ISERROR(VLOOKUP(J23,'KAYIT LİSTESİ'!$B$4:$H$664,6,0)),\"\",(VLOOKUP(J23,'KAYIT LİSTESİ'!$B$4:$H$664,6,0)))","v":""}," "]
[17,null,null,null,null,null,{"$f":"IF(ISTEXT(F24),0,IFERROR(VLOOKUP(SMALL(#REF!,COUNTIF(#REF!,\"<\"&F24)+1),#REF!, 2,0),\"\"))","v":""},null,7,"100M-2-7",{"$f":"IF(ISERROR(VLOOKUP(J24,'KAYIT LİSTESİ'!$B$4:$H$664,2,0)),\"\",(VLOOKUP(J24,'KAYIT LİSTESİ'!$B$4:$H$664,2,0)))","v":""},{"$f":"IF(ISERROR(VLOOKUP(J24,'KAYIT LİSTESİ'!$B$4:$H$664,4,0)),\"\",(VLOOKUP(J24,'KAYIT LİSTESİ'!$B$4:$H$664,4,0)))","v":""},{"$f":"IF(ISERROR(VLOOKUP(J24,'KAYIT LİSTESİ'!$B$4:$H$664,5,0)),\"\",(VLOOKUP(J24,'KAYIT LİSTESİ'!$B$4:$H$664,5,0)))","v":""},{"$f":"IF(ISERROR(VLOOKUP(J24,'KAYIT LİSTESİ'!$B$4:$H$664,6,0)),\"\",(VLOOKUP(J24,'KAYIT LİSTESİ'!$B$4:$H$664,6,0)))","v":""}," "]
[18,null,null,null,null,null,{"$f":"IF(ISTEXT(F25),0,IFERROR(VLOOKUP(SMALL(#REF!,COUNTIF(#REF!,\"<\"&F25)+1),#REF!, 2,0),\"\"))","v":""},null,8,"100M-2-8",{"$f":"IF(ISERROR(VLOOKUP(J25,'KAYIT LİSTESİ'!$B$4:$H$664,2,0)),\"\",(VLOOKUP(J25,'KAYIT LİSTESİ'!$B$4:$H$664,2,0)))","v":""},{"$f":"IF(ISERROR(VLOOKUP(J25,'KAYIT LİSTESİ'!$B$4:$H$664,4,0)),\"\",(VLOOKUP(J25,'KAYIT LİSTESİ'!$B$4:$H$664,4,0)))","v":""},{"$f":"IF(ISERROR(VLOOKUP(J25,'KAYIT LİSTESİ'!$B$4:$H$664,5,0)),\"\",(VLOOKUP(J25,'KAYIT LİSTESİ'!$B$4:$H$664,5,0)))","v":""},{"$f":"IF(ISERROR(VLOOKUP(J25,'KAYIT LİSTESİ'!$B$4:$H$664,6,0)),\"\",(VLOOKUP(J25,'KAYIT LİSTESİ'!$B$4:$H$664,6,0)))","v":""}," "]
[19,null,null,null,null,null,{"$f":"IF(ISTEXT(F26),0,IFERROR(VLOOKUP(SMALL(#REF!,COUNTIF(#REF!,\"<\"&F26)+1),#REF!, 2,0),\"\"))","v":""},null,"3. SERİ",null,null,null,"Rüzgar:"]
[20,null,null,null,null,null,{"$f":"IF(ISTEXT(F27),0,IFERROR(VLOOKUP(SMALL(#REF!,COUNTIF(#REF!,\"<\"&F27)+1),#REF!, 2,0),\"\"))","v":""},null,"Sıra No","Formül","Göğüs No","Doğum Tarihi","Adı ve Soyadı","İli-Okulu","Elektronik Kronometre","El Kronometre","Seri Geliş"]
[21,null,null,null,null,null,{"$f":"IF(ISTEXT(F28),0,IFERROR(VLOOKUP(SMALL(#REF!,COUNTIF(#REF!,\"<\"&F28)+1),#REF!, 2,0),\"\"))","v":""},null,1,"100M-3-1",{"$f":"IF(ISERROR(VLOOKUP(J28,'KAYIT LİSTESİ'!$B$4:$H$664,2,0)),\"\",(VLOOKUP(J28,'KAYIT LİSTESİ'!$B$4:$H$664,2,0)))","v":""},{"$f":"IF(ISERROR(VLOOKUP(J28,'KAYIT LİSTESİ'!$B$4:$H$664,4,0)),\"\",(VLOOKUP(J28,'KAYIT LİSTESİ'!$B$4:$H$664,4,0)))","v":""},{"$f":"IF(ISERROR(VLOOKUP(J28,'KAYIT LİSTESİ'!$B$4:$H$664,5,0)),\"\",(VLOOKUP(J28,'KAYIT LİSTESİ'!$B$4:$H$664,5,0)))","v":""},{"$f":"IF(ISERROR(VLOOKUP(J28,'KAYIT LİSTESİ'!$B$4:$H$664,6,0)),\"\",(VLOOKUP(J28,'KAYIT LİSTESİ'!$B$4:$H$664,6,0)))","v":""},{"$f":"IF(IF(OR(P28=\"NM\",P28=\"DNF\",P28=\"DNS\",P28=\"DQ\",P28=\"\"),P28,(ROUNDUP(P28,)+24))=0,\" \",IF(OR(P28=\"NM\",P28=\"DNF\",P28=\"DNS\",P28=\"DQ\",P28=\"\"),P28,(ROUNDUP(P28,)+24)))","v":" "}]
[22,null,null,null,null,null,{"$f":"IF(ISTEXT(F29),0,IFERROR(VLOOKUP(SMALL(#REF!,COUNTIF(#REF!,\"<\"&F29)+1),#REF!, 2,0),\"\"))","v":""},null,2,"100M-3-2",{"$f":"IF(ISERROR(VLOOKUP(J29,'KAYIT LİSTESİ'!$B$4:$H$664,2,0)),\"\",(VLOOKUP(J29,'KAYIT LİSTESİ'!$B$4:$H$664,2,0)))","v":""},{"$f":"IF(ISERROR(VLOOKUP(J29,'KAYIT LİSTESİ'!$B$4:$H$664,4,0)),\"\",(VLOOKUP(J29,'KAYIT LİSTESİ'!$B$4:$H$664,4,0)))","v":""},{"$f":"IF(ISERROR(VLOOKUP(J29,'KAYIT LİSTESİ'!$B$4:$H$664,5,0)),\"\",(VLOOKUP(J29,'KAYIT LİSTESİ'!$B$4:$H$664,5,0)))","v":""},{"$f":"IF(ISERROR(VLOOKUP(J29,'KAYIT LİSTESİ'!$B$4:$H$664,6,0)),\"\",(VLOOKUP(J29,'KAYIT LİSTESİ'!$B$4:$H$664,6,0)))","v":""}," "]
[23,null,null,null,null,null,{"$f":"IF(ISTEXT(F30),0,IFERROR(VLOOKUP(SMALL(#REF!,COUNTIF(#REF!,\"<\"&F30)+1),#REF!, 2,0),\"\"))","v":""},null,3,"100M-3-3",{"$f":"IF(ISERROR(VLOOKUP(J30,'KAYIT LİSTESİ'!$B$4:$H$664,2,0)),\"\",(VLOOKUP(J30,'KAYIT LİSTESİ'!$B$4:$H$664,2,0)))","v":""},{"$f":"IF(ISERROR(VLOOKUP(J30,'KAYIT LİSTESİ'!$B$4:$H$664,4,0)),\"\",(VLOOKUP(J30,'KAYIT LİSTESİ'!$B$4:$H$664,4,0)))","v":""},{"$f":"IF(ISERROR(VLOOKUP(J30,'KAYIT LİSTESİ'!$B$4:$H$664,5,0)),\"\",(VLOOKUP(J30,'KAYIT LİSTESİ'!$B$4:$H$664,5,0)))","v":""},{"$f":"IF(ISERROR(VLOOKUP(J30,'KAYIT LİSTESİ'!$B$4:$H$664,6,0)),\"\",(VLOOKUP(J30,'KAYIT LİSTESİ'!$B$4:$H$664,6,0)))","v":""}," "]
[24,null,null,null,null,null,{"$f":"IF(ISTEXT(F31),0,IFERROR(VLOOKUP(SMALL(#REF!,COUNTIF(#REF!,\"<\"&F31)+1),#REF!, 2,0),\"\"))","v":""},null,4,"100M-3-4",{"$f":"IF(ISERROR(VLOOKUP(J31,'KAYIT LİSTESİ'!$B$4:$H$664,2,0)),\"\",(VLOOKUP(J31,'KAYIT LİSTESİ'!$B$4:$H$664,2,0)))","v":""},{"$f":"IF(ISERROR(VLOOKUP(J31,'KAYIT LİSTESİ'!$B$4:$H$664,4,0)),\"\",(VLOOKUP(J31,'KAYIT LİSTESİ'!$B$4:$H$664,4,0)))","v":""},{"$f":"IF(ISERROR(VLOOKUP(J31,'KAYIT LİSTESİ'!$B$4:$H$664,5,0)),\"\",(VLOOKUP(J31,'KAYIT LİSTESİ'!$B$4:$H$664,5,0)))","v":""},{"$f":"IF(ISERROR(VLOOKUP(J31,'KAYIT LİSTESİ'!$B$4:$H$664,6,0)),\"\",(VLOOKUP(J31,'KAYIT LİSTESİ'!$B$4:$H$664,6,0)))","v":""}," "]
[25,null,null,null,null,null,{"$f":"IF(ISTEXT(F32),0,IFERROR(VLOOKUP(SMALL(#REF!,COUNTIF(#REF!,\"<\"&F32)+1),#REF!, 2,0),\"\"))","v":""},null,5,"100M-3-5",{"$f":"IF(ISERROR(VLOOKUP(J32,'KAYIT LİSTESİ'!$B$4:$H$664,2,0)),\"\",(VLOOKUP(J32,'KAYIT LİSTESİ'!$B$4:$H$664,2,0)))","v":""},{"$f":"IF(ISERROR(VLOOKUP(J32,'KAYIT LİSTESİ'!$B$4:$H$664,4,0)),\"\",(VLOOKUP(J32,'KAYIT LİSTESİ'!$B$4:$H$664,4,0)))","v":""},{"$f":"IF(ISERROR(VLOOKUP(J32,'KAYIT LİSTESİ'!$B$4:$H$664,5,0)),\"\",(VLOOKUP(J32,'KAYIT LİSTESİ'!$B$4:$H$664,5,0)))","v":""},{"$f":"IF(ISERROR(VLOOKUP(J32,'KAYIT LİSTESİ'!$B$4:$H$664,6,0)),\"\",(VLOOKUP(J32,'KAYIT LİSTESİ'!$B$4:$H$664,6,0)))","v":""}," "]
[26,null,null,null,null,null,{"$f":"IF(ISTEXT(F33),0,IFERROR(VLOOKUP(SMALL(#REF!,COUNTIF(#REF!,\"<\"&F33)+1),#REF!, 2,0),\"\"))","v":""},null,6,"100M-3-6",{"$f":"IF(ISERROR(VLOOKUP(J33,'KAYIT LİSTESİ'!$B$4:$H$664,2,0)),\"\",(VLOOKUP(J33,'KAYIT LİSTESİ'!$B$4:$H$664,2,0)))","v":""},{"$f":"IF(ISERROR(VLOOKUP(J33,'KAYIT LİSTESİ'!$B$4:$H$664,4,0)),\"\",(VLOOKUP(J33,'KAYIT LİSTESİ'!$B$4:$H$664,4,0)))","v":""},{"$f":"IF(ISERROR(VLOOKUP(J33,'KAYIT LİSTESİ'!$B$4:$H$664,5,0)),\"\",(VLOOKUP(J33,'KAYIT LİSTESİ'!$B$4:$H$664,5,0)))","v":""},{"$f":"IF(ISERROR(VLOOKUP(J33,'KAYIT LİSTESİ'!$B$4:$H$664,6,0)),\"\",(VLOOKUP(J33,'KAYIT LİSTESİ'!$B$4:$H$664,6,0)))","v":""}," "]
[27,null,null,null,null,null,{"$f":"IF(ISTEXT(F34),0,IFERROR(VLOOKUP(SMALL(#REF!,COUNTIF(#REF!,\"<\"&F34)+1),#REF!, 2,0),\"\"))","v":""},null,7,"100M-3-7",{"$f":"IF(ISERROR(VLOOKUP(J34,'KAYIT LİSTESİ'!$B$4:$H$664,2,0)),\"\",(VLOOKUP(J34,'KAYIT LİSTESİ'!$B$4:$H$664,2,0)))","v":""},{"$f":"IF(ISERROR(VLOOKUP(J34,'KAYIT LİSTESİ'!$B$4:$H$664,4,0)),\"\",(VLOOKUP(J34,'KAYIT LİSTESİ'!$B$4:$H$664,4,0)))","v":""},{"$f":"IF(ISERROR(VLOOKUP(J34,'KAYIT LİSTESİ'!$B$4:$H$664,5,0)),\"\",(VLOOKUP(J34,'KAYIT LİSTESİ'!$B$4:$H$664,5,0)))","v":""},{"$f":"IF(ISERROR(VLOOKUP(J34,'KAYIT LİSTESİ'!$B$4:$H$664,6,0)),\"\",(VLOOKUP(J34,'KAYIT LİSTESİ'!$B$4:$H$664,6,0)))","v":""}," "]
[28,null,null,null,null,null,{"$f":"IF(ISTEXT(F35),0,IFERROR(VLOOKUP(SMALL(#REF!,COUNTIF(#REF!,\"<\"&F35)+1),#REF!, 2,0),\"\"))","v":""},null,8,"100M-3-8",{"$f":"IF(ISERROR(VLOOKUP(J35,'KAYIT LİSTESİ'!$B$4:$H$664,2,0)),\"\",(VLOOKUP(J35,'KAYIT LİSTESİ'!$B$4:$H$664,2,0)))","v":""},{"$f":"IF(ISERROR(VLOOKUP(J35,'KAYIT LİSTESİ'!$B$4:$H$664,4,0)),\"\",(VLOOKUP(J35,'KAYIT LİSTESİ'!$B$4:$H$664,4,0)))","v":""},{"$f":"IF(ISERROR(VLOOKUP(J35,'KAYIT LİSTESİ'!$B$4:$H$664,5,0)),\"\",(VLOOKUP(J35,'KAYIT LİSTESİ'!$B$4:$H$664,5,0)))","v":""},{"$f":"IF(ISERROR(VLOOKUP(J35,'KAYIT LİSTESİ'!$B$4:$H$664,6,0)),\"\",(VLOOKUP(J35,'KAYIT LİSTESİ'!$B$4:$H$664,6,0)))","v":""}," "]
[29,null,null,null,null,null,{"$f":"IF(ISTEXT(F36),0,IFERROR(VLOOKUP(SMALL(#REF!,COUNTIF(#REF!,\"<\"&F36)+1),#REF!, 2,0),\"\"))","v":""},null,"4. SERİ",null,null,null,"Rüzgar:"]
[30,null,null,null,null,null,{"$f":"IF(ISTEXT(F37),0,IFERROR(VLOOKUP(SMALL(#REF!,COUNTIF(#REF!,\"<\"&F37)+1),#REF!, 2,0),\"\"))","v":""},null,"Sıra No","Formül","Göğüs No","Doğum Tarihi","Adı ve Soyadı","İli-Okulu","Elektronik Kronometre","El Kronometre","Seri Geliş"]
[31,null,null,null,null,null,{"$f":"IF(ISTEXT(F38),0,IFERROR(VLOOKUP(SMALL(#REF!,COUNTIF(#REF!,\"<\"&F38)+1),#REF!, 2,0),\"\"))","v":""},null,1,"100M-4-1",{"$f":"IF(ISERROR(VLOOKUP(J38,'KAYIT LİSTESİ'!$B$4:$H$664,2,0)),\"\",(VLOOKUP(J38,'KAYIT LİSTESİ'!$B$4:$H$664,2,0)))","v":""},{"$f":"IF(ISERROR(VLOOKUP(J38,'KAYIT LİSTESİ'!$B$4:$H$664,4,0)),\"\",(VLOOKUP(J38,'KAYIT LİSTESİ'!$B$4:$H$664,4,0)))","v":""},{"$f":"IF(ISERROR(VLOOKUP(J38,'KAYIT LİSTESİ'!$B$4:$H$664,5,0)),\"\",(VLOOKUP(J38,'KAYIT LİSTESİ'!$B$4:$H$664,5,0)))","v":""},{"$f":"IF(ISERROR(VLOOKUP(J38,'KAYIT LİSTESİ'!$B$4:$H$664,6,0)),\"\",(VLOOKUP(J38,'KAYIT LİSTESİ'!$B$4:$H$664,6,0)))","v":""}]
[32,null,null,null,null,null,{"$f":"IF(ISTEXT(F39),0,IFERROR(VLOOKUP(SMALL(#REF!,COUNTIF(#REF!,\"<\"&F39)+1),#REF!, 2,0),\"\"))","v":""},null,2,"100M-4-2",{"$f":"IF(ISERROR(VLOOKUP(J39,'KAYIT LİSTESİ'!$B$4:$H$664,2,0)),\"\",(VLOOKUP(J39,'KAYIT LİSTESİ'!$B$4:$H$664,2,0)))","v":""},{"$f":"IF(ISERROR(VLOOKUP(J39,'KAYIT LİSTESİ'!$B$4:$H$664,4,0)),\"\",(VLOOKUP(J39,'KAYIT LİSTESİ'!$B$4:$H$664,4,0)))","v":""},{"$f":"IF(ISERROR(VLOOKUP(J39,'KAYIT LİSTESİ'!$B$4:$H$664,5,0)),\"\",(VLOOKUP(J39,'KAYIT LİSTESİ'!$B$4:$H$664,5,0)))","v":""},{"$f":"IF(ISERROR(VLOOKUP(J39,'KAYIT LİSTESİ'!$B$4:$H$664,6,0)),\"\",(VLOOKUP(J39,'KAYIT LİSTESİ'!$B$4:$H$664,6,0)))","v":""}]
[33,null,null,null,null,null,{"$f":"IF(ISTEXT(F40),0,IFERROR(VLOOKUP(SMALL(#REF!,COUNTIF(#REF!,\"<\"&F40)+1),#REF!, 11,0),\" \"))","v":" "},null,3,"100M-4-3",{"$f":"IF(ISERROR(VLOOKUP(J40,'KAYIT LİSTESİ'!$B$4:$H$664,2,0)),\"\",(VLOOKUP(J40,'KAYIT LİSTESİ'!$B$4:$H$664,2,0)))","v":""},{"$f":"IF(ISERROR(VLOOKUP(J40,'KAYIT LİSTESİ'!$B$4:$H$664,4,0)),\"\",(VLOOKUP(J40,'KAYIT LİSTESİ'!$B$4:$H$664,4,0)))","v":""},{"$f":"IF(ISERROR(VLOOKUP(J40,'KAYIT LİSTESİ'!$B$4:$H$664,5,0)),\"\",(VLOOKUP(J40,'KAYIT LİSTESİ'!$B$4:$H$664,5,0)))","v":""},{"$f":"IF(ISERROR(VLOOKUP(J40,'KAYIT LİSTESİ'!$B$4:$H$664,6,0)),\"\",(VLOOKUP(J40,'KAYIT LİSTESİ'!$B$4:$H$664,6,0)))","v":""}]
[34,null,null,null,null,null,{"$f":"IF(ISTEXT(F41),0,IFERROR(VLOOKUP(SMALL(#REF!,COUNTIF(#REF!,\"<\"&F41)+1),#REF!, 11,0),\" \"))","v":" "},null,4,"100M-4-4",{"$f":"IF(ISERROR(VLOOKUP(J41,'KAYIT LİSTESİ'!$B$4:$H$664,2,0)),\"\",(VLOOKUP(J41,'KAYIT LİSTESİ'!$B$4:$H$664,2,0)))","v":""},{"$f":"IF(ISERROR(VLOOKUP(J41,'KAYIT LİSTESİ'!$B$4:$H$664,4,0)),\"\",(VLOOKUP(J41,'KAYIT LİSTESİ'!$B$4:$H$664,4,0)))","v":""},{"$f":"IF(ISERROR(VLOOKUP(J41,'KAYIT LİSTESİ'!$B$4:$H$664,5,0)),\"\",(VLOOKUP(J41,'KAYIT LİSTESİ'!$B$4:$H$664,5,0)))","v":""},{"$f":"IF(ISERROR(VLOOKUP(J41,'KAYIT LİSTESİ'!$B$4:$H$664,6,0)),\"\",(VLOOKUP(J41,'KAYIT LİSTESİ'!$B$4:$H$664,6,0)))","v":""}]
[35,null,null,null,null,null,{"$f":"IF(ISTEXT(F42),0,IFERROR(VLOOKUP(SMALL(#REF!,COUNTIF(#REF!,\"<\"&F42)+1),#REF!, 11,0),\" \"))","v":" "},null,5,"100M-4-5",{"$f":"IF(ISERROR(VLOOKUP(J42,'KAYIT LİSTESİ'!$B$4:$H$664,2,0)),\"\",(VLOOKUP(J42,'KAYIT LİSTESİ'!$B$4:$H$664,2,0)))","v":""},{"$f":"IF(ISERROR(VLOOKUP(J42,'KAYIT LİSTESİ'!$B$4:$H$664,4,0)),\"\",(VLOOKUP(J42,'KAYIT LİSTESİ'!$B$4:$H$664,4,0)))","v":""},{"$f":"IF(ISERROR(VLOOKUP(J42,'KAYIT LİSTESİ'!$B$4:$H$664,5,0)),\"\",(VLOOKUP(J42,'KAYIT LİSTESİ'!$B$4:$H$664,5,0)))","v":""},{"$f":"IF(ISERROR(VLOOKUP(J42,'KAYIT LİSTESİ'!$B$4:$H$664,6,0)),\"\",(VLOOKUP(J42,'KAYIT LİSTESİ'!$B$4:$H$664,6,0)))","v":""}]
[36,null,null,null,null,null,{"$f":"IF(ISTEXT(F43),0,IFERROR(VLOOKUP(SMALL(#REF!,COUNTIF(#REF!,\"<\"&F43)+1),#REF!, 11,0),\" \"))","v":" "},null,6,"100M-4-6",{"$f":"IF(ISERROR(VLOOKUP(J43,'KAYIT LİSTESİ'!$B$4:$H$664,2,0)),\"\",(VLOOKUP(J43,'KAYIT LİSTESİ'!$B$4:$H$664,2,0)))","v":""},{"$f":"IF(ISERROR(VLOOKUP(J43,'KAYIT LİSTESİ'!$B$4:$H$664,4,0)),\"\",(VLOOKUP(J43,'KAYIT LİSTESİ'!$B$4:$H$664,4,0)))","v":""},{"$f":"IF(ISERROR(VLOOKUP(J43,'KAYIT LİSTESİ'!$B$4:$H$664,5,0)),\"\",(VLOOKUP(J43,'KAYIT LİSTESİ'!$B$4:$H$664,5,0)))","v":""},{"$f":"IF(ISERROR(VLOOKUP(J43,'KAYIT LİSTESİ'!$B$4:$H$664,6,0)),\"\",(VLOOKUP(J43,'KAYIT LİSTESİ'!$B$4:$H$664,6,0)))","v":""}]
[37,null,null,null,null,null,{"$f":"IF(ISTEXT(F44),0,IFERROR(VLOOKUP(SMALL(#REF!,COUNTIF(#REF!,\"<\"&F44)+1),#REF!, 11,0),\" \"))","v":" "},null,7,"100M-4-7",{"$f":"IF(ISERROR(VLOOKUP(J44,'KAYIT LİSTESİ'!$B$4:$H$664,2,0)),\"\",(VLOOKUP(J44,'KAYIT LİSTESİ'!$B$4:$H$664,2,0)))","v":""},{"$f":"IF(ISERROR(VLOOKUP(J44,'KAYIT LİSTESİ'!$B$4:$H$664,4,0)),\"\",(VLOOKUP(J44,'KAYIT LİSTESİ'!$B$4:$H$664,4,0)))","v":""},{"$f":"IF(ISERROR(VLOOKUP(J44,'KAYIT LİSTESİ'!$B$4:$H$664,5,0)),\"\",(VLOOKUP(J44,'KAYIT LİSTESİ'!$B$4:$H$664,5,0)))","v":""},{"$f":"IF(ISERROR(VLOOKUP(J44,'KAYIT LİSTESİ'!$B$4:$H$664,6,0)),\"\",(VLOOKUP(J44,'KAYIT LİSTESİ'!$B$4:$H$664,6,0)))","v":""}]
[38,null,null,null,null,null,{"$f":"IF(ISTEXT(F45),0,IFERROR(VLOOKUP(SMALL(#REF!,COUNTIF(#REF!,\"<\"&F45)+1),#REF!, 11,0),\" \"))","v":" "},null,8,"100M-4-8",{"$f":"IF(ISERROR(VLOOKUP(J45,'KAYIT LİSTESİ'!$B$4:$H$664,2,0)),\"\",(VLOOKUP(J45,'KAYIT LİSTESİ'!$B$4:$H$664,2,0)))","v":""},{"$f":"IF(ISERROR(VLOOKUP(J45,'KAYIT LİSTESİ'!$B$4:$H$664,4,0)),\"\",(VLOOKUP(J45,'KAYIT LİSTESİ'!$B$4:$H$664,4,0)))","v":""},{"$f":"IF(ISERROR(VLOOKUP(J45,'KAYIT LİSTESİ'!$B$4:$H$664,5,0)),\"\",(VLOOKUP(J45,'KAYIT LİSTESİ'!$B$4:$H$664,5,0)))","v":""},{"$f":"IF(ISERROR(VLOOKUP(J45,'KAYIT LİSTESİ'!$B$4:$H$664,6,0)),\"\",(VLOOKUP(J45,'KAYIT LİSTESİ'!$B$4:$H$664,6,0)))","v":""}]
[]
["Müsabakalar Direktörü",null,null,null,"Baş Hakem","Lider",null,"Sekreter",null,null,null,null,"Hakem","Hakem",null,"Hakem"]

{"sheet":"400m.","index":4,"n_rows":47,"n_cols":17,"rows_kept":47,"cut":false,"hidden":false,"merged":[[0,0,0,16],[1,0,1,16],[2,0,2,2],[2,3,2,4],[2,5,2,6],[2,8,2,11],[5,0,6,0],[5,1,6,1],[3,0,3,2],[3,3,3,4],[2,13,2,16],[3,13,3,16],[4,13,4,16],[5,6,6,6],[5,5,6,5],[5,2,6,2],[5,3,6,3],[5,4,6,4]]}
[{"$f":"('YARIŞMA BİLGİLERİ'!A2)","v":"Türkiye Atletizm Federasyonu\nMersin Atletizm İl Temsilciliği\n"}]
[{"$f":"'YARIŞMA BİLGİLERİ'!F19","v":"Olimpik Baraj  Yarışmaları"}]
["Yarışma :",null,null,{"$f":"#REF!","v":{"$error":"#REF!"}},null,"Baraj Derecesi ",null,":",{"$f":"#REF!","v":{"$error":"#REF!"}}]
["Kategori :",null,null,{"$f":"'YARIŞMA BİLGİLERİ'!F21","v":"Kadınlar"},null,null,null,null,null,null,null,null,"Tarih-Saat :",{"$f":"#REF!","v":{"$error":"#REF!"}}]
[null,null,null,null,null,null,null,null,null,null,null,null,null,{"$f":"NOW()","v":42222.536638541664}]
["Sıra No","Göğüs No","Doğum Tarihi\nGün/Ay/Yıl","Adı ve Soyadı","İli-Okulu","Derece","Puan",null,"1. SERİ"]
[null,null,null,null,null,null,null,null,"Sıra No","Formül","Göğüs No","Doğum Tarihi","Adı ve Soyadı","İli-Okulu","Elektronik Kronometre","El Kronometre","Seri Geliş"]
[1,null,null,null,null,null,{"$f":"IF(ISTEXT(F8),0,IFERROR(VLOOKUP(SMALL(#REF!,COUNTIF(#REF!,\"<\"&F8)+1),#REF!, 2,0),\" \"))","v":" "},null,1,"400M-1-1",{"$f":"IF(ISERROR(VLOOKUP(J8,'KAYIT LİSTESİ'!$B$4:$H$664,2,0)),\"\",(VLOOKUP(J8,'KAYIT LİSTESİ'!$B$4:$H$664,2,0)))","v":""},{"$f":"IF(ISERROR(VLOOKUP(J8,'KAYIT LİSTESİ'!$B$4:$H$664,4,0)),\"\",(VLOOKUP(J8,'KAYIT LİSTESİ'!$B$4:$H$664,4,0)))","v":""},{"$f":"IF(ISERROR(VLOOKUP(J8,'KAYIT LİSTESİ'!$B$4:$H$664,5,0)),\"\",(VLOOKUP(J8,'KAYIT LİSTESİ'!$B$4:$H$664,5,0)))","v":""},{"$f":"IF(ISERROR(VLOOKUP(J8,'KAYIT LİSTESİ'!$B$4:$H$664,6,0)),\"\",(VLOOKUP(J8,'KAYIT LİSTESİ'!$B$4:$H$664,6,0)))","v":""},{"$f":"IF(IF(OR(P8=\"NM\",P8=\"DNF\",P8=\"DNS\",P8=\"DQ\",P8=\"\"),P8,(ROUNDUP(P8,)+24))=0,\" \",IF(OR(P8=\"NM\",P8=\"DNF\",P8=\"DNS\",P8=\"DQ\",P8=\"\"),P8,(ROUNDUP(P8,)+24)))","v":" "}]
[2,null,null,null,null,null,{"$f":"IF(ISTEXT(F9),0,IFERROR(VLOOKUP(SMALL(#REF!,COUNTIF(#REF!,\"<\"&F9)+1),#REF!, 2,0),\" \"))","v":" "},null,2,"400M-1-2",{"$f":"IF(ISERROR(VLOOKUP(J9,'KAYIT LİSTESİ'!$B$4:$H$664,2,0)),\"\",(VLOOKUP(J9,'KAYIT LİSTESİ'!$B$4:$H$664,2,0)))","v":600},{"$f":"IF(ISERROR(VLOOKUP(J9,'KAYIT LİSTESİ'!$B$4:$H$664,4,0)),\"\",(VLOOKUP(J9,'KAYIT LİSTESİ'!$B$4:$H$664,4,0)))","v":"1987-03-30"},{"$f":"IF(ISERROR(VLOOKUP(J9,'KAYIT LİSTESİ'!$B$4:$H$664,5,0)),\"\",(VLOOKUP(J9,'KAYIT LİSTESİ'!$B$4:$H$664,5,0)))","v":"SİBEL İPEK"},{"$f":"IF(ISERROR(VLOOKUP(J9,'KAYIT LİSTESİ'!$B$4:$H$664,6,0)),\"\",(VLOOKUP(J9,'KAYIT LİSTESİ'!$B$4:$H$664,6,0)))","v":"DİYARBAKIR"}," "]
[3,null,null,null,null,null,{"$f":"IF(ISTEXT(F10),0,IFERROR(VLOOKUP(SMALL(#REF!,COUNTIF(#REF!,\"<\"&F10)+1),#REF!, 2,0),\" \"))","v":" "},null,3,"400M-1-3",{"$f":"IF(ISERROR(VLOOKUP(J10,'KAYIT LİSTESİ'!$B$4:$H$664,2,0)),\"\",(VLOOKUP(J10,'KAYIT LİSTESİ'!$B$4:$H$664,2,0)))","v":609},{"$f":"IF(ISERROR(VLOOKUP(J10,'KAYIT LİSTESİ'!$B$4:$H$664,4,0)),\"\",(VLOOKUP(J10,'KAYIT LİSTESİ'!$B$4:$H$664,4,0)))","v":"1989-09-28"},{"$f":"IF(ISERROR(VLOOKUP(J10,'KAYIT LİSTESİ'!$B$4:$H$664,5,0)),\"\",(VLOOKUP(J10,'KAYIT LİSTESİ'!$B$4:$H$664,5,0)))","v":"Nihan Karuk"},{"$f":"IF(ISERROR(VLOOKUP(J10,'KAYIT LİSTESİ'!$B$4:$H$664,6,0)),\"\",(VLOOKUP(J10,'KAYIT LİSTESİ'!$B$4:$H$664,6,0)))","v":"karaman"}," "]
[4,null,null,null,null,null,{"$f":"IF(ISTEXT(F11),0,IFERROR(VLOOKUP(SMALL(#REF!,COUNTIF(#REF!,\"<\"&F11)+1),#REF!, 2,0),\" \"))","v":" "},null,4,"400M-1-4",{"$f":"IF(ISERROR(VLOOKUP(J11,'KAYIT LİSTESİ'!$B$4:$H$664,2,0)),\"\",(VLOOKUP(J11,'KAYIT LİSTESİ'!$B$4:$H$664,2,0)))","v":604},{"$f":"IF(ISERROR(VLOOKUP(J11,'KAYIT LİSTESİ'!$B$4:$H$664,4,0)),\"\",(VLOOKUP(J11,'KAYIT LİSTESİ'!$B$4:$H$664,4,0)))","v":"1997-03-15"},{"$f":"IF(ISERROR(VLOOKUP(J11,'KAYIT LİSTESİ'!$B$4:$H$664,5,0)),\"\",(VLOOKUP(J11,'KAYIT LİSTESİ'!$B$4:$H$664,5,0)))","v":"RÜYA KAYA"},{"$f":"IF(ISERROR(VLOOKUP(J11,'KAYIT LİSTESİ'!$B$4:$H$664,6,0)),\"\",(VLOOKUP(J11,'KAYIT LİSTESİ'!$B$4:$H$664,6,0)))","v":"MERSİN"}," "]
[5,null,null,null,null,null,{"$f":"IF(ISTEXT(F12),0,IFERROR(VLOOKUP(SMALL(#REF!,COUNTIF(#REF!,\"<\"&F12)+1),#REF!, 2,0),\" \"))","v":" "},null,5,"400M-1-5",{"$f":"IF(ISERROR(VLOOKUP(J12,'KAYIT LİSTESİ'!$B$4:$H$664,2,0)),\"\",(VLOOKUP(J12,'KAYIT LİSTESİ'!$B$4:$H$664,2,0)))","v":624},{"$f":"IF(ISERROR(VLOOKUP(J12,'KAYIT LİSTESİ'!$B$4:$H$664,4,0)),\"\",(VLOOKUP(J12,'KAYIT LİSTESİ'!$B$4:$H$664,4,0)))","v":"1997-03-17"},{"$f":"IF(ISERROR(VLOOKUP(J12,'KAYIT LİSTESİ'!$B$4:$H$664,5,0)),\"\",(VLOOKUP(J12,'KAYIT LİSTESİ'!$B$4:$H$664,5,0)))","v":"BAHAR ILDIRKAYA"},{"$f":"IF(ISERROR(VLOOKUP(J12,'KAYIT LİSTESİ'!$B$4:$H$664,6,0)),\"\",(VLOOKUP(J12,'KAYIT LİSTESİ'!$B$4:$H$664,6,0)))","v":"BURSA"}," "]
[6,null,null,null,null,null,{"$f":"IF(ISTEXT(F13),0,IFERROR(VLOOKUP(SMALL(#REF!,COUNTIF(#REF!,\"<\"&F13)+1),#REF!, 2,0),\" \"))","v":" "},null,6,"400M-1-6",{"$f":"IF(ISERROR(VLOOKUP(J13,'KAYIT LİSTESİ'!$B$4:$H$664,2,0)),\"\",(VLOOKUP(J13,'KAYIT LİSTESİ'!$B$4:$H$664,2,0)))","v":625},{"$f":"IF(ISERROR(VLOOKUP(J13,'KAYIT LİSTESİ'!$B$4:$H$664,4,0)),\"\",(VLOOKUP(J13,'KAYIT LİSTESİ'!$B$4:$H$664,4,0)))","v":"1999-11-01"},{"$f":"IF(ISERROR(VLOOKUP(J13,'KAYIT LİSTESİ'!$B$4:$H$664,5,0)),\"\",(VLOOKUP(J13,'KAYIT LİSTESİ'!$B$4:$H$664,5,0)))","v":"KARDELEN YILDIRIM"},{"$f":"IF(ISERROR(VLOOKUP(J13,'KAYIT LİSTESİ'!$B$4:$H$664,6,0)),\"\",(VLOOKUP(J13,'KAYIT LİSTESİ'!$B$4:$H$664,6,0)))","v":"ERZİNCAN"}," "]
[7,null,null,null,null,null,{"$f":"IF(ISTEXT(F14),0,IFERROR(VLOOKUP(SMALL(#REF!,COUNTIF(#REF!,\"<\"&F14)+1),#REF!, 2,0),\" \"))","v":" "},null,7,"400M-1-7",{"$f":"IF(ISERROR(VLOOKUP(J14,'KAYIT LİSTESİ'!$B$4:$H$664,2,0)),\"\",(VLOOKUP(J14,'KAYIT LİSTESİ'!$B$4:$H$664,2,0)))","v":615},{"$f":"IF(ISERROR(VLOOKUP(J14,'KAYIT LİSTESİ'!$B$4:$H$664,4,0)),\"\",(VLOOKUP(J14,'KAYIT LİSTESİ'!$B$4:$H$664,4,0)))","v":"1997-01-19"},{"$f":"IF(ISERROR(VLOOKUP(J14,'KAYIT LİSTESİ'!$B$4:$H$664,5,0)),\"\",(VLOOKUP(J14,'KAYIT LİSTESİ'!$B$4:$H$664,5,0)))","v":"SEVNUR ALADAĞ"},{"$f":"IF(ISERROR(VLOOKUP(J14,'KAYIT LİSTESİ'!$B$4:$H$664,6,0)),\"\",(VLOOKUP(J14,'KAYIT LİSTESİ'!$B$4:$H$664,6,0)))","v":"HATAY"}," "]
[8,null,null,null,null,null,{"$f":"IF(ISTEXT(F15),0,IFERROR(VLOOKUP(SMALL(#REF!,COUNTIF(#REF!,\"<\"&F15)+1),#REF!, 2,0),\" \"))","v":" "},null,8,"400M-1-8",{"$f":"IF(ISERROR(VLOOKUP(J15,'KAYIT LİSTESİ'!$B$4:$H$664,2,0)),\"\",(VLOOKUP(J15,'KAYIT LİSTESİ'!$B$4:$H$664,2,0)))","v":628},{"$f":"IF(ISERROR(VLOOKUP(J15,'KAYIT LİSTESİ'!$B$4:$H$664,4,0)),\"\",(VLOOKUP(J15,'KAYIT LİSTESİ'!$B$4:$H$664,4,0)))","v":"1997-08-04"},{"$f":"IF(ISERROR(VLOOKUP(J15,'KAYIT LİSTESİ'!$B$4:$H$664,5,0)),\"\",(VLOOKUP(J15,'KAYIT LİSTESİ'!$B$4:$H$664,5,0)))","v":"HATICE DEDE "},{"$f":"IF(ISERROR(VLOOKUP(J15,'KAYIT LİSTESİ'!$B$4:$H$664,6,0)),\"\",(VLOOKUP(J15,'KAYIT LİSTESİ'!$B$4:$H$664,6,0)))","v":"AKSARAY"}," "]
[9,null,null,null,null,null,{"$f":"IF(ISTEXT(F16),0,IFERROR(VLOOKUP(SMALL(#REF!,COUNTIF(#REF!,\"<\"&F16)+1),#REF!, 2,0),\" \"))","v":" "},null,"2. SERİ"]
[10,null,null,null,null,null,{"$f":"IF(ISTEXT(F17),0,IFERROR(VLOOKUP(SMALL(#REF!,COUNTIF(#REF!,\"<\"&F17)+1),#REF!, 2,0),\" \"))","v":" "},null,"Sıra No","Formül","Göğüs No","Doğum Tarihi","Adı ve Soyadı","İli-Okulu","Elektronik Kronometre","El Kronometre","Seri Geliş"]
[11,null,null,null,null,null,{"$f":"IF(ISTEXT(F18),0,IFERROR(VLOOKUP(SMALL(#REF!,COUNTIF(#REF!,\"<\"&F18)+1),#REF!, 2,0),\" \"))","v":" "},null,1,"400M-2-1",{"$f":"IF(ISERROR(VLOOKUP(J18,'KAYIT LİSTESİ'!$B$4:$H$664,2,0)),\"\",(VLOOKUP(J18,'KAYIT LİSTESİ'!$B$4:$H$664,2,0)))","v":""},{"$f":"IF(ISERROR(VLOOKUP(J18,'KAYIT LİSTESİ'!$B$4:$H$664,4,0)),\"\",(VLOOKUP(J18,'KAYIT LİSTESİ'!$B$4:$H$664,4,0)))","v":""},{"$f":"IF(ISERROR(VLOOKUP(J18,'KAYIT LİSTESİ'!$B$4:$H$664,5,0)),\"\",(VLOOKUP(J18,'KAYIT LİSTESİ'!$B$4:$H$664,5,0)))","v":""},{"$f":"IF(ISERROR(VLOOKUP(J18,'KAYIT LİSTESİ'!$B$4:$H$664,6,0)),\"\",(VLOOKUP(J18,'KAYIT LİSTESİ'!$B$4:$H$664,6,0)))","v":""},{"$f":"IF(IF(OR(P18=\"NM\",P18=\"DNF\",P18=\"DNS\",P18=\"DQ\",P18=\"\"),P18,(ROUNDUP(P18,)+24))=0,\" \",IF(OR(P18=\"NM\",P18=\"DNF\",P18=\"DNS\",P18=\"DQ\",P18=\"\"),P18,(ROUNDUP(P18,)+24)))","v":" "}]
[12,null,null,null,null,null,{"$f":"IF(ISTEXT(F19),0,IFERROR(VLOOKUP(SMALL(#REF!,COUNTIF(#REF!,\"<\"&F19)+1),#REF!, 2,0),\" \"))","v":" "},null,2,"400M-2-2",{"$f":"IF(ISERROR(VLOOKUP(J19,'KAYIT LİSTESİ'!$B$4:$H$664,2,0)),\"\",(VLOOKUP(J19,'KAYIT LİSTESİ'!$B$4:$H$664,2,0)))","v":""},{"$f":"IF(ISERROR(VLOOKUP(J19,'KAYIT LİSTESİ'!$B$4:$H$664,4,0)),\"\",(VLOOKUP(J19,'KAYIT LİSTESİ'!$B$4:$H$664,4,0)))","v":""},{"$f":"IF(ISERROR(VLOOKUP(J19,'KAYIT LİSTESİ'!$B$4:$H$664,5,0)),\"\",(VLOOKUP(J19,'KAYIT LİSTESİ'!$B$4:$H$664,5,0)))","v":""},{"$f":"IF(ISERROR(VLOOKUP(J19,'KAYIT LİSTESİ'!$B$4:$H$664,6,0)),\"\",(VLOOKUP(J19,'KAYIT LİSTESİ'!$B$4:$H$664,6,0)))","v":""}," "]
[13,null,null,null,null,null,{"$f":"IF(ISTEXT(F20),0,IFERROR(VLOOKUP(SMALL(#REF!,COUNTIF(#REF!,\"<\"&F20)+1),#REF!, 2,0),\" \"))","v":" "},null,3,"400M-2-3",{"$f":"IF(ISERROR(VLOOKUP(J20,'KAYIT LİSTESİ'!$B$4:$H$664,2,0)),\"\",(VLOOKUP(J20,'KAYIT LİSTESİ'!$B$4:$H$664,2,0)))","v":""},{"$f":"IF(ISERROR(VLOOKUP(J20,'KAYIT LİSTESİ'!$B$4:$H$664,4,0)),\"\",(VLOOKUP(J20,'KAYIT LİSTESİ'!$B$4:$H$664,4,0)))","v":""},{"$f":"IF(ISERROR(VLOOKUP(J20,'KAYIT LİSTESİ'!$B$4:$H$664,5,0)),\"\",(VLOOKUP(J20,'KAYIT LİSTESİ'!$B$4:$H$664,5,0)))","v":""},{"$f":"IF(ISERROR(VLOOKUP(J20,'KAYIT LİSTESİ'!$B$4:$H$664,6,0)),\"\",(VLOOKUP(J20,'KAYIT LİSTESİ'!$B$4:$H$664,6,0)))","v":""}," "]
[14,null,null,null,null,null,{"$f":"IF(ISTEXT(F21),0,IFERROR(VLOOKUP(SMALL(#REF!,COUNTIF(#REF!,\"<\"&F21)+1),#REF!, 2,0),\" \"))","v":" "},null,4,"400M-2-4",{"$f":"IF(ISERROR(VLOOKUP(J21,'KAYIT LİSTESİ'!$B$4:$H$664,2,0)),\"\",(VLOOKUP(J21,'KAYIT LİSTESİ'!$B$4:$H$664,2,0)))","v":""},{"$f":"IF(ISERROR(VLOOKUP(J21,'KAYIT LİSTESİ'!$B$4:$H$664,4,0)),\"\",(VLOOKUP(J21,'KAYIT LİSTESİ'!$B$4:$H$664,4,0)))","v":""},{"$f":"IF(ISERROR(VLOOKUP(J21,'KAYIT LİSTESİ'!$B$4:$H$664,5,0)),\"\",(VLOOKUP(J21,'KAYIT LİSTESİ'!$B$4:$H$664,5,0)))","v":""},{"$f":"IF(ISERROR(VLOOKUP(J21,'KAYIT LİSTESİ'!$B$4:$H$664,6,0)),\"\",(VLOOKUP(J21,'KAYIT LİSTESİ'!$B$4:$H$664,6,0)))","v":""}," "]
[15,null,null,null,null,null,{"$f":"IF(ISTEXT(F22),0,IFERROR(VLOOKUP(SMALL(#REF!,COUNTIF(#REF!,\"<\"&F22)+1),#REF!, 2,0),\" \"))","v":" "},null,5,"400M-2-5",{"$f":"IF(ISERROR(VLOOKUP(J22,'KAYIT LİSTESİ'!$B$4:$H$664,2,0)),\"\",(VLOOKUP(J22,'KAYIT LİSTESİ'!$B$4:$H$664,2,0)))","v":""},{"$f":"IF(ISERROR(VLOOKUP(J22,'KAYIT LİSTESİ'!$B$4:$H$664,4,0)),\"\",(VLOOKUP(J22,'KAYIT LİSTESİ'!$B$4:$H$664,4,0)))","v":""},{"$f":"IF(ISERROR(VLOOKUP(J22,'KAYIT LİSTESİ'!$B$4:$H$664,5,0)),\"\",(VLOOKUP(J22,'KAYIT LİSTESİ'!$B$4:$H$664,5,0)))","v":""},{"$f":"IF(ISERROR(VLOOKUP(J22,'KAYIT LİSTESİ'!$B$4:$H$664,6,0)),\"\",(VLOOKUP(J22,'KAYIT LİSTESİ'!$B$4:$H$664,6,0)))","v":""}," "]
[16,null,null,null,null,null,{"$f":"IF(ISTEXT(F23),0,IFERROR(VLOOKUP(SMALL(#REF!,COUNTIF(#REF!,\"<\"&F23)+1),#REF!, 2,0),\" \"))","v":" "},null,6,"400M-2-6",{"$f":"IF(ISERROR(VLOOKUP(J23,'KAYIT LİSTESİ'!$B$4:$H$664,2,0)),\"\",(VLOOKUP(J23,'KAYIT LİSTESİ'!$B$4:$H$664,2,0)))","v":""},{"$f":"IF(ISERROR(VLOOKUP(J23,'KAYIT LİSTESİ'!$B$4:$H$664,4,0)),\"\",(VLOOKUP(J23,'KAYIT LİSTESİ'!$B$4:$H$664,4,0)))","v":""},{"$f":"IF(ISERROR(VLOOKUP(J23,'KAYIT LİSTESİ'!$B$4:$H$664,5,0)),\"\",(VLOOKUP(J23,'KAYIT LİSTESİ'!$B$4:$H$664,5,0)))","v":""},{"$f":"IF(ISERROR(VLOOKUP(J23,'KAYIT LİSTESİ'!$B$4:$H$664,6,0)),\"\",(VLOOKUP(J23,'KAYIT LİSTESİ'!$B$4:$H$664,6,0)))","v":""}," "]
[17,null,null,null,null,null,{"$f":"IF(ISTEXT(F24),0,IFERROR(VLOOKUP(SMALL(#REF!,COUNTIF(#REF!,\"<\"&F24)+1),#REF!, 2,0),\" \"))","v":" "},null,7,"400M-2-7",{"$f":"IF(ISERROR(VLOOKUP(J24,'KAYIT LİSTESİ'!$B$4:$H$664,2,0)),\"\",(VLOOKUP(J24,'KAYIT LİSTESİ'!$B$4:$H$664,2,0)))","v":""},{"$f":"IF(ISERROR(VLOOKUP(J24,'KAYIT LİSTESİ'!$B$4:$H$664,4,0)),\"\",(VLOOKUP(J24,'KAYIT LİSTESİ'!$B$4:$H$664,4,0)))","v":""},{"$f":"IF(ISERROR(VLOOKUP(J24,'KAYIT LİSTESİ'!$B$4:$H$664,5,0)),\"\",(VLOOKUP(J24,'KAYIT LİSTESİ'!$B$4:$H$664,5,0)))","v":""},{"$f":"IF(ISERROR(VLOOKUP(J24,'KAYIT LİSTESİ'!$B$4:$H$664,6,0)),\"\",(VLOOKUP(J24,'KAYIT LİSTESİ'!$B$4:$H$664,6,0)))","v":""}," "]
[18,null,null,null,null,null,{"$f":"IF(ISTEXT(F25),0,IFERROR(VLOOKUP(SMALL(#REF!,COUNTIF(#REF!,\"<\"&F25)+1),#REF!, 2,0),\" \"))","v":" "},null,8,"400M-2-8",{"$f":"IF(ISERROR(VLOOKUP(J25,'KAYIT LİSTESİ'!$B$4:$H$664,2,0)),\"\",(VLOOKUP(J25,'KAYIT LİSTESİ'!$B$4:$H$664,2,0)))","v":""},{"$f":"IF(ISERROR(VLOOKUP(J25,'KAYIT LİSTESİ'!$B$4:$H$664,4,0)),\"\",(VLOOKUP(J25,'KAYIT LİSTESİ'!$B$4:$H$664,4,0)))","v":""},{"$f":"IF(ISERROR(VLOOKUP(J25,'KAYIT LİSTESİ'!$B$4:$H$664,5,0)),\"\",(VLOOKUP(J25,'KAYIT LİSTESİ'!$B$4:$H$664,5,0)))","v":""},{"$f":"IF(ISERROR(VLOOKUP(J25,'KAYIT LİSTESİ'!$B$4:$H$664,6,0)),\"\",(VLOOKUP(J25,'KAYIT LİSTESİ'!$B$4:$H$664,6,0)))","v":""}," "]
[19,null,null,null,null,null,{"$f":"IF(ISTEXT(F26),0,IFERROR(VLOOKUP(SMALL(#REF!,COUNTIF(#REF!,\"<\"&F26)+1),#REF!, 2,0),\" \"))","v":" "},null,"3. SERİ"]
[20,null,null,null,null,null,{"$f":"IF(ISTEXT(F27),0,IFERROR(VLOOKUP(SMALL(#REF!,COUNTIF(#REF!,\"<\"&F27)+1),#REF!, 2,0),\" \"))","v":" "},null,"Sıra No","Formül","Göğüs No","Doğum Tarihi","Adı ve Soyadı","İli-Okulu","Elektronik Kronometre","El Kronometre","Seri Geliş"]
[21,null,null,null,null,null,{"$f":"IF(ISTEXT(F28),0,IFERROR(VLOOKUP(SMALL(#REF!,COUNTIF(#REF!,\"<\"&F28)+1),#REF!, 2,0),\" \"))","v":" "},null,1,"400M-3-1",{"$f":"IF(ISERROR(VLOOKUP(J28,'KAYIT LİSTESİ'!$B$4:$H$664,2,0)),\"\",(VLOOKUP(J28,'KAYIT LİSTESİ'!$B$4:$H$664,2,0)))","v":""},{"$f":"IF(ISERROR(VLOOKUP(J28,'KAYIT LİSTESİ'!$B$4:$H$664,4,0)),\"\",(VLOOKUP(J28,'KAYIT LİSTESİ'!$B$4:$H$664,4,0)))","v":""},{"$f":"IF(ISERROR(VLOOKUP(J28,'KAYIT LİSTESİ'!$B$4:$H$664,5,0)),\"\",(VLOOKUP(J28,'KAYIT LİSTESİ'!$B$4:$H$664,5,0)))","v":""},{"$f":"IF(ISERROR(VLOOKUP(J28,'KAYIT LİSTESİ'!$B$4:$H$664,6,0)),\"\",(VLOOKUP(J28,'KAYIT LİSTESİ'!$B$4:$H$664,6,0)))","v":""},{"$f":"IF(IF(OR(P28=\"NM\",P28=\"DNF\",P28=\"DNS\",P28=\"DQ\",P28=\"\"),P28,(ROUNDUP(P28,)+24))=0,\" \",IF(OR(P28=\"NM\",P28=\"DNF\",P28=\"DNS\",P28=\"DQ\",P28=\"\"),P28,(ROUNDUP(P28,)+24)))","v":" "}]
[22,null,null,null,null,null,{"$f":"IF(ISTEXT(F29),0,IFERROR(VLOOKUP(SMALL(#REF!,COUNTIF(#REF!,\"<\"&F29)+1),#REF!, 2,0),\" \"))","v":" "},null,2,"400M-3-2",{"$f":"IF(ISERROR(VLOOKUP(J29,'KAYIT LİSTESİ'!$B$4:$H$664,2,0)),\"\",(VLOOKUP(J29,'KAYIT LİSTESİ'!$B$4:$H$664,2,0)))","v":""},{"$f":"IF(ISERROR(VLOOKUP(J29,'KAYIT LİSTESİ'!$B$4:$H$664,4,0)),\"\",(VLOOKUP(J29,'KAYIT LİSTESİ'!$B$4:$H$664,4,0)))","v":""},{"$f":"IF(ISERROR(VLOOKUP(J29,'KAYIT LİSTESİ'!$B$4:$H$664,5,0)),\"\",(VLOOKUP(J29,'KAYIT LİSTESİ'!$B$4:$H$664,5,0)))","v":""},{"$f":"IF(ISERROR(VLOOKUP(J29,'KAYIT LİSTESİ'!$B$4:$H$664,6,0)),\"\",(VLOOKUP(J29,'KAYIT LİSTESİ'!$B$4:$H$664,6,0)))","v":""}," "]
[23,null,null,null,null,null,{"$f":"IF(ISTEXT(F30),0,IFERROR(VLOOKUP(SMALL(#REF!,COUNTIF(#REF!,\"<\"&F30)+1),#REF!, 2,0),\" \"))","v":" "},null,3,"400M-3-3",{"$f":"IF(ISERROR(VLOOKUP(J30,'KAYIT LİSTESİ'!$B$4:$H$664,2,0)),\"\",(VLOOKUP(J30,'KAYIT LİSTESİ'!$B$4:$H$664,2,0)))","v":""},{"$f":"IF(ISERROR(VLOOKUP(J30,'KAYIT LİSTESİ'!$B$4:$H$664,4,0)),\"\",(VLOOKUP(J30,'KAYIT LİSTESİ'!$B$4:$H$664,4,0)))","v":""},{"$f":"IF(ISERROR(VLOOKUP(J30,'KAYIT LİSTESİ'!$B$4:$H$664,5,0)),\"\",(VLOOKUP(J30,'KAYIT LİSTESİ'!$B$4:$H$664,5,0)))","v":""},{"$f":"IF(ISERROR(VLOOKUP(J30,'KAYIT LİSTESİ'!$B$4:$H$664,6,0)),\"\",(VLOOKUP(J30,'KAYIT LİSTESİ'!$B$4:$H$664,6,0)))","v":""}," "]
[24,null,null,null,null,null,{"$f":"IF(ISTEXT(F31),0,IFERROR(VLOOKUP(SMALL(#REF!,COUNTIF(#REF!,\"<\"&F31)+1),#REF!, 2,0),\" \"))","v":" "},null,4,"400M-3-4",{"$f":"IF(ISERROR(VLOOKUP(J31,'KAYIT LİSTESİ'!$B$4:$H$664,2,0)),\"\",(VLOOKUP(J31,'KAYIT LİSTESİ'!$B$4:$H$664,2,0)))","v":""},{"$f":"IF(ISERROR(VLOOKUP(J31,'KAYIT LİSTESİ'!$B$4:$H$664,4,0)),\"\",(VLOOKUP(J31,'KAYIT LİSTESİ'!$B$4:$H$664,4,0)))","v":""},{"$f":"IF(ISERROR(VLOOKUP(J31,'KAYIT LİSTESİ'!$B$4:$H$664,5,0)),\"\",(VLOOKUP(J31,'KAYIT LİSTESİ'!$B$4:$H$664,5,0)))","v":""},{"$f":"IF(ISERROR(VLOOKUP(J31,'KAYIT LİSTESİ'!$B$4:$H$664,6,0)),\"\",(VLOOKUP(J31,'KAYIT LİSTESİ'!$B$4:$H$664,6,0)))","v":""}," "]
[25,null,null,null,null,null,{"$f":"IF(ISTEXT(F32),0,IFERROR(VLOOKUP(SMALL(#REF!,COUNTIF(#REF!,\"<\"&F32)+1),#REF!, 2,0),\" \"))","v":" "},null,5,"400M-3-5",{"$f":"IF(ISERROR(VLOOKUP(J32,'KAYIT LİSTESİ'!$B$4:$H$664,2,0)),\"\",(VLOOKUP(J32,'KAYIT LİSTESİ'!$B$4:$H$664,2,0)))","v":""},{"$f":"IF(ISERROR(VLOOKUP(J32,'KAYIT LİSTESİ'!$B$4:$H$664,4,0)),\"\",(VLOOKUP(J32,'KAYIT LİSTESİ'!$B$4:$H$664,4,0)))","v":""},{"$f":"IF(ISERROR(VLOOKUP(J32,'KAYIT LİSTESİ'!$B$4:$H$664,5,0)),\"\",(VLOOKUP(J32,'KAYIT LİSTESİ'!$B$4:$H$664,5,0)))","v":""},{"$f":"IF(ISERROR(VLOOKUP(J32,'KAYIT LİSTESİ'!$B$4:$H$664,6,0)),\"\",(VLOOKUP(J32,'KAYIT LİSTESİ'!$B$4:$H$664,6,0)))","v":""}," "]
[26,null,null,null,null,null,{"$f":"IF(ISTEXT(F33),0,IFERROR(VLOOKUP(SMALL(#REF!,COUNTIF(#REF!,\"<\"&F33)+1),#REF!, 2,0),\" \"))","v":" "},null,6,"400M-3-6",{"$f":"IF(ISERROR(VLOOKUP(J33,'KAYIT LİSTESİ'!$B$4:$H$664,2,0)),\"\",(VLOOKUP(J33,'KAYIT LİSTESİ'!$B$4:$H$664,2,0)))","v":""},{"$f":"IF(ISERROR(VLOOKUP(J33,'KAYIT LİSTESİ'!$B$4:$H$664,4,0)),\"\",(VLOOKUP(J33,'KAYIT LİSTESİ'!$B$4:$H$664,4,0)))","v":""},{"$f":"IF(ISERROR(VLOOKUP(J33,'KAYIT LİSTESİ'!$B$4:$H$664,5,0)),\"\",(VLOOKUP(J33,'KAYIT LİSTESİ'!$B$4:$H$664,5,0)))","v":""},{"$f":"IF(ISERROR(VLOOKUP(J33,'KAYIT LİSTESİ'!$B$4:$H$664,6,0)),\"\",(VLOOKUP(J33,'KAYIT LİSTESİ'!$B$4:$H$664,6,0)))","v":""}," "]
[27,null,null,null,null,null,{"$f":"IF(ISTEXT(F34),0,IFERROR(VLOOKUP(SMALL(#REF!,COUNTIF(#REF!,\"<\"&F34)+1),#REF!, 2,0),\" \"))","v":" "},null,7,"400M-3-7",{"$f":"IF(ISERROR(VLOOKUP(J34,'KAYIT LİSTESİ'!$B$4:$H$664,2,0)),\"\",(VLOOKUP(J34,'KAYIT LİSTESİ'!$B$4:$H$664,2,0)))","v":""},{"$f":"IF(ISERROR(VLOOKUP(J34,'KAYIT LİSTESİ'!$B$4:$H$664,4,0)),\"\",(VLOOKUP(J34,'KAYIT LİSTESİ'!$B$4:$H$664,4,0)))","v":""},{"$f":"IF(ISERROR(VLOOKUP(J34,'KAYIT LİSTESİ'!$B$4:$H$664,5,0)),\"\",(VLOOKUP(J34,'KAYIT LİSTESİ'!$B$4:$H$664,5,0)))","v":""},{"$f":"IF(ISERROR(VLOOKUP(J34,'KAYIT LİSTESİ'!$B$4:$H$664,6,0)),\"\",(VLOOKUP(J34,'KAYIT LİSTESİ'!$B$4:$H$664,6,0)))","v":""}," "]
[28,null,null,null,null,null,{"$f":"IF(ISTEXT(F35),0,IFERROR(VLOOKUP(SMALL(#REF!,COUNTIF(#REF!,\"<\"&F35)+1),#REF!, 2,0),\" \"))","v":" "},null,8,"400M-3-8",{"$f":"IF(ISERROR(VLOOKUP(J35,'KAYIT LİSTESİ'!$B$4:$H$664,2,0)),\"\",(VLOOKUP(J35,'KAYIT LİSTESİ'!$B$4:$H$664,2,0)))","v":""},{"$f":"IF(ISERROR(VLOOKUP(J35,'KAYIT LİSTESİ'!$B$4:$H$664,4,0)),\"\",(VLOOKUP(J35,'KAYIT LİSTESİ'!$B$4:$H$664,4,0)))","v":""},{"$f":"IF(ISERROR(VLOOKUP(J35,'KAYIT LİSTESİ'!$B$4:$H$664,5,0)),\"\",(VLOOKUP(J35,'KAYIT LİSTESİ'!$B$4:$H$664,5,0)))","v":""},{"$f":"IF(ISERROR(VLOOKUP(J35,'KAYIT LİSTESİ'!$B$4:$H$664,6,0)),\"\",(VLOOKUP(J35,'KAYIT LİSTESİ'!$B$4:$H$664,6,0)))","v":""}," "]
[29,null,null,null,null,null,{"$f":"IF(ISTEXT(F36),0,IFERROR(VLOOKUP(SMALL(#REF!,COUNTIF(#REF!,\"<\"&F36)+1),#REF!, 2,0),\" \"))","v":" "},null,"4. SERİ"]
[30,null,null,null,null,null,{"$f":"IF(ISTEXT(F37),0,IFERROR(VLOOKUP(SMALL(#REF!,COUNTIF(#REF!,\"<\"&F37)+1),#REF!, 2,0),\" \"))","v":" "},null,"Sıra No","Formül","Göğüs No","Doğum Tarihi","Adı ve Soyadı","İli-Okulu","Elektronik Kronometre","El Kronometre","Seri Geliş"]
[31,null,null,null,null,null,{"$f":"IF(ISTEXT(F38),0,IFERROR(VLOOKUP(SMALL(#REF!,COUNTIF(#REF!,\"<\"&F38)+1),#REF!, 2,0),\" \"))","v":" "},null,1,"400M-4-1",{"$f":"IF(ISERROR(VLOOKUP(J38,'KAYIT LİSTESİ'!$B$4:$H$664,2,0)),\"\",(VLOOKUP(J38,'KAYIT LİSTESİ'!$B$4:$H$664,2,0)))","v":""},{"$f":"IF(ISERROR(VLOOKUP(J38,'KAYIT LİSTESİ'!$B$4:$H$664,4,0)),\"\",(VLOOKUP(J38,'KAYIT LİSTESİ'!$B$4:$H$664,4,0)))","v":""},{"$f":"IF(ISERROR(VLOOKUP(J38,'KAYIT LİSTESİ'!$B$4:$H$664,5,0)),\"\",(VLOOKUP(J38,'KAYIT LİSTESİ'!$B$4:$H$664,5,0)))","v":""},{"$f":"IF(ISERROR(VLOOKUP(J38,'KAYIT LİSTESİ'!$B$4:$H$664,6,0)),\"\",(VLOOKUP(J38,'KAYIT LİSTESİ'!$B$4:$H$664,6,0)))","v":""}]
[32,null,null,null,null,null,{"$f":"IF(ISTEXT(F39),0,IFERROR(VLOOKUP(SMALL(#REF!,COUNTIF(#REF!,\"<\"&F39)+1),#REF!, 2,0),\" \"))","v":" "},null,2,"400M-4-2",{"$f":"IF(ISERROR(VLOOKUP(J39,'KAYIT LİSTESİ'!$B$4:$H$664,2,0)),\"\",(VLOOKUP(J39,'KAYIT LİSTESİ'!$B$4:$H$664,2,0)))","v":""},{"$f":"IF(ISERROR(VLOOKUP(J39,'KAYIT LİSTESİ'!$B$4:$H$664,4,0)),\"\",(VLOOKUP(J39,'KAYIT LİSTESİ'!$B$4:$H$664,4,0)))","v":""},{"$f":"IF(ISERROR(VLOOKUP(J39,'KAYIT LİSTESİ'!$B$4:$H$664,5,0)),\"\",(VLOOKUP(J39,'KAYIT LİSTESİ'!$B$4:$H$664,5,0)))","v":""},{"$f":"IF(ISERROR(VLOOKUP(J39,'KAYIT LİSTESİ'!$B$4:$H$664,6,0)),\"\",(VLOOKUP(J39,'KAYIT LİSTESİ'!$B$4:$H$664,6,0)))","v":""}]
[33,null,null,null,null,null,{"$f":"IF(ISTEXT(F40),0,IFERROR(VLOOKUP(SMALL(#REF!,COUNTIF(#REF!,\"<\"&F40)+1),#REF!, 2,0),\" \"))","v":" "},null,3,"400M-4-3",{"$f":"IF(ISERROR(VLOOKUP(J40,'KAYIT LİSTESİ'!$B$4:$H$664,2,0)),\"\",(VLOOKUP(J40,'KAYIT LİSTESİ'!$B$4:$H$664,2,0)))","v":""},{"$f":"IF(ISERROR(VLOOKUP(J40,'KAYIT LİSTESİ'!$B$4:$H$664,4,0)),\"\",(VLOOKUP(J40,'KAYIT LİSTESİ'!$B$4:$H$664,4,0)))","v":""},{"$f":"IF(ISERROR(VLOOKUP(J40,'KAYIT LİSTESİ'!$B$4:$H$664,5,0)),\"\",(VLOOKUP(J40,'KAYIT LİSTESİ'!$B$4:$H$664,5,0)))","v":""},{"$f":"IF(ISERROR(VLOOKUP(J40,'KAYIT LİSTESİ'!$B$4:$H$664,6,0)),\"\",(VLOOKUP(J40,'KAYIT LİSTESİ'!$B$4:$H$664,6,0)))","v":""}]
[34,null,null,null,null,null,{"$f":"IF(ISTEXT(F41),0,IFERROR(VLOOKUP(SMALL(#REF!,COUNTIF(#REF!,\"<\"&F41)+1),#REF!, 2,0),\" \"))","v":" "},null,4,"400M-4-4",{"$f":"IF(ISERROR(VLOOKUP(J41,'KAYIT LİSTESİ'!$B$4:$H$664,2,0)),\"\",(VLOOKUP(J41,'KAYIT LİSTESİ'!$B$4:$H$664,2,0)))","v":""},{"$f":"IF(ISERROR(VLOOKUP(J41,'KAYIT LİSTESİ'!$B$4:$H$664,4,0)),\"\",(VLOOKUP(J41,'KAYIT LİSTESİ'!$B$4:$H$664,4,0)))","v":""},{"$f":"IF(ISERROR(VLOOKUP(J41,'KAYIT LİSTESİ'!$B$4:$H$664,5,0)),\"\",(VLOOKUP(J41,'KAYIT LİSTESİ'!$B$4:$H$664,5,0)))","v":""},{"$f":"IF(ISERROR(VLOOKUP(J41,'KAYIT LİSTESİ'!$B$4:$H$664,6,0)),\"\",(VLOOKUP(J41,'KAYIT LİSTESİ'!$B$4:$H$664,6,0)))","v":""}]
[35,null,null,null,null,null,{"$f":"IF(ISTEXT(F42),0,IFERROR(VLOOKUP(SMALL(#REF!,COUNTIF(#REF!,\"<\"&F42)+1),#REF!, 2,0),\" \"))","v":" "},null,5,"400M-4-5",{"$f":"IF(ISERROR(VLOOKUP(J42,'KAYIT LİSTESİ'!$B$4:$H$664,2,0)),\"\",(VLOOKUP(J42,'KAYIT LİSTESİ'!$B$4:$H$664,2,0)))","v":""},{"$f":"IF(ISERROR(VLOOKUP(J42,'KAYIT LİSTESİ'!$B$4:$H$664,4,0)),\"\",(VLOOKUP(J42,'KAYIT LİSTESİ'!$B$4:$H$664,4,0)))","v":""},{"$f":"IF(ISERROR(VLOOKUP(J42,'KAYIT LİSTESİ'!$B$4:$H$664,5,0)),\"\",(VLOOKUP(J42,'KAYIT LİSTESİ'!$B$4:$H$664,5,0)))","v":""},{"$f":"IF(ISERROR(VLOOKUP(J42,'KAYIT LİSTESİ'!$B$4:$H$664,6,0)),\"\",(VLOOKUP(J42,'KAYIT LİSTESİ'!$B$4:$H$664,6,0)))","v":""}]
[36,null,null,null,null,null,{"$f":"IF(ISTEXT(F43),0,IFERROR(VLOOKUP(SMALL(#REF!,COUNTIF(#REF!,\"<\"&F43)+1),#REF!, 2,0),\" \"))","v":" "},null,6,"400M-4-6",{"$f":"IF(ISERROR(VLOOKUP(J43,'KAYIT LİSTESİ'!$B$4:$H$664,2,0)),\"\",(VLOOKUP(J43,'KAYIT LİSTESİ'!$B$4:$H$664,2,0)))","v":""},{"$f":"IF(ISERROR(VLOOKUP(J43,'KAYIT LİSTESİ'!$B$4:$H$664,4,0)),\"\",(VLOOKUP(J43,'KAYIT LİSTESİ'!$B$4:$H$664,4,0)))","v":""},{"$f":"IF(ISERROR(VLOOKUP(J43,'KAYIT LİSTESİ'!$B$4:$H$664,5,0)),\"\",(VLOOKUP(J43,'KAYIT LİSTESİ'!$B$4:$H$664,5,0)))","v":""},{"$f":"IF(ISERROR(VLOOKUP(J43,'KAYIT LİSTESİ'!$B$4:$H$664,6,0)),\"\",(VLOOKUP(J43,'KAYIT LİSTESİ'!$B$4:$H$664,6,0)))","v":""}]
[37,null,null,null,null,null,{"$f":"IF(ISTEXT(F44),0,IFERROR(VLOOKUP(SMALL(#REF!,COUNTIF(#REF!,\"<\"&F44)+1),#REF!, 2,0),\" \"))","v":" "},null,7,"400M-4-7",{"$f":"IF(ISERROR(VLOOKUP(J44,'KAYIT LİSTESİ'!$B$4:$H$664,2,0)),\"\",(VLOOKUP(J44,'KAYIT LİSTESİ'!$B$4:$H$664,2,0)))","v":""},{"$f":"IF(ISERROR(VLOOKUP(J44,'KAYIT LİSTESİ'!$B$4:$H$664,4,0)),\"\",(VLOOKUP(J44,'KAYIT LİSTESİ'!$B$4:$H$664,4,0)))","v":""},{"$f":"IF(ISERROR(VLOOKUP(J44,'KAYIT LİSTESİ'!$B$4:$H$664,5,0)),\"\",(VLOOKUP(J44,'KAYIT LİSTESİ'!$B$4:$H$664,5,0)))","v":""},{"$f":"IF(ISERROR(VLOOKUP(J44,'KAYIT LİSTESİ'!$B$4:$H$664,6,0)),\"\",(VLOOKUP(J44,'KAYIT LİSTESİ'!$B$4:$H$664,6,0)))","v":""}]
[38,null,null,null,null,null,{"$f":"IF(ISTEXT(F45),0,IFERROR(VLOOKUP(SMALL(#REF!,COUNTIF(#REF!,\"<\"&F45)+1),#REF!, 2,0),\" \"))","v":" "},null,8,"400M-4-8",{"$f":"IF(ISERROR(VLOOKUP(J45,'KAYIT LİSTESİ'!$B$4:$H$664,2,0)),\"\",(VLOOKUP(J45,'KAYIT LİSTESİ'!$B$4:$H$664,2,0)))","v":""},{"$f":"IF(ISERROR(VLOOKUP(J45,'KAYIT LİSTESİ'!$B$4:$H$664,4,0)),\"\",(VLOOKUP(J45,'KAYIT LİSTESİ'!$B$4:$H$664,4,0)))","v":""},{"$f":"IF(ISERROR(VLOOKUP(J45,'KAYIT LİSTESİ'!$B$4:$H$664,5,0)),\"\",(VLOOKUP(J45,'KAYIT LİSTESİ'!$B$4:$H$664,5,0)))","v":""},{"$f":"IF(ISERROR(VLOOKUP(J45,'KAYIT LİSTESİ'!$B$4:$H$664,6,0)),\"\",(VLOOKUP(J45,'KAYIT LİSTESİ'!$B$4:$H$664,6,0)))","v":""}]
[]
["Müsabakalar Direktörü",null,null,null,"Baş Hakem","Lider",null,"Sekreter",null,null,null,null,"Hakem","Hakem",null,"Hakem"]

{"sheet":"1500m.","index":5,"n_rows":63,"n_cols":17,"rows_kept":63,"cut":false,"hidden":false,"merged":[[0,0,0,16],[1,0,1,16],[2,0,2,2],[2,3,2,4],[2,5,2,6],[2,8,2,11],[5,0,6,0],[5,1,6,1],[3,0,3,2],[3,3,3,4],[2,13,2,16],[3,13,3,16],[4,13,4,16],[5,6,6,6],[5,5,6,5],[5,2,6,2],[5,3,6,3],[5,4,6,4]]}
[{"$f":"('YARIŞMA BİLGİLERİ'!A2)","v":"Türkiye Atletizm Federasyonu\nMersin Atletizm İl Temsilciliği\n"}]
[{"$f":"'YARIŞMA BİLGİLERİ'!F19","v":"Olimpik Baraj  Yarışmaları"}]
["Yarışma :",null,null,{"$f":"#REF!","v":{"$error":"#REF!"}},null,"Baraj Derecesi ",null,":",{"$f":"#REF!","v":{"$error":"#REF!"}}]
["Kategori :",null,null,{"$f":"'YARIŞMA BİLGİLERİ'!F21","v":"Kadınlar"},null,null,null,null,null,null,null,null,"Tarih-Saat ",{"$f":"#REF!","v":{"$error":"#REF!"}}]
[null,null,null,null,null,null,null,null,null,null,null,null,null,{"$f":"NOW()","v":42222.536638541664}]
["Sıra No","Göğüs No","Doğum Tarihi\nGün/Ay/Yıl","Adı ve Soyadı","İli-Okulu","Derece","Puan",null,"1. SERİ"]
[null,null,null,null,null,null,null,null,"Sıra No","Formül","Göğüs No","Doğum Tarihi","Adı ve Soyadı","İli-Okulu","Elektronik Kronometre","El Kronometre","Seri Geliş"]
[1,null,null,null,null,null,{"$f":"IF(ISTEXT(F8),0,IFERROR(VLOOKUP(SMALL(#REF!,COUNTIF(#REF!,\"<\"&F8)+1),#REF!, 2,0),\" \"))","v":" "},null,1,"1500M-1-1",{"$f":"IF(ISERROR(VLOOKUP(J8,'KAYIT LİSTESİ'!$B$4:$H$664,2,0)),\"\",(VLOOKUP(J8,'KAYIT LİSTESİ'!$B$4:$H$664,2,0)))","v":629},{"$f":"IF(ISERROR(VLOOKUP(J8,'KAYIT LİSTESİ'!$B$4:$H$664,4,0)),\"\",(VLOOKUP(J8,'KAYIT LİSTESİ'!$B$4:$H$664,4,0)))","v":"1998-01-18"},{"$f":"IF(ISERROR(VLOOKUP(J8,'KAYIT LİSTESİ'!$B$4:$H$664,5,0)),\"\",(VLOOKUP(J8,'KAYIT LİSTESİ'!$B$4:$H$664,5,0)))","v":"SEMRA KARASLAN"},{"$f":"IF(ISERROR(VLOOKUP(J8,'KAYIT LİSTESİ'!$B$4:$H$664,6,0)),\"\",(VLOOKUP(J8,'KAYIT LİSTESİ'!$B$4:$H$664,6,0)))","v":"KIRIKKALE"},{"$f":"IF(IF(OR(P8=\"NM\",P8=\"DNF\",P8=\"DNS\",P8=\"DQ\",P8=\"\"),P8,(ROUNDUP(P8,)+24))=0,\" \",IF(OR(P8=\"NM\",P8=\"DNF\",P8=\"DNS\",P8=\"DQ\",P8=\"\"),P8,(ROUNDUP(P8,)+24)))","v":" "}]
[2,null,null,null,null,null,{"$f":"IF(ISTEXT(F9),0,IFERROR(VLOOKUP(SMALL(#REF!,COUNTIF(#REF!,\"<\"&F9)+1),#REF!, 2,0),\" \"))","v":" "},null,2,"1500M-1-2",{"$f":"IF(ISERROR(VLOOKUP(J9,'KAYIT LİSTESİ'!$B$4:$H$664,2,0)),\"\",(VLOOKUP(J9,'KAYIT LİSTESİ'!$B$4:$H$664,2,0)))","v":612},{"$f":"IF(ISERROR(VLOOKUP(J9,'KAYIT LİSTESİ'!$B$4:$H$664,4,0)),\"\",(VLOOKUP(J9,'KAYIT LİSTESİ'!$B$4:$H$664,4,0)))","v":"1999-06-23"},{"$f":"IF(ISERROR(VLOOKUP(J9,'KAYIT LİSTESİ'!$B$4:$H$664,5,0)),\"\",(VLOOKUP(J9,'KAYIT LİSTESİ'!$B$4:$H$664,5,0)))","v":"FADİME KOŞAR"},{"$f":"IF(ISERROR(VLOOKUP(J9,'KAYIT LİSTESİ'!$B$4:$H$664,6,0)),\"\",(VLOOKUP(J9,'KAYIT LİSTESİ'!$B$4:$H$664,6,0)))","v":"KONYA"}," "]
[3,null,null,null,null,null,{"$f":"IF(ISTEXT(F10),0,IFERROR(VLOOKUP(SMALL(#REF!,COUNTIF(#REF!,\"<\"&F10)+1),#REF!, 2,0),\" \"))","v":" "},null,3,"1500M-1-3",{"$f":"IF(ISERROR(VLOOKUP(J10,'KAYIT LİSTESİ'!$B$4:$H$664,2,0)),\"\",(VLOOKUP(J10,'KAYIT LİSTESİ'!$B$4:$H$664,2,0)))","v":614},{"$f":"IF(ISERROR(VLOOKUP(J10,'KAYIT LİSTESİ'!$B$4:$H$664,4,0)),\"\",(VLOOKUP(J10,'KAYIT LİSTESİ'!$B$4:$H$664,4,0)))","v":"1999-08-15"},{"$f":"IF(ISERROR(VLOOKUP(J10,'KAYIT LİSTESİ'!$B$4:$H$664,5,0)),\"\",(VLOOKUP(J10,'KAYIT LİSTESİ'!$B$4:$H$664,5,0)))","v":"SELENAY BATİ"},{"$f":"IF(ISERROR(VLOOKUP(J10,'KAYIT LİSTESİ'!$B$4:$H$664,6,0)),\"\",(VLOOKUP(J10,'KAYIT LİSTESİ'!$B$4:$H$664,6,0)))","v":"HATAY"}," "]
[4,null,null,null,null,null,{"$f":"IF(ISTEXT(F11),0,IFERROR(VLOOKUP(SMALL(#REF!,COUNTIF(#REF!,\"<\"&F11)+1),#REF!, 2,0),\" \"))","v":" "},null,4,"1500M-1-4",{"$f":"IF(ISERROR(VLOOKUP(J11,'KAYIT LİSTESİ'!$B$4:$H$664,2,0)),\"\",(VLOOKUP(J11,'KAYIT LİSTESİ'!$B$4:$H$664,2,0)))","v":630},{"$f":"IF(ISERROR(VLOOKUP(J11,'KAYIT LİSTESİ'!$B$4:$H$664,4,0)),\"\",(VLOOKUP(J11,'KAYIT LİSTESİ'!$B$4:$H$664,4,0)))","v":"1998-12-30"},{"$f":"IF(ISERROR(VLOOKUP(J11,'KAYIT LİSTESİ'!$B$4:$H$664,5,0)),\"\",(VLOOKUP(J11,'KAYIT LİSTESİ'!$B$4:$H$664,5,0)))","v":"BELHUDE SALMANLI"},{"$f":"IF(ISERROR(VLOOKUP(J11,'KAYIT LİSTESİ'!$B$4:$H$664,6,0)),\"\",(VLOOKUP(J11,'KAYIT LİSTESİ'!$B$4:$H$664,6,0)))","v":"KIRIKKALE"}," "]
[5,null,null,null,null,null,{"$f":"IF(ISTEXT(F12),0,IFERROR(VLOOKUP(SMALL(#REF!,COUNTIF(#REF!,\"<\"&F12)+1),#REF!, 2,0),\" \"))","v":" "},null,5,"1500M-1-5",{"$f":"IF(ISERROR(VLOOKUP(J12,'KAYIT LİSTESİ'!$B$4:$H$664,2,0)),\"\",(VLOOKUP(J12,'KAYIT LİSTESİ'!$B$4:$H$664,2,0)))","v":617},{"$f":"IF(ISERROR(VLOOKUP(J12,'KAYIT LİSTESİ'!$B$4:$H$664,4,0)),\"\",(VLOOKUP(J12,'KAYIT LİSTESİ'!$B$4:$H$664,4,0)))","v":"1999-06-03"},{"$f":"IF(ISERROR(VLOOKUP(J12,'KAYIT LİSTESİ'!$B$4:$H$664,5,0)),\"\",(VLOOKUP(J12,'KAYIT LİSTESİ'!$B$4:$H$664,5,0)))","v":"SEÇİL AKPINAR"},{"$f":"IF(ISERROR(VLOOKUP(J12,'KAYIT LİSTESİ'!$B$4:$H$664,6,0)),\"\",(VLOOKUP(J12,'KAYIT LİSTESİ'!$B$4:$H$664,6,0)))","v":"HATAY"}," "]
[6,null,null,null,null,null,{"$f":"IF(ISTEXT(F13),0,IFERROR(VLOOKUP(SMALL(#REF!,COUNTIF(#REF!,\"<\"&F13)+1),#REF!, 2,0),\" \"))","v":" "},null,6,"1500M-1-6",{"$f":"IF(ISERROR(VLOOKUP(J13,'KAYIT LİSTESİ'!$B$4:$H$664,2,0)),\"\",(VLOOKUP(J13,'KAYIT LİSTESİ'!$B$4:$H$664,2,0)))","v":""},{"$f":"IF(ISERROR(VLOOKUP(J13,'KAYIT LİSTESİ'!$B$4:$H$664,4,0)),\"\",(VLOOKUP(J13,'KAYIT LİSTESİ'!$B$4:$H$664,4,0)))","v":""},{"$f":"IF(ISERROR(VLOOKUP(J13,'KAYIT LİSTESİ'!$B$4:$H$664,5,0)),\"\",(VLOOKUP(J13,'KAYIT LİSTESİ'!$B$4:$H$664,5,0)))","v":""},{"$f":"IF(ISERROR(VLOOKUP(J13,'KAYIT LİSTESİ'!$B$4:$H$664,6,0)),\"\",(VLOOKUP(J13,'KAYIT LİSTESİ'!$B$4:$H$664,6,0)))","v":""}," "]
[7,null,null,null,null,null,{"$f":"IF(ISTEXT(F14),0,IFERROR(VLOOKUP(SMALL(#REF!,COUNTIF(#REF!,\"<\"&F14)+1),#REF!, 2,0),\" \"))","v":" "},null,7,"1500M-1-7",{"$f":"IF(ISERROR(VLOOKUP(J14,'KAYIT LİSTESİ'!$B$4:$H$664,2,0)),\"\",(VLOOKUP(J14,'KAYIT LİSTESİ'!$B$4:$H$664,2,0)))","v":""},{"$f":"IF(ISERROR(VLOOKUP(J14,'KAYIT LİSTESİ'!$B$4:$H$664,4,0)),\"\",(VLOOKUP(J14,'KAYIT LİSTESİ'!$B$4:$H$664,4,0)))","v":""},{"$f":"IF(ISERROR(VLOOKUP(J14,'KAYIT LİSTESİ'!$B$4:$H$664,5,0)),\"\",(VLOOKUP(J14,'KAYIT LİSTESİ'!$B$4:$H$664,5,0)))","v":""},{"$f":"IF(ISERROR(VLOOKUP(J14,'KAYIT LİSTESİ'!$B$4:$H$664,6,0)),\"\",(VLOOKUP(J14,'KAYIT LİSTESİ'!$B$4:$H$664,6,0)))","v":""}," "]
[8,null,null,null,null,null,{"$f":"IF(ISTEXT(F15),0,IFERROR(VLOOKUP(SMALL(#REF!,COUNTIF(#REF!,\"<\"&F15)+1),#REF!, 2,0),\" \"))","v":" "},null,8,"1500M-1-8",{"$f":"IF(ISERROR(VLOOKUP(J15,'KAYIT LİSTESİ'!$B$4:$H$664,2,0)),\"\",(VLOOKUP(J15,'KAYIT LİSTESİ'!$B$4:$H$664,2,0)))","v":""},{"$f":"IF(ISERROR(VLOOKUP(J15,'KAYIT LİSTESİ'!$B$4:$H$664,4,0)),\"\",(VLOOKUP(J15,'KAYIT LİSTESİ'!$B$4:$H$664,4,0)))","v":""},{"$f":"IF(ISERROR(VLOOKUP(J15,'KAYIT LİSTESİ'!$B$4:$H$664,5,0)),\"\",(VLOOKUP(J15,'KAYIT LİSTESİ'!$B$4:$H$664,5,0)))","v":""},{"$f":"IF(ISERROR(VLOOKUP(J15,'KAYIT LİSTESİ'!$B$4:$H$664,6,0)),\"\",(VLOOKUP(J15,'KAYIT LİSTESİ'!$B$4:$H$664,6,0)))","v":""}," "]
[9,null,null,null,null,null,{"$f":"IF(ISTEXT(F16),0,IFERROR(VLOOKUP(SMALL(#REF!,COUNTIF(#REF!,\"<\"&F16)+1),#REF!, 2,0),\" \"))","v":" "},null,9,"1500M-1-9",{"$f":"IF(ISERROR(VLOOKUP(J16,'KAYIT LİSTESİ'!$B$4:$H$664,2,0)),\"\",(VLOOKUP(J16,'KAYIT LİSTESİ'!$B$4:$H$664,2,0)))","v":""},{"$f":"IF(ISERROR(VLOOKUP(J16,'KAYIT LİSTESİ'!$B$4:$H$664,4,0)),\"\",(VLOOKUP(J16,'KAYIT LİSTESİ'!$B$4:$H$664,4,0)))","v":""},{"$f":"IF(ISERROR(VLOOKUP(J16,'KAYIT LİSTESİ'!$B$4:$H$664,5,0)),\"\",(VLOOKUP(J16,'KAYIT LİSTESİ'!$B$4:$H$664,5,0)))","v":""},{"$f":"IF(ISERROR(VLOOKUP(J16,'KAYIT LİSTESİ'!$B$4:$H$664,6,0)),\"\",(VLOOKUP(J16,'KAYIT LİSTESİ'!$B$4:$H$664,6,0)))","v":""}," "]
[10,null,null,null,null,null,{"$f":"IF(ISTEXT(F17),0,IFERROR(VLOOKUP(SMALL(#REF!,COUNTIF(#REF!,\"<\"&F17)+1),#REF!, 2,0),\" \"))","v":" "},null,10,"1500M-1-10",{"$f":"IF(ISERROR(VLOOKUP(J17,'KAYIT LİSTESİ'!$B$4:$H$664,2,0)),\"\",(VLOOKUP(J17,'KAYIT LİSTESİ'!$B$4:$H$664,2,0)))","v":""},{"$f":"IF(ISERROR(VLOOKUP(J17,'KAYIT LİSTESİ'!$B$4:$H$664,4,0)),\"\",(VLOOKUP(J17,'KAYIT LİSTESİ'!$B$4:$H$664,4,0)))","v":""},{"$f":"IF(ISERROR(VLOOKUP(J17,'KAYIT LİSTESİ'!$B$4:$H$664,5,0)),\"\",(VLOOKUP(J17,'KAYIT LİSTESİ'!$B$4:$H$664,5,0)))","v":""},{"$f":"IF(ISERROR(VLOOKUP(J17,'KAYIT LİSTESİ'!$B$4:$H$664,6,0)),\"\",(VLOOKUP(J17,'KAYIT LİSTESİ'!$B$4:$H$664,6,0)))","v":""}," "]
[11,null,null,null,null,null,{"$f":"IF(ISTEXT(F18),0,IFERROR(VLOOKUP(SMALL(#REF!,COUNTIF(#REF!,\"<\"&F18)+1),#REF!, 2,0),\" \"))","v":" "},null,11,"1500M-1-11",{"$f":"IF(ISERROR(VLOOKUP(J18,'KAYIT LİSTESİ'!$B$4:$H$664,2,0)),\"\",(VLOOKUP(J18,'KAYIT LİSTESİ'!$B$4:$H$664,2,0)))","v":""},{"$f":"IF(ISERROR(VLOOKUP(J18,'KAYIT LİSTESİ'!$B$4:$H$664,4,0)),\"\",(VLOOKUP(J18,'KAYIT LİSTESİ'!$B$4:$H$664,4,0)))","v":""},{"$f":"IF(ISERROR(VLOOKUP(J18,'KAYIT LİSTESİ'!$B$4:$H$664,5,0)),\"\",(VLOOKUP(J18,'KAYIT LİSTESİ'!$B$4:$H$664,5,0)))","v":""},{"$f":"IF(ISERROR(VLOOKUP(J18,'KAYIT LİSTESİ'!$B$4:$H$664,6,0)),\"\",(VLOOKUP(J18,'KAYIT LİSTESİ'!$B$4:$H$664,6,0)))","v":""}," "]
[12,null,null,null,null,null,{"$f":"IF(ISTEXT(F19),0,IFERROR(VLOOKUP(SMALL(#REF!,COUNTIF(#REF!,\"<\"&F19)+1),#REF!, 2,0),\" \"))","v":" "},null,12,"1500M-1-12",{"$f":"IF(ISERROR(VLOOKUP(J19,'KAYIT LİSTESİ'!$B$4:$H$664,2,0)),\"\",(VLOOKUP(J19,'KAYIT LİSTESİ'!$B$4:$H$664,2,0)))","v":""},{"$f":"IF(ISERROR(VLOOKUP(J19,'KAYIT LİSTESİ'!$B$4:$H$664,4,0)),\"\",(VLOOKUP(J19,'KAYIT LİSTESİ'!$B$4:$H$664,4,0)))","v":""},{"$f":"IF(ISERROR(VLOOKUP(J19,'KAYIT LİSTESİ'!$B$4:$H$664,5,0)),\"\",(VLOOKUP(J19,'KAYIT LİSTESİ'!$B$4:$H$664,5,0)))","v":""},{"$f":"IF(ISERROR(VLOOKUP(J19,'KAYIT LİSTESİ'!$B$4:$H$664,6,0)),\"\",(VLOOKUP(J19,'KAYIT LİSTESİ'!$B$4:$H$664,6,0)))","v":""}," "]
[13,null,null,null,null,null,{"$f":"IF(ISTEXT(F20),0,IFERROR(VLOOKUP(SMALL(#REF!,COUNTIF(#REF!,\"<\"&F20)+1),#REF!, 2,0),\" \"))","v":" "},null,"2. SERİ"]
[14,null,null,null,null,null,{"$f":"IF(ISTEXT(F21),0,IFERROR(VLOOKUP(SMALL(#REF!,COUNTIF(#REF!,\"<\"&F21)+1),#REF!, 2,0),\" \"))","v":" "},null,"Sıra No","Formül","Göğüs No","Doğum Tarihi","Adı ve Soyadı","İli-Okulu","Elektronik Kronometre","El Kronometre","Seri Geliş"]
[15,null,null,null,null,null,{"$f":"IF(ISTEXT(F22),0,IFERROR(VLOOKUP(SMALL(#REF!,COUNTIF(#REF!,\"<\"&F22)+1),#REF!, 2,0),\" \"))","v":" "},null,1,"1500M-2-1",{"$f":"IF(ISERROR(VLOOKUP(J22,'KAYIT LİSTESİ'!$B$4:$H$664,2,0)),\"\",(VLOOKUP(J22,'KAYIT LİSTESİ'!$B$4:$H$664,2,0)))","v":""},{"$f":"IF(ISERROR(VLOOKUP(J22,'KAYIT LİSTESİ'!$B$4:$H$664,4,0)),\"\",(VLOOKUP(J22,'KAYIT LİSTESİ'!$B$4:$H$664,4,0)))","v":""},{"$f":"IF(ISERROR(VLOOKUP(J22,'KAYIT LİSTESİ'!$B$4:$H$664,5,0)),\"\",(VLOOKUP(J22,'KAYIT LİSTESİ'!$B$4:$H$664,5,0)))","v":""},{"$f":"IF(ISERROR(VLOOKUP(J22,'KAYIT LİSTESİ'!$B$4:$H$664,6,0)),\"\",(VLOOKUP(J22,'KAYIT LİSTESİ'!$B$4:$H$664,6,0)))","v":""},{"$f":"IF(IF(OR(P22=\"NM\",P22=\"DNF\",P22=\"DNS\",P22=\"DQ\",P22=\"\"),P22,(ROUNDUP(P22,)+24))=0,\" \",IF(OR(P22=\"NM\",P22=\"DNF\",P22=\"DNS\",P22=\"DQ\",P22=\"\"),P22,(ROUNDUP(P22,)+24)))","v":" "}]
[16,null,null,null,null,null,{"$f":"IF(ISTEXT(F23),0,IFERROR(VLOOKUP(SMALL(#REF!,COUNTIF(#REF!,\"<\"&F23)+1),#REF!, 2,0),\" \"))","v":" "},null,2,"1500M-2-2",{"$f":"IF(ISERROR(VLOOKUP(J23,'KAYIT LİSTESİ'!$B$4:$H$664,2,0)),\"\",(VLOOKUP(J23,'KAYIT LİSTESİ'!$B$4:$H$664,2,0)))","v":""},{"$f":"IF(ISERROR(VLOOKUP(J23,'KAYIT LİSTESİ'!$B$4:$H$664,4,0)),\"\",(VLOOKUP(J23,'KAYIT LİSTESİ'!$B$4:$H$664,4,0)))","v":""},{"$f":"IF(ISERROR(VLOOKUP(J23,'KAYIT LİSTESİ'!$B$4:$H$664,5,0)),\"\",(VLOOKUP(J23,'KAYIT LİSTESİ'!$B$4:$H$664,5,0)))","v":""},{"$f":"IF(ISERROR(VLOOKUP(J23,'KAYIT LİSTESİ'!$B$4:$H$664,6,0)),\"\",(VLOOKUP(J23,'KAYIT LİSTESİ'!$B$4:$H$664,6,0)))","v":""}," "]
[17,null,null,null,null,null,{"$f":"IF(ISTEXT(F24),0,IFERROR(VLOOKUP(SMALL(#REF!,COUNTIF(#REF!,\"<\"&F24)+1),#REF!, 2,0),\" \"))","v":" "},null,3,"1500M-2-3",{"$f":"IF(ISERROR(VLOOKUP(J24,'KAYIT LİSTESİ'!$B$4:$H$664,2,0)),\"\",(VLOOKUP(J24,'KAYIT LİSTESİ'!$B$4:$H$664,2,0)))","v":""},{"$f":"IF(ISERROR(VLOOKUP(J24,'KAYIT LİSTESİ'!$B$4:$H$664,4,0)),\"\",(VLOOKUP(J24,'KAYIT LİSTESİ'!$B$4:$H$664,4,0)))","v":""},{"$f":"IF(ISERROR(VLOOKUP(J24,'KAYIT LİSTESİ'!$B$4:$H$664,5,0)),\"\",(VLOOKUP(J24,'KAYIT LİSTESİ'!$B$4:$H$664,5,0)))","v":""},{"$f":"IF(ISERROR(VLOOKUP(J24,'KAYIT LİSTESİ'!$B$4:$H$664,6,0)),\"\",(VLOOKUP(J24,'KAYIT LİSTESİ'!$B$4:$H$664,6,0)))","v":""}," "]
[18,null,null,null,null,null,{"$f":"IF(ISTEXT(F25),0,IFERROR(VLOOKUP(SMALL(#REF!,COUNTIF(#REF!,\"<\"&F25)+1),#REF!, 2,0),\" \"))","v":" "},null,4,"1500M-2-4",{"$f":"IF(ISERROR(VLOOKUP(J25,'KAYIT LİSTESİ'!$B$4:$H$664,2,0)),\"\",(VLOOKUP(J25,'KAYIT LİSTESİ'!$B$4:$H$664,2,0)))","v":""},{"$f":"IF(ISERROR(VLOOKUP(J25,'KAYIT LİSTESİ'!$B$4:$H$664,4,0)),\"\",(VLOOKUP(J25,'KAYIT LİSTESİ'!$B$4:$H$664,4,0)))","v":""},{"$f":"IF(ISERROR(VLOOKUP(J25,'KAYIT LİSTESİ'!$B$4:$H$664,5,0)),\"\",(VLOOKUP(J25,'KAYIT LİSTESİ'!$B$4:$H$664,5,0)))","v":""},{"$f":"IF(ISERROR(VLOOKUP(J25,'KAYIT LİSTESİ'!$B$4:$H$664,6,0)),\"\",(VLOOKUP(J25,'KAYIT LİSTESİ'!$B$4:$H$664,6,0)))","v":""}," "]
[19,null,null,null,null,null,{"$f":"IF(ISTEXT(F26),0,IFERROR(VLOOKUP(SMALL(#REF!,COUNTIF(#REF!,\"<\"&F26)+1),#REF!, 2,0),\" \"))","v":" "},null,5,"1500M-2-5",{"$f":"IF(ISERROR(VLOOKUP(J26,'KAYIT LİSTESİ'!$B$4:$H$664,2,0)),\"\",(VLOOKUP(J26,'KAYIT LİSTESİ'!$B$4:$H$664,2,0)))","v":""},{"$f":"IF(ISERROR(VLOOKUP(J26,'KAYIT LİSTESİ'!$B$4:$H$664,4,0)),\"\",(VLOOKUP(J26,'KAYIT LİSTESİ'!$B$4:$H$664,4,0)))","v":""},{"$f":"IF(ISERROR(VLOOKUP(J26,'KAYIT LİSTESİ'!$B$4:$H$664,5,0)),\"\",(VLOOKUP(J26,'KAYIT LİSTESİ'!$B$4:$H$664,5,0)))","v":""},{"$f":"IF(ISERROR(VLOOKUP(J26,'KAYIT LİSTESİ'!$B$4:$H$664,6,0)),\"\",(VLOOKUP(J26,'KAYIT LİSTESİ'!$B$4:$H$664,6,0)))","v":""}," "]
[20,null,null,null,null,null,{"$f":"IF(ISTEXT(F27),0,IFERROR(VLOOKUP(SMALL(#REF!,COUNTIF(#REF!,\"<\"&F27)+1),#REF!, 2,0),\" \"))","v":" "},null,6,"1500M-2-6",{"$f":"IF(ISERROR(VLOOKUP(J27,'KAYIT LİSTESİ'!$B$4:$H$664,2,0)),\"\",(VLOOKUP(J27,'KAYIT LİSTESİ'!$B$4:$H$664,2,0)))","v":""},{"$f":"IF(ISERROR(VLOOKUP(J27,'KAYIT LİSTESİ'!$B$4:$H$664,4,0)),\"\",(VLOOKUP(J27,'KAYIT LİSTESİ'!$B$4:$H$664,4,0)))","v":""},{"$f":"IF(ISERROR(VLOOKUP(J27,'KAYIT LİSTESİ'!$B$4:$H$664,5,0)),\"\",(VLOOKUP(J27,'KAYIT LİSTESİ'!$B$4:$H$664,5,0)))","v":""},{"$f":"IF(ISERROR(VLOOKUP(J27,'KAYIT LİSTESİ'!$B$4:$H$664,6,0)),\"\",(VLOOKUP(J27,'KAYIT LİSTESİ'!$B$4:$H$664,6,0)))","v":""}," "]
[21,null,null,null,null,null,{"$f":"IF(ISTEXT(F28),0,IFERROR(VLOOKUP(SMALL(#REF!,COUNTIF(#REF!,\"<\"&F28)+1),#REF!, 2,0),\" \"))","v":" "},null,7,"1500M-2-7",{"$f":"IF(ISERROR(VLOOKUP(J28,'KAYIT LİSTESİ'!$B$4:$H$664,2,0)),\"\",(VLOOKUP(J28,'KAYIT LİSTESİ'!$B$4:$H$664,2,0)))","v":""},{"$f":"IF(ISERROR(VLOOKUP(J28,'KAYIT LİSTESİ'!$B$4:$H$664,4,0)),\"\",(VLOOKUP(J28,'KAYIT LİSTESİ'!$B$4:$H$664,4,0)))","v":""},{"$f":"IF(ISERROR(VLOOKUP(J28,'KAYIT LİSTESİ'!$B$4:$H$664,5,0)),\"\",(VLOOKUP(J28,'KAYIT LİSTESİ'!$B$4:$H$664,5,0)))","v":""},{"$f":"IF(ISERROR(VLOOKUP(J28,'KAYIT LİSTESİ'!$B$4:$H$664,6,0)),\"\",(VLOOKUP(J28,'KAYIT LİSTESİ'!$B$4:$H$664,6,0)))","v":""}," "]
[22,null,null,null,null,null,{"$f":"IF(ISTEXT(F29),0,IFERROR(VLOOKUP(SMALL(#REF!,COUNTIF(#REF!,\"<\"&F29)+1),#REF!, 2,0),\" \"))","v":" "},null,8,"1500M-2-8",{"$f":"IF(ISERROR(VLOOKUP(J29,'KAYIT LİSTESİ'!$B$4:$H$664,2,0)),\"\",(VLOOKUP(J29,'KAYIT LİSTESİ'!$B$4:$H$664,2,0)))","v":""},{"$f":"IF(ISERROR(VLOOKUP(J29,'KAYIT LİSTESİ'!$B$4:$H$664,4,0)),\"\",(VLOOKUP(J29,'KAYIT LİSTESİ'!$B$4:$H$664,4,0)))","v":""},{"$f":"IF(ISERROR(VLOOKUP(J29,'KAYIT LİSTESİ'!$B$4:$H$664,5,0)),\"\",(VLOOKUP(J29,'KAYIT LİSTESİ'!$B$4:$H$664,5,0)))","v":""},{"$f":"IF(ISERROR(VLOOKUP(J29,'KAYIT LİSTESİ'!$B$4:$H$664,6,0)),\"\",(VLOOKUP(J29,'KAYIT LİSTESİ'!$B$4:$H$664,6,0)))","v":""}," "]
[23,null,null,null,null,null,{"$f":"IF(ISTEXT(F30),0,IFERROR(VLOOKUP(SMALL(#REF!,COUNTIF(#REF!,\"<\"&F30)+1),#REF!, 2,0),\" \"))","v":" "},null,9,"1500M-2-9",{"$f":"IF(ISERROR(VLOOKUP(J30,'KAYIT LİSTESİ'!$B$4:$H$664,2,0)),\"\",(VLOOKUP(J30,'KAYIT LİSTESİ'!$B$4:$H$664,2,0)))","v":""},{"$f":"IF(ISERROR(VLOOKUP(J30,'KAYIT LİSTESİ'!$B$4:$H$664,4,0)),\"\",(VLOOKUP(J30,'KAYIT LİSTESİ'!$B$4:$H$664,4,0)))","v":""},{"$f":"IF(ISERROR(VLOOKUP(J30,'KAYIT LİSTESİ'!$B$4:$H$664,5,0)),\"\",(VLOOKUP(J30,'KAYIT LİSTESİ'!$B$4:$H$664,5,0)))","v":""},{"$f":"IF(ISERROR(VLOOKUP(J30,'KAYIT LİSTESİ'!$B$4:$H$664,6,0)),\"\",(VLOOKUP(J30,'KAYIT LİSTESİ'!$B$4:$H$664,6,0)))","v":""}," "]
[24,null,null,null,null,null,{"$f":"IF(ISTEXT(F31),0,IFERROR(VLOOKUP(SMALL(#REF!,COUNTIF(#REF!,\"<\"&F31)+1),#REF!, 2,0),\" \"))","v":" "},null,10,"1500M-2-10",{"$f":"IF(ISERROR(VLOOKUP(J31,'KAYIT LİSTESİ'!$B$4:$H$664,2,0)),\"\",(VLOOKUP(J31,'KAYIT LİSTESİ'!$B$4:$H$664,2,0)))","v":""},{"$f":"IF(ISERROR(VLOOKUP(J31,'KAYIT LİSTESİ'!$B$4:$H$664,4,0)),\"\",(VLOOKUP(J31,'KAYIT LİSTESİ'!$B$4:$H$664,4,0)))","v":""},{"$f":"IF(ISERROR(VLOOKUP(J31,'KAYIT LİSTESİ'!$B$4:$H$664,5,0)),\"\",(VLOOKUP(J31,'KAYIT LİSTESİ'!$B$4:$H$664,5,0)))","v":""},{"$f":"IF(ISERROR(VLOOKUP(J31,'KAYIT LİSTESİ'!$B$4:$H$664,6,0)),\"\",(VLOOKUP(J31,'KAYIT LİSTESİ'!$B$4:$H$664,6,0)))","v":""}," "]
[25,null,null,null,null,null,{"$f":"IF(ISTEXT(F32),0,IFERROR(VLOOKUP(SMALL(#REF!,COUNTIF(#REF!,\"<\"&F32)+1),#REF!, 2,0),\" \"))","v":" "},null,11,"1500M-2-11",{"$f":"IF(ISERROR(VLOOKUP(J32,'KAYIT LİSTESİ'!$B$4:$H$664,2,0)),\"\",(VLOOKUP(J32,'KAYIT LİSTESİ'!$B$4:$H$664,2,0)))","v":""},{"$f":"IF(ISERROR(VLOOKUP(J32,'KAYIT LİSTESİ'!$B$4:$H$664,4,0)),\"\",(VLOOKUP(J32,'KAYIT LİSTESİ'!$B$4:$H$664,4,0)))","v":""},{"$f":"IF(ISERROR(VLOOKUP(J32,'KAYIT LİSTESİ'!$B$4:$H$664,5,0)),\"\",(VLOOKUP(J32,'KAYIT LİSTESİ'!$B$4:$H$664,5,0)))","v":""},{"$f":"IF(ISERROR(VLOOKUP(J32,'KAYIT LİSTESİ'!$B$4:$H$664,6,0)),\"\",(VLOOKUP(J32,'KAYIT LİSTESİ'!$B$4:$H$664,6,0)))","v":""}," "]
[26,null,null,null,null,null,{"$f":"IF(ISTEXT(F33),0,IFERROR(VLOOKUP(SMALL(#REF!,COUNTIF(#REF!,\"<\"&F33)+1),#REF!, 2,0),\" \"))","v":" "},null,12,"1500M-2-12",{"$f":"IF(ISERROR(VLOOKUP(J33,'KAYIT LİSTESİ'!$B$4:$H$664,2,0)),\"\",(VLOOKUP(J33,'KAYIT LİSTESİ'!$B$4:$H$664,2,0)))","v":""},{"$f":"IF(ISERROR(VLOOKUP(J33,'KAYIT LİSTESİ'!$B$4:$H$664,4,0)),\"\",(VLOOKUP(J33,'KAYIT LİSTESİ'!$B$4:$H$664,4,0)))","v":""},{"$f":"IF(ISERROR(VLOOKUP(J33,'KAYIT LİSTESİ'!$B$4:$H$664,5,0)),\"\",(VLOOKUP(J33,'KAYIT LİSTESİ'!$B$4:$H$664,5,0)))","v":""},{"$f":"IF(ISERROR(VLOOKUP(J33,'KAYIT LİSTESİ'!$B$4:$H$664,6,0)),\"\",(VLOOKUP(J33,'KAYIT LİSTESİ'!$B$4:$H$664,6,0)))","v":""}," "]
[27,null,null,null,null,null,{"$f":"IF(ISTEXT(F34),0,IFERROR(VLOOKUP(SMALL(#REF!,COUNTIF(#REF!,\"<\"&F34)+1),#REF!, 2,0),\" \"))","v":" "},null,"3. SERİ"]
[28,null,null,null,null,null,{"$f":"IF(ISTEXT(F35),0,IFERROR(VLOOKUP(SMALL(#REF!,COUNTIF(#REF!,\"<\"&F35)+1),#REF!, 2,0),\" \"))","v":" "},null,"Sıra No","Formül","Göğüs No","Doğum Tarihi","Adı ve Soyadı","İli-Okulu","Elektronik Kronometre","El Kronometre","Seri Geliş"]
[29,null,null,null,null,null,{"$f":"IF(ISTEXT(F36),0,IFERROR(VLOOKUP(SMALL(#REF!,COUNTIF(#REF!,\"<\"&F36)+1),#REF!, 2,0),\" \"))","v":" "},null,1,"1500M-3-1",{"$f":"IF(ISERROR(VLOOKUP(J36,'KAYIT LİSTESİ'!$B$4:$H$664,2,0)),\"\",(VLOOKUP(J36,'KAYIT LİSTESİ'!$B$4:$H$664,2,0)))","v":""},{"$f":"IF(ISERROR(VLOOKUP(J36,'KAYIT LİSTESİ'!$B$4:$H$664,4,0)),\"\",(VLOOKUP(J36,'KAYIT LİSTESİ'!$B$4:$H$664,4,0)))","v":""},{"$f":"IF(ISERROR(VLOOKUP(J36,'KAYIT LİSTESİ'!$B$4:$H$664,5,0)),\"\",(VLOOKUP(J36,'KAYIT LİSTESİ'!$B$4:$H$664,5,0)))","v":""},{"$f":"IF(ISERROR(VLOOKUP(J36,'KAYIT LİSTESİ'!$B$4:$H$664,6,0)),\"\",(VLOOKUP(J36,'KAYIT LİSTESİ'!$B$4:$H$664,6,0)))","v":""},{"$f":"IF(IF(OR(P36=\"NM\",P36=\"DNF\",P36=\"DNS\",P36=\"DQ\",P36=\"\"),P36,(ROUNDUP(P36,)+24))=0,\" \",IF(OR(P36=\"NM\",P36=\"DNF\",P36=\"DNS\",P36=\"DQ\",P36=\"\"),P36,(ROUNDUP(P36,)+24)))","v":" "}]
[30,null,null,null,null,null,{"$f":"IF(ISTEXT(F37),0,IFERROR(VLOOKUP(SMALL(#REF!,COUNTIF(#REF!,\"<\"&F37)+1),#REF!, 2,0),\" \"))","v":" "},null,2,"1500M-3-2",{"$f":"IF(ISERROR(VLOOKUP(J37,'KAYIT LİSTESİ'!$B$4:$H$664,2,0)),\"\",(VLOOKUP(J37,'KAYIT LİSTESİ'!$B$4:$H$664,2,0)))","v":""},{"$f":"IF(ISERROR(VLOOKUP(J37,'KAYIT LİSTESİ'!$B$4:$H$664,4,0)),\"\",(VLOOKUP(J37,'KAYIT LİSTESİ'!$B$4:$H$664,4,0)))","v":""},{"$f":"IF(ISERROR(VLOOKUP(J37,'KAYIT LİSTESİ'!$B$4:$H$664,5,0)),\"\",(VLOOKUP(J37,'KAYIT LİSTESİ'!$B$4:$H$664,5,0)))","v":""},{"$f":"IF(ISERROR(VLOOKUP(J37,'KAYIT LİSTESİ'!$B$4:$H$664,6,0)),\"\",(VLOOKUP(J37,'KAYIT LİSTESİ'!$B$4:$H$664,6,0)))","v":""}," "]
[31,null,null,null,null,null,{"$f":"IF(ISTEXT(F38),0,IFERROR(VLOOKUP(SMALL(#REF!,COUNTIF(#REF!,\"<\"&F38)+1),#REF!, 2,0),\" \"))","v":" "},null,3,"1500M-3-3",{"$f":"IF(ISERROR(VLOOKUP(J38,'KAYIT LİSTESİ'!$B$4:$H$664,2,0)),\"\",(VLOOKUP(J38,'KAYIT LİSTESİ'!$B$4:$H$664,2,0)))","v":""},{"$f":"IF(ISERROR(VLOOKUP(J38,'KAYIT LİSTESİ'!$B$4:$H$664,4,0)),\"\",(VLOOKUP(J38,'KAYIT LİSTESİ'!$B$4:$H$664,4,0)))","v":""},{"$f":"IF(ISERROR(VLOOKUP(J38,'KAYIT LİSTESİ'!$B$4:$H$664,5,0)),\"\",(VLOOKUP(J38,'KAYIT LİSTESİ'!$B$4:$H$664,5,0)))","v":""},{"$f":"IF(ISERROR(VLOOKUP(J38,'KAYIT LİSTESİ'!$B$4:$H$664,6,0)),\"\",(VLOOKUP(J38,'KAYIT LİSTESİ'!$B$4:$H$664,6,0)))","v":""}," "]
[32,null,null,null,null,null,{"$f":"IF(ISTEXT(F39),0,IFERROR(VLOOKUP(SMALL(#REF!,COUNTIF(#REF!,\"<\"&F39)+1),#REF!, 2,0),\" \"))","v":" "},null,4,"1500M-3-4",{"$f":"IF(ISERROR(VLOOKUP(J39,'KAYIT LİSTESİ'!$B$4:$H$664,2,0)),\"\",(VLOOKUP(J39,'KAYIT LİSTESİ'!$B$4:$H$664,2,0)))","v":""},{"$f":"IF(ISERROR(VLOOKUP(J39,'KAYIT LİSTESİ'!$B$4:$H$664,4,0)),\"\",(VLOOKUP(J39,'KAYIT LİSTESİ'!$B$4:$H$664,4,0)))","v":""},{"$f":"IF(ISERROR(VLOOKUP(J39,'KAYIT LİSTESİ'!$B$4:$H$664,5,0)),\"\",(VLOOKUP(J39,'KAYIT LİSTESİ'!$B$4:$H$664,5,0)))","v":""},{"$f":"IF(ISERROR(VLOOKUP(J39,'KAYIT LİSTESİ'!$B$4:$H$664,6,0)),\"\",(VLOOKUP(J39,'KAYIT LİSTESİ'!$B$4:$H$664,6,0)))","v":""}," "]
[33,null,null,null,null,null,{"$f":"IF(ISTEXT(F40),0,IFERROR(VLOOKUP(SMALL(#REF!,COUNTIF(#REF!,\"<\"&F40)+1),#REF!, 2,0),\" \"))","v":" "},null,5,"1500M-3-5",{"$f":"IF(ISERROR(VLOOKUP(J40,'KAYIT LİSTESİ'!$B$4:$H$664,2,0)),\"\",(VLOOKUP(J40,'KAYIT LİSTESİ'!$B$4:$H$664,2,0)))","v":""},{"$f":"IF(ISERROR(VLOOKUP(J40,'KAYIT LİSTESİ'!$B$4:$H$664,4,0)),\"\",(VLOOKUP(J40,'KAYIT LİSTESİ'!$B$4:$H$664,4,0)))","v":""},{"$f":"IF(ISERROR(VLOOKUP(J40,'KAYIT LİSTESİ'!$B$4:$H$664,5,0)),\"\",(VLOOKUP(J40,'KAYIT LİSTESİ'!$B$4:$H$664,5,0)))","v":""},{"$f":"IF(ISERROR(VLOOKUP(J40,'KAYIT LİSTESİ'!$B$4:$H$664,6,0)),\"\",(VLOOKUP(J40,'KAYIT LİSTESİ'!$B$4:$H$664,6,0)))","v":""}," "]
[34,null,null,null,null,null,{"$f":"IF(ISTEXT(F41),0,IFERROR(VLOOKUP(SMALL(#REF!,COUNTIF(#REF!,\"<\"&F41)+1),#REF!, 2,0),\" \"))","v":" "},null,6,"1500M-3-6",{"$f":"IF(ISERROR(VLOOKUP(J41,'KAYIT LİSTESİ'!$B$4:$H$664,2,0)),\"\",(VLOOKUP(J41,'KAYIT LİSTESİ'!$B$4:$H$664,2,0)))","v":""},{"$f":"IF(ISERROR(VLOOKUP(J41,'KAYIT LİSTESİ'!$B$4:$H$664,4,0)),\"\",(VLOOKUP(J41,'KAYIT LİSTESİ'!$B$4:$H$664,4,0)))","v":""},{"$f":"IF(ISERROR(VLOOKUP(J41,'KAYIT LİSTESİ'!$B$4:$H$664,5,0)),\"\",(VLOOKUP(J41,'KAYIT LİSTESİ'!$B$4:$H$664,5,0)))","v":""},{"$f":"IF(ISERROR(VLOOKUP(J41,'KAYIT LİSTESİ'!$B$4:$H$664,6,0)),\"\",(VLOOKUP(J41,'KAYIT LİSTESİ'!$B$4:$H$664,6,0)))","v":""}," "]
[35,null,null,null,null,null,{"$f":"IF(ISTEXT(F42),0,IFERROR(VLOOKUP(SMALL(#REF!,COUNTIF(#REF!,\"<\"&F42)+1),#REF!, 2,0),\" \"))","v":" "},null,7,"1500M-3-7",{"$f":"IF(ISERROR(VLOOKUP(J42,'KAYIT LİSTESİ'!$B$4:$H$664,2,0)),\"\",(VLOOKUP(J42,'KAYIT LİSTESİ'!$B$4:$H$664,2,0)))","v":""},{"$f":"IF(ISERROR(VLOOKUP(J42,'KAYIT LİSTESİ'!$B$4:$H$664,4,0)),\"\",(VLOOKUP(J42,'KAYIT LİSTESİ'!$B$4:$H$664,4,0)))","v":""},{"$f":"IF(ISERROR(VLOOKUP(J42,'KAYIT LİSTESİ'!$B$4:$H$664,5,0)),\"\",(VLOOKUP(J42,'KAYIT LİSTESİ'!$B$4:$H$664,5,0)))","v":""},{"$f":"IF(ISERROR(VLOOKUP(J42,'KAYIT LİSTESİ'!$B$4:$H$664,6,0)),\"\",(VLOOKUP(J42,'KAYIT LİSTESİ'!$B$4:$H$664,6,0)))","v":""}," "]
[36,null,null,null,null,null,{"$f":"IF(ISTEXT(F43),0,IFERROR(VLOOKUP(SMALL(#REF!,COUNTIF(#REF!,\"<\"&F43)+1),#REF!, 2,0),\" \"))","v":" "},null,8,"1500M-3-8",{"$f":"IF(ISERROR(VLOOKUP(J43,'KAYIT LİSTESİ'!$B$4:$H$664,2,0)),\"\",(VLOOKUP(J43,'KAYIT LİSTESİ'!$B$4:$H$664,2,0)))","v":""},{"$f":"IF(ISERROR(VLOOKUP(J43,'KAYIT LİSTESİ'!$B$4:$H$664,4,0)),\"\",(VLOOKUP(J43,'KAYIT LİSTESİ'!$B$4:$H$664,4,0)))","v":""},{"$f":"IF(ISERROR(VLOOKUP(J43,'KAYIT LİSTESİ'!$B$4:$H$664,5,0)),\"\",(VLOOKUP(J43,'KAYIT LİSTESİ'!$B$4:$H$664,5,0)))","v":""},{"$f":"IF(ISERROR(VLOOKUP(J43,'KAYIT LİSTESİ'!$B$4:$H$664,6,0)),\"\",(VLOOKUP(J43,'KAYIT LİSTESİ'!$B$4:$H$664,6,0)))","v":""}," "]
[37,null,null,null,null,null,{"$f":"IF(ISTEXT(F44),0,IFERROR(VLOOKUP(SMALL(#REF!,COUNTIF(#REF!,\"<\"&F44)+1),#REF!, 2,0),\" \"))","v":" "},null,9,"1500M-3-9",{"$f":"IF(ISERROR(VLOOKUP(J44,'KAYIT LİSTESİ'!$B$4:$H$664,2,0)),\"\",(VLOOKUP(J44,'KAYIT LİSTESİ'!$B$4:$H$664,2,0)))","v":""},{"$f":"IF(ISERROR(VLOOKUP(J44,'KAYIT LİSTESİ'!$B$4:$H$664,4,0)),\"\",(VLOOKUP(J44,'KAYIT LİSTESİ'!$B$4:$H$664,4,0)))","v":""},{"$f":"IF(ISERROR(VLOOKUP(J44,'KAYIT LİSTESİ'!$B$4:$H$664,5,0)),\"\",(VLOOKUP(J44,'KAYIT LİSTESİ'!$B$4:$H$664,5,0)))","v":""},{"$f":"IF(ISERROR(VLOOKUP(J44,'KAYIT LİSTESİ'!$B$4:$H$664,6,0)),\"\",(VLOOKUP(J44,'KAYIT LİSTESİ'!$B$4:$H$664,6,0)))","v":""}," "]
[38,null,null,null,null,null,{"$f":"IF(ISTEXT(F45),0,IFERROR(VLOOKUP(SMALL(#REF!,COUNTIF(#REF!,\"<\"&F45)+1),#REF!, 2,0),\" \"))","v":" "},null,10,"1500M-3-10",{"$f":"IF(ISERROR(VLOOKUP(J45,'KAYIT LİSTESİ'!$B$4:$H$664,2,0)),\"\",(VLOOKUP(J45,'KAYIT LİSTESİ'!$B$4:$H$664,2,0)))","v":""},{"$f":"IF(ISERROR(VLOOKUP(J45,'KAYIT LİSTESİ'!$B$4:$H$664,4,0)),\"\",(VLOOKUP(J45,'KAYIT LİSTESİ'!$B$4:$H$664,4,0)))","v":""},{"$f":"IF(ISERROR(VLOOKUP(J45,'KAYIT LİSTESİ'!$B$4:$H$664,5,0)),\"\",(VLOOKUP(J45,'KAYIT LİSTESİ'!$B$4:$H$664,5,0)))","v":""},{"$f":"IF(ISERROR(VLOOKUP(J45,'KAYIT LİSTESİ'!$B$4:$H$664,6,0)),\"\",(VLOOKUP(J45,'KAYIT LİSTESİ'!$B$4:$H$664,6,0)))","v":""}," "]
[39,null,null,null,null,null,{"$f":"IF(ISTEXT(F46),0,IFERROR(VLOOKUP(SMALL(#REF!,COUNTIF(#REF!,\"<\"&F46)+1),#REF!, 2,0),\" \"))","v":" "},null,11,"1500M-3-11",{"$f":"IF(ISERROR(VLOOKUP(J46,'KAYIT LİSTESİ'!$B$4:$H$664,2,0)),\"\",(VLOOKUP(J46,'KAYIT LİSTESİ'!$B$4:$H$664,2,0)))","v":""},{"$f":"IF(ISERROR(VLOOKUP(J46,'KAYIT LİSTESİ'!$B$4:$H$664,4,0)),\"\",(VLOOKUP(J46,'KAYIT LİSTESİ'!$B$4:$H$664,4,0)))","v":""},{"$f":"IF(ISERROR(VLOOKUP(J46,'KAYIT LİSTESİ'!$B$4:$H$664,5,0)),\"\",(VLOOKUP(J46,'KAYIT LİSTESİ'!$B$4:$H$664,5,0)))","v":""},{"$f":"IF(ISERROR(VLOOKUP(J46,'KAYIT LİSTESİ'!$B$4:$H$664,6,0)),\"\",(VLOOKUP(J46,'KAYIT LİSTESİ'!$B$4:$H$664,6,0)))","v":""}," "]
[40,null,null,null,null,null,{"$f":"IF(ISTEXT(F47),0,IFERROR(VLOOKUP(SMALL(#REF!,COUNTIF(#REF!,\"<\"&F47)+1),#REF!, 2,0),\" \"))","v":" "},null,12,"1500M-3-12",{"$f":"IF(ISERROR(VLOOKUP(J47,'KAYIT LİSTESİ'!$B$4:$H$664,2,0)),\"\",(VLOOKUP(J47,'KAYIT LİSTESİ'!$B$4:$H$664,2,0)))","v":""},{"$f":"IF(ISERROR(VLOOKUP(J47,'KAYIT LİSTESİ'!$B$4:$H$664,4,0)),\"\",(VLOOKUP(J47,'KAYIT LİSTESİ'!$B$4:$H$664,4,0)))","v":""},{"$f":"IF(ISERROR(VLOOKUP(J47,'KAYIT LİSTESİ'!$B$4:$H$664,5,0)),\"\",(VLOOKUP(J47,'KAYIT LİSTESİ'!$B$4:$H$664,5,0)))","v":""},{"$f":"IF(ISERROR(VLOOKUP(J47,'KAYIT LİSTESİ'!$B$4:$H$664,6,0)),\"\",(VLOOKUP(J47,'KAYIT LİSTESİ'!$B$4:$H$664,6,0)))","v":""}," "]
[41,null,null,null,null,null,{"$f":"IF(ISTEXT(F48),0,IFERROR(VLOOKUP(SMALL(#REF!,COUNTIF(#REF!,\"<\"&F48)+1),#REF!, 2,0),\" \"))","v":" "},null,"4. SERİ"]
[42,null,null,null,null,null,{"$f":"IF(ISTEXT(F49),0,IFERROR(VLOOKUP(SMALL(#REF!,COUNTIF(#REF!,\"<\"&F49)+1),#REF!, 2,0),\" \"))","v":" "},null,"Sıra No","Formül","Göğüs No","Doğum Tarihi","Adı ve Soyadı","İli-Okulu","Elektronik Kronometre","El Kronometre","Seri Geliş"]
[43,null,null,null,null,null,{"$f":"IF(ISTEXT(F50),0,IFERROR(VLOOKUP(SMALL(#REF!,COUNTIF(#REF!,\"<\"&F50)+1),#REF!, 2,0),\" \"))","v":" "},null,1,"1500M-4-1",{"$f":"IF(ISERROR(VLOOKUP(J50,'KAYIT LİSTESİ'!$B$4:$H$664,2,0)),\"\",(VLOOKUP(J50,'KAYIT LİSTESİ'!$B$4:$H$664,2,0)))","v":""},{"$f":"IF(ISERROR(VLOOKUP(J50,'KAYIT LİSTESİ'!$B$4:$H$664,4,0)),\"\",(VLOOKUP(J50,'KAYIT LİSTESİ'!$B$4:$H$664,4,0)))","v":""},{"$f":"IF(ISERROR(VLOOKUP(J50,'KAYIT LİSTESİ'!$B$4:$H$664,5,0)),\"\",(VLOOKUP(J50,'KAYIT LİSTESİ'!$B$4:$H$664,5,0)))","v":""},{"$f":"IF(ISERROR(VLOOKUP(J50,'KAYIT LİSTESİ'!$B$4:$H$664,6,0)),\"\",(VLOOKUP(J50,'KAYIT LİSTESİ'!$B$4:$H$664,6,0)))","v":""}]
[44,null,null,null,null,null,{"$f":"IF(ISTEXT(F51),0,IFERROR(VLOOKUP(SMALL(#REF!,COUNTIF(#REF!,\"<\"&F51)+1),#REF!, 2,0),\" \"))","v":" "},null,2,"1500M-4-2",{"$f":"IF(ISERROR(VLOOKUP(J51,'KAYIT LİSTESİ'!$B$4:$H$664,2,0)),\"\",(VLOOKUP(J51,'KAYIT LİSTESİ'!$B$4:$H$664,2,0)))","v":""},{"$f":"IF(ISERROR(VLOOKUP(J51,'KAYIT LİSTESİ'!$B$4:$H$664,4,0)),\"\",(VLOOKUP(J51,'KAYIT LİSTESİ'!$B$4:$H$664,4,0)))","v":""},{"$f":"IF(ISERROR(VLOOKUP(J51,'KAYIT LİSTESİ'!$B$4:$H$664,5,0)),\"\",(VLOOKUP(J51,'KAYIT LİSTESİ'!$B$4:$H$664,5,0)))","v":""},{"$f":"IF(ISERROR(VLOOKUP(J51,'KAYIT LİSTESİ'!$B$4:$H$664,6,0)),\"\",(VLOOKUP(J51,'KAYIT LİSTESİ'!$B$4:$H$664,6,0)))","v":""}]
[45,null,null,null,null,null,{"$f":"IF(ISTEXT(F52),0,IFERROR(VLOOKUP(SMALL(#REF!,COUNTIF(#REF!,\"<\"&F52)+1),#REF!, 2,0),\" \"))","v":" "},null,3,"1500M-4-3",{"$f":"IF(ISERROR(VLOOKUP(J52,'KAYIT LİSTESİ'!$B$4:$H$664,2,0)),\"\",(VLOOKUP(J52,'KAYIT LİSTESİ'!$B$4:$H$664,2,0)))","v":""},{"$f":"IF(ISERROR(VLOOKUP(J52,'KAYIT LİSTESİ'!$B$4:$H$664,4,0)),\"\",(VLOOKUP(J52,'KAYIT LİSTESİ'!$B$4:$H$664,4,0)))","v":""},{"$f":"IF(ISERROR(VLOOKUP(J52,'KAYIT LİSTESİ'!$B$4:$H$664,5,0)),\"\",(VLOOKUP(J52,'KAYIT LİSTESİ'!$B$4:$H$664,5,0)))","v":""},{"$f":"IF(ISERROR(VLOOKUP(J52,'KAYIT LİSTESİ'!$B$4:$H$664,6,0)),\"\",(VLOOKUP(J52,'KAYIT LİSTESİ'!$B$4:$H$664,6,0)))","v":""}]
[46,null,null,null,null,null,{"$f":"IF(ISTEXT(F53),0,IFERROR(VLOOKUP(SMALL(#REF!,COUNTIF(#REF!,\"<\"&F53)+1),#REF!, 2,0),\" \"))","v":" "},null,4,"1500M-4-4",{"$f":"IF(ISERROR(VLOOKUP(J53,'KAYIT LİSTESİ'!$B$4:$H$664,2,0)),\"\",(VLOOKUP(J53,'KAYIT LİSTESİ'!$B$4:$H$664,2,0)))","v":""},{"$f":"IF(ISERROR(VLOOKUP(J53,'KAYIT LİSTESİ'!$B$4:$H$664,4,0)),\"\",(VLOOKUP(J53,'KAYIT LİSTESİ'!$B$4:$H$664,4,0)))","v":""},{"$f":"IF(ISERROR(VLOOKUP(J53,'KAYIT LİSTESİ'!$B$4:$H$664,5,0)),\"\",(VLOOKUP(J53,'KAYIT LİSTESİ'!$B$4:$H$664,5,0)))","v":""},{"$f":"IF(ISERROR(VLOOKUP(J53,'KAYIT LİSTESİ'!$B$4:$H$664,6,0)),\"\",(VLOOKUP(J53,'KAYIT LİSTESİ'!$B$4:$H$664,6,0)))","v":""}]
[47,null,null,null,null,null,{"$f":"IF(ISTEXT(F54),0,IFERROR(VLOOKUP(SMALL(#REF!,COUNTIF(#REF!,\"<\"&F54)+1),#REF!, 2,0),\" \"))","v":" "},null,5,"1500M-4-5",{"$f":"IF(ISERROR(VLOOKUP(J54,'KAYIT LİSTESİ'!$B$4:$H$664,2,0)),\"\",(VLOOKUP(J54,'KAYIT LİSTESİ'!$B$4:$H$664,2,0)))","v":""},{"$f":"IF(ISERROR(VLOOKUP(J54,'KAYIT LİSTESİ'!$B$4:$H$664,4,0)),\"\",(VLOOKUP(J54,'KAYIT LİSTESİ'!$B$4:$H$664,4,0)))","v":""},{"$f":"IF(ISERROR(VLOOKUP(J54,'KAYIT LİSTESİ'!$B$4:$H$664,5,0)),\"\",(VLOOKUP(J54,'KAYIT LİSTESİ'!$B$4:$H$664,5,0)))","v":""},{"$f":"IF(ISERROR(VLOOKUP(J54,'KAYIT LİSTESİ'!$B$4:$H$664,6,0)),\"\",(VLOOKUP(J54,'KAYIT LİSTESİ'!$B$4:$H$664,6,0)))","v":""}]
[48,null,null,null,null,null,{"$f":"IF(ISTEXT(F55),0,IFERROR(VLOOKUP(SMALL(#REF!,COUNTIF(#REF!,\"<\"&F55)+1),#REF!, 2,0),\" \"))","v":" "},null,6,"1500M-4-6",{"$f":"IF(ISERROR(VLOOKUP(J55,'KAYIT LİSTESİ'!$B$4:$H$664,2,0)),\"\",(VLOOKUP(J55,'KAYIT LİSTESİ'!$B$4:$H$664,2,0)))","v":""},{"$f":"IF(ISERROR(VLOOKUP(J55,'KAYIT LİSTESİ'!$B$4:$H$664,4,0)),\"\",(VLOOKUP(J55,'KAYIT LİSTESİ'!$B$4:$H$664,4,0)))","v":""},{"$f":"IF(ISERROR(VLOOKUP(J55,'KAYIT LİSTESİ'!$B$4:$H$664,5,0)),\"\",(VLOOKUP(J55,'KAYIT LİSTESİ'!$B$4:$H$664,5,0)))","v":""},{"$f":"IF(ISERROR(VLOOKUP(J55,'KAYIT LİSTESİ'!$B$4:$H$664,6,0)),\"\",(VLOOKUP(J55,'KAYIT LİSTESİ'!$B$4:$H$664,6,0)))","v":""}]
[49,null,null,null,null,null,{"$f":"IF(ISTEXT(F56),0,IFERROR(VLOOKUP(SMALL(#REF!,COUNTIF(#REF!,\"<\"&F56)+1),#REF!, 2,0),\" \"))","v":" "},null,7,"1500M-4-7",{"$f":"IF(ISERROR(VLOOKUP(J56,'KAYIT LİSTESİ'!$B$4:$H$664,2,0)),\"\",(VLOOKUP(J56,'KAYIT LİSTESİ'!$B$4:$H$664,2,0)))","v":""},{"$f":"IF(ISERROR(VLOOKUP(J56,'KAYIT LİSTESİ'!$B$4:$H$664,4,0)),\"\",(VLOOKUP(J56,'KAYIT LİSTESİ'!$B$4:$H$664,4,0)))","v":""},{"$f":"IF(ISERROR(VLOOKUP(J56,'KAYIT LİSTESİ'!$B$4:$H$664,5,0)),\"\",(VLOOKUP(J56,'KAYIT LİSTESİ'!$B$4:$H$664,5,0)))","v":""},{"$f":"IF(ISERROR(VLOOKUP(J56,'KAYIT LİSTESİ'!$B$4:$H$664,6,0)),\"\",(VLOOKUP(J56,'KAYIT LİSTESİ'!$B$4:$H$664,6,0)))","v":""}]
[50,null,null,null,null,null,{"$f":"IF(ISTEXT(F57),0,IFERROR(VLOOKUP(SMALL(#REF!,COUNTIF(#REF!,\"<\"&F57)+1),#REF!, 2,0),\" \"))","v":" "},null,8,"1500M-4-8",{"$f":"IF(ISERROR(VLOOKUP(J57,'KAYIT LİSTESİ'!$B$4:$H$664,2,0)),\"\",(VLOOKUP(J57,'KAYIT LİSTESİ'!$B$4:$H$664,2,0)))","v":""},{"$f":"IF(ISERROR(VLOOKUP(J57,'KAYIT LİSTESİ'!$B$4:$H$664,4,0)),\"\",(VLOOKUP(J57,'KAYIT LİSTESİ'!$B$4:$H$664,4,0)))","v":""},{"$f":"IF(ISERROR(VLOOKUP(J57,'KAYIT LİSTESİ'!$B$4:$H$664,5,0)),\"\",(VLOOKUP(J57,'KAYIT LİSTESİ'!$B$4:$H$664,5,0)))","v":""},{"$f":"IF(ISERROR(VLOOKUP(J57,'KAYIT LİSTESİ'!$B$4:$H$664,6,0)),\"\",(VLOOKUP(J57,'KAYIT LİSTESİ'!$B$4:$H$664,6,0)))","v":""}]
[51,null,null,null,null,null,{"$f":"IF(ISTEXT(F58),0,IFERROR(VLOOKUP(SMALL(#REF!,COUNTIF(#REF!,\"<\"&F58)+1),#REF!, 2,0),\" \"))","v":" "},null,9,"1500M-4-9",{"$f":"IF(ISERROR(VLOOKUP(J58,'KAYIT LİSTESİ'!$B$4:$H$664,2,0)),\"\",(VLOOKUP(J58,'KAYIT LİSTESİ'!$B$4:$H$664,2,0)))","v":""},{"$f":"IF(ISERROR(VLOOKUP(J58,'KAYIT LİSTESİ'!$B$4:$H$664,4,0)),\"\",(VLOOKUP(J58,'KAYIT LİSTESİ'!$B$4:$H$664,4,0)))","v":""},{"$f":"IF(ISERROR(VLOOKUP(J58,'KAYIT LİSTESİ'!$B$4:$H$664,5,0)),\"\",(VLOOKUP(J58,'KAYIT LİSTESİ'!$B$4:$H$664,5,0)))","v":""},{"$f":"IF(ISERROR(VLOOKUP(J58,'KAYIT LİSTESİ'!$B$4:$H$664,6,0)),\"\",(VLOOKUP(J58,'KAYIT LİSTESİ'!$B$4:$H$664,6,0)))","v":""}]
[52,null,null,null,null,null,{"$f":"IF(ISTEXT(F59),0,IFERROR(VLOOKUP(SMALL(#REF!,COUNTIF(#REF!,\"<\"&F59)+1),#REF!, 2,0),\" \"))","v":" "},null,10,"1500M-4-10",{"$f":"IF(ISERROR(VLOOKUP(J59,'KAYIT LİSTESİ'!$B$4:$H$664,2,0)),\"\",(VLOOKUP(J59,'KAYIT LİSTESİ'!$B$4:$H$664,2,0)))","v":""},{"$f":"IF(ISERROR(VLOOKUP(J59,'KAYIT LİSTESİ'!$B$4:$H$664,4,0)),\"\",(VLOOKUP(J59,'KAYIT LİSTESİ'!$B$4:$H$664,4,0)))","v":""},{"$f":"IF(ISERROR(VLOOKUP(J59,'KAYIT LİSTESİ'!$B$4:$H$664,5,0)),\"\",(VLOOKUP(J59,'KAYIT LİSTESİ'!$B$4:$H$664,5,0)))","v":""},{"$f":"IF(ISERROR(VLOOKUP(J59,'KAYIT LİSTESİ'!$B$4:$H$664,6,0)),\"\",(VLOOKUP(J59,'KAYIT LİSTESİ'!$B$4:$H$664,6,0)))","v":""}]
[53,null,null,null,null,null,{"$f":"IF(ISTEXT(F60),0,IFERROR(VLOOKUP(SMALL(#REF!,COUNTIF(#REF!,\"<\"&F60)+1),#REF!, 2,0),\" \"))","v":" "},null,11,"1500M-4-11",{"$f":"IF(ISERROR(VLOOKUP(J60,'KAYIT LİSTESİ'!$B$4:$H$664,2,0)),\"\",(VLOOKUP(J60,'KAYIT LİSTESİ'!$B$4:$H$664,2,0)))","v":""},{"$f":"IF(ISERROR(VLOOKUP(J60,'KAYIT LİSTESİ'!$B$4:$H$664,4,0)),\"\",(VLOOKUP(J60,'KAYIT LİSTESİ'!$B$4:$H$664,4,0)))","v":""},{"$f":"IF(ISERROR(VLOOKUP(J60,'KAYIT LİSTESİ'!$B$4:$H$664,5,0)),\"\",(VLOOKUP(J60,'KAYIT LİSTESİ'!$B$4:$H$664,5,0)))","v":""},{"$f":"IF(ISERROR(VLOOKUP(J60,'KAYIT LİSTESİ'!$B$4:$H$664,6,0)),\"\",(VLOOKUP(J60,'KAYIT LİSTESİ'!$B$4:$H$664,6,0)))","v":""}]
[54,null,null,null,null,null,{"$f":"IF(ISTEXT(F61),0,IFERROR(VLOOKUP(SMALL(#REF!,COUNTIF(#REF!,\"<\"&F61)+1),#REF!, 2,0),\" \"))","v":" "},null,12,"1500M-4-12",{"$f":"IF(ISERROR(VLOOKUP(J61,'KAYIT LİSTESİ'!$B$4:$H$664,2,0)),\"\",(VLOOKUP(J61,'KAYIT LİSTESİ'!$B$4:$H$664,2,0)))","v":""},{"$f":"IF(ISERROR(VLOOKUP(J61,'KAYIT LİSTESİ'!$B$4:$H$664,4,0)),\"\",(VLOOKUP(J61,'KAYIT LİSTESİ'!$B$4:$H$664,4,0)))","v":""},{"$f":"IF(ISERROR(VLOOKUP(J61,'KAYIT LİSTESİ'!$B$4:$H$664,5,0)),\"\",(VLOOKUP(J61,'KAYIT LİSTESİ'!$B$4:$H$664,5,0)))","v":""},{"$f":"IF(ISERROR(VLOOKUP(J61,'KAYIT LİSTESİ'!$B$4:$H$664,6,0)),\"\",(VLOOKUP(J61,'KAYIT LİSTESİ'!$B$4:$H$664,6,0)))","v":""}]
[]
["Müsabakalar Direktörü",null,null,null,"Baş Hakem","Lider",null,"Sekreter",null,null,null,null,"Hakem","Hakem",null,"Hakem"]

{"sheet":"100m.Eng","index":6,"n_rows":47,"n_cols":17,"rows_kept":47,"cut":false,"hidden":false,"merged":[[0,0,0,16],[1,0,1,16],[2,0,2,2],[2,3,2,4],[2,5,2,6],[2,8,2,11],[5,0,6,0],[5,1,6,1],[3,0,3,2],[3,3,3,4],[2,13,2,16],[3,13,3,16],[4,13,4,16],[5,6,6,6],[5,5,6,5],[5,2,6,2],[5,3,6,3],[5,4,6,4]]}
[{"$f":"('YARIŞMA BİLGİLERİ'!A2)","v":"Türkiye Atletizm Federasyonu\nMersin Atletizm İl Temsilciliği\n"}]
[{"$f":"'YARIŞMA BİLGİLERİ'!F19","v":"Olimpik Baraj  Yarışmaları"}]
["Yarışma :",null,null,{"$f":"#REF!","v":{"$error":"#REF!"}},null,"Baraj Derecesi ",null,":",{"$f":"#REF!","v":{"$error":"#REF!"}}]
["Kategori :",null,null,{"$f":"'YARIŞMA BİLGİLERİ'!F21","v":"Kadınlar"},null,null,null,null,null,null,null,null,"Tarih-Saat :",{"$f":"#REF!","v":{"$error":"#REF!"}}]
[null,null,null,null,null,null,null,null,null,null,null,null,null,{"$f":"NOW()","v":42222.536638541664}]
["Sıra No","Göğüs No","Doğum Tarihi\nGün/Ay/Yıl","Adı ve Soyadı","İli-Okulu","Derece","Puan",null,"1. SERİ",null,null,null,"Rüzgar:"]
[null,null,null,null,null,null,null,null,"Sıra No","Formül","Göğüs No","Doğum Tarihi","Adı ve Soyadı","İli-Okulu","Elektronik Kronometre","El Kronometre","Seri Geliş"]
[1,null,null,null,null,null,{"$f":"IF(ISTEXT(F8),0,IFERROR(VLOOKUP(SMALL(#REF!,COUNTIF(#REF!,\"<\"&F8)+1),#REF!, 2,0),\" \"))","v":" "},null,1,"100M.ENG-1-1",{"$f":"IF(ISERROR(VLOOKUP(J8,'KAYIT LİSTESİ'!$B$4:$H$664,2,0)),\"\",(VLOOKUP(J8,'KAYIT LİSTESİ'!$B$4:$H$664,2,0)))","v":""},{"$f":"IF(ISERROR(VLOOKUP(J8,'KAYIT LİSTESİ'!$B$4:$H$664,4,0)),\"\",(VLOOKUP(J8,'KAYIT LİSTESİ'!$B$4:$H$664,4,0)))","v":""},{"$f":"IF(ISERROR(VLOOKUP(J8,'KAYIT LİSTESİ'!$B$4:$H$664,5,0)),\"\",(VLOOKUP(J8,'KAYIT LİSTESİ'!$B$4:$H$664,5,0)))","v":""},{"$f":"IF(ISERROR(VLOOKUP(J8,'KAYIT LİSTESİ'!$B$4:$H$664,6,0)),\"\",(VLOOKUP(J8,'KAYIT LİSTESİ'!$B$4:$H$664,6,0)))","v":""},{"$f":"IF(IF(OR(P8=\"NM\",P8=\"DNF\",P8=\"DNS\",P8=\"DQ\",P8=\"\"),P8,(ROUNDUP(P8,)+24))=0,\" \",IF(OR(P8=\"NM\",P8=\"DNF\",P8=\"DNS\",P8=\"DQ\",P8=\"\"),P8,(ROUNDUP(P8,)+24)))","v":" "}]
[2,null,null,null,null,null,{"$f":"IF(ISTEXT(F9),0,IFERROR(VLOOKUP(SMALL(#REF!,COUNTIF(#REF!,\"<\"&F9)+1),#REF!, 2,0),\" \"))","v":" "},null,2,"100M.ENG-1-2",{"$f":"IF(ISERROR(VLOOKUP(J9,'KAYIT LİSTESİ'!$B$4:$H$664,2,0)),\"\",(VLOOKUP(J9,'KAYIT LİSTESİ'!$B$4:$H$664,2,0)))","v":610},{"$f":"IF(ISERROR(VLOOKUP(J9,'KAYIT LİSTESİ'!$B$4:$H$664,4,0)),\"\",(VLOOKUP(J9,'KAYIT LİSTESİ'!$B$4:$H$664,4,0)))","v":"1994-01-29"},{"$f":"IF(ISERROR(VLOOKUP(J9,'KAYIT LİSTESİ'!$B$4:$H$664,5,0)),\"\",(VLOOKUP(J9,'KAYIT LİSTESİ'!$B$4:$H$664,5,0)))","v":"Zühre ACERMAN"},{"$f":"IF(ISERROR(VLOOKUP(J9,'KAYIT LİSTESİ'!$B$4:$H$664,6,0)),\"\",(VLOOKUP(J9,'KAYIT LİSTESİ'!$B$4:$H$664,6,0)))","v":"KKTC. MAGUSA"}," "]
[3,null,null,null,null,null,{"$f":"IF(ISTEXT(F10),0,IFERROR(VLOOKUP(SMALL(#REF!,COUNTIF(#REF!,\"<\"&F10)+1),#REF!, 2,0),\" \"))","v":" "},null,3,"100M.ENG-1-3",{"$f":"IF(ISERROR(VLOOKUP(J10,'KAYIT LİSTESİ'!$B$4:$H$664,2,0)),\"\",(VLOOKUP(J10,'KAYIT LİSTESİ'!$B$4:$H$664,2,0)))","v":601},{"$f":"IF(ISERROR(VLOOKUP(J10,'KAYIT LİSTESİ'!$B$4:$H$664,4,0)),\"\",(VLOOKUP(J10,'KAYIT LİSTESİ'!$B$4:$H$664,4,0)))","v":"15.11.1992"},{"$f":"IF(ISERROR(VLOOKUP(J10,'KAYIT LİSTESİ'!$B$4:$H$664,5,0)),\"\",(VLOOKUP(J10,'KAYIT LİSTESİ'!$B$4:$H$664,5,0)))","v":"İLKAY AVCI"},{"$f":"IF(ISERROR(VLOOKUP(J10,'KAYIT LİSTESİ'!$B$4:$H$664,6,0)),\"\",(VLOOKUP(J10,'KAYIT LİSTESİ'!$B$4:$H$664,6,0)))","v":"ESKİŞEHİR"}," "]
[4,null,null,null,null,null,{"$f":"IF(ISTEXT(F11),0,IFERROR(VLOOKUP(SMALL(#REF!,COUNTIF(#REF!,\"<\"&F11)+1),#REF!, 2,0),\" \"))","v":" "},null,4,"100M.ENG-1-4",{"$f":"IF(ISERROR(VLOOKUP(J11,'KAYIT LİSTESİ'!$B$4:$H$664,2,0)),\"\",(VLOOKUP(J11,'KAYIT LİSTESİ'!$B$4:$H$664,2,0)))","v":602},{"$f":"IF(ISERROR(VLOOKUP(J11,'KAYIT LİSTESİ'!$B$4:$H$664,4,0)),\"\",(VLOOKUP(J11,'KAYIT LİSTESİ'!$B$4:$H$664,4,0)))","v":"1984-03-28"},{"$f":"IF(ISERROR(VLOOKUP(J11,'KAYIT LİSTESİ'!$B$4:$H$664,5,0)),\"\",(VLOOKUP(J11,'KAYIT LİSTESİ'!$B$4:$H$664,5,0)))","v":"SERPİL KOÇAK"},{"$f":"IF(ISERROR(VLOOKUP(J11,'KAYIT LİSTESİ'!$B$4:$H$664,6,0)),\"\",(VLOOKUP(J11,'KAYIT LİSTESİ'!$B$4:$H$664,6,0)))","v":"İSTABUL"}," "]
[5,null,null,null,null,null,{"$f":"IF(ISTEXT(F12),0,IFERROR(VLOOKUP(SMALL(#REF!,COUNTIF(#REF!,\"<\"&F12)+1),#REF!, 2,0),\" \"))","v":" "},null,5,"100M.ENG-1-5",{"$f":"IF(ISERROR(VLOOKUP(J12,'KAYIT LİSTESİ'!$B$4:$H$664,2,0)),\"\",(VLOOKUP(J12,'KAYIT LİSTESİ'!$B$4:$H$664,2,0)))","v":""},{"$f":"IF(ISERROR(VLOOKUP(J12,'KAYIT LİSTESİ'!$B$4:$H$664,4,0)),\"\",(VLOOKUP(J12,'KAYIT LİSTESİ'!$B$4:$H$664,4,0)))","v":""},{"$f":"IF(ISERROR(VLOOKUP(J12,'KAYIT LİSTESİ'!$B$4:$H$664,5,0)),\"\",(VLOOKUP(J12,'KAYIT LİSTESİ'!$B$4:$H$664,5,0)))","v":""},{"$f":"IF(ISERROR(VLOOKUP(J12,'KAYIT LİSTESİ'!$B$4:$H$664,6,0)),\"\",(VLOOKUP(J12,'KAYIT LİSTESİ'!$B$4:$H$664,6,0)))","v":""}," "]
[6,null,null,null,null,null,{"$f":"IF(ISTEXT(F13),0,IFERROR(VLOOKUP(SMALL(#REF!,COUNTIF(#REF!,\"<\"&F13)+1),#REF!, 2,0),\" \"))","v":" "},null,6,"100M.ENG-1-6",{"$f":"IF(ISERROR(VLOOKUP(J13,'KAYIT LİSTESİ'!$B$4:$H$664,2,0)),\"\",(VLOOKUP(J13,'KAYIT LİSTESİ'!$B$4:$H$664,2,0)))","v":""},{"$f":"IF(ISERROR(VLOOKUP(J13,'KAYIT LİSTESİ'!$B$4:$H$664,4,0)),\"\",(VLOOKUP(J13,'KAYIT LİSTESİ'!$B$4:$H$664,4,0)))","v":""},{"$f":"IF(ISERROR(VLOOKUP(J13,'KAYIT LİSTESİ'!$B$4:$H$664,5,0)),\"\",(VLOOKUP(J13,'KAYIT LİSTESİ'!$B$4:$H$664,5,0)))","v":""},{"$f":"IF(ISERROR(VLOOKUP(J13,'KAYIT LİSTESİ'!$B$4:$H$664,6,0)),\"\",(VLOOKUP(J13,'KAYIT LİSTESİ'!$B$4:$H$664,6,0)))","v":""}," "]
[7,null,null,null,null,null,{"$f":"IF(ISTEXT(F14),0,IFERROR(VLOOKUP(SMALL(#REF!,COUNTIF(#REF!,\"<\"&F14)+1),#REF!, 2,0),\" \"))","v":" "},null,7,"100M.ENG-1-7",{"$f":"IF(ISERROR(VLOOKUP(J14,'KAYIT LİSTESİ'!$B$4:$H$664,2,0)),\"\",(VLOOKUP(J14,'KAYIT LİSTESİ'!$B$4:$H$664,2,0)))","v":""},{"$f":"IF(ISERROR(VLOOKUP(J14,'KAYIT LİSTESİ'!$B$4:$H$664,4,0)),\"\",(VLOOKUP(J14,'KAYIT LİSTESİ'!$B$4:$H$664,4,0)))","v":""},{"$f":"IF(ISERROR(VLOOKUP(J14,'KAYIT LİSTESİ'!$B$4:$H$664,5,0)),\"\",(VLOOKUP(J14,'KAYIT LİSTESİ'!$B$4:$H$664,5,0)))","v":""},{"$f":"IF(ISERROR(VLOOKUP(J14,'KAYIT LİSTESİ'!$B$4:$H$664,6,0)),\"\",(VLOOKUP(J14,'KAYIT LİSTESİ'!$B$4:$H$664,6,0)))","v":""}," "]
[8,null,null,null,null,null,{"$f":"IF(ISTEXT(F15),0,IFERROR(VLOOKUP(SMALL(#REF!,COUNTIF(#REF!,\"<\"&F15)+1),#REF!, 2,0),\" \"))","v":" "},null,8,"100M.ENG-1-8",{"$f":"IF(ISERROR(VLOOKUP(J15,'KAYIT LİSTESİ'!$B$4:$H$664,2,0)),\"\",(VLOOKUP(J15,'KAYIT LİSTESİ'!$B$4:$H$664,2,0)))","v":""},{"$f":"IF(ISERROR(VLOOKUP(J15,'KAYIT LİSTESİ'!$B$4:$H$664,4,0)),\"\",(VLOOKUP(J15,'KAYIT LİSTESİ'!$B$4:$H$664,4,0)))","v":""},{"$f":"IF(ISERROR(VLOOKUP(J15,'KAYIT LİSTESİ'!$B$4:$H$664,5,0)),\"\",(VLOOKUP(J15,'KAYIT LİSTESİ'!$B$4:$H$664,5,0)))","v":""},{"$f":"IF(ISERROR(VLOOKUP(J15,'KAYIT LİSTESİ'!$B$4:$H$664,6,0)),\"\",(VLOOKUP(J15,'KAYIT LİSTESİ'!$B$4:$H$664,6,0)))","v":""}," "]
[9,null,null,null,null,null,{"$f":"IF(ISTEXT(F16),0,IFERROR(VLOOKUP(SMALL(#REF!,COUNTIF(#REF!,\"<\"&F16)+1),#REF!, 2,0),\" \"))","v":" "},null,"2. SERİ",null,null,null,"Rüzgar:"]
[10,null,null,null,null,null,{"$f":"IF(ISTEXT(F17),0,IFERROR(VLOOKUP(SMALL(#REF!,COUNTIF(#REF!,\"<\"&F17)+1),#REF!, 2,0),\" \"))","v":" "},null,"Sıra No","Formül","Göğüs No","Doğum Tarihi","Adı ve Soyadı","İli-Okulu","Elektronik Kronometre","El Kronometre","Seri Geliş"]
[11,null,null,null,null,null,{"$f":"IF(ISTEXT(F18),0,IFERROR(VLOOKUP(SMALL(#REF!,COUNTIF(#REF!,\"<\"&F18)+1),#REF!, 2,0),\" \"))","v":" "},null,1,"100M.ENG-2-1",{"$f":"IF(ISERROR(VLOOKUP(J18,'KAYIT LİSTESİ'!$B$4:$H$664,2,0)),\"\",(VLOOKUP(J18,'KAYIT LİSTESİ'!$B$4:$H$664,2,0)))","v":""},{"$f":"IF(ISERROR(VLOOKUP(J18,'KAYIT LİSTESİ'!$B$4:$H$664,4,0)),\"\",(VLOOKUP(J18,'KAYIT LİSTESİ'!$B$4:$H$664,4,0)))","v":""},{"$f":"IF(ISERROR(VLOOKUP(J18,'KAYIT LİSTESİ'!$B$4:$H$664,5,0)),\"\",(VLOOKUP(J18,'KAYIT LİSTESİ'!$B$4:$H$664,5,0)))","v":""},{"$f":"IF(ISERROR(VLOOKUP(J18,'KAYIT LİSTESİ'!$B$4:$H$664,6,0)),\"\",(VLOOKUP(J18,'KAYIT LİSTESİ'!$B$4:$H$664,6,0)))","v":""},{"$f":"IF(IF(OR(P18=\"NM\",P18=\"DNF\",P18=\"DNS\",P18=\"DQ\",P18=\"\"),P18,(ROUNDUP(P18,)+24))=0,\" \",IF(OR(P18=\"NM\",P18=\"DNF\",P18=\"DNS\",P18=\"DQ\",P18=\"\"),P18,(ROUNDUP(P18,)+24)))","v":" "}]
[12,null,null,null,null,null,{"$f":"IF(ISTEXT(F19),0,IFERROR(VLOOKUP(SMALL(#REF!,COUNTIF(#REF!,\"<\"&F19)+1),#REF!, 2,0),\" \"))","v":" "},null,2,"100M.ENG-2-2",{"$f":"IF(ISERROR(VLOOKUP(J19,'KAYIT LİSTESİ'!$B$4:$H$664,2,0)),\"\",(VLOOKUP(J19,'KAYIT LİSTESİ'!$B$4:$H$664,2,0)))","v":""},{"$f":"IF(ISERROR(VLOOKUP(J19,'KAYIT LİSTESİ'!$B$4:$H$664,4,0)),\"\",(VLOOKUP(J19,'KAYIT LİSTESİ'!$B$4:$H$664,4,0)))","v":""},{"$f":"IF(ISERROR(VLOOKUP(J19,'KAYIT LİSTESİ'!$B$4:$H$664,5,0)),\"\",(VLOOKUP(J19,'KAYIT LİSTESİ'!$B$4:$H$664,5,0)))","v":""},{"$f":"IF(ISERROR(VLOOKUP(J19,'KAYIT LİSTESİ'!$B$4:$H$664,6,0)),\"\",(VLOOKUP(J19,'KAYIT LİSTESİ'!$B$4:$H$664,6,0)))","v":""}," "]
[13,null,null,null,null,null,{"$f":"IF(ISTEXT(F20),0,IFERROR(VLOOKUP(SMALL(#REF!,COUNTIF(#REF!,\"<\"&F20)+1),#REF!, 2,0),\" \"))","v":" "},null,3,"100M.ENG-2-3",{"$f":"IF(ISERROR(VLOOKUP(J20,'KAYIT LİSTESİ'!$B$4:$H$664,2,0)),\"\",(VLOOKUP(J20,'KAYIT LİSTESİ'!$B$4:$H$664,2,0)))","v":""},{"$f":"IF(ISERROR(VLOOKUP(J20,'KAYIT LİSTESİ'!$B$4:$H$664,4,0)),\"\",(VLOOKUP(J20,'KAYIT LİSTESİ'!$B$4:$H$664,4,0)))","v":""},{"$f":"IF(ISERROR(VLOOKUP(J20,'KAYIT LİSTESİ'!$B$4:$H$664,5,0)),\"\",(VLOOKUP(J20,'KAYIT LİSTESİ'!$B$4:$H$664,5,0)))","v":""},{"$f":"IF(ISERROR(VLOOKUP(J20,'KAYIT LİSTESİ'!$B$4:$H$664,6,0)),\"\",(VLOOKUP(J20,'KAYIT LİSTESİ'!$B$4:$H$664,6,0)))","v":""}," "]
[14,null,null,null,null,null,{"$f":"IF(ISTEXT(F21),0,IFERROR(VLOOKUP(SMALL(#REF!,COUNTIF(#REF!,\"<\"&F21)+1),#REF!, 2,0),\" \"))","v":" "},null,4,"100M.ENG-2-4",{"$f":"IF(ISERROR(VLOOKUP(J21,'KAYIT LİSTESİ'!$B$4:$H$664,2,0)),\"\",(VLOOKUP(J21,'KAYIT LİSTESİ'!$B$4:$H$664,2,0)))","v":""},{"$f":"IF(ISERROR(VLOOKUP(J21,'KAYIT LİSTESİ'!$B$4:$H$664,4,0)),\"\",(VLOOKUP(J21,'KAYIT LİSTESİ'!$B$4:$H$664,4,0)))","v":""},{"$f":"IF(ISERROR(VLOOKUP(J21,'KAYIT LİSTESİ'!$B$4:$H$664,5,0)),\"\",(VLOOKUP(J21,'KAYIT LİSTESİ'!$B$4:$H$664,5,0)))","v":""},{"$f":"IF(ISERROR(VLOOKUP(J21,'KAYIT LİSTESİ'!$B$4:$H$664,6,0)),\"\",(VLOOKUP(J21,'KAYIT LİSTESİ'!$B$4:$H$664,6,0)))","v":""}," "]
[15,null,null,null,null,null,{"$f":"IF(ISTEXT(F22),0,IFERROR(VLOOKUP(SMALL(#REF!,COUNTIF(#REF!,\"<\"&F22)+1),#REF!, 2,0),\" \"))","v":" "},null,5,"100M.ENG-2-5",{"$f":"IF(ISERROR(VLOOKUP(J22,'KAYIT LİSTESİ'!$B$4:$H$664,2,0)),\"\",(VLOOKUP(J22,'KAYIT LİSTESİ'!$B$4:$H$664,2,0)))","v":""},{"$f":"IF(ISERROR(VLOOKUP(J22,'KAYIT LİSTESİ'!$B$4:$H$664,4,0)),\"\",(VLOOKUP(J22,'KAYIT LİSTESİ'!$B$4:$H$664,4,0)))","v":""},{"$f":"IF(ISERROR(VLOOKUP(J22,'KAYIT LİSTESİ'!$B$4:$H$664,5,0)),\"\",(VLOOKUP(J22,'KAYIT LİSTESİ'!$B$4:$H$664,5,0)))","v":""},{"$f":"IF(ISERROR(VLOOKUP(J22,'KAYIT LİSTESİ'!$B$4:$H$664,6,0)),\"\",(VLOOKUP(J22,'KAYIT LİSTESİ'!$B$4:$H$664,6,0)))","v":""}," "]
[16,null,null,null,null,null,{"$f":"IF(ISTEXT(F23),0,IFERROR(VLOOKUP(SMALL(#REF!,COUNTIF(#REF!,\"<\"&F23)+1),#REF!, 2,0),\" \"))","v":" "},null,6,"100M.ENG-2-6",{"$f":"IF(ISERROR(VLOOKUP(J23,'KAYIT LİSTESİ'!$B$4:$H$664,2,0)),\"\",(VLOOKUP(J23,'KAYIT LİSTESİ'!$B$4:$H$664,2,0)))","v":""},{"$f":"IF(ISERROR(VLOOKUP(J23,'KAYIT LİSTESİ'!$B$4:$H$664,4,0)),\"\",(VLOOKUP(J23,'KAYIT LİSTESİ'!$B$4:$H$664,4,0)))","v":""},{"$f":"IF(ISERROR(VLOOKUP(J23,'KAYIT LİSTESİ'!$B$4:$H$664,5,0)),\"\",(VLOOKUP(J23,'KAYIT LİSTESİ'!$B$4:$H$664,5,0)))","v":""},{"$f":"IF(ISERROR(VLOOKUP(J23,'KAYIT LİSTESİ'!$B$4:$H$664,6,0)),\"\",(VLOOKUP(J23,'KAYIT LİSTESİ'!$B$4:$H$664,6,0)))","v":""}," "]
[17,null,null,null,null,null,{"$f":"IF(ISTEXT(F24),0,IFERROR(VLOOKUP(SMALL(#REF!,COUNTIF(#REF!,\"<\"&F24)+1),#REF!, 2,0),\" \"))","v":" "},null,7,"100M.ENG-2-7",{"$f":"IF(ISERROR(VLOOKUP(J24,'KAYIT LİSTESİ'!$B$4:$H$664,2,0)),\"\",(VLOOKUP(J24,'KAYIT LİSTESİ'!$B$4:$H$664,2,0)))","v":""},{"$f":"IF(ISERROR(VLOOKUP(J24,'KAYIT LİSTESİ'!$B$4:$H$664,4,0)),\"\",(VLOOKUP(J24,'KAYIT LİSTESİ'!$B$4:$H$664,4,0)))","v":""},{"$f":"IF(ISERROR(VLOOKUP(J24,'KAYIT LİSTESİ'!$B$4:$H$664,5,0)),\"\",(VLOOKUP(J24,'KAYIT LİSTESİ'!$B$4:$H$664,5,0)))","v":""},{"$f":"IF(ISERROR(VLOOKUP(J24,'KAYIT LİSTESİ'!$B$4:$H$664,6,0)),\"\",(VLOOKUP(J24,'KAYIT LİSTESİ'!$B$4:$H$664,6,0)))","v":""}," "]
[18,null,null,null,null,null,{"$f":"IF(ISTEXT(F25),0,IFERROR(VLOOKUP(SMALL(#REF!,COUNTIF(#REF!,\"<\"&F25)+1),#REF!, 2,0),\" \"))","v":" "},null,8,"100M.ENG-2-8",{"$f":"IF(ISERROR(VLOOKUP(J25,'KAYIT LİSTESİ'!$B$4:$H$664,2,0)),\"\",(VLOOKUP(J25,'KAYIT LİSTESİ'!$B$4:$H$664,2,0)))","v":""},{"$f":"IF(ISERROR(VLOOKUP(J25,'KAYIT LİSTESİ'!$B$4:$H$664,4,0)),\"\",(VLOOKUP(J25,'KAYIT LİSTESİ'!$B$4:$H$664,4,0)))","v":""},{"$f":"IF(ISERROR(VLOOKUP(J25,'KAYIT LİSTESİ'!$B$4:$H$664,5,0)),\"\",(VLOOKUP(J25,'KAYIT LİSTESİ'!$B$4:$H$664,5,0)))","v":""},{"$f":"IF(ISERROR(VLOOKUP(J25,'KAYIT LİSTESİ'!$B$4:$H$664,6,0)),\"\",(VLOOKUP(J25,'KAYIT LİSTESİ'!$B$4:$H$664,6,0)))","v":""}," "]
[19,null,null,null,null,null,{"$f":"IF(ISTEXT(F26),0,IFERROR(VLOOKUP(SMALL(#REF!,COUNTIF(#REF!,\"<\"&F26)+1),#REF!, 2,0),\" \"))","v":" "},null,"3. SERİ",null,null,null,"Rüzgar:"]
[20,null,null,null,null,null,{"$f":"IF(ISTEXT(F27),0,IFERROR(VLOOKUP(SMALL(#REF!,COUNTIF(#REF!,\"<\"&F27)+1),#REF!, 2,0),\" \"))","v":" "},null,"Sıra No","Formül","Göğüs No","Doğum Tarihi","Adı ve Soyadı","İli-Okulu","Elektronik Kronometre","El Kronometre","Seri Geliş"]
[21,null,null,null,null,null,{"$f":"IF(ISTEXT(F28),0,IFERROR(VLOOKUP(SMALL(#REF!,COUNTIF(#REF!,\"<\"&F28)+1),#REF!, 2,0),\" \"))","v":" "},null,1,"100M.ENG-3-1",{"$f":"IF(ISERROR(VLOOKUP(J28,'KAYIT LİSTESİ'!$B$4:$H$664,2,0)),\"\",(VLOOKUP(J28,'KAYIT LİSTESİ'!$B$4:$H$664,2,0)))","v":""},{"$f":"IF(ISERROR(VLOOKUP(J28,'KAYIT LİSTESİ'!$B$4:$H$664,4,0)),\"\",(VLOOKUP(J28,'KAYIT LİSTESİ'!$B$4:$H$664,4,0)))","v":""},{"$f":"IF(ISERROR(VLOOKUP(J28,'KAYIT LİSTESİ'!$B$4:$H$664,5,0)),\"\",(VLOOKUP(J28,'KAYIT LİSTESİ'!$B$4:$H$664,5,0)))","v":""},{"$f":"IF(ISERROR(VLOOKUP(J28,'KAYIT LİSTESİ'!$B$4:$H$664,6,0)),\"\",(VLOOKUP(J28,'KAYIT LİSTESİ'!$B$4:$H$664,6,0)))","v":""},{"$f":"IF(IF(OR(P28=\"NM\",P28=\"DNF\",P28=\"DNS\",P28=\"DQ\",P28=\"\"),P28,(ROUNDUP(P28,)+24))=0,\" \",IF(OR(P28=\"NM\",P28=\"DNF\",P28=\"DNS\",P28=\"DQ\",P28=\"\"),P28,(ROUNDUP(P28,)+24)))","v":" "}]
[22,null,null,null,null,null,{"$f":"IF(ISTEXT(F29),0,IFERROR(VLOOKUP(SMALL(#REF!,COUNTIF(#REF!,\"<\"&F29)+1),#REF!, 2,0),\" \"))","v":" "},null,2,"100M.ENG-3-2",{"$f":"IF(ISERROR(VLOOKUP(J29,'KAYIT LİSTESİ'!$B$4:$H$664,2,0)),\"\",(VLOOKUP(J29,'KAYIT LİSTESİ'!$B$4:$H$664,2,0)))","v":""},{"$f":"IF(ISERROR(VLOOKUP(J29,'KAYIT LİSTESİ'!$B$4:$H$664,4,0)),\"\",(VLOOKUP(J29,'KAYIT LİSTESİ'!$B$4:$H$664,4,0)))","v":""},{"$f":"IF(ISERROR(VLOOKUP(J29,'KAYIT LİSTESİ'!$B$4:$H$664,5,0)),\"\",(VLOOKUP(J29,'KAYIT LİSTESİ'!$B$4:$H$664,5,0)))","v":""},{"$f":"IF(ISERROR(VLOOKUP(J29,'KAYIT LİSTESİ'!$B$4:$H$664,6,0)),\"\",(VLOOKUP(J29,'KAYIT LİSTESİ'!$B$4:$H$664,6,0)))","v":""}," "]
[23,null,null,null,null,null,{"$f":"IF(ISTEXT(F30),0,IFERROR(VLOOKUP(SMALL(#REF!,COUNTIF(#REF!,\"<\"&F30)+1),#REF!, 2,0),\" \"))","v":" "},null,3,"100M.ENG-3-3",{"$f":"IF(ISERROR(VLOOKUP(J30,'KAYIT LİSTESİ'!$B$4:$H$664,2,0)),\"\",(VLOOKUP(J30,'KAYIT LİSTESİ'!$B$4:$H$664,2,0)))","v":""},{"$f":"IF(ISERROR(VLOOKUP(J30,'KAYIT LİSTESİ'!$B$4:$H$664,4,0)),\"\",(VLOOKUP(J30,'KAYIT LİSTESİ'!$B$4:$H$664,4,0)))","v":""},{"$f":"IF(ISERROR(VLOOKUP(J30,'KAYIT LİSTESİ'!$B$4:$H$664,5,0)),\"\",(VLOOKUP(J30,'KAYIT LİSTESİ'!$B$4:$H$664,5,0)))","v":""},{"$f":"IF(ISERROR(VLOOKUP(J30,'KAYIT LİSTESİ'!$B$4:$H$664,6,0)),\"\",(VLOOKUP(J30,'KAYIT LİSTESİ'!$B$4:$H$664,6,0)))","v":""}," "]
[24,null,null,null,null,null,{"$f":"IF(ISTEXT(F31),0,IFERROR(VLOOKUP(SMALL(#REF!,COUNTIF(#REF!,\"<\"&F31)+1),#REF!, 2,0),\" \"))","v":" "},null,4,"100M.ENG-3-4",{"$f":"IF(ISERROR(VLOOKUP(J31,'KAYIT LİSTESİ'!$B$4:$H$664,2,0)),\"\",(VLOOKUP(J31,'KAYIT LİSTESİ'!$B$4:$H$664,2,0)))","v":""},{"$f":"IF(ISERROR(VLOOKUP(J31,'KAYIT LİSTESİ'!$B$4:$H$664,4,0)),\"\",(VLOOKUP(J31,'KAYIT LİSTESİ'!$B$4:$H$664,4,0)))","v":""},{"$f":"IF(ISERROR(VLOOKUP(J31,'KAYIT LİSTESİ'!$B$4:$H$664,5,0)),\"\",(VLOOKUP(J31,'KAYIT LİSTESİ'!$B$4:$H$664,5,0)))","v":""},{"$f":"IF(ISERROR(VLOOKUP(J31,'KAYIT LİSTESİ'!$B$4:$H$664,6,0)),\"\",(VLOOKUP(J31,'KAYIT LİSTESİ'!$B$4:$H$664,6,0)))","v":""}," "]
[25,null,null,null,null,null,{"$f":"IF(ISTEXT(F32),0,IFERROR(VLOOKUP(SMALL(#REF!,COUNTIF(#REF!,\"<\"&F32)+1),#REF!, 2,0),\" \"))","v":" "},null,5,"100M.ENG-3-5",{"$f":"IF(ISERROR(VLOOKUP(J32,'KAYIT LİSTESİ'!$B$4:$H$664,2,0)),\"\",(VLOOKUP(J32,'KAYIT LİSTESİ'!$B$4:$H$664,2,0)))","v":""},{"$f":"IF(ISERROR(VLOOKUP(J32,'KAYIT LİSTESİ'!$B$4:$H$664,4,0)),\"\",(VLOOKUP(J32,'KAYIT LİSTESİ'!$B$4:$H$664,4,0)))","v":""},{"$f":"IF(ISERROR(VLOOKUP(J32,'KAYIT LİSTESİ'!$B$4:$H$664,5,0)),\"\",(VLOOKUP(J32,'KAYIT LİSTESİ'!$B$4:$H$664,5,0)))","v":""},{"$f":"IF(ISERROR(VLOOKUP(J32,'KAYIT LİSTESİ'!$B$4:$H$664,6,0)),\"\",(VLOOKUP(J32,'KAYIT LİSTESİ'!$B$4:$H$664,6,0)))","v":""}," "]
[26,null,null,null,null,null,{"$f":"IF(ISTEXT(F33),0,IFERROR(VLOOKUP(SMALL(#REF!,COUNTIF(#REF!,\"<\"&F33)+1),#REF!, 2,0),\" \"))","v":" "},null,6,"100M.ENG-3-6",{"$f":"IF(ISERROR(VLOOKUP(J33,'KAYIT LİSTESİ'!$B$4:$H$664,2,0)),\"\",(VLOOKUP(J33,'KAYIT LİSTESİ'!$B$4:$H$664,2,0)))","v":""},{"$f":"IF(ISERROR(VLOOKUP(J33,'KAYIT LİSTESİ'!$B$4:$H$664,4,0)),\"\",(VLOOKUP(J33,'KAYIT LİSTESİ'!$B$4:$H$664,4,0)))","v":""},{"$f":"IF(ISERROR(VLOOKUP(J33,'KAYIT LİSTESİ'!$B$4:$H$664,5,0)),\"\",(VLOOKUP(J33,'KAYIT LİSTESİ'!$B$4:$H$664,5,0)))","v":""},{"$f":"IF(ISERROR(VLOOKUP(J33,'KAYIT LİSTESİ'!$B$4:$H$664,6,0)),\"\",(VLOOKUP(J33,'KAYIT LİSTESİ'!$B$4:$H$664,6,0)))","v":""}," "]
[27,null,null,null,null,null,{"$f":"IF(ISTEXT(F34),0,IFERROR(VLOOKUP(SMALL(#REF!,COUNTIF(#REF!,\"<\"&F34)+1),#REF!, 2,0),\" \"))","v":" "},null,7,"100M.ENG-3-7",{"$f":"IF(ISERROR(VLOOKUP(J34,'KAYIT LİSTESİ'!$B$4:$H$664,2,0)),\"\",(VLOOKUP(J34,'KAYIT LİSTESİ'!$B$4:$H$664,2,0)))","v":""},{"$f":"IF(ISERROR(VLOOKUP(J34,'KAYIT LİSTESİ'!$B$4:$H$664,4,0)),\"\",(VLOOKUP(J34,'KAYIT LİSTESİ'!$B$4:$H$664,4,0)))","v":""},{"$f":"IF(ISERROR(VLOOKUP(J34,'KAYIT LİSTESİ'!$B$4:$H$664,5,0)),\"\",(VLOOKUP(J34,'KAYIT LİSTESİ'!$B$4:$H$664,5,0)))","v":""},{"$f":"IF(ISERROR(VLOOKUP(J34,'KAYIT LİSTESİ'!$B$4:$H$664,6,0)),\"\",(VLOOKUP(J34,'KAYIT LİSTESİ'!$B$4:$H$664,6,0)))","v":""}," "]
[28,null,null,null,null,null,{"$f":"IF(ISTEXT(F35),0,IFERROR(VLOOKUP(SMALL(#REF!,COUNTIF(#REF!,\"<\"&F35)+1),#REF!, 2,0),\" \"))","v":" "},null,8,"100M.ENG-3-8",{"$f":"IF(ISERROR(VLOOKUP(J35,'KAYIT LİSTESİ'!$B$4:$H$664,2,0)),\"\",(VLOOKUP(J35,'KAYIT LİSTESİ'!$B$4:$H$664,2,0)))","v":""},{"$f":"IF(ISERROR(VLOOKUP(J35,'KAYIT LİSTESİ'!$B$4:$H$664,4,0)),\"\",(VLOOKUP(J35,'KAYIT LİSTESİ'!$B$4:$H$664,4,0)))","v":""},{"$f":"IF(ISERROR(VLOOKUP(J35,'KAYIT LİSTESİ'!$B$4:$H$664,5,0)),\"\",(VLOOKUP(J35,'KAYIT LİSTESİ'!$B$4:$H$664,5,0)))","v":""},{"$f":"IF(ISERROR(VLOOKUP(J35,'KAYIT LİSTESİ'!$B$4:$H$664,6,0)),\"\",(VLOOKUP(J35,'KAYIT LİSTESİ'!$B$4:$H$664,6,0)))","v":""}," "]
[29,null,null,null,null,null,{"$f":"IF(ISTEXT(F36),0,IFERROR(VLOOKUP(SMALL(#REF!,COUNTIF(#REF!,\"<\"&F36)+1),#REF!, 2,0),\" \"))","v":" "},null,"4. SERİ",null,null,null,"Rüzgar:"]
[30,null,null,null,null,null,{"$f":"IF(ISTEXT(F37),0,IFERROR(VLOOKUP(SMALL(#REF!,COUNTIF(#REF!,\"<\"&F37)+1),#REF!, 2,0),\" \"))","v":" "},null,"Sıra No","Formül","Göğüs No","Doğum Tarihi","Adı ve Soyadı","İli-Okulu","Elektronik Kronometre","El Kronometre","Seri Geliş"]
[31,null,null,null,null,null,{"$f":"IF(ISTEXT(F38),0,IFERROR(VLOOKUP(SMALL(#REF!,COUNTIF(#REF!,\"<\"&F38)+1),#REF!, 2,0),\" \"))","v":" "},null,1,"100M.ENG-4-1",{"$f":"IF(ISERROR(VLOOKUP(J38,'KAYIT LİSTESİ'!$B$4:$H$664,2,0)),\"\",(VLOOKUP(J38,'KAYIT LİSTESİ'!$B$4:$H$664,2,0)))","v":""},{"$f":"IF(ISERROR(VLOOKUP(J38,'KAYIT LİSTESİ'!$B$4:$H$664,4,0)),\"\",(VLOOKUP(J38,'KAYIT LİSTESİ'!$B$4:$H$664,4,0)))","v":""},{"$f":"IF(ISERROR(VLOOKUP(J38,'KAYIT LİSTESİ'!$B$4:$H$664,5,0)),\"\",(VLOOKUP(J38,'KAYIT LİSTESİ'!$B$4:$H$664,5,0)))","v":""},{"$f":"IF(ISERROR(VLOOKUP(J38,'KAYIT LİSTESİ'!$B$4:$H$664,6,0)),\"\",(VLOOKUP(J38,'KAYIT LİSTESİ'!$B$4:$H$664,6,0)))","v":""}]
[32,null,null,null,null,null,{"$f":"IF(ISTEXT(F39),0,IFERROR(VLOOKUP(SMALL(#REF!,COUNTIF(#REF!,\"<\"&F39)+1),#REF!, 2,0),\" \"))","v":" "},null,2,"100M.ENG-4-2",{"$f":"IF(ISERROR(VLOOKUP(J39,'KAYIT LİSTESİ'!$B$4:$H$664,2,0)),\"\",(VLOOKUP(J39,'KAYIT LİSTESİ'!$B$4:$H$664,2,0)))","v":""},{"$f":"IF(ISERROR(VLOOKUP(J39,'KAYIT LİSTESİ'!$B$4:$H$664,4,0)),\"\",(VLOOKUP(J39,'KAYIT LİSTESİ'!$B$4:$H$664,4,0)))","v":""},{"$f":"IF(ISERROR(VLOOKUP(J39,'KAYIT LİSTESİ'!$B$4:$H$664,5,0)),\"\",(VLOOKUP(J39,'KAYIT LİSTESİ'!$B$4:$H$664,5,0)))","v":""},{"$f":"IF(ISERROR(VLOOKUP(J39,'KAYIT LİSTESİ'!$B$4:$H$664,6,0)),\"\",(VLOOKUP(J39,'KAYIT LİSTESİ'!$B$4:$H$664,6,0)))","v":""}]
[33,null,null,null,null,null,{"$f":"IF(ISTEXT(F40),0,IFERROR(VLOOKUP(SMALL(#REF!,COUNTIF(#REF!,\"<\"&F40)+1),#REF!, 2,0),\" \"))","v":" "},null,3,"100M.ENG-4-3",{"$f":"IF(ISERROR(VLOOKUP(J40,'KAYIT LİSTESİ'!$B$4:$H$664,2,0)),\"\",(VLOOKUP(J40,'KAYIT LİSTESİ'!$B$4:$H$664,2,0)))","v":""},{"$f":"IF(ISERROR(VLOOKUP(J40,'KAYIT LİSTESİ'!$B$4:$H$664,4,0)),\"\",(VLOOKUP(J40,'KAYIT LİSTESİ'!$B$4:$H$664,4,0)))","v":""},{"$f":"IF(ISERROR(VLOOKUP(J40,'KAYIT LİSTESİ'!$B$4:$H$664,5,0)),\"\",(VLOOKUP(J40,'KAYIT LİSTESİ'!$B$4:$H$664,5,0)))","v":""},{"$f":"IF(ISERROR(VLOOKUP(J40,'KAYIT LİSTESİ'!$B$4:$H$664,6,0)),\"\",(VLOOKUP(J40,'KAYIT LİSTESİ'!$B$4:$H$664,6,0)))","v":""}]
[34,null,null,null,null,null,{"$f":"IF(ISTEXT(F41),0,IFERROR(VLOOKUP(SMALL(#REF!,COUNTIF(#REF!,\"<\"&F41)+1),#REF!, 2,0),\" \"))","v":" "},null,4,"100M.ENG-4-4",{"$f":"IF(ISERROR(VLOOKUP(J41,'KAYIT LİSTESİ'!$B$4:$H$664,2,0)),\"\",(VLOOKUP(J41,'KAYIT LİSTESİ'!$B$4:$H$664,2,0)))","v":""},{"$f":"IF(ISERROR(VLOOKUP(J41,'KAYIT LİSTESİ'!$B$4:$H$664,4,0)),\"\",(VLOOKUP(J41,'KAYIT LİSTESİ'!$B$4:$H$664,4,0)))","v":""},{"$f":"IF(ISERROR(VLOOKUP(J41,'KAYIT LİSTESİ'!$B$4:$H$664,5,0)),\"\",(VLOOKUP(J41,'KAYIT LİSTESİ'!$B$4:$H$664,5,0)))","v":""},{"$f":"IF(ISERROR(VLOOKUP(J41,'KAYIT LİSTESİ'!$B$4:$H$664,6,0)),\"\",(VLOOKUP(J41,'KAYIT LİSTESİ'!$B$4:$H$664,6,0)))","v":""}]
[35,null,null,null,null,null,{"$f":"IF(ISTEXT(F42),0,IFERROR(VLOOKUP(SMALL(#REF!,COUNTIF(#REF!,\"<\"&F42)+1),#REF!, 2,0),\" \"))","v":" "},null,5,"100M.ENG-4-5",{"$f":"IF(ISERROR(VLOOKUP(J42,'KAYIT LİSTESİ'!$B$4:$H$664,2,0)),\"\",(VLOOKUP(J42,'KAYIT LİSTESİ'!$B$4:$H$664,2,0)))","v":""},{"$f":"IF(ISERROR(VLOOKUP(J42,'KAYIT LİSTESİ'!$B$4:$H$664,4,0)),\"\",(VLOOKUP(J42,'KAYIT LİSTESİ'!$B$4:$H$664,4,0)))","v":""},{"$f":"IF(ISERROR(VLOOKUP(J42,'KAYIT LİSTESİ'!$B$4:$H$664,5,0)),\"\",(VLOOKUP(J42,'KAYIT LİSTESİ'!$B$4:$H$664,5,0)))","v":""},{"$f":"IF(ISERROR(VLOOKUP(J42,'KAYIT LİSTESİ'!$B$4:$H$664,6,0)),\"\",(VLOOKUP(J42,'KAYIT LİSTESİ'!$B$4:$H$664,6,0)))","v":""}]
[36,null,null,null,null,null,{"$f":"IF(ISTEXT(F43),0,IFERROR(VLOOKUP(SMALL(#REF!,COUNTIF(#REF!,\"<\"&F43)+1),#REF!, 2,0),\" \"))","v":" "},null,6,"100M.ENG-4-6",{"$f":"IF(ISERROR(VLOOKUP(J43,'KAYIT LİSTESİ'!$B$4:$H$664,2,0)),\"\",(VLOOKUP(J43,'KAYIT LİSTESİ'!$B$4:$H$664,2,0)))","v":""},{"$f":"IF(ISERROR(VLOOKUP(J43,'KAYIT LİSTESİ'!$B$4:$H$664,4,0)),\"\",(VLOOKUP(J43,'KAYIT LİSTESİ'!$B$4:$H$664,4,0)))","v":""},{"$f":"IF(ISERROR(VLOOKUP(J43,'KAYIT LİSTESİ'!$B$4:$H$664,5,0)),\"\",(VLOOKUP(J43,'KAYIT LİSTESİ'!$B$4:$H$664,5,0)))","v":""},{"$f":"IF(ISERROR(VLOOKUP(J43,'KAYIT LİSTESİ'!$B$4:$H$664,6,0)),\"\",(VLOOKUP(J43,'KAYIT LİSTESİ'!$B$4:$H$664,6,0)))","v":""}]
[37,null,null,null,null,null,{"$f":"IF(ISTEXT(F44),0,IFERROR(VLOOKUP(SMALL(#REF!,COUNTIF(#REF!,\"<\"&F44)+1),#REF!, 2,0),\" \"))","v":" "},null,7,"100M.ENG-4-7",{"$f":"IF(ISERROR(VLOOKUP(J44,'KAYIT LİSTESİ'!$B$4:$H$664,2,0)),\"\",(VLOOKUP(J44,'KAYIT LİSTESİ'!$B$4:$H$664,2,0)))","v":""},{"$f":"IF(ISERROR(VLOOKUP(J44,'KAYIT LİSTESİ'!$B$4:$H$664,4,0)),\"\",(VLOOKUP(J44,'KAYIT LİSTESİ'!$B$4:$H$664,4,0)))","v":""},{"$f":"IF(ISERROR(VLOOKUP(J44,'KAYIT LİSTESİ'!$B$4:$H$664,5,0)),\"\",(VLOOKUP(J44,'KAYIT LİSTESİ'!$B$4:$H$664,5,0)))","v":""},{"$f":"IF(ISERROR(VLOOKUP(J44,'KAYIT LİSTESİ'!$B$4:$H$664,6,0)),\"\",(VLOOKUP(J44,'KAYIT LİSTESİ'!$B$4:$H$664,6,0)))","v":""}]
[38,null,null,null,null,null,{"$f":"IF(ISTEXT(F45),0,IFERROR(VLOOKUP(SMALL(#REF!,COUNTIF(#REF!,\"<\"&F45)+1),#REF!, 2,0),\" \"))","v":" "},null,8,"100M.ENG-4-8",{"$f":"IF(ISERROR(VLOOKUP(J45,'KAYIT LİSTESİ'!$B$4:$H$664,2,0)),\"\",(VLOOKUP(J45,'KAYIT LİSTESİ'!$B$4:$H$664,2,0)))","v":""},{"$f":"IF(ISERROR(VLOOKUP(J45,'KAYIT LİSTESİ'!$B$4:$H$664,4,0)),\"\",(VLOOKUP(J45,'KAYIT LİSTESİ'!$B$4:$H$664,4,0)))","v":""},{"$f":"IF(ISERROR(VLOOKUP(J45,'KAYIT LİSTESİ'!$B$4:$H$664,5,0)),\"\",(VLOOKUP(J45,'KAYIT LİSTESİ'!$B$4:$H$664,5,0)))","v":""},{"$f":"IF(ISERROR(VLOOKUP(J45,'KAYIT LİSTESİ'!$B$4:$H$664,6,0)),\"\",(VLOOKUP(J45,'KAYIT LİSTESİ'!$B$4:$H$664,6,0)))","v":""}]
[]
["Müsabakalar Direktörü",null,null,null,"Baş Hakem","Lider",null,"Sekreter",null,null,null,null,"Hakem","Hakem",null,"Hakem"]

{"sheet":"10000M.","index":7,"n_rows":47,"n_cols":17,"rows_kept":47,"cut":false,"hidden":false,"merged":[[0,0,0,16],[1,0,1,16],[2,0,2,2],[2,3,2,4],[2,5,2,6],[2,8,2,11],[2,13,2,16],[5,6,6,6],[3,0,3,2],[3,3,3,4],[3,13,3,16],[4,13,4,16],[5,0,6,0],[5,1,6,1],[5,2,6,2],[5,3,6,3],[5,4,6,4],[5,5,6,5]]}
[{"$f":"('YARIŞMA BİLGİLERİ'!A2)","v":"Türkiye Atletizm Federasyonu\nMersin Atletizm İl Temsilciliği\n"}]
[{"$f":"'YARIŞMA BİLGİLERİ'!F19","v":"Olimpik Baraj  Yarışmaları"}]
["Yarışma :",null,null,{"$f":"#REF!","v":{"$error":"#REF!"}},null,"Baraj Derecesi ",null,":",{"$f":"#REF!","v":{"$error":"#REF!"}}]
["Kategori :",null,null,{"$f":"'YARIŞMA BİLGİLERİ'!F21","v":"Kadınlar"},null,null,null,null,null,null,null,null,"Tarih-Saat :",{"$f":"#REF!","v":{"$error":"#REF!"}}]
[null,null,null,null,null,null,null,null,null,null,null,null,null,{"$f":"NOW()","v":42222.536638541664}]
["Sıra No","Göğüs No","Doğum Tarihi\nGün/Ay/Yıl","Adı ve Soyadı","İli-Okulu","Derece","Puan",null,"1. SERİ"]
[null,null,null,null,null,null,null,null,"Sıra No","Formül","Göğüs No","Doğum Tarihi","Adı ve Soyadı","İli-Okulu","Elektronik Kronometre","El Kronometre","Seri Geliş"]
[1,null,null,null,null,null,{"$f":"IF(ISTEXT(F8),0,IFERROR(VLOOKUP(SMALL(#REF!,COUNTIF(#REF!,\"<\"&F8)+1),#REF!, 2,0),\" \"))","v":" "},null,1,"10000M-1-1",{"$f":"IF(ISERROR(VLOOKUP(J8,'KAYIT LİSTESİ'!$B$4:$H$664,2,0)),\"\",(VLOOKUP(J8,'KAYIT LİSTESİ'!$B$4:$H$664,2,0)))","v":""},{"$f":"IF(ISERROR(VLOOKUP(J8,'KAYIT LİSTESİ'!$B$4:$H$664,4,0)),\"\",(VLOOKUP(J8,'KAYIT LİSTESİ'!$B$4:$H$664,4,0)))","v":""},{"$f":"IF(ISERROR(VLOOKUP(J8,'KAYIT LİSTESİ'!$B$4:$H$664,5,0)),\"\",(VLOOKUP(J8,'KAYIT LİSTESİ'!$B$4:$H$664,5,0)))","v":""},{"$f":"IF(ISERROR(VLOOKUP(J8,'KAYIT LİSTESİ'!$B$4:$H$664,6,0)),\"\",(VLOOKUP(J8,'KAYIT LİSTESİ'!$B$4:$H$664,6,0)))","v":""},{"$f":"IF(IF(OR(P8=\"NM\",P8=\"DNF\",P8=\"DNS\",P8=\"DQ\",P8=\"\"),P8,(ROUNDUP(P8,)+24))=0,\" \",IF(OR(P8=\"NM\",P8=\"DNF\",P8=\"DNS\",P8=\"DQ\",P8=\"\"),P8,(ROUNDUP(P8,)+24)))","v":" "}]
[2,null,null,null,null,null,{"$f":"IF(ISTEXT(F9),0,IFERROR(VLOOKUP(SMALL(#REF!,COUNTIF(#REF!,\"<\"&F9)+1),#REF!, 2,0),\" \"))","v":" "},null,2,"10000M-1-2",{"$f":"IF(ISERROR(VLOOKUP(J9,'KAYIT LİSTESİ'!$B$4:$H$664,2,0)),\"\",(VLOOKUP(J9,'KAYIT LİSTESİ'!$B$4:$H$664,2,0)))","v":616},{"$f":"IF(ISERROR(VLOOKUP(J9,'KAYIT LİSTESİ'!$B$4:$H$664,4,0)),\"\",(VLOOKUP(J9,'KAYIT LİSTESİ'!$B$4:$H$664,4,0)))","v":"1995-12-06"},{"$f":"IF(ISERROR(VLOOKUP(J9,'KAYIT LİSTESİ'!$B$4:$H$664,5,0)),\"\",(VLOOKUP(J9,'KAYIT LİSTESİ'!$B$4:$H$664,5,0)))","v":"SABAHAT AKPINAR"},{"$f":"IF(ISERROR(VLOOKUP(J9,'KAYIT LİSTESİ'!$B$4:$H$664,6,0)),\"\",(VLOOKUP(J9,'KAYIT LİSTESİ'!$B$4:$H$664,6,0)))","v":"HATAY"}," "]
[3,null,null,null,null,null,{"$f":"IF(ISTEXT(F10),0,IFERROR(VLOOKUP(SMALL(#REF!,COUNTIF(#REF!,\"<\"&F10)+1),#REF!, 2,0),\" \"))","v":" "},null,3,"10000M-1-3",{"$f":"IF(ISERROR(VLOOKUP(J10,'KAYIT LİSTESİ'!$B$4:$H$664,2,0)),\"\",(VLOOKUP(J10,'KAYIT LİSTESİ'!$B$4:$H$664,2,0)))","v":""},{"$f":"IF(ISERROR(VLOOKUP(J10,'KAYIT LİSTESİ'!$B$4:$H$664,4,0)),\"\",(VLOOKUP(J10,'KAYIT LİSTESİ'!$B$4:$H$664,4,0)))","v":""},{"$f":"IF(ISERROR(VLOOKUP(J10,'KAYIT LİSTESİ'!$B$4:$H$664,5,0)),\"\",(VLOOKUP(J10,'KAYIT LİSTESİ'!$B$4:$H$664,5,0)))","v":""},{"$f":"IF(ISERROR(VLOOKUP(J10,'KAYIT LİSTESİ'!$B$4:$H$664,6,0)),\"\",(VLOOKUP(J10,'KAYIT LİSTESİ'!$B$4:$H$664,6,0)))","v":""}," "]
[4,null,null,null,null,null,{"$f":"IF(ISTEXT(F11),0,IFERROR(VLOOKUP(SMALL(#REF!,COUNTIF(#REF!,\"<\"&F11)+1),#REF!, 2,0),\" \"))","v":" "},null,4,"10000M-1-4",{"$f":"IF(ISERROR(VLOOKUP(J11,'KAYIT LİSTESİ'!$B$4:$H$664,2,0)),\"\",(VLOOKUP(J11,'KAYIT LİSTESİ'!$B$4:$H$664,2,0)))","v":""},{"$f":"IF(ISERROR(VLOOKUP(J11,'KAYIT LİSTESİ'!$B$4:$H$664,4,0)),\"\",(VLOOKUP(J11,'KAYIT LİSTESİ'!$B$4:$H$664,4,0)))","v":""},{"$f":"IF(ISERROR(VLOOKUP(J11,'KAYIT LİSTESİ'!$B$4:$H$664,5,0)),\"\",(VLOOKUP(J11,'KAYIT LİSTESİ'!$B$4:$H$664,5,0)))","v":""},{"$f":"IF(ISERROR(VLOOKUP(J11,'KAYIT LİSTESİ'!$B$4:$H$664,6,0)),\"\",(VLOOKUP(J11,'KAYIT LİSTESİ'!$B$4:$H$664,6,0)))","v":""}," "]
[5,null,null,null,null,null,{"$f":"IF(ISTEXT(F12),0,IFERROR(VLOOKUP(SMALL(#REF!,COUNTIF(#REF!,\"<\"&F12)+1),#REF!, 2,0),\" \"))","v":" "},null,5,"10000M-1-5",{"$f":"IF(ISERROR(VLOOKUP(J12,'KAYIT LİSTESİ'!$B$4:$H$664,2,0)),\"\",(VLOOKUP(J12,'KAYIT LİSTESİ'!$B$4:$H$664,2,0)))","v":""},{"$f":"IF(ISERROR(VLOOKUP(J12,'KAYIT LİSTESİ'!$B$4:$H$664,4,0)),\"\",(VLOOKUP(J12,'KAYIT LİSTESİ'!$B$4:$H$664,4,0)))","v":""},{"$f":"IF(ISERROR(VLOOKUP(J12,'KAYIT LİSTESİ'!$B$4:$H$664,5,0)),\"\",(VLOOKUP(J12,'KAYIT LİSTESİ'!$B$4:$H$664,5,0)))","v":""},{"$f":"IF(ISERROR(VLOOKUP(J12,'KAYIT LİSTESİ'!$B$4:$H$664,6,0)),\"\",(VLOOKUP(J12,'KAYIT LİSTESİ'!$B$4:$H$664,6,0)))","v":""}," "]
[6,null,null,null,null,null,{"$f":"IF(ISTEXT(F13),0,IFERROR(VLOOKUP(SMALL(#REF!,COUNTIF(#REF!,\"<\"&F13)+1),#REF!, 2,0),\" \"))","v":" "},null,6,"10000M-1-6",{"$f":"IF(ISERROR(VLOOKUP(J13,'KAYIT LİSTESİ'!$B$4:$H$664,2,0)),\"\",(VLOOKUP(J13,'KAYIT LİSTESİ'!$B$4:$H$664,2,0)))","v":""},{"$f":"IF(ISERROR(VLOOKUP(J13,'KAYIT LİSTESİ'!$B$4:$H$664,4,0)),\"\",(VLOOKUP(J13,'KAYIT LİSTESİ'!$B$4:$H$664,4,0)))","v":""},{"$f":"IF(ISERROR(VLOOKUP(J13,'KAYIT LİSTESİ'!$B$4:$H$664,5,0)),\"\",(VLOOKUP(J13,'KAYIT LİSTESİ'!$B$4:$H$664,5,0)))","v":""},{"$f":"IF(ISERROR(VLOOKUP(J13,'KAYIT LİSTESİ'!$B$4:$H$664,6,0)),\"\",(VLOOKUP(J13,'KAYIT LİSTESİ'!$B$4:$H$664,6,0)))","v":""}," "]
[7,null,null,null,null,null,{"$f":"IF(ISTEXT(F14),0,IFERROR(VLOOKUP(SMALL(#REF!,COUNTIF(#REF!,\"<\"&F14)+1),#REF!, 2,0),\" \"))","v":" "},null,7,"10000M-1-7",{"$f":"IF(ISERROR(VLOOKUP(J14,'KAYIT LİSTESİ'!$B$4:$H$664,2,0)),\"\",(VLOOKUP(J14,'KAYIT LİSTESİ'!$B$4:$H$664,2,0)))","v":""},{"$f":"IF(ISERROR(VLOOKUP(J14,'KAYIT LİSTESİ'!$B$4:$H$664,4,0)),\"\",(VLOOKUP(J14,'KAYIT LİSTESİ'!$B$4:$H$664,4,0)))","v":""},{"$f":"IF(ISERROR(VLOOKUP(J14,'KAYIT LİSTESİ'!$B$4:$H$664,5,0)),\"\",(VLOOKUP(J14,'KAYIT LİSTESİ'!$B$4:$H$664,5,0)))","v":""},{"$f":"IF(ISERROR(VLOOKUP(J14,'KAYIT LİSTESİ'!$B$4:$H$664,6,0)),\"\",(VLOOKUP(J14,'KAYIT LİSTESİ'!$B$4:$H$664,6,0)))","v":""}," "]
[8,null,null,null,null,null,{"$f":"IF(ISTEXT(F15),0,IFERROR(VLOOKUP(SMALL(#REF!,COUNTIF(#REF!,\"<\"&F15)+1),#REF!, 2,0),\" \"))","v":" "},null,8,"10000M-1-8",{"$f":"IF(ISERROR(VLOOKUP(J15,'KAYIT LİSTESİ'!$B$4:$H$664,2,0)),\"\",(VLOOKUP(J15,'KAYIT LİSTESİ'!$B$4:$H$664,2,0)))","v":""},{"$f":"IF(ISERROR(VLOOKUP(J15,'KAYIT LİSTESİ'!$B$4:$H$664,4,0)),\"\",(VLOOKUP(J15,'KAYIT LİSTESİ'!$B$4:$H$664,4,0)))","v":""},{"$f":"IF(ISERROR(VLOOKUP(J15,'KAYIT LİSTESİ'!$B$4:$H$664,5,0)),\"\",(VLOOKUP(J15,'KAYIT LİSTESİ'!$B$4:$H$664,5,0)))","v":""},{"$f":"IF(ISERROR(VLOOKUP(J15,'KAYIT LİSTESİ'!$B$4:$H$664,6,0)),\"\",(VLOOKUP(J15,'KAYIT LİSTESİ'!$B$4:$H$664,6,0)))","v":""}," "]
[9,null,null,null,null,null,{"$f":"IF(ISTEXT(F16),0,IFERROR(VLOOKUP(SMALL(#REF!,COUNTIF(#REF!,\"<\"&F16)+1),#REF!, 2,0),\" \"))","v":" "},null,"2. SERİ"]
[10,null,null,null,null,null,{"$f":"IF(ISTEXT(F17),0,IFERROR(VLOOKUP(SMALL(#REF!,COUNTIF(#REF!,\"<\"&F17)+1),#REF!, 2,0),\" \"))","v":" "},null,"Sıra No","Formül","Göğüs No","Doğum Tarihi","Adı ve Soyadı","İli-Okulu","Elektronik Kronometre","El Kronometre","Seri Geliş"]
[11,null,null,null,null,null,{"$f":"IF(ISTEXT(F18),0,IFERROR(VLOOKUP(SMALL(#REF!,COUNTIF(#REF!,\"<\"&F18)+1),#REF!, 2,0),\" \"))","v":" "},null,1,"400M-2-1",{"$f":"IF(ISERROR(VLOOKUP(J18,'KAYIT LİSTESİ'!$B$4:$H$664,2,0)),\"\",(VLOOKUP(J18,'KAYIT LİSTESİ'!$B$4:$H$664,2,0)))","v":""},{"$f":"IF(ISERROR(VLOOKUP(J18,'KAYIT LİSTESİ'!$B$4:$H$664,4,0)),\"\",(VLOOKUP(J18,'KAYIT LİSTESİ'!$B$4:$H$664,4,0)))","v":""},{"$f":"IF(ISERROR(VLOOKUP(J18,'KAYIT LİSTESİ'!$B$4:$H$664,5,0)),\"\",(VLOOKUP(J18,'KAYIT LİSTESİ'!$B$4:$H$664,5,0)))","v":""},{"$f":"IF(ISERROR(VLOOKUP(J18,'KAYIT LİSTESİ'!$B$4:$H$664,6,0)),\"\",(VLOOKUP(J18,'KAYIT LİSTESİ'!$B$4:$H$664,6,0)))","v":""},{"$f":"IF(IF(OR(P18=\"NM\",P18=\"DNF\",P18=\"DNS\",P18=\"DQ\",P18=\"\"),P18,(ROUNDUP(P18,)+24))=0,\" \",IF(OR(P18=\"NM\",P18=\"DNF\",P18=\"DNS\",P18=\"DQ\",P18=\"\"),P18,(ROUNDUP(P18,)+24)))","v":" "}]
[12,null,null,null,null,null,{"$f":"IF(ISTEXT(F19),0,IFERROR(VLOOKUP(SMALL(#REF!,COUNTIF(#REF!,\"<\"&F19)+1),#REF!, 2,0),\" \"))","v":" "},null,2,"400M-2-2",{"$f":"IF(ISERROR(VLOOKUP(J19,'KAYIT LİSTESİ'!$B$4:$H$664,2,0)),\"\",(VLOOKUP(J19,'KAYIT LİSTESİ'!$B$4:$H$664,2,0)))","v":""},{"$f":"IF(ISERROR(VLOOKUP(J19,'KAYIT LİSTESİ'!$B$4:$H$664,4,0)),\"\",(VLOOKUP(J19,'KAYIT LİSTESİ'!$B$4:$H$664,4,0)))","v":""},{"$f":"IF(ISERROR(VLOOKUP(J19,'KAYIT LİSTESİ'!$B$4:$H$664,5,0)),\"\",(VLOOKUP(J19,'KAYIT LİSTESİ'!$B$4:$H$664,5,0)))","v":""},{"$f":"IF(ISERROR(VLOOKUP(J19,'KAYIT LİSTESİ'!$B$4:$H$664,6,0)),\"\",(VLOOKUP(J19,'KAYIT LİSTESİ'!$B$4:$H$664,6,0)))","v":""}," "]
[13,null,null,null,null,null,{"$f":"IF(ISTEXT(F20),0,IFERROR(VLOOKUP(SMALL(#REF!,COUNTIF(#REF!,\"<\"&F20)+1),#REF!, 2,0),\" \"))","v":" "},null,3,"400M-2-3",{"$f":"IF(ISERROR(VLOOKUP(J20,'KAYIT LİSTESİ'!$B$4:$H$664,2,0)),\"\",(VLOOKUP(J20,'KAYIT LİSTESİ'!$B$4:$H$664,2,0)))","v":""},{"$f":"IF(ISERROR(VLOOKUP(J20,'KAYIT LİSTESİ'!$B$4:$H$664,4,0)),\"\",(VLOOKUP(J20,'KAYIT LİSTESİ'!$B$4:$H$664,4,0)))","v":""},{"$f":"IF(ISERROR(VLOOKUP(J20,'KAYIT LİSTESİ'!$B$4:$H$664,5,0)),\"\",(VLOOKUP(J20,'KAYIT LİSTESİ'!$B$4:$H$664,5,0)))","v":""},{"$f":"IF(ISERROR(VLOOKUP(J20,'KAYIT LİSTESİ'!$B$4:$H$664,6,0)),\"\",(VLOOKUP(J20,'KAYIT LİSTESİ'!$B$4:$H$664,6,0)))","v":""}," "]
[14,null,null,null,null,null,{"$f":"IF(ISTEXT(F21),0,IFERROR(VLOOKUP(SMALL(#REF!,COUNTIF(#REF!,\"<\"&F21)+1),#REF!, 2,0),\" \"))","v":" "},null,4,"400M-2-4",{"$f":"IF(ISERROR(VLOOKUP(J21,'KAYIT LİSTESİ'!$B$4:$H$664,2,0)),\"\",(VLOOKUP(J21,'KAYIT LİSTESİ'!$B$4:$H$664,2,0)))","v":""},{"$f":"IF(ISERROR(VLOOKUP(J21,'KAYIT LİSTESİ'!$B$4:$H$664,4,0)),\"\",(VLOOKUP(J21,'KAYIT LİSTESİ'!$B$4:$H$664,4,0)))","v":""},{"$f":"IF(ISERROR(VLOOKUP(J21,'KAYIT LİSTESİ'!$B$4:$H$664,5,0)),\"\",(VLOOKUP(J21,'KAYIT LİSTESİ'!$B$4:$H$664,5,0)))","v":""},{"$f":"IF(ISERROR(VLOOKUP(J21,'KAYIT LİSTESİ'!$B$4:$H$664,6,0)),\"\",(VLOOKUP(J21,'KAYIT LİSTESİ'!$B$4:$H$664,6,0)))","v":""}," "]
[15,null,null,null,null,null,{"$f":"IF(ISTEXT(F22),0,IFERROR(VLOOKUP(SMALL(#REF!,COUNTIF(#REF!,\"<\"&F22)+1),#REF!, 2,0),\" \"))","v":" "},null,5,"400M-2-5",{"$f":"IF(ISERROR(VLOOKUP(J22,'KAYIT LİSTESİ'!$B$4:$H$664,2,0)),\"\",(VLOOKUP(J22,'KAYIT LİSTESİ'!$B$4:$H$664,2,0)))","v":""},{"$f":"IF(ISERROR(VLOOKUP(J22,'KAYIT LİSTESİ'!$B$4:$H$664,4,0)),\"\",(VLOOKUP(J22,'KAYIT LİSTESİ'!$B$4:$H$664,4,0)))","v":""},{"$f":"IF(ISERROR(VLOOKUP(J22,'KAYIT LİSTESİ'!$B$4:$H$664,5,0)),\"\",(VLOOKUP(J22,'KAYIT LİSTESİ'!$B$4:$H$664,5,0)))","v":""},{"$f":"IF(ISERROR(VLOOKUP(J22,'KAYIT LİSTESİ'!$B$4:$H$664,6,0)),\"\",(VLOOKUP(J22,'KAYIT LİSTESİ'!$B$4:$H$664,6,0)))","v":""}," "]
[16,null,null,null,null,null,{"$f":"IF(ISTEXT(F23),0,IFERROR(VLOOKUP(SMALL(#REF!,COUNTIF(#REF!,\"<\"&F23)+1),#REF!, 2,0),\" \"))","v":" "},null,6,"400M-2-6",{"$f":"IF(ISERROR(VLOOKUP(J23,'KAYIT LİSTESİ'!$B$4:$H$664,2,0)),\"\",(VLOOKUP(J23,'KAYIT LİSTESİ'!$B$4:$H$664,2,0)))","v":""},{"$f":"IF(ISERROR(VLOOKUP(J23,'KAYIT LİSTESİ'!$B$4:$H$664,4,0)),\"\",(VLOOKUP(J23,'KAYIT LİSTESİ'!$B$4:$H$664,4,0)))","v":""},{"$f":"IF(ISERROR(VLOOKUP(J23,'KAYIT LİSTESİ'!$B$4:$H$664,5,0)),\"\",(VLOOKUP(J23,'KAYIT LİSTESİ'!$B$4:$H$664,5,0)))","v":""},{"$f":"IF(ISERROR(VLOOKUP(J23,'KAYIT LİSTESİ'!$B$4:$H$664,6,0)),\"\",(VLOOKUP(J23,'KAYIT LİSTESİ'!$B$4:$H$664,6,0)))","v":""}," "]
[17,null,null,null,null,null,{"$f":"IF(ISTEXT(F24),0,IFERROR(VLOOKUP(SMALL(#REF!,COUNTIF(#REF!,\"<\"&F24)+1),#REF!, 2,0),\" \"))","v":" "},null,7,"400M-2-7",{"$f":"IF(ISERROR(VLOOKUP(J24,'KAYIT LİSTESİ'!$B$4:$H$664,2,0)),\"\",(VLOOKUP(J24,'KAYIT LİSTESİ'!$B$4:$H$664,2,0)))","v":""},{"$f":"IF(ISERROR(VLOOKUP(J24,'KAYIT LİSTESİ'!$B$4:$H$664,4,0)),\"\",(VLOOKUP(J24,'KAYIT LİSTESİ'!$B$4:$H$664,4,0)))","v":""},{"$f":"IF(ISERROR(VLOOKUP(J24,'KAYIT LİSTESİ'!$B$4:$H$664,5,0)),\"\",(VLOOKUP(J24,'KAYIT LİSTESİ'!$B$4:$H$664,5,0)))","v":""},{"$f":"IF(ISERROR(VLOOKUP(J24,'KAYIT LİSTESİ'!$B$4:$H$664,6,0)),\"\",(VLOOKUP(J24,'KAYIT LİSTESİ'!$B$4:$H$664,6,0)))","v":""}," "]
[18,null,null,null,null,null,{"$f":"IF(ISTEXT(F25),0,IFERROR(VLOOKUP(SMALL(#REF!,COUNTIF(#REF!,\"<\"&F25)+1),#REF!, 2,0),\" \"))","v":" "},null,8,"400M-2-8",{"$f":"IF(ISERROR(VLOOKUP(J25,'KAYIT LİSTESİ'!$B$4:$H$664,2,0)),\"\",(VLOOKUP(J25,'KAYIT LİSTESİ'!$B$4:$H$664,2,0)))","v":""},{"$f":"IF(ISERROR(VLOOKUP(J25,'KAYIT LİSTESİ'!$B$4:$H$664,4,0)),\"\",(VLOOKUP(J25,'KAYIT LİSTESİ'!$B$4:$H$664,4,0)))","v":""},{"$f":"IF(ISERROR(VLOOKUP(J25,'KAYIT LİSTESİ'!$B$4:$H$664,5,0)),\"\",(VLOOKUP(J25,'KAYIT LİSTESİ'!$B$4:$H$664,5,0)))","v":""},{"$f":"IF(ISERROR(VLOOKUP(J25,'KAYIT LİSTESİ'!$B$4:$H$664,6,0)),\"\",(VLOOKUP(J25,'KAYIT LİSTESİ'!$B$4:$H$664,6,0)))","v":""}," "]
[19,null,null,null,null,null,{"$f":"IF(ISTEXT(F26),0,IFERROR(VLOOKUP(SMALL(#REF!,COUNTIF(#REF!,\"<\"&F26)+1),#REF!, 2,0),\" \"))","v":" "},null,"3. SERİ"]
[20,null,null,null,null,null,{"$f":"IF(ISTEXT(F27),0,IFERROR(VLOOKUP(SMALL(#REF!,COUNTIF(#REF!,\"<\"&F27)+1),#REF!, 2,0),\" \"))","v":" "},null,"Sıra No","Formül","Göğüs No","Doğum Tarihi","Adı ve Soyadı","İli-Okulu","Elektronik Kronometre","El Kronometre","Seri Geliş"]
[21,null,null,null,null,null,{"$f":"IF(ISTEXT(F28),0,IFERROR(VLOOKUP(SMALL(#REF!,COUNTIF(#REF!,\"<\"&F28)+1),#REF!, 2,0),\" \"))","v":" "},null,1,"400M-3-1",{"$f":"IF(ISERROR(VLOOKUP(J28,'KAYIT LİSTESİ'!$B$4:$H$664,2,0)),\"\",(VLOOKUP(J28,'KAYIT LİSTESİ'!$B$4:$H$664,2,0)))","v":""},{"$f":"IF(ISERROR(VLOOKUP(J28,'KAYIT LİSTESİ'!$B$4:$H$664,4,0)),\"\",(VLOOKUP(J28,'KAYIT LİSTESİ'!$B$4:$H$664,4,0)))","v":""},{"$f":"IF(ISERROR(VLOOKUP(J28,'KAYIT LİSTESİ'!$B$4:$H$664,5,0)),\"\",(VLOOKUP(J28,'KAYIT LİSTESİ'!$B$4:$H$664,5,0)))","v":""},{"$f":"IF(ISERROR(VLOOKUP(J28,'KAYIT LİSTESİ'!$B$4:$H$664,6,0)),\"\",(VLOOKUP(J28,'KAYIT LİSTESİ'!$B$4:$H$664,6,0)))","v":""},{"$f":"IF(IF(OR(P28=\"NM\",P28=\"DNF\",P28=\"DNS\",P28=\"DQ\",P28=\"\"),P28,(ROUNDUP(P28,)+24))=0,\" \",IF(OR(P28=\"NM\",P28=\"DNF\",P28=\"DNS\",P28=\"DQ\",P28=\"\"),P28,(ROUNDUP(P28,)+24)))","v":" "}]
[22,null,null,null,null,null,{"$f":"IF(ISTEXT(F29),0,IFERROR(VLOOKUP(SMALL(#REF!,COUNTIF(#REF!,\"<\"&F29)+1),#REF!, 2,0),\" \"))","v":" "},null,2,"400M-3-2",{"$f":"IF(ISERROR(VLOOKUP(J29,'KAYIT LİSTESİ'!$B$4:$H$664,2,0)),\"\",(VLOOKUP(J29,'KAYIT LİSTESİ'!$B$4:$H$664,2,0)))","v":""},{"$f":"IF(ISERROR(VLOOKUP(J29,'KAYIT LİSTESİ'!$B$4:$H$664,4,0)),\"\",(VLOOKUP(J29,'KAYIT LİSTESİ'!$B$4:$H$664,4,0)))","v":""},{"$f":"IF(ISERROR(VLOOKUP(J29,'KAYIT LİSTESİ'!$B$4:$H$664,5,0)),\"\",(VLOOKUP(J29,'KAYIT LİSTESİ'!$B$4:$H$664,5,0)))","v":""},{"$f":"IF(ISERROR(VLOOKUP(J29,'KAYIT LİSTESİ'!$B$4:$H$664,6,0)),\"\",(VLOOKUP(J29,'KAYIT LİSTESİ'!$B$4:$H$664,6,0)))","v":""}," "]
[23,null,null,null,null,null,{"$f":"IF(ISTEXT(F30),0,IFERROR(VLOOKUP(SMALL(#REF!,COUNTIF(#REF!,\"<\"&F30)+1),#REF!, 2,0),\" \"))","v":" "},null,3,"400M-3-3",{"$f":"IF(ISERROR(VLOOKUP(J30,'KAYIT LİSTESİ'!$B$4:$H$664,2,0)),\"\",(VLOOKUP(J30,'KAYIT LİSTESİ'!$B$4:$H$664,2,0)))","v":""},{"$f":"IF(ISERROR(VLOOKUP(J30,'KAYIT LİSTESİ'!$B$4:$H$664,4,0)),\"\",(VLOOKUP(J30,'KAYIT LİSTESİ'!$B$4:$H$664,4,0)))","v":""},{"$f":"IF(ISERROR(VLOOKUP(J30,'KAYIT LİSTESİ'!$B$4:$H$664,5,0)),\"\",(VLOOKUP(J30,'KAYIT LİSTESİ'!$B$4:$H$664,5,0)))","v":""},{"$f":"IF(ISERROR(VLOOKUP(J30,'KAYIT LİSTESİ'!$B$4:$H$664,6,0)),\"\",(VLOOKUP(J30,'KAYIT LİSTESİ'!$B$4:$H$664,6,0)))","v":""}," "]
[24,null,null,null,null,null,{"$f":"IF(ISTEXT(F31),0,IFERROR(VLOOKUP(SMALL(#REF!,COUNTIF(#REF!,\"<\"&F31)+1),#REF!, 2,0),\" \"))","v":" "},null,4,"400M-3-4",{"$f":"IF(ISERROR(VLOOKUP(J31,'KAYIT LİSTESİ'!$B$4:$H$664,2,0)),\"\",(VLOOKUP(J31,'KAYIT LİSTESİ'!$B$4:$H$664,2,0)))","v":""},{"$f":"IF(ISERROR(VLOOKUP(J31,'KAYIT LİSTESİ'!$B$4:$H$664,4,0)),\"\",(VLOOKUP(J31,'KAYIT LİSTESİ'!$B$4:$H$664,4,0)))","v":""},{"$f":"IF(ISERROR(VLOOKUP(J31,'KAYIT LİSTESİ'!$B$4:$H$664,5,0)),\"\",(VLOOKUP(J31,'KAYIT LİSTESİ'!$B$4:$H$664,5,0)))","v":""},{"$f":"IF(ISERROR(VLOOKUP(J31,'KAYIT LİSTESİ'!$B$4:$H$664,6,0)),\"\",(VLOOKUP(J31,'KAYIT LİSTESİ'!$B$4:$H$664,6,0)))","v":""}," "]
[25,null,null,null,null,null,{"$f":"IF(ISTEXT(F32),0,IFERROR(VLOOKUP(SMALL(#REF!,COUNTIF(#REF!,\"<\"&F32)+1),#REF!, 2,0),\" \"))","v":" "},null,5,"400M-3-5",{"$f":"IF(ISERROR(VLOOKUP(J32,'KAYIT LİSTESİ'!$B$4:$H$664,2,0)),\"\",(VLOOKUP(J32,'KAYIT LİSTESİ'!$B$4:$H$664,2,0)))","v":""},{"$f":"IF(ISERROR(VLOOKUP(J32,'KAYIT LİSTESİ'!$B$4:$H$664,4,0)),\"\",(VLOOKUP(J32,'KAYIT LİSTESİ'!$B$4:$H$664,4,0)))","v":""},{"$f":"IF(ISERROR(VLOOKUP(J32,'KAYIT LİSTESİ'!$B$4:$H$664,5,0)),\"\",(VLOOKUP(J32,'KAYIT LİSTESİ'!$B$4:$H$664,5,0)))","v":""},{"$f":"IF(ISERROR(VLOOKUP(J32,'KAYIT LİSTESİ'!$B$4:$H$664,6,0)),\"\",(VLOOKUP(J32,'KAYIT LİSTESİ'!$B$4:$H$664,6,0)))","v":""}," "]
[26,null,null,null,null,null,{"$f":"IF(ISTEXT(F33),0,IFERROR(VLOOKUP(SMALL(#REF!,COUNTIF(#REF!,\"<\"&F33)+1),#REF!, 2,0),\" \"))","v":" "},null,6,"400M-3-6",{"$f":"IF(ISERROR(VLOOKUP(J33,'KAYIT LİSTESİ'!$B$4:$H$664,2,0)),\"\",(VLOOKUP(J33,'KAYIT LİSTESİ'!$B$4:$H$664,2,0)))","v":""},{"$f":"IF(ISERROR(VLOOKUP(J33,'KAYIT LİSTESİ'!$B$4:$H$664,4,0)),\"\",(VLOOKUP(J33,'KAYIT LİSTESİ'!$B$4:$H$664,4,0)))","v":""},{"$f":"IF(ISERROR(VLOOKUP(J33,'KAYIT LİSTESİ'!$B$4:$H$664,5,0)),\"\",(VLOOKUP(J33,'KAYIT LİSTESİ'!$B$4:$H$664,5,0)))","v":""},{"$f":"IF(ISERROR(VLOOKUP(J33,'KAYIT LİSTESİ'!$B$4:$H$664,6,0)),\"\",(VLOOKUP(J33,'KAYIT LİSTESİ'!$B$4:$H$664,6,0)))","v":""}," "]
[27,null,null,null,null,null,{"$f":"IF(ISTEXT(F34),0,IFERROR(VLOOKUP(SMALL(#REF!,COUNTIF(#REF!,\"<\"&F34)+1),#REF!, 2,0),\" \"))","v":" "},null,7,"400M-3-7",{"$f":"IF(ISERROR(VLOOKUP(J34,'KAYIT LİSTESİ'!$B$4:$H$664,2,0)),\"\",(VLOOKUP(J34,'KAYIT LİSTESİ'!$B$4:$H$664,2,0)))","v":""},{"$f":"IF(ISERROR(VLOOKUP(J34,'KAYIT LİSTESİ'!$B$4:$H$664,4,0)),\"\",(VLOOKUP(J34,'KAYIT LİSTESİ'!$B$4:$H$664,4,0)))","v":""},{"$f":"IF(ISERROR(VLOOKUP(J34,'KAYIT LİSTESİ'!$B$4:$H$664,5,0)),\"\",(VLOOKUP(J34,'KAYIT LİSTESİ'!$B$4:$H$664,5,0)))","v":""},{"$f":"IF(ISERROR(VLOOKUP(J34,'KAYIT LİSTESİ'!$B$4:$H$664,6,0)),\"\",(VLOOKUP(J34,'KAYIT LİSTESİ'!$B$4:$H$664,6,0)))","v":""}," "]
[28,null,null,null,null,null,{"$f":"IF(ISTEXT(F35),0,IFERROR(VLOOKUP(SMALL(#REF!,COUNTIF(#REF!,\"<\"&F35)+1),#REF!, 2,0),\" \"))","v":" "},null,8,"400M-3-8",{"$f":"IF(ISERROR(VLOOKUP(J35,'KAYIT LİSTESİ'!$B$4:$H$664,2,0)),\"\",(VLOOKUP(J35,'KAYIT LİSTESİ'!$B$4:$H$664,2,0)))","v":""},{"$f":"IF(ISERROR(VLOOKUP(J35,'KAYIT LİSTESİ'!$B$4:$H$664,4,0)),\"\",(VLOOKUP(J35,'KAYIT LİSTESİ'!$B$4:$H$664,4,0)))","v":""},{"$f":"IF(ISERROR(VLOOKUP(J35,'KAYIT LİSTESİ'!$B$4:$H$664,5,0)),\"\",(VLOOKUP(J35,'KAYIT LİSTESİ'!$B$4:$H$664,5,0)))","v":""},{"$f":"IF(ISERROR(VLOOKUP(J35,'KAYIT LİSTESİ'!$B$4:$H$664,6,0)),\"\",(VLOOKUP(J35,'KAYIT LİSTESİ'!$B$4:$H$664,6,0)))","v":""}," "]
[29,null,null,null,null,null,{"$f":"IF(ISTEXT(F36),0,IFERROR(VLOOKUP(SMALL(#REF!,COUNTIF(#REF!,\"<\"&F36)+1),#REF!, 2,0),\" \"))","v":" "},null,"4. SERİ"]
[30,null,null,null,null,null,{"$f":"IF(ISTEXT(F37),0,IFERROR(VLOOKUP(SMALL(#REF!,COUNTIF(#REF!,\"<\"&F37)+1),#REF!, 2,0),\" \"))","v":" "},null,"Sıra No","Formül","Göğüs No","Doğum Tarihi","Adı ve Soyadı","İli-Okulu","Elektronik Kronometre","El Kronometre","Seri Geliş"]
[31,null,null,null,null,null,{"$f":"IF(ISTEXT(F38),0,IFERROR(VLOOKUP(SMALL(#REF!,COUNTIF(#REF!,\"<\"&F38)+1),#REF!, 2,0),\" \"))","v":" "},null,1,"400M-4-1",{"$f":"IF(ISERROR(VLOOKUP(J38,'KAYIT LİSTESİ'!$B$4:$H$664,2,0)),\"\",(VLOOKUP(J38,'KAYIT LİSTESİ'!$B$4:$H$664,2,0)))","v":""},{"$f":"IF(ISERROR(VLOOKUP(J38,'KAYIT LİSTESİ'!$B$4:$H$664,4,0)),\"\",(VLOOKUP(J38,'KAYIT LİSTESİ'!$B$4:$H$664,4,0)))","v":""},{"$f":"IF(ISERROR(VLOOKUP(J38,'KAYIT LİSTESİ'!$B$4:$H$664,5,0)),\"\",(VLOOKUP(J38,'KAYIT LİSTESİ'!$B$4:$H$664,5,0)))","v":""},{"$f":"IF(ISERROR(VLOOKUP(J38,'KAYIT LİSTESİ'!$B$4:$H$664,6,0)),\"\",(VLOOKUP(J38,'KAYIT LİSTESİ'!$B$4:$H$664,6,0)))","v":""}]
[32,null,null,null,null,null,{"$f":"IF(ISTEXT(F39),0,IFERROR(VLOOKUP(SMALL(#REF!,COUNTIF(#REF!,\"<\"&F39)+1),#REF!, 2,0),\" \"))","v":" "},null,2,"400M-4-2",{"$f":"IF(ISERROR(VLOOKUP(J39,'KAYIT LİSTESİ'!$B$4:$H$664,2,0)),\"\",(VLOOKUP(J39,'KAYIT LİSTESİ'!$B$4:$H$664,2,0)))","v":""},{"$f":"IF(ISERROR(VLOOKUP(J39,'KAYIT LİSTESİ'!$B$4:$H$664,4,0)),\"\",(VLOOKUP(J39,'KAYIT LİSTESİ'!$B$4:$H$664,4,0)))","v":""},{"$f":"IF(ISERROR(VLOOKUP(J39,'KAYIT LİSTESİ'!$B$4:$H$664,5,0)),\"\",(VLOOKUP(J39,'KAYIT LİSTESİ'!$B$4:$H$664,5,0)))","v":""},{"$f":"IF(ISERROR(VLOOKUP(J39,'KAYIT LİSTESİ'!$B$4:$H$664,6,0)),\"\",(VLOOKUP(J39,'KAYIT LİSTESİ'!$B$4:$H$664,6,0)))","v":""}]
[33,null,null,null,null,null,{"$f":"IF(ISTEXT(F40),0,IFERROR(VLOOKUP(SMALL(#REF!,COUNTIF(#REF!,\"<\"&F40)+1),#REF!, 2,0),\" \"))","v":" "},null,3,"400M-4-3",{"$f":"IF(ISERROR(VLOOKUP(J40,'KAYIT LİSTESİ'!$B$4:$H$664,2,0)),\"\",(VLOOKUP(J40,'KAYIT LİSTESİ'!$B$4:$H$664,2,0)))","v":""},{"$f":"IF(ISERROR(VLOOKUP(J40,'KAYIT LİSTESİ'!$B$4:$H$664,4,0)),\"\",(VLOOKUP(J40,'KAYIT LİSTESİ'!$B$4:$H$664,4,0)))","v":""},{"$f":"IF(ISERROR(VLOOKUP(J40,'KAYIT LİSTESİ'!$B$4:$H$664,5,0)),\"\",(VLOOKUP(J40,'KAYIT LİSTESİ'!$B$4:$H$664,5,0)))","v":""},{"$f":"IF(ISERROR(VLOOKUP(J40,'KAYIT LİSTESİ'!$B$4:$H$664,6,0)),\"\",(VLOOKUP(J40,'KAYIT LİSTESİ'!$B$4:$H$664,6,0)))","v":""}]
[34,null,null,null,null,null,{"$f":"IF(ISTEXT(F41),0,IFERROR(VLOOKUP(SMALL(#REF!,COUNTIF(#REF!,\"<\"&F41)+1),#REF!, 2,0),\" \"))","v":" "},null,4,"400M-4-4",{"$f":"IF(ISERROR(VLOOKUP(J41,'KAYIT LİSTESİ'!$B$4:$H$664,2,0)),\"\",(VLOOKUP(J41,'KAYIT LİSTESİ'!$B$4:$H$664,2,0)))","v":""},{"$f":"IF(ISERROR(VLOOKUP(J41,'KAYIT LİSTESİ'!$B$4:$H$664,4,0)),\"\",(VLOOKUP(J41,'KAYIT LİSTESİ'!$B$4:$H$664,4,0)))","v":""},{"$f":"IF(ISERROR(VLOOKUP(J41,'KAYIT LİSTESİ'!$B$4:$H$664,5,0)),\"\",(VLOOKUP(J41,'KAYIT LİSTESİ'!$B$4:$H$664,5,0)))","v":""},{"$f":"IF(ISERROR(VLOOKUP(J41,'KAYIT LİSTESİ'!$B$4:$H$664,6,0)),\"\",(VLOOKUP(J41,'KAYIT LİSTESİ'!$B$4:$H$664,6,0)))","v":""}]
[35,null,null,null,null,null,{"$f":"IF(ISTEXT(F42),0,IFERROR(VLOOKUP(SMALL(#REF!,COUNTIF(#REF!,\"<\"&F42)+1),#REF!, 2,0),\" \"))","v":" "},null,5,"400M-4-5",{"$f":"IF(ISERROR(VLOOKUP(J42,'KAYIT LİSTESİ'!$B$4:$H$664,2,0)),\"\",(VLOOKUP(J42,'KAYIT LİSTESİ'!$B$4:$H$664,2,0)))","v":""},{"$f":"IF(ISERROR(VLOOKUP(J42,'KAYIT LİSTESİ'!$B$4:$H$664,4,0)),\"\",(VLOOKUP(J42,'KAYIT LİSTESİ'!$B$4:$H$664,4,0)))","v":""},{"$f":"IF(ISERROR(VLOOKUP(J42,'KAYIT LİSTESİ'!$B$4:$H$664,5,0)),\"\",(VLOOKUP(J42,'KAYIT LİSTESİ'!$B$4:$H$664,5,0)))","v":""},{"$f":"IF(ISERROR(VLOOKUP(J42,'KAYIT LİSTESİ'!$B$4:$H$664,6,0)),\"\",(VLOOKUP(J42,'KAYIT LİSTESİ'!$B$4:$H$664,6,0)))","v":""}]
[36,null,null,null,null,null,{"$f":"IF(ISTEXT(F43),0,IFERROR(VLOOKUP(SMALL(#REF!,COUNTIF(#REF!,\"<\"&F43)+1),#REF!, 2,0),\" \"))","v":" "},null,6,"400M-4-6",{"$f":"IF(ISERROR(VLOOKUP(J43,'KAYIT LİSTESİ'!$B$4:$H$664,2,0)),\"\",(VLOOKUP(J43,'KAYIT LİSTESİ'!$B$4:$H$664,2,0)))","v":""},{"$f":"IF(ISERROR(VLOOKUP(J43,'KAYIT LİSTESİ'!$B$4:$H$664,4,0)),\"\",(VLOOKUP(J43,'KAYIT LİSTESİ'!$B$4:$H$664,4,0)))","v":""},{"$f":"IF(ISERROR(VLOOKUP(J43,'KAYIT LİSTESİ'!$B$4:$H$664,5,0)),\"\",(VLOOKUP(J43,'KAYIT LİSTESİ'!$B$4:$H$664,5,0)))","v":""},{"$f":"IF(ISERROR(VLOOKUP(J43,'KAYIT LİSTESİ'!$B$4:$H$664,6,0)),\"\",(VLOOKUP(J43,'KAYIT LİSTESİ'!$B$4:$H$664,6,0)))","v":""}]
[37,null,null,null,null,null,{"$f":"IF(ISTEXT(F44),0,IFERROR(VLOOKUP(SMALL(#REF!,COUNTIF(#REF!,\"<\"&F44)+1),#REF!, 2,0),\" \"))","v":" "},null,7,"400M-4-7",{"$f":"IF(ISERROR(VLOOKUP(J44,'KAYIT LİSTESİ'!$B$4:$H$664,2,0)),\"\",(VLOOKUP(J44,'KAYIT LİSTESİ'!$B$4:$H$664,2,0)))","v":""},{"$f":"IF(ISERROR(VLOOKUP(J44,'KAYIT LİSTESİ'!$B$4:$H$664,4,0)),\"\",(VLOOKUP(J44,'KAYIT LİSTESİ'!$B$4:$H$664,4,0)))","v":""},{"$f":"IF(ISERROR(VLOOKUP(J44,'KAYIT LİSTESİ'!$B$4:$H$664,5,0)),\"\",(VLOOKUP(J44,'KAYIT LİSTESİ'!$B$4:$H$664,5,0)))","v":""},{"$f":"IF(ISERROR(VLOOKUP(J44,'KAYIT LİSTESİ'!$B$4:$H$664,6,0)),\"\",(VLOOKUP(J44,'KAYIT LİSTESİ'!$B$4:$H$664,6,0)))","v":""}]
[38,null,null,null,null,null,{"$f":"IF(ISTEXT(F45),0,IFERROR(VLOOKUP(SMALL(#REF!,COUNTIF(#REF!,\"<\"&F45)+1),#REF!, 2,0),\" \"))","v":" "},null,8,"400M-4-8",{"$f":"IF(ISERROR(VLOOKUP(J45,'KAYIT LİSTESİ'!$B$4:$H$664,2,0)),\"\",(VLOOKUP(J45,'KAYIT LİSTESİ'!$B$4:$H$664,2,0)))","v":""},{"$f":"IF(ISERROR(VLOOKUP(J45,'KAYIT LİSTESİ'!$B$4:$H$664,4,0)),\"\",(VLOOKUP(J45,'KAYIT LİSTESİ'!$B$4:$H$664,4,0)))","v":""},{"$f":"IF(ISERROR(VLOOKUP(J45,'KAYIT LİSTESİ'!$B$4:$H$664,5,0)),\"\",(VLOOKUP(J45,'KAYIT LİSTESİ'!$B$4:$H$664,5,0)))","v":""},{"$f":"IF(ISERROR(VLOOKUP(J45,'KAYIT LİSTESİ'!$B$4:$H$664,6,0)),\"\",(VLOOKUP(J45,'KAYIT LİSTESİ'!$B$4:$H$664,6,0)))","v":""}]
[]
["Müsabakalar Direktörü",null,null,null,"Baş Hakem","Lider",null,"Sekreter",null,null,null,null,"Hakem","Hakem",null,"Hakem"]

{"sheet":"Gülle","index":8,"n_rows":102,"n_cols":18,"rows_kept":102,"cut":false,"hidden":false,"merged":[[5,15,6,15],[1,0,1,15],[0,0,0,14],[2,0,2,2],[2,3,2,4],[2,6,2,7],[2,12,2,14],[5,3,6,3],[5,4,6,4],[5,5,6,5],[3,0,3,2],[3,3,3,4],[3,12,3,14],[48,0,48,3],[48,6,48,12],[48,13,48,14],[4,13,4,14],[5,0,6,0],[5,1,6,1],[5,2,6,2],[5,6,5,12],[5,13,6,13],[5,14,6,14]]}
[{"$f":"'YARIŞMA BİLGİLERİ'!A2:K2","v":"Türkiye Atletizm Federasyonu\nMersin Atletizm İl Temsilciliği\n"},null,null,null,null,null,null,null,null,null,null,null,null,null,null,null,"DERECE"]
[{"$f":"'YARIŞMA BİLGİLERİ'!A14:K14","v":"Olimpik Baraj  Yarışmaları"},null,null,null,null,null,null,null,null,null,null,null,null,null,null,null,100,0]
["Yarışma :",null,null,{"$f":"#REF!","v":{"$error":"#REF!"}},null,"Baraj Derecesi :",{"$f":"#REF!","v":{"$error":"#REF!"}},null,null,null,null,null,null,null,null,null,1100,1]
["Kategori :      ",null,null,{"$f":"'YARIŞMA BİLGİLERİ'!F21","v":"Kadınlar"},null,"Ağırlık:","3 Kg.",null,null,null,null,"Tarih-Saat  :",{"$f":"#REF!","v":{"$error":"#REF!"}},null,null,null,1150,2]
[null,null,null,null,null,null,null,null,null,null,null,null,null,{"$f":"NOW()","v":42222.536638541664},null,null,1200,3]
["SIRA NO",null,"GÖĞÜS NO","DOĞUM TARİHİ\nGün/Ay/Yıl","ADI VE SOYADI","İli-Okulu","A  T  M  A  L  A  R",null,null,null,null,null,null,"SONUÇ","PUAN","KLASMAN",1250,4]
[null,null,null,null,null,null,1,2,3,"ARA DERECE",4,5,6,null,null,null,1300,5]
[1,"Gülle-1",{"$f":"IF(ISERROR(VLOOKUP(B8,'KAYIT LİSTESİ'!$B$4:$H$664,2,0)),\"\",(VLOOKUP(B8,'KAYIT LİSTESİ'!$B$4:$H$664,2,0)))","v":623},{"$f":"IF(ISERROR(VLOOKUP(B8,'KAYIT LİSTESİ'!$B$4:$H$664,4,0)),\"\",(VLOOKUP(B8,'KAYIT LİSTESİ'!$B$4:$H$664,4,0)))","v":"1999-02-09"},{"$f":"IF(ISERROR(VLOOKUP(B8,'KAYIT LİSTESİ'!$B$4:$H$664,5,0)),\"\",(VLOOKUP(B8,'KAYIT LİSTESİ'!$B$4:$H$664,5,0)))","v":"SİMGE ALTIOK"},{"$f":"IF(ISERROR(VLOOKUP(B8,'KAYIT LİSTESİ'!$B$4:$H$664,6,0)),\"\",(VLOOKUP(B8,'KAYIT LİSTESİ'!$B$4:$H$664,6,0)))","v":"KAYSERİ"},null,null,null,{"$f":"IF(COUNT(G8:I8)=0,\"\",MAX(G8:I8))","v":""},null,null,null,{"$f":"MAX(G8:M8)","v":0},{"$f":"IF(LEN(N8)>0,VLOOKUP(N8,#REF!,4)-IF(COUNTIF(#REF!,N8)=0,0,0),\" \")","v":{"$error":"#REF!"}},null,1350,6]
[2,"Gülle-2",{"$f":"IF(ISERROR(VLOOKUP(B9,'KAYIT LİSTESİ'!$B$4:$H$664,2,0)),\"\",(VLOOKUP(B9,'KAYIT LİSTESİ'!$B$4:$H$664,2,0)))","v":""},{"$f":"IF(ISERROR(VLOOKUP(B9,'KAYIT LİSTESİ'!$B$4:$H$664,4,0)),\"\",(VLOOKUP(B9,'KAYIT LİSTESİ'!$B$4:$H$664,4,0)))","v":""},{"$f":"IF(ISERROR(VLOOKUP(B9,'KAYIT LİSTESİ'!$B$4:$H$664,5,0)),\"\",(VLOOKUP(B9,'KAYIT LİSTESİ'!$B$4:$H$664,5,0)))","v":""},{"$f":"IF(ISERROR(VLOOKUP(B9,'KAYIT LİSTESİ'!$B$4:$H$664,6,0)),\"\",(VLOOKUP(B9,'KAYIT LİSTESİ'!$B$4:$H$664,6,0)))","v":""},null,null,null,{"$f":"IF(COUNT(G9:I9)=0,\"\",MAX(G9:I9))","v":""},null,null,null,{"$f":"MAX(G9:M9)","v":0},{"$f":"IF(LEN(N9)>0,VLOOKUP(N9,#REF!,4)-IF(COUNTIF(#REF!,N9)=0,0,0),\" \")","v":{"$error":"#REF!"}},null,1400,7]
[3,"Gülle-3",{"$f":"IF(ISERROR(VLOOKUP(B10,'KAYIT LİSTESİ'!$B$4:$H$664,2,0)),\"\",(VLOOKUP(B10,'KAYIT LİSTESİ'!$B$4:$H$664,2,0)))","v":""},{"$f":"IF(ISERROR(VLOOKUP(B10,'KAYIT LİSTESİ'!$B$4:$H$664,4,0)),\"\",(VLOOKUP(B10,'KAYIT LİSTESİ'!$B$4:$H$664,4,0)))","v":""},{"$f":"IF(ISERROR(VLOOKUP(B10,'KAYIT LİSTESİ'!$B$4:$H$664,5,0)),\"\",(VLOOKUP(B10,'KAYIT LİSTESİ'!$B$4:$H$664,5,0)))","v":""},{"$f":"IF(ISERROR(VLOOKUP(B10,'KAYIT LİSTESİ'!$B$4:$H$664,6,0)),\"\",(VLOOKUP(B10,'KAYIT LİSTESİ'!$B$4:$H$664,6,0)))","v":""},null,null,null,"",null,null,null,0,{"$f":"IF(LEN(N10)>0,VLOOKUP(N10,#REF!,4)-IF(COUNTIF(#REF!,N10)=0,0,0),\" \")","v":{"$error":"#REF!"}},null,1450,8]
[4,"Gülle-4",{"$f":"IF(ISERROR(VLOOKUP(B11,'KAYIT LİSTESİ'!$B$4:$H$664,2,0)),\"\",(VLOOKUP(B11,'KAYIT LİSTESİ'!$B$4:$H$664,2,0)))","v":""},{"$f":"IF(ISERROR(VLOOKUP(B11,'KAYIT LİSTESİ'!$B$4:$H$664,4,0)),\"\",(VLOOKUP(B11,'KAYIT LİSTESİ'!$B$4:$H$664,4,0)))","v":""},{"$f":"IF(ISERROR(VLOOKUP(B11,'KAYIT LİSTESİ'!$B$4:$H$664,5,0)),\"\",(VLOOKUP(B11,'KAYIT LİSTESİ'!$B$4:$H$664,5,0)))","v":""},{"$f":"IF(ISERROR(VLOOKUP(B11,'KAYIT LİSTESİ'!$B$4:$H$664,6,0)),\"\",(VLOOKUP(B11,'KAYIT LİSTESİ'!$B$4:$H$664,6,0)))","v":""},null,null,null,"",null,null,null,0,{"$f":"IF(LEN(N11)>0,VLOOKUP(N11,#REF!,4)-IF(COUNTIF(#REF!,N11)=0,0,0),\" \")","v":{"$error":"#REF!"}},null,1500,9]
[5,"Gülle-5",{"$f":"IF(ISERROR(VLOOKUP(B12,'KAYIT LİSTESİ'!$B$4:$H$664,2,0)),\"\",(VLOOKUP(B12,'KAYIT LİSTESİ'!$B$4:$H$664,2,0)))","v":""},{"$f":"IF(ISERROR(VLOOKUP(B12,'KAYIT LİSTESİ'!$B$4:$H$664,4,0)),\"\",(VLOOKUP(B12,'KAYIT LİSTESİ'!$B$4:$H$664,4,0)))","v":""},{"$f":"IF(ISERROR(VLOOKUP(B12,'KAYIT LİSTESİ'!$B$4:$H$664,5,0)),\"\",(VLOOKUP(B12,'KAYIT LİSTESİ'!$B$4:$H$664,5,0)))","v":""},{"$f":"IF(ISERROR(VLOOKUP(B12,'KAYIT LİSTESİ'!$B$4:$H$664,6,0)),\"\",(VLOOKUP(B12,'KAYIT LİSTESİ'!$B$4:$H$664,6,0)))","v":""},null,null,null,"",null,null,null,0,{"$f":"IF(LEN(N12)>0,VLOOKUP(N12,#REF!,4)-IF(COUNTIF(#REF!,N12)=0,0,0),\" \")","v":{"$error":"#REF!"}},null,1550,10]
[6,"Gülle-6",{"$f":"IF(ISERROR(VLOOKUP(B13,'KAYIT LİSTESİ'!$B$4:$H$664,2,0)),\"\",(VLOOKUP(B13,'KAYIT LİSTESİ'!$B$4:$H$664,2,0)))","v":""},{"$f":"IF(ISERROR(VLOOKUP(B13,'KAYIT LİSTESİ'!$B$4:$H$664,4,0)),\"\",(VLOOKUP(B13,'KAYIT LİSTESİ'!$B$4:$H$664,4,0)))","v":""},{"$f":"IF(ISERROR(VLOOKUP(B13,'KAYIT LİSTESİ'!$B$4:$H$664,5,0)),\"\",(VLOOKUP(B13,'KAYIT LİSTESİ'!$B$4:$H$664,5,0)))","v":""},{"$f":"IF(ISERROR(VLOOKUP(B13,'KAYIT LİSTESİ'!$B$4:$H$664,6,0)),\"\",(VLOOKUP(B13,'KAYIT LİSTESİ'!$B$4:$H$664,6,0)))","v":""},null,null,null,"",null,null,null,0,{"$f":"IF(LEN(N13)>0,VLOOKUP(N13,#REF!,4)-IF(COUNTIF(#REF!,N13)=0,0,0),\" \")","v":{"$error":"#REF!"}},null,1600,11]
[7,"Gülle-7",{"$f":"IF(ISERROR(VLOOKUP(B14,'KAYIT LİSTESİ'!$B$4:$H$664,2,0)),\"\",(VLOOKUP(B14,'KAYIT LİSTESİ'!$B$4:$H$664,2,0)))","v":""},{"$f":"IF(ISERROR(VLOOKUP(B14,'KAYIT LİSTESİ'!$B$4:$H$664,4,0)),\"\",(VLOOKUP(B14,'KAYIT LİSTESİ'!$B$4:$H$664,4,0)))","v":""},{"$f":"IF(ISERROR(VLOOKUP(B14,'KAYIT LİSTESİ'!$B$4:$H$664,5,0)),\"\",(VLOOKUP(B14,'KAYIT LİSTESİ'!$B$4:$H$664,5,0)))","v":""},{"$f":"IF(ISERROR(VLOOKUP(B14,'KAYIT LİSTESİ'!$B$4:$H$664,6,0)),\"\",(VLOOKUP(B14,'KAYIT LİSTESİ'!$B$4:$H$664,6,0)))","v":""},null,null,null,"",null,null,null,0,{"$f":"IF(LEN(N14)>0,VLOOKUP(N14,#REF!,4)-IF(COUNTIF(#REF!,N14)=0,0,0),\" \")","v":{"$error":"#REF!"}},null,1650,12]
[8,"Gülle-8",{"$f":"IF(ISERROR(VLOOKUP(B15,'KAYIT LİSTESİ'!$B$4:$H$664,2,0)),\"\",(VLOOKUP(B15,'KAYIT LİSTESİ'!$B$4:$H$664,2,0)))","v":""},{"$f":"IF(ISERROR(VLOOKUP(B15,'KAYIT LİSTESİ'!$B$4:$H$664,4,0)),\"\",(VLOOKUP(B15,'KAYIT LİSTESİ'!$B$4:$H$664,4,0)))","v":""},{"$f":"IF(ISERROR(VLOOKUP(B15,'KAYIT LİSTESİ'!$B$4:$H$664,5,0)),\"\",(VLOOKUP(B15,'KAYIT LİSTESİ'!$B$4:$H$664,5,0)))","v":""},{"$f":"IF(ISERROR(VLOOKUP(B15,'KAYIT LİSTESİ'!$B$4:$H$664,6,0)),\"\",(VLOOKUP(B15,'KAYIT LİSTESİ'!$B$4:$H$664,6,0)))","v":""},null,null,null,"",null,null,null,0,{"$f":"IF(LEN(N15)>0,VLOOKUP(N15,#REF!,4)-IF(COUNTIF(#REF!,N15)=0,0,0),\" \")","v":{"$error":"#REF!"}},null,1700,13]
[9,"Gülle-9",{"$f":"IF(ISERROR(VLOOKUP(B16,'KAYIT LİSTESİ'!$B$4:$H$664,2,0)),\"\",(VLOOKUP(B16,'KAYIT LİSTESİ'!$B$4:$H$664,2,0)))","v":""},{"$f":"IF(ISERROR(VLOOKUP(B16,'KAYIT LİSTESİ'!$B$4:$H$664,4,0)),\"\",(VLOOKUP(B16,'KAYIT LİSTESİ'!$B$4:$H$664,4,0)))","v":""},{"$f":"IF(ISERROR(VLOOKUP(B16,'KAYIT LİSTESİ'!$B$4:$H$664,5,0)),\"\",(VLOOKUP(B16,'KAYIT LİSTESİ'!$B$4:$H$664,5,0)))","v":""},{"$f":"IF(ISERROR(VLOOKUP(B16,'KAYIT LİSTESİ'!$B$4:$H$664,6,0)),\"\",(VLOOKUP(B16,'KAYIT LİSTESİ'!$B$4:$H$664,6,0)))","v":""},null,null,null,"",null,null,null,0,{"$f":"IF(LEN(N16)>0,VLOOKUP(N16,#REF!,4)-IF(COUNTIF(#REF!,N16)=0,0,0),\" \")","v":{"$error":"#REF!"}},null,1750,14]
[10,"Gülle-10",{"$f":"IF(ISERROR(VLOOKUP(B17,'KAYIT LİSTESİ'!$B$4:$H$664,2,0)),\"\",(VLOOKUP(B17,'KAYIT LİSTESİ'!$B$4:$H$664,2,0)))","v":""},{"$f":"IF(ISERROR(VLOOKUP(B17,'KAYIT LİSTESİ'!$B$4:$H$664,4,0)),\"\",(VLOOKUP(B17,'KAYIT LİSTESİ'!$B$4:$H$664,4,0)))","v":""},{"$f":"IF(ISERROR(VLOOKUP(B17,'KAYIT LİSTESİ'!$B$4:$H$664,5,0)),\"\",(VLOOKUP(B17,'KAYIT LİSTESİ'!$B$4:$H$664,5,0)))","v":""},{"$f":"IF(ISERROR(VLOOKUP(B17,'KAYIT LİSTESİ'!$B$4:$H$664,6,0)),\"\",(VLOOKUP(B17,'KAYIT LİSTESİ'!$B$4:$H$664,6,0)))","v":""},null,null,null,"",null,null,null,0,{"$f":"IF(LEN(N17)>0,VLOOKUP(N17,#REF!,4)-IF(COUNTIF(#REF!,N17)=0,0,0),\" \")","v":{"$error":"#REF!"}},null,1800,15]
[11,"Gülle-11",{"$f":"IF(ISERROR(VLOOKUP(B18,'KAYIT LİSTESİ'!$B$4:$H$664,2,0)),\"\",(VLOOKUP(B18,'KAYIT LİSTESİ'!$B$4:$H$664,2,0)))","v":""},{"$f":"IF(ISERROR(VLOOKUP(B18,'KAYIT LİSTESİ'!$B$4:$H$664,4,0)),\"\",(VLOOKUP(B18,'KAYIT LİSTESİ'!$B$4:$H$664,4,0)))","v":""},{"$f":"IF(ISERROR(VLOOKUP(B18,'KAYIT LİSTESİ'!$B$4:$H$664,5,0)),\"\",(VLOOKUP(B18,'KAYIT LİSTESİ'!$B$4:$H$664,5,0)))","v":""},{"$f":"IF(ISERROR(VLOOKUP(B18,'KAYIT LİSTESİ'!$B$4:$H$664,6,0)),\"\",(VLOOKUP(B18,'KAYIT LİSTESİ'!$B$4:$H$664,6,0)))","v":""},null,null,null,"",null,null,null,0,{"$f":"IF(LEN(N18)>0,VLOOKUP(N18,#REF!,4)-IF(COUNTIF(#REF!,N18)=0,0,0),\" \")","v":{"$error":"#REF!"}},null,1850,16]
[12,"Gülle-12",{"$f":"IF(ISERROR(VLOOKUP(B19,'KAYIT LİSTESİ'!$B$4:$H$664,2,0)),\"\",(VLOOKUP(B19,'KAYIT LİSTESİ'!$B$4:$H$664,2,0)))","v":""},{"$f":"IF(ISERROR(VLOOKUP(B19,'KAYIT LİSTESİ'!$B$4:$H$664,4,0)),\"\",(VLOOKUP(B19,'KAYIT LİSTESİ'!$B$4:$H$664,4,0)))","v":""},{"$f":"IF(ISERROR(VLOOKUP(B19,'KAYIT LİSTESİ'!$B$4:$H$664,5,0)),\"\",(VLOOKUP(B19,'KAYIT LİSTESİ'!$B$4:$H$664,5,0)))","v":""},{"$f":"IF(ISERROR(VLOOKUP(B19,'KAYIT LİSTESİ'!$B$4:$H$664,6,0)),\"\",(VLOOKUP(B19,'KAYIT LİSTESİ'!$B$4:$H$664,6,0)))","v":""},null,null,null,"",null,null,null,0,{"$f":"IF(LEN(N19)>0,VLOOKUP(N19,#REF!,4)-IF(COUNTIF(#REF!,N19)=0,0,0),\" \")","v":{"$error":"#REF!"}},null,1900,17]
[13,"Gülle-13",{"$f":"IF(ISERROR(VLOOKUP(B20,'KAYIT LİSTESİ'!$B$4:$H$664,2,0)),\"\",(VLOOKUP(B20,'KAYIT LİSTESİ'!$B$4:$H$664,2,0)))","v":""},{"$f":"IF(ISERROR(VLOOKUP(B20,'KAYIT LİSTESİ'!$B$4:$H$664,4,0)),\"\",(VLOOKUP(B20,'KAYIT LİSTESİ'!$B$4:$H$664,4,0)))","v":""},{"$f":"IF(ISERROR(VLOOKUP(B20,'KAYIT LİSTESİ'!$B$4:$H$664,5,0)),\"\",(VLOOKUP(B20,'KAYIT LİSTESİ'!$B$4:$H$664,5,0)))","v":""},{"$f":"IF(ISERROR(VLOOKUP(B20,'KAYIT LİSTESİ'!$B$4:$H$664,6,0)),\"\",(VLOOKUP(B20,'KAYIT LİSTESİ'!$B$4:$H$664,6,0)))","v":""},null,null,null,"",null,null,null,0,{"$f":"IF(LEN(N20)>0,VLOOKUP(N20,#REF!,4)-IF(COUNTIF(#REF!,N20)=0,0,0),\" \")","v":{"$error":"#REF!"}},null,1950,18]
[14,"Gülle-14",{"$f":"IF(ISERROR(VLOOKUP(B21,'KAYIT LİSTESİ'!$B$4:$H$664,2,0)),\"\",(VLOOKUP(B21,'KAYIT LİSTESİ'!$B$4:$H$664,2,0)))","v":""},{"$f":"IF(ISERROR(VLOOKUP(B21,'KAYIT LİSTESİ'!$B$4:$H$664,4,0)),\"\",(VLOOKUP(B21,'KAYIT LİSTESİ'!$B$4:$H$664,4,0)))","v":""},{"$f":"IF(ISERROR(VLOOKUP(B21,'KAYIT LİSTESİ'!$B$4:$H$664,5,0)),\"\",(VLOOKUP(B21,'KAYIT LİSTESİ'!$B$4:$H$664,5,0)))","v":""},{"$f":"IF(ISERROR(VLOOKUP(B21,'KAYIT LİSTESİ'!$B$4:$H$664,6,0)),\"\",(VLOOKUP(B21,'KAYIT LİSTESİ'!$B$4:$H$664,6,0)))","v":""},null,null,null,"",null,null,null,0,{"$f":"IF(LEN(N21)>0,VLOOKUP(N21,#REF!,4)-IF(COUNTIF(#REF!,N21)=0,0,0),\" \")","v":{"$error":"#REF!"}},null,2000,19]
[15,"Gülle-15",{"$f":"IF(ISERROR(VLOOKUP(B22,'KAYIT LİSTESİ'!$B$4:$H$664,2,0)),\"\",(VLOOKUP(B22,'KAYIT LİSTESİ'!$B$4:$H$664,2,0)))","v":""},{"$f":"IF(ISERROR(VLOOKUP(B22,'KAYIT LİSTESİ'!$B$4:$H$664,4,0)),\"\",(VLOOKUP(B22,'KAYIT LİSTESİ'!$B$4:$H$664,4,0)))","v":""},{"$f":"IF(ISERROR(VLOOKUP(B22,'KAYIT LİSTESİ'!$B$4:$H$664,5,0)),\"\",(VLOOKUP(B22,'KAYIT LİSTESİ'!$B$4:$H$664,5,0)))","v":""},{"$f":"IF(ISERROR(VLOOKUP(B22,'KAYIT LİSTESİ'!$B$4:$H$664,6,0)),\"\",(VLOOKUP(B22,'KAYIT LİSTESİ'!$B$4:$H$664,6,0)))","v":""},null,null,null,"",null,null,null,0,{"$f":"IF(LEN(N22)>0,VLOOKUP(N22,#REF!,4)-IF(COUNTIF(#REF!,N22)=0,0,0),\" \")","v":{"$error":"#REF!"}},null,2050,20]
[16,"Gülle-16",{"$f":"IF(ISERROR(VLOOKUP(B23,'KAYIT LİSTESİ'!$B$4:$H$664,2,0)),\"\",(VLOOKUP(B23,'KAYIT LİSTESİ'!$B$4:$H$664,2,0)))","v":""},{"$f":"IF(ISERROR(VLOOKUP(B23,'KAYIT LİSTESİ'!$B$4:$H$664,4,0)),\"\",(VLOOKUP(B23,'KAYIT LİSTESİ'!$B$4:$H$664,4,0)))","v":""},{"$f":"IF(ISERROR(VLOOKUP(B23,'KAYIT LİSTESİ'!$B$4:$H$664,5,0)),\"\",(VLOOKUP(B23,'KAYIT LİSTESİ'!$B$4:$H$664,5,0)))","v":""},{"$f":"IF(ISERROR(VLOOKUP(B23,'KAYIT LİSTESİ'!$B$4:$H$664,6,0)),\"\",(VLOOKUP(B23,'KAYIT LİSTESİ'!$B$4:$H$664,6,0)))","v":""},null,null,null,"",null,null,null,0,{"$f":"IF(LEN(N23)>0,VLOOKUP(N23,#REF!,4)-IF(COUNTIF(#REF!,N23)=0,0,0),\" \")","v":{"$error":"#REF!"}},null,2100,21]
[null,"Gülle-17",{"$f":"IF(ISERROR(VLOOKUP(B24,'KAYIT LİSTESİ'!$B$4:$H$664,2,0)),\"\",(VLOOKUP(B24,'KAYIT LİSTESİ'!$B$4:$H$664,2,0)))","v":""},{"$f":"IF(ISERROR(VLOOKUP(B24,'KAYIT LİSTESİ'!$B$4:$H$664,4,0)),\"\",(VLOOKUP(B24,'KAYIT LİSTESİ'!$B$4:$H$664,4,0)))","v":""},{"$f":"IF(ISERROR(VLOOKUP(B24,'KAYIT LİSTESİ'!$B$4:$H$664,5,0)),\"\",(VLOOKUP(B24,'KAYIT LİSTESİ'!$B$4:$H$664,5,0)))","v":""},{"$f":"IF(ISERROR(VLOOKUP(B24,'KAYIT LİSTESİ'!$B$4:$H$664,6,0)),\"\",(VLOOKUP(B24,'KAYIT LİSTESİ'!$B$4:$H$664,6,0)))","v":""},null,null,null,"",null,null,null,0,{"$f":"IF(LEN(N24)>0,VLOOKUP(N24,#REF!,4)-IF(COUNTIF(#REF!,N24)=0,0,0),\" \")","v":{"$error":"#REF!"}},null,2150,22]
[null,"Gülle-18",{"$f":"IF(ISERROR(VLOOKUP(B25,'KAYIT LİSTESİ'!$B$4:$H$664,2,0)),\"\",(VLOOKUP(B25,'KAYIT LİSTESİ'!$B$4:$H$664,2,0)))","v":""},{"$f":"IF(ISERROR(VLOOKUP(B25,'KAYIT LİSTESİ'!$B$4:$H$664,4,0)),\"\",(VLOOKUP(B25,'KAYIT LİSTESİ'!$B$4:$H$664,4,0)))","v":""},{"$f":"IF(ISERROR(VLOOKUP(B25,'KAYIT LİSTESİ'!$B$4:$H$664,5,0)),\"\",(VLOOKUP(B25,'KAYIT LİSTESİ'!$B$4:$H$664,5,0)))","v":""},{"$f":"IF(ISERROR(VLOOKUP(B25,'KAYIT LİSTESİ'!$B$4:$H$664,6,0)),\"\",(VLOOKUP(B25,'KAYIT LİSTESİ'!$B$4:$H$664,6,0)))","v":""},null,null,null,"",null,null,null,0,{"$f":"IF(LEN(N25)>0,VLOOKUP(N25,#REF!,4)-IF(COUNTIF(#REF!,N25)=0,0,0),\" \")","v":{"$error":"#REF!"}},null,2200,23]
[null,"Gülle-19",{"$f":"IF(ISERROR(VLOOKUP(B26,'KAYIT LİSTESİ'!$B$4:$H$664,2,0)),\"\",(VLOOKUP(B26,'KAYIT LİSTESİ'!$B$4:$H$664,2,0)))","v":""},{"$f":"IF(ISERROR(VLOOKUP(B26,'KAYIT LİSTESİ'!$B$4:$H$664,4,0)),\"\",(VLOOKUP(B26,'KAYIT LİSTESİ'!$B$4:$H$664,4,0)))","v":""},{"$f":"IF(ISERROR(VLOOKUP(B26,'KAYIT LİSTESİ'!$B$4:$H$664,5,0)),\"\",(VLOOKUP(B26,'KAYIT LİSTESİ'!$B$4:$H$664,5,0)))","v":""},{"$f":"IF(ISERROR(VLOOKUP(B26,'KAYIT LİSTESİ'!$B$4:$H$664,6,0)),\"\",(VLOOKUP(B26,'KAYIT LİSTESİ'!$B$4:$H$664,6,0)))","v":""},null,null,null,"",null,null,null,0,{"$f":"IF(LEN(N26)>0,VLOOKUP(N26,#REF!,4)-IF(COUNTIF(#REF!,N26)=0,0,0),\" \")","v":{"$error":"#REF!"}},null,2250,24]
[null,"Gülle-20",{"$f":"IF(ISERROR(VLOOKUP(B27,'KAYIT LİSTESİ'!$B$4:$H$664,2,0)),\"\",(VLOOKUP(B27,'KAYIT LİSTESİ'!$B$4:$H$664,2,0)))","v":""},{"$f":"IF(ISERROR(VLOOKUP(B27,'KAYIT LİSTESİ'!$B$4:$H$664,4,0)),\"\",(VLOOKUP(B27,'KAYIT LİSTESİ'!$B$4:$H$664,4,0)))","v":""},{"$f":"IF(ISERROR(VLOOKUP(B27,'KAYIT LİSTESİ'!$B$4:$H$664,5,0)),\"\",(VLOOKUP(B27,'KAYIT LİSTESİ'!$B$4:$H$664,5,0)))","v":""},{"$f":"IF(ISERROR(VLOOKUP(B27,'KAYIT LİSTESİ'!$B$4:$H$664,6,0)),\"\",(VLOOKUP(B27,'KAYIT LİSTESİ'!$B$4:$H$664,6,0)))","v":""},null,null,null,"",null,null,null,0,{"$f":"IF(LEN(N27)>0,VLOOKUP(N27,#REF!,4)-IF(COUNTIF(#REF!,N27)=0,0,0),\" \")","v":{"$error":"#REF!"}},null,2300,25]
[null,"Gülle-21",{"$f":"IF(ISERROR(VLOOKUP(B28,'KAYIT LİSTESİ'!$B$4:$H$664,2,0)),\"\",(VLOOKUP(B28,'KAYIT LİSTESİ'!$B$4:$H$664,2,0)))","v":""},{"$f":"IF(ISERROR(VLOOKUP(B28,'KAYIT LİSTESİ'!$B$4:$H$664,4,0)),\"\",(VLOOKUP(B28,'KAYIT LİSTESİ'!$B$4:$H$664,4,0)))","v":""},{"$f":"IF(ISERROR(VLOOKUP(B28,'KAYIT LİSTESİ'!$B$4:$H$664,5,0)),\"\",(VLOOKUP(B28,'KAYIT LİSTESİ'!$B$4:$H$664,5,0)))","v":""},{"$f":"IF(ISERROR(VLOOKUP(B28,'KAYIT LİSTESİ'!$B$4:$H$664,6,0)),\"\",(VLOOKUP(B28,'KAYIT LİSTESİ'!$B$4:$H$664,6,0)))","v":""},null,null,null,"",null,null,null,0,{"$f":"IF(LEN(N28)>0,VLOOKUP(N28,#REF!,4)-IF(COUNTIF(#REF!,N28)=0,0,0),\" \")","v":{"$error":"#REF!"}},null,2346,26]
[null,"Gülle-22",{"$f":"IF(ISERROR(VLOOKUP(B29,'KAYIT LİSTESİ'!$B$4:$H$664,2,0)),\"\",(VLOOKUP(B29,'KAYIT LİSTESİ'!$B$4:$H$664,2,0)))","v":""},{"$f":"IF(ISERROR(VLOOKUP(B29,'KAYIT LİSTESİ'!$B$4:$H$664,4,0)),\"\",(VLOOKUP(B29,'KAYIT LİSTESİ'!$B$4:$H$664,4,0)))","v":""},{"$f":"IF(ISERROR(VLOOKUP(B29,'KAYIT LİSTESİ'!$B$4:$H$664,5,0)),\"\",(VLOOKUP(B29,'KAYIT LİSTESİ'!$B$4:$H$664,5,0)))","v":""},{"$f":"IF(ISERROR(VLOOKUP(B29,'KAYIT LİSTESİ'!$B$4:$H$664,6,0)),\"\",(VLOOKUP(B29,'KAYIT LİSTESİ'!$B$4:$H$664,6,0)))","v":""},null,null,null,"",null,null,null,0,{"$f":"IF(LEN(N29)>0,VLOOKUP(N29,#REF!,4)-IF(COUNTIF(#REF!,N29)=0,0,0),\" \")","v":{"$error":"#REF!"}},null,2392,27]
[null,"Gülle-23",{"$f":"IF(ISERROR(VLOOKUP(B30,'KAYIT LİSTESİ'!$B$4:$H$664,2,0)),\"\",(VLOOKUP(B30,'KAYIT LİSTESİ'!$B$4:$H$664,2,0)))","v":""},{"$f":"IF(ISERROR(VLOOKUP(B30,'KAYIT LİSTESİ'!$B$4:$H$664,4,0)),\"\",(VLOOKUP(B30,'KAYIT LİSTESİ'!$B$4:$H$664,4,0)))","v":""},{"$f":"IF(ISERROR(VLOOKUP(B30,'KAYIT LİSTESİ'!$B$4:$H$664,5,0)),\"\",(VLOOKUP(B30,'KAYIT LİSTESİ'!$B$4:$H$664,5,0)))","v":""},{"$f":"IF(ISERROR(VLOOKUP(B30,'KAYIT LİSTESİ'!$B$4:$H$664,6,0)),\"\",(VLOOKUP(B30,'KAYIT LİSTESİ'!$B$4:$H$664,6,0)))","v":""},null,null,null,"",null,null,null,0,{"$f":"IF(LEN(N30)>0,VLOOKUP(N30,#REF!,4)-IF(COUNTIF(#REF!,N30)=0,0,0),\" \")","v":{"$error":"#REF!"}},null,2438,28]
[null,"Gülle-24",{"$f":"IF(ISERROR(VLOOKUP(B31,'KAYIT LİSTESİ'!$B$4:$H$664,2,0)),\"\",(VLOOKUP(B31,'KAYIT LİSTESİ'!$B$4:$H$664,2,0)))","v":""},{"$f":"IF(ISERROR(VLOOKUP(B31,'KAYIT LİSTESİ'!$B$4:$H$664,4,0)),\"\",(VLOOKUP(B31,'KAYIT LİSTESİ'!$B$4:$H$664,4,0)))","v":""},{"$f":"IF(ISERROR(VLOOKUP(B31,'KAYIT LİSTESİ'!$B$4:$H$664,5,0)),\"\",(VLOOKUP(B31,'KAYIT LİSTESİ'!$B$4:$H$664,5,0)))","v":""},{"$f":"IF(ISERROR(VLOOKUP(B31,'KAYIT LİSTESİ'!$B$4:$H$664,6,0)),\"\",(VLOOKUP(B31,'KAYIT LİSTESİ'!$B$4:$H$664,6,0)))","v":""},null,null,null,"",null,null,null,0,{"$f":"IF(LEN(N31)>0,VLOOKUP(N31,#REF!,4)-IF(COUNTIF(#REF!,N31)=0,0,0),\" \")","v":{"$error":"#REF!"}},null,2484,29]
[null,"Gülle-25",{"$f":"IF(ISERROR(VLOOKUP(B32,'KAYIT LİSTESİ'!$B$4:$H$664,2,0)),\"\",(VLOOKUP(B32,'KAYIT LİSTESİ'!$B$4:$H$664,2,0)))","v":""},{"$f":"IF(ISERROR(VLOOKUP(B32,'KAYIT LİSTESİ'!$B$4:$H$664,4,0)),\"\",(VLOOKUP(B32,'KAYIT LİSTESİ'!$B$4:$H$664,4,0)))","v":""},{"$f":"IF(ISERROR(VLOOKUP(B32,'KAYIT LİSTESİ'!$B$4:$H$664,5,0)),\"\",(VLOOKUP(B32,'KAYIT LİSTESİ'!$B$4:$H$664,5,0)))","v":""},{"$f":"IF(ISERROR(VLOOKUP(B32,'KAYIT LİSTESİ'!$B$4:$H$664,6,0)),\"\",(VLOOKUP(B32,'KAYIT LİSTESİ'!$B$4:$H$664,6,0)))","v":""},null,null,null,"",null,null,null,0,{"$f":"IF(LEN(N32)>0,VLOOKUP(N32,#REF!,4)-IF(COUNTIF(#REF!,N32)=0,0,0),\" \")","v":{"$error":"#REF!"}},null,2530,30]
[null,"Gülle-26",{"$f":"IF(ISERROR(VLOOKUP(B33,'KAYIT LİSTESİ'!$B$4:$H$664,2,0)),\"\",(VLOOKUP(B33,'KAYIT LİSTESİ'!$B$4:$H$664,2,0)))","v":""},{"$f":"IF(ISERROR(VLOOKUP(B33,'KAYIT LİSTESİ'!$B$4:$H$664,4,0)),\"\",(VLOOKUP(B33,'KAYIT LİSTESİ'!$B$4:$H$664,4,0)))","v":""},{"$f":"IF(ISERROR(VLOOKUP(B33,'KAYIT LİSTESİ'!$B$4:$H$664,5,0)),\"\",(VLOOKUP(B33,'KAYIT LİSTESİ'!$B$4:$H$664,5,0)))","v":""},{"$f":"IF(ISERROR(VLOOKUP(B33,'KAYIT LİSTESİ'!$B$4:$H$664,6,0)),\"\",(VLOOKUP(B33,'KAYIT LİSTESİ'!$B$4:$H$664,6,0)))","v":""},null,null,null,"",null,null,null,0,{"$f":"IF(LEN(N33)>0,VLOOKUP(N33,#REF!,4)-IF(COUNTIF(#REF!,N33)=0,0,0),\" \")","v":{"$error":"#REF!"}},null,2576,31]
[null,"Gülle-27",{"$f":"IF(ISERROR(VLOOKUP(B34,'KAYIT LİSTESİ'!$B$4:$H$664,2,0)),\"\",(VLOOKUP(B34,'KAYIT LİSTESİ'!$B$4:$H$664,2,0)))","v":""},{"$f":"IF(ISERROR(VLOOKUP(B34,'KAYIT LİSTESİ'!$B$4:$H$664,4,0)),\"\",(VLOOKUP(B34,'KAYIT LİSTESİ'!$B$4:$H$664,4,0)))","v":""},{"$f":"IF(ISERROR(VLOOKUP(B34,'KAYIT LİSTESİ'!$B$4:$H$664,5,0)),\"\",(VLOOKUP(B34,'KAYIT LİSTESİ'!$B$4:$H$664,5,0)))","v":""},{"$f":"IF(ISERROR(VLOOKUP(B34,'KAYIT LİSTESİ'!$B$4:$H$664,6,0)),\"\",(VLOOKUP(B34,'KAYIT LİSTESİ'!$B$4:$H$664,6,0)))","v":""},null,null,null,"",null,null,null,0,{"$f":"IF(LEN(N34)>0,VLOOKUP(N34,#REF!,4)-IF(COUNTIF(#REF!,N34)=0,0,0),\" \")","v":{"$error":"#REF!"}},null,2622,32]
[null,"Gülle-28",{"$f":"IF(ISERROR(VLOOKUP(B35,'KAYIT LİSTESİ'!$B$4:$H$664,2,0)),\"\",(VLOOKUP(B35,'KAYIT LİSTESİ'!$B$4:$H$664,2,0)))","v":""},{"$f":"IF(ISERROR(VLOOKUP(B35,'KAYIT LİSTESİ'!$B$4:$H$664,4,0)),\"\",(VLOOKUP(B35,'KAYIT LİSTESİ'!$B$4:$H$664,4,0)))","v":""},{"$f":"IF(ISERROR(VLOOKUP(B35,'KAYIT LİSTESİ'!$B$4:$H$664,5,0)),\"\",(VLOOKUP(B35,'KAYIT LİSTESİ'!$B$4:$H$664,5,0)))","v":""},{"$f":"IF(ISERROR(VLOOKUP(B35,'KAYIT LİSTESİ'!$B$4:$H$664,6,0)),\"\",(VLOOKUP(B35,'KAYIT LİSTESİ'!$B$4:$H$664,6,0)))","v":""},null,null,null,"",null,null,null,0,{"$f":"IF(LEN(N35)>0,VLOOKUP(N35,#REF!,4)-IF(COUNTIF(#REF!,N35)=0,0,0),\" \")","v":{"$error":"#REF!"}},null,2668,33]
[null,"Gülle-29",{"$f":"IF(ISERROR(VLOOKUP(B36,'KAYIT LİSTESİ'!$B$4:$H$664,2,0)),\"\",(VLOOKUP(B36,'KAYIT LİSTESİ'!$B$4:$H$664,2,0)))","v":""},{"$f":"IF(ISERROR(VLOOKUP(B36,'KAYIT LİSTESİ'!$B$4:$H$664,4,0)),\"\",(VLOOKUP(B36,'KAYIT LİSTESİ'!$B$4:$H$664,4,0)))","v":""},{"$f":"IF(ISERROR(VLOOKUP(B36,'KAYIT LİSTESİ'!$B$4:$H$664,5,0)),\"\",(VLOOKUP(B36,'KAYIT LİSTESİ'!$B$4:$H$664,5,0)))","v":""},{"$f":"IF(ISERROR(VLOOKUP(B36,'KAYIT LİSTESİ'!$B$4:$H$664,6,0)),\"\",(VLOOKUP(B36,'KAYIT LİSTESİ'!$B$4:$H$664,6,0)))","v":""},null,null,null,"",null,null,null,0,{"$f":"IF(LEN(N36)>0,VLOOKUP(N36,#REF!,4)-IF(COUNTIF(#REF!,N36)=0,0,0),\" \")","v":{"$error":"#REF!"}},null,2712,34]
[null,"Gülle-30",{"$f":"IF(ISERROR(VLOOKUP(B37,'KAYIT LİSTESİ'!$B$4:$H$664,2,0)),\"\",(VLOOKUP(B37,'KAYIT LİSTESİ'!$B$4:$H$664,2,0)))","v":""},{"$f":"IF(ISERROR(VLOOKUP(B37,'KAYIT LİSTESİ'!$B$4:$H$664,4,0)),\"\",(VLOOKUP(B37,'KAYIT LİSTESİ'!$B$4:$H$664,4,0)))","v":""},{"$f":"IF(ISERROR(VLOOKUP(B37,'KAYIT LİSTESİ'!$B$4:$H$664,5,0)),\"\",(VLOOKUP(B37,'KAYIT LİSTESİ'!$B$4:$H$664,5,0)))","v":""},{"$f":"IF(ISERROR(VLOOKUP(B37,'KAYIT LİSTESİ'!$B$4:$H$664,6,0)),\"\",(VLOOKUP(B37,'KAYIT LİSTESİ'!$B$4:$H$664,6,0)))","v":""},null,null,null,"",null,null,null,0,{"$f":"IF(LEN(N37)>0,VLOOKUP(N37,#REF!,4)-IF(COUNTIF(#REF!,N37)=0,0,0),\" \")","v":{"$error":"#REF!"}},null,2756,35]
[null,"Gülle-31",{"$f":"IF(ISERROR(VLOOKUP(B38,'KAYIT LİSTESİ'!$B$4:$H$664,2,0)),\"\",(VLOOKUP(B38,'KAYIT LİSTESİ'!$B$4:$H$664,2,0)))","v":""},{"$f":"IF(ISERROR(VLOOKUP(B38,'KAYIT LİSTESİ'!$B$4:$H$664,4,0)),\"\",(VLOOKUP(B38,'KAYIT LİSTESİ'!$B$4:$H$664,4,0)))","v":""},{"$f":"IF(ISERROR(VLOOKUP(B38,'KAYIT LİSTESİ'!$B$4:$H$664,5,0)),\"\",(VLOOKUP(B38,'KAYIT LİSTESİ'!$B$4:$H$664,5,0)))","v":""},{"$f":"IF(ISERROR(VLOOKUP(B38,'KAYIT LİSTESİ'!$B$4:$H$664,6,0)),\"\",(VLOOKUP(B38,'KAYIT LİSTESİ'!$B$4:$H$664,6,0)))","v":""},null,null,null,"",null,null,null,0,{"$f":"IF(LEN(N38)>0,VLOOKUP(N38,#REF!,4)-IF(COUNTIF(#REF!,N38)=0,0,0),\" \")","v":{"$error":"#REF!"}},null,2800,36]
[null,"Gülle-32",{"$f":"IF(ISERROR(VLOOKUP(B39,'KAYIT LİSTESİ'!$B$4:$H$664,2,0)),\"\",(VLOOKUP(B39,'KAYIT LİSTESİ'!$B$4:$H$664,2,0)))","v":""},{"$f":"IF(ISERROR(VLOOKUP(B39,'KAYIT LİSTESİ'!$B$4:$H$664,4,0)),\"\",(VLOOKUP(B39,'KAYIT LİSTESİ'!$B$4:$H$664,4,0)))","v":""},{"$f":"IF(ISERROR(VLOOKUP(B39,'KAYIT LİSTESİ'!$B$4:$H$664,5,0)),\"\",(VLOOKUP(B39,'KAYIT LİSTESİ'!$B$4:$H$664,5,0)))","v":""},{"$f":"IF(ISERROR(VLOOKUP(B39,'KAYIT LİSTESİ'!$B$4:$H$664,6,0)),\"\",(VLOOKUP(B39,'KAYIT LİSTESİ'!$B$4:$H$664,6,0)))","v":""},null,null,null,"",null,null,null,0,{"$f":"IF(LEN(N39)>0,VLOOKUP(N39,#REF!,4)-IF(COUNTIF(#REF!,N39)=0,0,0),\" \")","v":{"$error":"#REF!"}},null,2844,37]
[null,"Gülle-33",{"$f":"IF(ISERROR(VLOOKUP(B40,'KAYIT LİSTESİ'!$B$4:$H$664,2,0)),\"\",(VLOOKUP(B40,'KAYIT LİSTESİ'!$B$4:$H$664,2,0)))","v":""},{"$f":"IF(ISERROR(VLOOKUP(B40,'KAYIT LİSTESİ'!$B$4:$H$664,4,0)),\"\",(VLOOKUP(B40,'KAYIT LİSTESİ'!$B$4:$H$664,4,0)))","v":""},{"$f":"IF(ISERROR(VLOOKUP(B40,'KAYIT LİSTESİ'!$B$4:$H$664,5,0)),\"\",(VLOOKUP(B40,'KAYIT LİSTESİ'!$B$4:$H$664,5,0)))","v":""},{"$f":"IF(ISERROR(VLOOKUP(B40,'KAYIT LİSTESİ'!$B$4:$H$664,6,0)),\"\",(VLOOKUP(B40,'KAYIT LİSTESİ'!$B$4:$H$664,6,0)))","v":""},null,null,null,"",null,null,null,0,{"$f":"IF(LEN(N40)>0,VLOOKUP(N40,#REF!,4)-IF(COUNTIF(#REF!,N40)=0,0,0),\" \")","v":{"$error":"#REF!"}},null,2888,38]
[null,"Gülle-34",{"$f":"IF(ISERROR(VLOOKUP(B41,'KAYIT LİSTESİ'!$B$4:$H$664,2,0)),\"\",(VLOOKUP(B41,'KAYIT LİSTESİ'!$B$4:$H$664,2,0)))","v":""},{"$f":"IF(ISERROR(VLOOKUP(B41,'KAYIT LİSTESİ'!$B$4:$H$664,4,0)),\"\",(VLOOKUP(B41,'KAYIT LİSTESİ'!$B$4:$H$664,4,0)))","v":""},{"$f":"IF(ISERROR(VLOOKUP(B41,'KAYIT LİSTESİ'!$B$4:$H$664,5,0)),\"\",(VLOOKUP(B41,'KAYIT LİSTESİ'!$B$4:$H$664,5,0)))","v":""},{"$f":"IF(ISERROR(VLOOKUP(B41,'KAYIT LİSTESİ'!$B$4:$H$664,6,0)),\"\",(VLOOKUP(B41,'KAYIT LİSTESİ'!$B$4:$H$664,6,0)))","v":""},null,null,null,"",null,null,null,0,{"$f":"IF(LEN(N41)>0,VLOOKUP(N41,#REF!,4)-IF(COUNTIF(#REF!,N41)=0,0,0),\" \")","v":{"$error":"#REF!"}},null,2932,39]
[null,"Gülle-35",{"$f":"IF(ISERROR(VLOOKUP(B42,'KAYIT LİSTESİ'!$B$4:$H$664,2,0)),\"\",(VLOOKUP(B42,'KAYIT LİSTESİ'!$B$4:$H$664,2,0)))","v":""},{"$f":"IF(ISERROR(VLOOKUP(B42,'KAYIT LİSTESİ'!$B$4:$H$664,4,0)),\"\",(VLOOKUP(B42,'KAYIT LİSTESİ'!$B$4:$H$664,4,0)))","v":""},{"$f":"IF(ISERROR(VLOOKUP(B42,'KAYIT LİSTESİ'!$B$4:$H$664,5,0)),\"\",(VLOOKUP(B42,'KAYIT LİSTESİ'!$B$4:$H$664,5,0)))","v":""},{"$f":"IF(ISERROR(VLOOKUP(B42,'KAYIT LİSTESİ'!$B$4:$H$664,6,0)),\"\",(VLOOKUP(B42,'KAYIT LİSTESİ'!$B$4:$H$664,6,0)))","v":""},null,null,null,"",null,null,null,0,{"$f":"IF(LEN(N42)>0,VLOOKUP(N42,#REF!,4)-IF(COUNTIF(#REF!,N42)=0,0,0),\" \")","v":{"$error":"#REF!"}},null,2976,40]
[null,"Gülle-36",{"$f":"IF(ISERROR(VLOOKUP(B43,'KAYIT LİSTESİ'!$B$4:$H$664,2,0)),\"\",(VLOOKUP(B43,'KAYIT LİSTESİ'!$B$4:$H$664,2,0)))","v":""},{"$f":"IF(ISERROR(VLOOKUP(B43,'KAYIT LİSTESİ'!$B$4:$H$664,4,0)),\"\",(VLOOKUP(B43,'KAYIT LİSTESİ'!$B$4:$H$664,4,0)))","v":""},{"$f":"IF(ISERROR(VLOOKUP(B43,'KAYIT LİSTESİ'!$B$4:$H$664,5,0)),\"\",(VLOOKUP(B43,'KAYIT LİSTESİ'!$B$4:$H$664,5,0)))","v":""},{"$f":"IF(ISERROR(VLOOKUP(B43,'KAYIT LİSTESİ'!$B$4:$H$664,6,0)),\"\",(VLOOKUP(B43,'KAYIT LİSTESİ'!$B$4:$H$664,6,0)))","v":""},null,null,null,"",null,null,null,0,{"$f":"IF(LEN(N43)>0,VLOOKUP(N43,#REF!,4)-IF(COUNTIF(#REF!,N43)=0,0,0),\" \")","v":{"$error":"#REF!"}},null,3020,41]
[null,"Gülle-37",{"$f":"IF(ISERROR(VLOOKUP(B44,'KAYIT LİSTESİ'!$B$4:$H$664,2,0)),\"\",(VLOOKUP(B44,'KAYIT LİSTESİ'!$B$4:$H$664,2,0)))","v":""},{"$f":"IF(ISERROR(VLOOKUP(B44,'KAYIT LİSTESİ'!$B$4:$H$664,4,0)),\"\",(VLOOKUP(B44,'KAYIT LİSTESİ'!$B$4:$H$664,4,0)))","v":""},{"$f":"IF(ISERROR(VLOOKUP(B44,'KAYIT LİSTESİ'!$B$4:$H$664,5,0)),\"\",(VLOOKUP(B44,'KAYIT LİSTESİ'!$B$4:$H$664,5,0)))","v":""},{"$f":"IF(ISERROR(VLOOKUP(B44,'KAYIT LİSTESİ'!$B$4:$H$664,6,0)),\"\",(VLOOKUP(B44,'KAYIT LİSTESİ'!$B$4:$H$664,6,0)))","v":""},null,null,null,"",null,null,null,0,{"$f":"IF(LEN(N44)>0,VLOOKUP(N44,#REF!,4)-IF(COUNTIF(#REF!,N44)=0,0,0),\" \")","v":{"$error":"#REF!"}},null,3064,42]
[null,"Gülle-38",{"$f":"IF(ISERROR(VLOOKUP(B45,'KAYIT LİSTESİ'!$B$4:$H$664,2,0)),\"\",(VLOOKUP(B45,'KAYIT LİSTESİ'!$B$4:$H$664,2,0)))","v":""},{"$f":"IF(ISERROR(VLOOKUP(B45,'KAYIT LİSTESİ'!$B$4:$H$664,4,0)),\"\",(VLOOKUP(B45,'KAYIT LİSTESİ'!$B$4:$H$664,4,0)))","v":""},{"$f":"IF(ISERROR(VLOOKUP(B45,'KAYIT LİSTESİ'!$B$4:$H$664,5,0)),\"\",(VLOOKUP(B45,'KAYIT LİSTESİ'!$B$4:$H$664,5,0)))","v":""},{"$f":"IF(ISERROR(VLOOKUP(B45,'KAYIT LİSTESİ'!$B$4:$H$664,6,0)),\"\",(VLOOKUP(B45,'KAYIT LİSTESİ'!$B$4:$H$664,6,0)))","v":""},null,null,null,"",null,null,null,0,{"$f":"IF(LEN(N45)>0,VLOOKUP(N45,#REF!,4)-IF(COUNTIF(#REF!,N45)=0,0,0),\" \")","v":{"$error":"#REF!"}},null,3106,43]
[null,"Gülle-39",{"$f":"IF(ISERROR(VLOOKUP(B46,'KAYIT LİSTESİ'!$B$4:$H$664,2,0)),\"\",(VLOOKUP(B46,'KAYIT LİSTESİ'!$B$4:$H$664,2,0)))","v":""},{"$f":"IF(ISERROR(VLOOKUP(B46,'KAYIT LİSTESİ'!$B$4:$H$664,4,0)),\"\",(VLOOKUP(B46,'KAYIT LİSTESİ'!$B$4:$H$664,4,0)))","v":""},{"$f":"IF(ISERROR(VLOOKUP(B46,'KAYIT LİSTESİ'!$B$4:$H$664,5,0)),\"\",(VLOOKUP(B46,'KAYIT LİSTESİ'!$B$4:$H$664,5,0)))","v":""},{"$f":"IF(ISERROR(VLOOKUP(B46,'KAYIT LİSTESİ'!$B$4:$H$664,6,0)),\"\",(VLOOKUP(B46,'KAYIT LİSTESİ'!$B$4:$H$664,6,0)))","v":""},null,null,null,"",null,null,null,0,{"$f":"IF(LEN(N46)>0,VLOOKUP(N46,#REF!,4)-IF(COUNTIF(#REF!,N46)=0,0,0),\" \")","v":{"$error":"#REF!"}},null,3148,44]
[null,"Gülle-40",{"$f":"IF(ISERROR(VLOOKUP(B47,'KAYIT LİSTESİ'!$B$4:$H$664,2,0)),\"\",(VLOOKUP(B47,'KAYIT LİSTESİ'!$B$4:$H$664,2,0)))","v":""},{"$f":"IF(ISERROR(VLOOKUP(B47,'KAYIT LİSTESİ'!$B$4:$H$664,4,0)),\"\",(VLOOKUP(B47,'KAYIT LİSTESİ'!$B$4:$H$664,4,0)))","v":""},{"$f":"IF(ISERROR(VLOOKUP(B47,'KAYIT LİSTESİ'!$B$4:$H$664,5,0)),\"\",(VLOOKUP(B47,'KAYIT LİSTESİ'!$B$4:$H$664,5,0)))","v":""},{"$f":"IF(ISERROR(VLOOKUP(B47,'KAYIT LİSTESİ'!$B$4:$H$664,6,0)),\"\",(VLOOKUP(B47,'KAYIT LİSTESİ'!$B$4:$H$664,6,0)))","v":""},null,null,null,"",null,null,null,0,{"$f":"IF(LEN(N47)>0,VLOOKUP(N47,#REF!,4)-IF(COUNTIF(#REF!,N47)=0,0,0),\" \")","v":{"$error":"#REF!"}},null,3190,45]
[null,null,null,null,null,null,null,null,null,null,null,null,null,null,null,null,3232,46]
["Müsabaka \nDirektörü",null,null,null,"Baş Hakem","Lider","Sekreter",null,null,null,null,null,null,"Hakem",null,null,3274,47]
[null,null,null,null,null,null,null,null,null,null,null,null,null,null,null,null,3316,48]
[null,null,null,null,null,null,null,null,null,null,null,null,null,null,null,null,3358,49]
[null,null,null,null,null,null,null,null,null,null,null,null,null,null,null,null,3400,50]
[null,null,null,null,null,null,null,null,null,null,null,null,null,null,null,null,3442,51]
[null,null,null,null,null,null,null,null,null,null,null,null,null,null,null,null,3484,52]
[null,null,null,null,null,null,null,null,null,null,null,null,null,null,null,null,3526,53]
[null,null,null,null,null,null,null,null,null,null,null,null,null,null,null,null,3568,54]
[null,null,null,null,null,null,null,null,null,null,null,null,null,null,null,null,3610,55]
[null,null,null,null,null,null,null,null,null,null,null,null,null,null,null,null,3652,56]
[null,null,null,null,null,null,null,null,null,null,null,null,null,null,null,null,3694,57]
[null,null,null,null,null,null,null,null,null,null,null,null,null,null,null,null,3736,58]
[null,null,null,null,null,null,null,null,null,null,null,null,null,null,null,null,3776,59]
[null,null,null,null,null,null,null,null,null,null,null,null,null,null,null,null,3816,60]
[null,null,null,null,null,null,null,null,null,null,null,null,null,null,null,null,3856,61]
[null,null,null,null,null,null,null,null,null,null,null,null,null,null,null,null,3896,62]
[null,null,null,null,null,null,null,null,null,null,null,null,null,null,null,null,3936,63]
[null,null,null,null,null,null,null,null,null,null,null,null,null,null,null,null,3976,64]
[null,null,null,null,null,null,null,null,null,null,null,null,null,null,null,null,4016,65]
[null,null,null,null,null,null,null,null,null,null,null,null,null,null,null,null,4056,66]
[null,null,null,null,null,null,null,null,null,null,null,null,null,null,null,null,4096,67]
[null,null,null,null,null,null,null,null,null,null,null,null,null,null,null,null,4134,68]
[null,null,null,null,null,null,null,null,null,null,null,null,null,null,null,null,4172,69]
[null,null,null,null,null,null,null,null,null,null,null,null,null,null,null,null,4210,70]
[null,null,null,null,null,null,null,null,null,null,null,null,null,null,null,null,4248,71]
[null,null,null,null,null,null,null,null,null,null,null,null,null,null,null,null,4286,72]
[null,null,null,null,null,null,null,null,null,null,null,null,null,null,null,null,4324,73]
[null,null,null,null,null,null,null,null,null,null,null,null,null,null,null,null,4362,74]
[null,null,null,null,null,null,null,null,null,null,null,null,null,null,null,null,4400,75]
[null,null,null,null,null,null,null,null,null,null,null,null,null,null,null,null,4438,76]
[null,null,null,null,null,null,null,null,null,null,null,null,null,null,null,null,4476,77]
[null,null,null,null,null,null,null,null,null,null,null,null,null,null,null,null,4514,78]
[null,null,null,null,null,null,null,null,null,null,null,null,null,null,null,null,4552,79]
[null,null,null,null,null,null,null,null,null,null,null,null,null,null,null,null,4590,80]
[null,null,null,null,null,null,null,null,null,null,null,null,null,null,null,null,4628,81]
[null,null,null,null,null,null,null,null,null,null,null,null,null,null,null,null,4666,82]
[null,null,null,null,null,null,null,null,null,null,null,null,null,null,null,null,4704,83]
[null,null,null,null,null,null,null,null,null,null,null,null,null,null,null,null,4740,84]
[null,null,null,null,null,null,null,null,null,null,null,null,null,null,null,null,4776,85]
[null,null,null,null,null,null,null,null,null,null,null,null,null,null,null,null,4812,86]
[null,null,null,null,null,null,null,null,null,null,null,null,null,null,null,null,4848,87]
[null,null,null,null,null,null,null,null,null,null,null,null,null,null,null,null,4884,88]
[null,null,null,null,null,null,null,null,null,null,null,null,null,null,null,null,4920,89]
[null,null,null,null,null,null,null,null,null,null,null,null,null,null,null,null,4956,90]
[null,null,null,null,null,null,null,null,null,null,null,null,null,null,null,null,4992,91]
[null,null,null,null,null,null,null,null,null,null,null,null,null,null,null,null,5028,92]
[null,null,null,null,null,null,null,null,null,null,null,null,null,null,null,null,5062,93]
[null,null,null,null,null,null,null,null,null,null,null,null,null,null,null,null,5096,94]
[null,null,null,null,null,null,null,null,null,null,null,null,null,null,null,null,5130,95]
[null,null,null,null,null,null,null,null,null,null,null,null,null,null,null,null,5164,96]
[null,null,null,null,null,null,null,null,null,null,null,null,null,null,null,null,5198,97]
[null,null,null,null,null,null,null,null,null,null,null,null,null,null,null,null,5232,98]
[null,null,null,null,null,null,null,null,null,null,null,null,null,null,null,null,5266,99]
[null,null,null,null,null,null,null,null,null,null,null,null,null,null,null,null,5300,100]

{"sheet":"Çekiç","index":9,"n_rows":102,"n_cols":18,"rows_kept":102,"cut":false,"hidden":false,"merged":[[5,15,6,15],[0,0,0,14],[1,0,1,15],[2,0,2,2],[2,3,2,4],[2,6,2,7],[2,12,2,14],[48,0,48,3],[48,6,48,12],[48,13,48,14],[3,0,3,2],[3,3,3,4],[3,12,3,14],[4,13,4,14],[5,0,6,0],[5,1,6,1],[5,2,6,2],[5,3,6,3],[5,4,6,4],[5,5,6,5],[5,6,5,12],[5,13,6,13],[5,14,6,14]]}
[{"$f":"'YARIŞMA BİLGİLERİ'!A2:K2","v":"Türkiye Atletizm Federasyonu\nMersin Atletizm İl Temsilciliği\n"},null,null,null,null,null,null,null,null,null,null,null,null,null,null,null,"DERECE"]
[{"$f":"'YARIŞMA BİLGİLERİ'!A14:K14","v":"Olimpik Baraj  Yarışmaları"},null,null,null,null,null,null,null,null,null,null,null,null,null,null,null,100,0]
["Yarışma :",null,null,{"$f":"#REF!","v":{"$error":"#REF!"}},null,"Baraj Derecesi :",{"$f":"#REF!","v":{"$error":"#REF!"}},null,null,null,null,null,null,null,null,null,1100,1]
["Kategori :      ",null,null,{"$f":"'YARIŞMA BİLGİLERİ'!F21","v":"Kadınlar"},null,"Ağırlık:","3 Kg.",null,null,null,null,"Tarih-Saat  :",{"$f":"#REF!","v":{"$error":"#REF!"}},null,null,null,1150,2]
[null,null,null,null,null,null,null,null,null,null,null,null,null,{"$f":"NOW()","v":42222.536638541664},null,null,1200,3]
["SIRA NO",null,"GÖĞÜS NO","DOĞUM TARİHİ\nGün/Ay/Yıl","ADI VE SOYADI","İli-Okulu","A  T  M  A  L  A  R",null,null,null,null,null,null,"SONUÇ","PUAN","KLASMAN",1250,4]
[null,null,null,null,null,null,1,2,3,"ARA DERECE",4,5,6,null,null,null,1300,5]
[1,"Çekiç-1",{"$f":"IF(ISERROR(VLOOKUP(B8,'KAYIT LİSTESİ'!$B$4:$H$664,2,0)),\"\",(VLOOKUP(B8,'KAYIT LİSTESİ'!$B$4:$H$664,2,0)))","v":603},{"$f":"IF(ISERROR(VLOOKUP(B8,'KAYIT LİSTESİ'!$B$4:$H$664,4,0)),\"\",(VLOOKUP(B8,'KAYIT LİSTESİ'!$B$4:$H$664,4,0)))","v":"1988-05-01"},{"$f":"IF(ISERROR(VLOOKUP(B8,'KAYIT LİSTESİ'!$B$4:$H$664,5,0)),\"\",(VLOOKUP(B8,'KAYIT LİSTESİ'!$B$4:$H$664,5,0)))","v":"TUĞÇE ŞAHUTOĞLU"},{"$f":"IF(ISERROR(VLOOKUP(B8,'KAYIT LİSTESİ'!$B$4:$H$664,6,0)),\"\",(VLOOKUP(B8,'KAYIT LİSTESİ'!$B$4:$H$664,6,0)))","v":"MERSİN"},null,null,null,{"$f":"IF(COUNT(G8:I8)=0,\"\",MAX(G8:I8))","v":""},null,null,null,{"$f":"MAX(G8:M8)","v":0},{"$f":"IF(LEN(N8)>0,VLOOKUP(N8,#REF!,4)-IF(COUNTIF(#REF!,N8)=0,0,0),\" \")","v":{"$error":"#REF!"}},null,1350,6]
[2,"Çekiç-2",{"$f":"IF(ISERROR(VLOOKUP(B9,'KAYIT LİSTESİ'!$B$4:$H$664,2,0)),\"\",(VLOOKUP(B9,'KAYIT LİSTESİ'!$B$4:$H$664,2,0)))","v":""},{"$f":"IF(ISERROR(VLOOKUP(B9,'KAYIT LİSTESİ'!$B$4:$H$664,4,0)),\"\",(VLOOKUP(B9,'KAYIT LİSTESİ'!$B$4:$H$664,4,0)))","v":""},{"$f":"IF(ISERROR(VLOOKUP(B9,'KAYIT LİSTESİ'!$B$4:$H$664,5,0)),\"\",(VLOOKUP(B9,'KAYIT LİSTESİ'!$B$4:$H$664,5,0)))","v":""},{"$f":"IF(ISERROR(VLOOKUP(B9,'KAYIT LİSTESİ'!$B$4:$H$664,6,0)),\"\",(VLOOKUP(B9,'KAYIT LİSTESİ'!$B$4:$H$664,6,0)))","v":""},null,null,null,{"$f":"IF(COUNT(G9:I9)=0,\"\",MAX(G9:I9))","v":""},null,null,null,{"$f":"MAX(G9:M9)","v":0},{"$f":"IF(LEN(N9)>0,VLOOKUP(N9,#REF!,4)-IF(COUNTIF(#REF!,N9)=0,0,0),\" \")","v":{"$error":"#REF!"}},null,1400,7]
[3,"Çekiç-3",{"$f":"IF(ISERROR(VLOOKUP(B10,'KAYIT LİSTESİ'!$B$4:$H$664,2,0)),\"\",(VLOOKUP(B10,'KAYIT LİSTESİ'!$B$4:$H$664,2,0)))","v":""},{"$f":"IF(ISERROR(VLOOKUP(B10,'KAYIT LİSTESİ'!$B$4:$H$664,4,0)),\"\",(VLOOKUP(B10,'KAYIT LİSTESİ'!$B$4:$H$664,4,0)))","v":""},{"$f":"IF(ISERROR(VLOOKUP(B10,'KAYIT LİSTESİ'!$B$4:$H$664,5,0)),\"\",(VLOOKUP(B10,'KAYIT LİSTESİ'!$B$4:$H$664,5,0)))","v":""},{"$f":"IF(ISERROR(VLOOKUP(B10,'KAYIT LİSTESİ'!$B$4:$H$664,6,0)),\"\",(VLOOKUP(B10,'KAYIT LİSTESİ'!$B$4:$H$664,6,0)))","v":""},null,null,null,"",null,null,null,0,{"$f":"IF(LEN(N10)>0,VLOOKUP(N10,#REF!,4)-IF(COUNTIF(#REF!,N10)=0,0,0),\" \")","v":{"$error":"#REF!"}},null,1450,8]
[4,"Çekiç-4",{"$f":"IF(ISERROR(VLOOKUP(B11,'KAYIT LİSTESİ'!$B$4:$H$664,2,0)),\"\",(VLOOKUP(B11,'KAYIT LİSTESİ'!$B$4:$H$664,2,0)))","v":""},{"$f":"IF(ISERROR(VLOOKUP(B11,'KAYIT LİSTESİ'!$B$4:$H$664,4,0)),\"\",(VLOOKUP(B11,'KAYIT LİSTESİ'!$B$4:$H$664,4,0)))","v":""},{"$f":"IF(ISERROR(VLOOKUP(B11,'KAYIT LİSTESİ'!$B$4:$H$664,5,0)),\"\",(VLOOKUP(B11,'KAYIT LİSTESİ'!$B$4:$H$664,5,0)))","v":""},{"$f":"IF(ISERROR(VLOOKUP(B11,'KAYIT LİSTESİ'!$B$4:$H$664,6,0)),\"\",(VLOOKUP(B11,'KAYIT LİSTESİ'!$B$4:$H$664,6,0)))","v":""},null,null,null,"",null,null,null,0,{"$f":"IF(LEN(N11)>0,VLOOKUP(N11,#REF!,4)-IF(COUNTIF(#REF!,N11)=0,0,0),\" \")","v":{"$error":"#REF!"}},null,1500,9]
[5,"Çekiç-5",{"$f":"IF(ISERROR(VLOOKUP(B12,'KAYIT LİSTESİ'!$B$4:$H$664,2,0)),\"\",(VLOOKUP(B12,'KAYIT LİSTESİ'!$B$4:$H$664,2,0)))","v":""},{"$f":"IF(ISERROR(VLOOKUP(B12,'KAYIT LİSTESİ'!$B$4:$H$664,4,0)),\"\",(VLOOKUP(B12,'KAYIT LİSTESİ'!$B$4:$H$664,4,0)))","v":""},{"$f":"IF(ISERROR(VLOOKUP(B12,'KAYIT LİSTESİ'!$B$4:$H$664,5,0)),\"\",(VLOOKUP(B12,'KAYIT LİSTESİ'!$B$4:$H$664,5,0)))","v":""},{"$f":"IF(ISERROR(VLOOKUP(B12,'KAYIT LİSTESİ'!$B$4:$H$664,6,0)),\"\",(VLOOKUP(B12,'KAYIT LİSTESİ'!$B$4:$H$664,6,0)))","v":""},null,null,null,"",null,null,null,0,{"$f":"IF(LEN(N12)>0,VLOOKUP(N12,#REF!,4)-IF(COUNTIF(#REF!,N12)=0,0,0),\" \")","v":{"$error":"#REF!"}},null,1550,10]
[6,"Çekiç-6",{"$f":"IF(ISERROR(VLOOKUP(B13,'KAYIT LİSTESİ'!$B$4:$H$664,2,0)),\"\",(VLOOKUP(B13,'KAYIT LİSTESİ'!$B$4:$H$664,2,0)))","v":""},{"$f":"IF(ISERROR(VLOOKUP(B13,'KAYIT LİSTESİ'!$B$4:$H$664,4,0)),\"\",(VLOOKUP(B13,'KAYIT LİSTESİ'!$B$4:$H$664,4,0)))","v":""},{"$f":"IF(ISERROR(VLOOKUP(B13,'KAYIT LİSTESİ'!$B$4:$H$664,5,0)),\"\",(VLOOKUP(B13,'KAYIT LİSTESİ'!$B$4:$H$664,5,0)))","v":""},{"$f":"IF(ISERROR(VLOOKUP(B13,'KAYIT LİSTESİ'!$B$4:$H$664,6,0)),\"\",(VLOOKUP(B13,'KAYIT LİSTESİ'!$B$4:$H$664,6,0)))","v":""},null,null,null,"",null,null,null,0,{"$f":"IF(LEN(N13)>0,VLOOKUP(N13,#REF!,4)-IF(COUNTIF(#REF!,N13)=0,0,0),\" \")","v":{"$error":"#REF!"}},null,1600,11]
[7,"Çekiç-7",{"$f":"IF(ISERROR(VLOOKUP(B14,'KAYIT LİSTESİ'!$B$4:$H$664,2,0)),\"\",(VLOOKUP(B14,'KAYIT LİSTESİ'!$B$4:$H$664,2,0)))","v":""},{"$f":"IF(ISERROR(VLOOKUP(B14,'KAYIT LİSTESİ'!$B$4:$H$664,4,0)),\"\",(VLOOKUP(B14,'KAYIT LİSTESİ'!$B$4:$H$664,4,0)))","v":""},{"$f":"IF(ISERROR(VLOOKUP(B14,'KAYIT LİSTESİ'!$B$4:$H$664,5,0)),\"\",(VLOOKUP(B14,'KAYIT LİSTESİ'!$B$4:$H$664,5,0)))","v":""},{"$f":"IF(ISERROR(VLOOKUP(B14,'KAYIT LİSTESİ'!$B$4:$H$664,6,0)),\"\",(VLOOKUP(B14,'KAYIT LİSTESİ'!$B$4:$H$664,6,0)))","v":""},null,null,null,"",null,null,null,0,{"$f":"IF(LEN(N14)>0,VLOOKUP(N14,#REF!,4)-IF(COUNTIF(#REF!,N14)=0,0,0),\" \")","v":{"$error":"#REF!"}},null,1650,12]
[8,"Çekiç-8",{"$f":"IF(ISERROR(VLOOKUP(B15,'KAYIT LİSTESİ'!$B$4:$H$664,2,0)),\"\",(VLOOKUP(B15,'KAYIT LİSTESİ'!$B$4:$H$664,2,0)))","v":""},{"$f":"IF(ISERROR(VLOOKUP(B15,'KAYIT LİSTESİ'!$B$4:$H$664,4,0)),\"\",(VLOOKUP(B15,'KAYIT LİSTESİ'!$B$4:$H$664,4,0)))","v":""},{"$f":"IF(ISERROR(VLOOKUP(B15,'KAYIT LİSTESİ'!$B$4:$H$664,5,0)),\"\",(VLOOKUP(B15,'KAYIT LİSTESİ'!$B$4:$H$664,5,0)))","v":""},{"$f":"IF(ISERROR(VLOOKUP(B15,'KAYIT LİSTESİ'!$B$4:$H$664,6,0)),\"\",(VLOOKUP(B15,'KAYIT LİSTESİ'!$B$4:$H$664,6,0)))","v":""},null,null,null,"",null,null,null,0,{"$f":"IF(LEN(N15)>0,VLOOKUP(N15,#REF!,4)-IF(COUNTIF(#REF!,N15)=0,0,0),\" \")","v":{"$error":"#REF!"}},null,1700,13]
[9,"Çekiç-9",{"$f":"IF(ISERROR(VLOOKUP(B16,'KAYIT LİSTESİ'!$B$4:$H$664,2,0)),\"\",(VLOOKUP(B16,'KAYIT LİSTESİ'!$B$4:$H$664,2,0)))","v":""},{"$f":"IF(ISERROR(VLOOKUP(B16,'KAYIT LİSTESİ'!$B$4:$H$664,4,0)),\"\",(VLOOKUP(B16,'KAYIT LİSTESİ'!$B$4:$H$664,4,0)))","v":""},{"$f":"IF(ISERROR(VLOOKUP(B16,'KAYIT LİSTESİ'!$B$4:$H$664,5,0)),\"\",(VLOOKUP(B16,'KAYIT LİSTESİ'!$B$4:$H$664,5,0)))","v":""},{"$f":"IF(ISERROR(VLOOKUP(B16,'KAYIT LİSTESİ'!$B$4:$H$664,6,0)),\"\",(VLOOKUP(B16,'KAYIT LİSTESİ'!$B$4:$H$664,6,0)))","v":""},null,null,null,"",null,null,null,0,{"$f":"IF(LEN(N16)>0,VLOOKUP(N16,#REF!,4)-IF(COUNTIF(#REF!,N16)=0,0,0),\" \")","v":{"$error":"#REF!"}},null,1750,14]
[10,"Çekiç-10",{"$f":"IF(ISERROR(VLOOKUP(B17,'KAYIT LİSTESİ'!$B$4:$H$664,2,0)),\"\",(VLOOKUP(B17,'KAYIT LİSTESİ'!$B$4:$H$664,2,0)))","v":""},{"$f":"IF(ISERROR(VLOOKUP(B17,'KAYIT LİSTESİ'!$B$4:$H$664,4,0)),\"\",(VLOOKUP(B17,'KAYIT LİSTESİ'!$B$4:$H$664,4,0)))","v":""},{"$f":"IF(ISERROR(VLOOKUP(B17,'KAYIT LİSTESİ'!$B$4:$H$664,5,0)),\"\",(VLOOKUP(B17,'KAYIT LİSTESİ'!$B$4:$H$664,5,0)))","v":""},{"$f":"IF(ISERROR(VLOOKUP(B17,'KAYIT LİSTESİ'!$B$4:$H$664,6,0)),\"\",(VLOOKUP(B17,'KAYIT LİSTESİ'!$B$4:$H$664,6,0)))","v":""},null,null,null,"",null,null,null,0,{"$f":"IF(LEN(N17)>0,VLOOKUP(N17,#REF!,4)-IF(COUNTIF(#REF!,N17)=0,0,0),\" \")","v":{"$error":"#REF!"}},null,1800,15]
[11,"Çekiç-11",{"$f":"IF(ISERROR(VLOOKUP(B18,'KAYIT LİSTESİ'!$B$4:$H$664,2,0)),\"\",(VLOOKUP(B18,'KAYIT LİSTESİ'!$B$4:$H$664,2,0)))","v":""},{"$f":"IF(ISERROR(VLOOKUP(B18,'KAYIT LİSTESİ'!$B$4:$H$664,4,0)),\"\",(VLOOKUP(B18,'KAYIT LİSTESİ'!$B$4:$H$664,4,0)))","v":""},{"$f":"IF(ISERROR(VLOOKUP(B18,'KAYIT LİSTESİ'!$B$4:$H$664,5,0)),\"\",(VLOOKUP(B18,'KAYIT LİSTESİ'!$B$4:$H$664,5,0)))","v":""},{"$f":"IF(ISERROR(VLOOKUP(B18,'KAYIT LİSTESİ'!$B$4:$H$664,6,0)),\"\",(VLOOKUP(B18,'KAYIT LİSTESİ'!$B$4:$H$664,6,0)))","v":""},null,null,null,"",null,null,null,0,{"$f":"IF(LEN(N18)>0,VLOOKUP(N18,#REF!,4)-IF(COUNTIF(#REF!,N18)=0,0,0),\" \")","v":{"$error":"#REF!"}},null,1850,16]
[12,"Çekiç-12",{"$f":"IF(ISERROR(VLOOKUP(B19,'KAYIT LİSTESİ'!$B$4:$H$664,2,0)),\"\",(VLOOKUP(B19,'KAYIT LİSTESİ'!$B$4:$H$664,2,0)))","v":""},{"$f":"IF(ISERROR(VLOOKUP(B19,'KAYIT LİSTESİ'!$B$4:$H$664,4,0)),\"\",(VLOOKUP(B19,'KAYIT LİSTESİ'!$B$4:$H$664,4,0)))","v":""},{"$f":"IF(ISERROR(VLOOKUP(B19,'KAYIT LİSTESİ'!$B$4:$H$664,5,0)),\"\",(VLOOKUP(B19,'KAYIT LİSTESİ'!$B$4:$H$664,5,0)))","v":""},{"$f":"IF(ISERROR(VLOOKUP(B19,'KAYIT LİSTESİ'!$B$4:$H$664,6,0)),\"\",(VLOOKUP(B19,'KAYIT LİSTESİ'!$B$4:$H$664,6,0)))","v":""},null,null,null,"",null,null,null,0,{"$f":"IF(LEN(N19)>0,VLOOKUP(N19,#REF!,4)-IF(COUNTIF(#REF!,N19)=0,0,0),\" \")","v":{"$error":"#REF!"}},null,1900,17]
[13,"Çekiç-13",{"$f":"IF(ISERROR(VLOOKUP(B20,'KAYIT LİSTESİ'!$B$4:$H$664,2,0)),\"\",(VLOOKUP(B20,'KAYIT LİSTESİ'!$B$4:$H$664,2,0)))","v":""},{"$f":"IF(ISERROR(VLOOKUP(B20,'KAYIT LİSTESİ'!$B$4:$H$664,4,0)),\"\",(VLOOKUP(B20,'KAYIT LİSTESİ'!$B$4:$H$664,4,0)))","v":""},{"$f":"IF(ISERROR(VLOOKUP(B20,'KAYIT LİSTESİ'!$B$4:$H$664,5,0)),\"\",(VLOOKUP(B20,'KAYIT LİSTESİ'!$B$4:$H$664,5,0)))","v":""},{"$f":"IF(ISERROR(VLOOKUP(B20,'KAYIT LİSTESİ'!$B$4:$H$664,6,0)),\"\",(VLOOKUP(B20,'KAYIT LİSTESİ'!$B$4:$H$664,6,0)))","v":""},null,null,null,"",null,null,null,0,{"$f":"IF(LEN(N20)>0,VLOOKUP(N20,#REF!,4)-IF(COUNTIF(#REF!,N20)=0,0,0),\" \")","v":{"$error":"#REF!"}},null,1950,18]
[14,"Çekiç-14",{"$f":"IF(ISERROR(VLOOKUP(B21,'KAYIT LİSTESİ'!$B$4:$H$664,2,0)),\"\",(VLOOKUP(B21,'KAYIT LİSTESİ'!$B$4:$H$664,2,0)))","v":""},{"$f":"IF(ISERROR(VLOOKUP(B21,'KAYIT LİSTESİ'!$B$4:$H$664,4,0)),\"\",(VLOOKUP(B21,'KAYIT LİSTESİ'!$B$4:$H$664,4,0)))","v":""},{"$f":"IF(ISERROR(VLOOKUP(B21,'KAYIT LİSTESİ'!$B$4:$H$664,5,0)),\"\",(VLOOKUP(B21,'KAYIT LİSTESİ'!$B$4:$H$664,5,0)))","v":""},{"$f":"IF(ISERROR(VLOOKUP(B21,'KAYIT LİSTESİ'!$B$4:$H$664,6,0)),\"\",(VLOOKUP(B21,'KAYIT LİSTESİ'!$B$4:$H$664,6,0)))","v":""},null,null,null,"",null,null,null,0,{"$f":"IF(LEN(N21)>0,VLOOKUP(N21,#REF!,4)-IF(COUNTIF(#REF!,N21)=0,0,0),\" \")","v":{"$error":"#REF!"}},null,2000,19]
[15,"Çekiç-15",{"$f":"IF(ISERROR(VLOOKUP(B22,'KAYIT LİSTESİ'!$B$4:$H$664,2,0)),\"\",(VLOOKUP(B22,'KAYIT LİSTESİ'!$B$4:$H$664,2,0)))","v":""},{"$f":"IF(ISERROR(VLOOKUP(B22,'KAYIT LİSTESİ'!$B$4:$H$664,4,0)),\"\",(VLOOKUP(B22,'KAYIT LİSTESİ'!$B$4:$H$664,4,0)))","v":""},{"$f":"IF(ISERROR(VLOOKUP(B22,'KAYIT LİSTESİ'!$B$4:$H$664,5,0)),\"\",(VLOOKUP(B22,'KAYIT LİSTESİ'!$B$4:$H$664,5,0)))","v":""},{"$f":"IF(ISERROR(VLOOKUP(B22,'KAYIT LİSTESİ'!$B$4:$H$664,6,0)),\"\",(VLOOKUP(B22,'KAYIT LİSTESİ'!$B$4:$H$664,6,0)))","v":""},null,null,null,"",null,null,null,0,{"$f":"IF(LEN(N22)>0,VLOOKUP(N22,#REF!,4)-IF(COUNTIF(#REF!,N22)=0,0,0),\" \")","v":{"$error":"#REF!"}},null,2050,20]
[16,"Çekiç-16",{"$f":"IF(ISERROR(VLOOKUP(B23,'KAYIT LİSTESİ'!$B$4:$H$664,2,0)),\"\",(VLOOKUP(B23,'KAYIT LİSTESİ'!$B$4:$H$664,2,0)))","v":""},{"$f":"IF(ISERROR(VLOOKUP(B23,'KAYIT LİSTESİ'!$B$4:$H$664,4,0)),\"\",(VLOOKUP(B23,'KAYIT LİSTESİ'!$B$4:$H$664,4,0)))","v":""},{"$f":"IF(ISERROR(VLOOKUP(B23,'KAYIT LİSTESİ'!$B$4:$H$664,5,0)),\"\",(VLOOKUP(B23,'KAYIT LİSTESİ'!$B$4:$H$664,5,0)))","v":""},{"$f":"IF(ISERROR(VLOOKUP(B23,'KAYIT LİSTESİ'!$B$4:$H$664,6,0)),\"\",(VLOOKUP(B23,'KAYIT LİSTESİ'!$B$4:$H$664,6,0)))","v":""},null,null,null,"",null,null,null,0,{"$f":"IF(LEN(N23)>0,VLOOKUP(N23,#REF!,4)-IF(COUNTIF(#REF!,N23)=0,0,0),\" \")","v":{"$error":"#REF!"}},null,2100,21]
[null,"Çekiç-17",{"$f":"IF(ISERROR(VLOOKUP(B24,'KAYIT LİSTESİ'!$B$4:$H$664,2,0)),\"\",(VLOOKUP(B24,'KAYIT LİSTESİ'!$B$4:$H$664,2,0)))","v":""},{"$f":"IF(ISERROR(VLOOKUP(B24,'KAYIT LİSTESİ'!$B$4:$H$664,4,0)),\"\",(VLOOKUP(B24,'KAYIT LİSTESİ'!$B$4:$H$664,4,0)))","v":""},{"$f":"IF(ISERROR(VLOOKUP(B24,'KAYIT LİSTESİ'!$B$4:$H$664,5,0)),\"\",(VLOOKUP(B24,'KAYIT LİSTESİ'!$B$4:$H$664,5,0)))","v":""},{"$f":"IF(ISERROR(VLOOKUP(B24,'KAYIT LİSTESİ'!$B$4:$H$664,6,0)),\"\",(VLOOKUP(B24,'KAYIT LİSTESİ'!$B$4:$H$664,6,0)))","v":""},null,null,null,"",null,null,null,0,{"$f":"IF(LEN(N24)>0,VLOOKUP(N24,#REF!,4)-IF(COUNTIF(#REF!,N24)=0,0,0),\" \")","v":{"$error":"#REF!"}},null,2150,22]
[null,"Çekiç-18",{"$f":"IF(ISERROR(VLOOKUP(B25,'KAYIT LİSTESİ'!$B$4:$H$664,2,0)),\"\",(VLOOKUP(B25,'KAYIT LİSTESİ'!$B$4:$H$664,2,0)))","v":""},{"$f":"IF(ISERROR(VLOOKUP(B25,'KAYIT LİSTESİ'!$B$4:$H$664,4,0)),\"\",(VLOOKUP(B25,'KAYIT LİSTESİ'!$B$4:$H$664,4,0)))","v":""},{"$f":"IF(ISERROR(VLOOKUP(B25,'KAYIT LİSTESİ'!$B$4:$H$664,5,0)),\"\",(VLOOKUP(B25,'KAYIT LİSTESİ'!$B$4:$H$664,5,0)))","v":""},{"$f":"IF(ISERROR(VLOOKUP(B25,'KAYIT LİSTESİ'!$B$4:$H$664,6,0)),\"\",(VLOOKUP(B25,'KAYIT LİSTESİ'!$B$4:$H$664,6,0)))","v":""},null,null,null,"",null,null,null,0,{"$f":"IF(LEN(N25)>0,VLOOKUP(N25,#REF!,4)-IF(COUNTIF(#REF!,N25)=0,0,0),\" \")","v":{"$error":"#REF!"}},null,2200,23]
[null,"Çekiç-19",{"$f":"IF(ISERROR(VLOOKUP(B26,'KAYIT LİSTESİ'!$B$4:$H$664,2,0)),\"\",(VLOOKUP(B26,'KAYIT LİSTESİ'!$B$4:$H$664,2,0)))","v":""},{"$f":"IF(ISERROR(VLOOKUP(B26,'KAYIT LİSTESİ'!$B$4:$H$664,4,0)),\"\",(VLOOKUP(B26,'KAYIT LİSTESİ'!$B$4:$H$664,4,0)))","v":""},{"$f":"IF(ISERROR(VLOOKUP(B26,'KAYIT LİSTESİ'!$B$4:$H$664,5,0)),\"\",(VLOOKUP(B26,'KAYIT LİSTESİ'!$B$4:$H$664,5,0)))","v":""},{"$f":"IF(ISERROR(VLOOKUP(B26,'KAYIT LİSTESİ'!$B$4:$H$664,6,0)),\"\",(VLOOKUP(B26,'KAYIT LİSTESİ'!$B$4:$H$664,6,0)))","v":""},null,null,null,"",null,null,null,0,{"$f":"IF(LEN(N26)>0,VLOOKUP(N26,#REF!,4)-IF(COUNTIF(#REF!,N26)=0,0,0),\" \")","v":{"$error":"#REF!"}},null,2250,24]
[null,"Çekiç-20",{"$f":"IF(ISERROR(VLOOKUP(B27,'KAYIT LİSTESİ'!$B$4:$H$664,2,0)),\"\",(VLOOKUP(B27,'KAYIT LİSTESİ'!$B$4:$H$664,2,0)))","v":""},{"$f":"IF(ISERROR(VLOOKUP(B27,'KAYIT LİSTESİ'!$B$4:$H$664,4,0)),\"\",(VLOOKUP(B27,'KAYIT LİSTESİ'!$B$4:$H$664,4,0)))","v":""},{"$f":"IF(ISERROR(VLOOKUP(B27,'KAYIT LİSTESİ'!$B$4:$H$664,5,0)),\"\",(VLOOKUP(B27,'KAYIT LİSTESİ'!$B$4:$H$664,5,0)))","v":""},{"$f":"IF(ISERROR(VLOOKUP(B27,'KAYIT LİSTESİ'!$B$4:$H$664,6,0)),\"\",(VLOOKUP(B27,'KAYIT LİSTESİ'!$B$4:$H$664,6,0)))","v":""},null,null,null,"",null,null,null,0,{"$f":"IF(LEN(N27)>0,VLOOKUP(N27,#REF!,4)-IF(COUNTIF(#REF!,N27)=0,0,0),\" \")","v":{"$error":"#REF!"}},null,2300,25]
[null,"Çekiç-21",{"$f":"IF(ISERROR(VLOOKUP(B28,'KAYIT LİSTESİ'!$B$4:$H$664,2,0)),\"\",(VLOOKUP(B28,'KAYIT LİSTESİ'!$B$4:$H$664,2,0)))","v":""},{"$f":"IF(ISERROR(VLOOKUP(B28,'KAYIT LİSTESİ'!$B$4:$H$664,4,0)),\"\",(VLOOKUP(B28,'KAYIT LİSTESİ'!$B$4:$H$664,4,0)))","v":""},{"$f":"IF(ISERROR(VLOOKUP(B28,'KAYIT LİSTESİ'!$B$4:$H$664,5,0)),\"\",(VLOOKUP(B28,'KAYIT LİSTESİ'!$B$4:$H$664,5,0)))","v":""},{"$f":"IF(ISERROR(VLOOKUP(B28,'KAYIT LİSTESİ'!$B$4:$H$664,6,0)),\"\",(VLOOKUP(B28,'KAYIT LİSTESİ'!$B$4:$H$664,6,0)))","v":""},null,null,null,"",null,null,null,0,{"$f":"IF(LEN(N28)>0,VLOOKUP(N28,#REF!,4)-IF(COUNTIF(#REF!,N28)=0,0,0),\" \")","v":{"$error":"#REF!"}},null,2346,26]
[null,"Çekiç-22",{"$f":"IF(ISERROR(VLOOKUP(B29,'KAYIT LİSTESİ'!$B$4:$H$664,2,0)),\"\",(VLOOKUP(B29,'KAYIT LİSTESİ'!$B$4:$H$664,2,0)))","v":""},{"$f":"IF(ISERROR(VLOOKUP(B29,'KAYIT LİSTESİ'!$B$4:$H$664,4,0)),\"\",(VLOOKUP(B29,'KAYIT LİSTESİ'!$B$4:$H$664,4,0)))","v":""},{"$f":"IF(ISERROR(VLOOKUP(B29,'KAYIT LİSTESİ'!$B$4:$H$664,5,0)),\"\",(VLOOKUP(B29,'KAYIT LİSTESİ'!$B$4:$H$664,5,0)))","v":""},{"$f":"IF(ISERROR(VLOOKUP(B29,'KAYIT LİSTESİ'!$B$4:$H$664,6,0)),\"\",(VLOOKUP(B29,'KAYIT LİSTESİ'!$B$4:$H$664,6,0)))","v":""},null,null,null,"",null,null,null,0,{"$f":"IF(LEN(N29)>0,VLOOKUP(N29,#REF!,4)-IF(COUNTIF(#REF!,N29)=0,0,0),\" \")","v":{"$error":"#REF!"}},null,2392,27]
[null,"Çekiç-23",{"$f":"IF(ISERROR(VLOOKUP(B30,'KAYIT LİSTESİ'!$B$4:$H$664,2,0)),\"\",(VLOOKUP(B30,'KAYIT LİSTESİ'!$B$4:$H$664,2,0)))","v":""},{"$f":"IF(ISERROR(VLOOKUP(B30,'KAYIT LİSTESİ'!$B$4:$H$664,4,0)),\"\",(VLOOKUP(B30,'KAYIT LİSTESİ'!$B$4:$H$664,4,0)))","v":""},{"$f":"IF(ISERROR(VLOOKUP(B30,'KAYIT LİSTESİ'!$B$4:$H$664,5,0)),\"\",(VLOOKUP(B30,'KAYIT LİSTESİ'!$B$4:$H$664,5,0)))","v":""},{"$f":"IF(ISERROR(VLOOKUP(B30,'KAYIT LİSTESİ'!$B$4:$H$664,6,0)),\"\",(VLOOKUP(B30,'KAYIT LİSTESİ'!$B$4:$H$664,6,0)))","v":""},null,null,null,"",null,null,null,0,{"$f":"IF(LEN(N30)>0,VLOOKUP(N30,#REF!,4)-IF(COUNTIF(#REF!,N30)=0,0,0),\" \")","v":{"$error":"#REF!"}},null,2438,28]
[null,"Çekiç-24",{"$f":"IF(ISERROR(VLOOKUP(B31,'KAYIT LİSTESİ'!$B$4:$H$664,2,0)),\"\",(VLOOKUP(B31,'KAYIT LİSTESİ'!$B$4:$H$664,2,0)))","v":""},{"$f":"IF(ISERROR(VLOOKUP(B31,'KAYIT LİSTESİ'!$B$4:$H$664,4,0)),\"\",(VLOOKUP(B31,'KAYIT LİSTESİ'!$B$4:$H$664,4,0)))","v":""},{"$f":"IF(ISERROR(VLOOKUP(B31,'KAYIT LİSTESİ'!$B$4:$H$664,5,0)),\"\",(VLOOKUP(B31,'KAYIT LİSTESİ'!$B$4:$H$664,5,0)))","v":""},{"$f":"IF(ISERROR(VLOOKUP(B31,'KAYIT LİSTESİ'!$B$4:$H$664,6,0)),\"\",(VLOOKUP(B31,'KAYIT LİSTESİ'!$B$4:$H$664,6,0)))","v":""},null,null,null,"",null,null,null,0,{"$f":"IF(LEN(N31)>0,VLOOKUP(N31,#REF!,4)-IF(COUNTIF(#REF!,N31)=0,0,0),\" \")","v":{"$error":"#REF!"}},null,2484,29]
[null,"Çekiç-25",{"$f":"IF(ISERROR(VLOOKUP(B32,'KAYIT LİSTESİ'!$B$4:$H$664,2,0)),\"\",(VLOOKUP(B32,'KAYIT LİSTESİ'!$B$4:$H$664,2,0)))","v":""},{"$f":"IF(ISERROR(VLOOKUP(B32,'KAYIT LİSTESİ'!$B$4:$H$664,4,0)),\"\",(VLOOKUP(B32,'KAYIT LİSTESİ'!$B$4:$H$664,4,0)))","v":""},{"$f":"IF(ISERROR(VLOOKUP(B32,'KAYIT LİSTESİ'!$B$4:$H$664,5,0)),\"\",(VLOOKUP(B32,'KAYIT LİSTESİ'!$B$4:$H$664,5,0)))","v":""},{"$f":"IF(ISERROR(VLOOKUP(B32,'KAYIT LİSTESİ'!$B$4:$H$664,6,0)),\"\",(VLOOKUP(B32,'KAYIT LİSTESİ'!$B$4:$H$664,6,0)))","v":""},null,null,null,"",null,null,null,0,{"$f":"IF(LEN(N32)>0,VLOOKUP(N32,#REF!,4)-IF(COUNTIF(#REF!,N32)=0,0,0),\" \")","v":{"$error":"#REF!"}},null,2530,30]
[null,"Çekiç-26",{"$f":"IF(ISERROR(VLOOKUP(B33,'KAYIT LİSTESİ'!$B$4:$H$664,2,0)),\"\",(VLOOKUP(B33,'KAYIT LİSTESİ'!$B$4:$H$664,2,0)))","v":""},{"$f":"IF(ISERROR(VLOOKUP(B33,'KAYIT LİSTESİ'!$B$4:$H$664,4,0)),\"\",(VLOOKUP(B33,'KAYIT LİSTESİ'!$B$4:$H$664,4,0)))","v":""},{"$f":"IF(ISERROR(VLOOKUP(B33,'KAYIT LİSTESİ'!$B$4:$H$664,5,0)),\"\",(VLOOKUP(B33,'KAYIT LİSTESİ'!$B$4:$H$664,5,0)))","v":""},{"$f":"IF(ISERROR(VLOOKUP(B33,'KAYIT LİSTESİ'!$B$4:$H$664,6,0)),\"\",(VLOOKUP(B33,'KAYIT LİSTESİ'!$B$4:$H$664,6,0)))","v":""},null,null,null,"",null,null,null,0,{"$f":"IF(LEN(N33)>0,VLOOKUP(N33,#REF!,4)-IF(COUNTIF(#REF!,N33)=0,0,0),\" \")","v":{"$error":"#REF!"}},null,2576,31]
[null,"Çekiç-27",{"$f":"IF(ISERROR(VLOOKUP(B34,'KAYIT LİSTESİ'!$B$4:$H$664,2,0)),\"\",(VLOOKUP(B34,'KAYIT LİSTESİ'!$B$4:$H$664,2,0)))","v":""},{"$f":"IF(ISERROR(VLOOKUP(B34,'KAYIT LİSTESİ'!$B$4:$H$664,4,0)),\"\",(VLOOKUP(B34,'KAYIT LİSTESİ'!$B$4:$H$664,4,0)))","v":""},{"$f":"IF(ISERROR(VLOOKUP(B34,'KAYIT LİSTESİ'!$B$4:$H$664,5,0)),\"\",(VLOOKUP(B34,'KAYIT LİSTESİ'!$B$4:$H$664,5,0)))","v":""},{"$f":"IF(ISERROR(VLOOKUP(B34,'KAYIT LİSTESİ'!$B$4:$H$664,6,0)),\"\",(VLOOKUP(B34,'KAYIT LİSTESİ'!$B$4:$H$664,6,0)))","v":""},null,null,null,"",null,null,null,0,{"$f":"IF(LEN(N34)>0,VLOOKUP(N34,#REF!,4)-IF(COUNTIF(#REF!,N34)=0,0,0),\" \")","v":{"$error":"#REF!"}},null,2622,32]
[null,"Çekiç-28",{"$f":"IF(ISERROR(VLOOKUP(B35,'KAYIT LİSTESİ'!$B$4:$H$664,2,0)),\"\",(VLOOKUP(B35,'KAYIT LİSTESİ'!$B$4:$H$664,2,0)))","v":""},{"$f":"IF(ISERROR(VLOOKUP(B35,'KAYIT LİSTESİ'!$B$4:$H$664,4,0)),\"\",(VLOOKUP(B35,'KAYIT LİSTESİ'!$B$4:$H$664,4,0)))","v":""},{"$f":"IF(ISERROR(VLOOKUP(B35,'KAYIT LİSTESİ'!$B$4:$H$664,5,0)),\"\",(VLOOKUP(B35,'KAYIT LİSTESİ'!$B$4:$H$664,5,0)))","v":""},{"$f":"IF(ISERROR(VLOOKUP(B35,'KAYIT LİSTESİ'!$B$4:$H$664,6,0)),\"\",(VLOOKUP(B35,'KAYIT LİSTESİ'!$B$4:$H$664,6,0)))","v":""},null,null,null,"",null,null,null,0,{"$f":"IF(LEN(N35)>0,VLOOKUP(N35,#REF!,4)-IF(COUNTIF(#REF!,N35)=0,0,0),\" \")","v":{"$error":"#REF!"}},null,2668,33]
[null,"Çekiç-29",{"$f":"IF(ISERROR(VLOOKUP(B36,'KAYIT LİSTESİ'!$B$4:$H$664,2,0)),\"\",(VLOOKUP(B36,'KAYIT LİSTESİ'!$B$4:$H$664,2,0)))","v":""},{"$f":"IF(ISERROR(VLOOKUP(B36,'KAYIT LİSTESİ'!$B$4:$H$664,4,0)),\"\",(VLOOKUP(B36,'KAYIT LİSTESİ'!$B$4:$H$664,4,0)))","v":""},{"$f":"IF(ISERROR(VLOOKUP(B36,'KAYIT LİSTESİ'!$B$4:$H$664,5,0)),\"\",(VLOOKUP(B36,'KAYIT LİSTESİ'!$B$4:$H$664,5,0)))","v":""},{"$f":"IF(ISERROR(VLOOKUP(B36,'KAYIT LİSTESİ'!$B$4:$H$664,6,0)),\"\",(VLOOKUP(B36,'KAYIT LİSTESİ'!$B$4:$H$664,6,0)))","v":""},null,null,null,"",null,null,null,0,{"$f":"IF(LEN(N36)>0,VLOOKUP(N36,#REF!,4)-IF(COUNTIF(#REF!,N36)=0,0,0),\" \")","v":{"$error":"#REF!"}},null,2712,34]
[null,"Çekiç-30",{"$f":"IF(ISERROR(VLOOKUP(B37,'KAYIT LİSTESİ'!$B$4:$H$664,2,0)),\"\",(VLOOKUP(B37,'KAYIT LİSTESİ'!$B$4:$H$664,2,0)))","v":""},{"$f":"IF(ISERROR(VLOOKUP(B37,'KAYIT LİSTESİ'!$B$4:$H$664,4,0)),\"\",(VLOOKUP(B37,'KAYIT LİSTESİ'!$B$4:$H$664,4,0)))","v":""},{"$f":"IF(ISERROR(VLOOKUP(B37,'KAYIT LİSTESİ'!$B$4:$H$664,5,0)),\"\",(VLOOKUP(B37,'KAYIT LİSTESİ'!$B$4:$H$664,5,0)))","v":""},{"$f":"IF(ISERROR(VLOOKUP(B37,'KAYIT LİSTESİ'!$B$4:$H$664,6,0)),\"\",(VLOOKUP(B37,'KAYIT LİSTESİ'!$B$4:$H$664,6,0)))","v":""},null,null,null,"",null,null,null,0,{"$f":"IF(LEN(N37)>0,VLOOKUP(N37,#REF!,4)-IF(COUNTIF(#REF!,N37)=0,0,0),\" \")","v":{"$error":"#REF!"}},null,2756,35]
[null,"Çekiç-31",{"$f":"IF(ISERROR(VLOOKUP(B38,'KAYIT LİSTESİ'!$B$4:$H$664,2,0)),\"\",(VLOOKUP(B38,'KAYIT LİSTESİ'!$B$4:$H$664,2,0)))","v":""},{"$f":"IF(ISERROR(VLOOKUP(B38,'KAYIT LİSTESİ'!$B$4:$H$664,4,0)),\"\",(VLOOKUP(B38,'KAYIT LİSTESİ'!$B$4:$H$664,4,0)))","v":""},{"$f":"IF(ISERROR(VLOOKUP(B38,'KAYIT LİSTESİ'!$B$4:$H$664,5,0)),\"\",(VLOOKUP(B38,'KAYIT LİSTESİ'!$B$4:$H$664,5,0)))","v":""},{"$f":"IF(ISERROR(VLOOKUP(B38,'KAYIT LİSTESİ'!$B$4:$H$664,6,0)),\"\",(VLOOKUP(B38,'KAYIT LİSTESİ'!$B$4:$H$664,6,0)))","v":""},null,null,null,"",null,null,null,0,{"$f":"IF(LEN(N38)>0,VLOOKUP(N38,#REF!,4)-IF(COUNTIF(#REF!,N38)=0,0,0),\" \")","v":{"$error":"#REF!"}},null,2800,36]
[null,"Çekiç-32",{"$f":"IF(ISERROR(VLOOKUP(B39,'KAYIT LİSTESİ'!$B$4:$H$664,2,0)),\"\",(VLOOKUP(B39,'KAYIT LİSTESİ'!$B$4:$H$664,2,0)))","v":""},{"$f":"IF(ISERROR(VLOOKUP(B39,'KAYIT LİSTESİ'!$B$4:$H$664,4,0)),\"\",(VLOOKUP(B39,'KAYIT LİSTESİ'!$B$4:$H$664,4,0)))","v":""},{"$f":"IF(ISERROR(VLOOKUP(B39,'KAYIT LİSTESİ'!$B$4:$H$664,5,0)),\"\",(VLOOKUP(B39,'KAYIT LİSTESİ'!$B$4:$H$664,5,0)))","v":""},{"$f":"IF(ISERROR(VLOOKUP(B39,'KAYIT LİSTESİ'!$B$4:$H$664,6,0)),\"\",(VLOOKUP(B39,'KAYIT LİSTESİ'!$B$4:$H$664,6,0)))","v":""},null,null,null,"",null,null,null,0,{"$f":"IF(LEN(N39)>0,VLOOKUP(N39,#REF!,4)-IF(COUNTIF(#REF!,N39)=0,0,0),\" \")","v":{"$error":"#REF!"}},null,2844,37]
[null,"Çekiç-33",{"$f":"IF(ISERROR(VLOOKUP(B40,'KAYIT LİSTESİ'!$B$4:$H$664,2,0)),\"\",(VLOOKUP(B40,'KAYIT LİSTESİ'!$B$4:$H$664,2,0)))","v":""},{"$f":"IF(ISERROR(VLOOKUP(B40,'KAYIT LİSTESİ'!$B$4:$H$664,4,0)),\"\",(VLOOKUP(B40,'KAYIT LİSTESİ'!$B$4:$H$664,4,0)))","v":""},{"$f":"IF(ISERROR(VLOOKUP(B40,'KAYIT LİSTESİ'!$B$4:$H$664,5,0)),\"\",(VLOOKUP(B40,'KAYIT LİSTESİ'!$B$4:$H$664,5,0)))","v":""},{"$f":"IF(ISERROR(VLOOKUP(B40,'KAYIT LİSTESİ'!$B$4:$H$664,6,0)),\"\",(VLOOKUP(B40,'KAYIT LİSTESİ'!$B$4:$H$664,6,0)))","v":""},null,null,null,"",null,null,null,0,{"$f":"IF(LEN(N40)>0,VLOOKUP(N40,#REF!,4)-IF(COUNTIF(#REF!,N40)=0,0,0),\" \")","v":{"$error":"#REF!"}},null,2888,38]
[null,"Çekiç-34",{"$f":"IF(ISERROR(VLOOKUP(B41,'KAYIT LİSTESİ'!$B$4:$H$664,2,0)),\"\",(VLOOKUP(B41,'KAYIT LİSTESİ'!$B$4:$H$664,2,0)))","v":""},{"$f":"IF(ISERROR(VLOOKUP(B41,'KAYIT LİSTESİ'!$B$4:$H$664,4,0)),\"\",(VLOOKUP(B41,'KAYIT LİSTESİ'!$B$4:$H$664,4,0)))","v":""},{"$f":"IF(ISERROR(VLOOKUP(B41,'KAYIT LİSTESİ'!$B$4:$H$664,5,0)),\"\",(VLOOKUP(B41,'KAYIT LİSTESİ'!$B$4:$H$664,5,0)))","v":""},{"$f":"IF(ISERROR(VLOOKUP(B41,'KAYIT LİSTESİ'!$B$4:$H$664,6,0)),\"\",(VLOOKUP(B41,'KAYIT LİSTESİ'!$B$4:$H$664,6,0)))","v":""},null,null,null,"",null,null,null,0,{"$f":"IF(LEN(N41)>0,VLOOKUP(N41,#REF!,4)-IF(COUNTIF(#REF!,N41)=0,0,0),\" \")","v":{"$error":"#REF!"}},null,2932,39]
[null,"Çekiç-35",{"$f":"IF(ISERROR(VLOOKUP(B42,'KAYIT LİSTESİ'!$B$4:$H$664,2,0)),\"\",(VLOOKUP(B42,'KAYIT LİSTESİ'!$B$4:$H$664,2,0)))","v":""},{"$f":"IF(ISERROR(VLOOKUP(B42,'KAYIT LİSTESİ'!$B$4:$H$664,4,0)),\"\",(VLOOKUP(B42,'KAYIT LİSTESİ'!$B$4:$H$664,4,0)))","v":""},{"$f":"IF(ISERROR(VLOOKUP(B42,'KAYIT LİSTESİ'!$B$4:$H$664,5,0)),\"\",(VLOOKUP(B42,'KAYIT LİSTESİ'!$B$4:$H$664,5,0)))","v":""},{"$f":"IF(ISERROR(VLOOKUP(B42,'KAYIT LİSTESİ'!$B$4:$H$664,6,0)),\"\",(VLOOKUP(B42,'KAYIT LİSTESİ'!$B$4:$H$664,6,0)))","v":""},null,null,null,"",null,null,null,0,{"$f":"IF(LEN(N42)>0,VLOOKUP(N42,#REF!,4)-IF(COUNTIF(#REF!,N42)=0,0,0),\" \")","v":{"$error":"#REF!"}},null,2976,40]
[null,"Çekiç-36",{"$f":"IF(ISERROR(VLOOKUP(B43,'KAYIT LİSTESİ'!$B$4:$H$664,2,0)),\"\",(VLOOKUP(B43,'KAYIT LİSTESİ'!$B$4:$H$664,2,0)))","v":""},{"$f":"IF(ISERROR(VLOOKUP(B43,'KAYIT LİSTESİ'!$B$4:$H$664,4,0)),\"\",(VLOOKUP(B43,'KAYIT LİSTESİ'!$B$4:$H$664,4,0)))","v":""},{"$f":"IF(ISERROR(VLOOKUP(B43,'KAYIT LİSTESİ'!$B$4:$H$664,5,0)),\"\",(VLOOKUP(B43,'KAYIT LİSTESİ'!$B$4:$H$664,5,0)))","v":""},{"$f":"IF(ISERROR(VLOOKUP(B43,'KAYIT LİSTESİ'!$B$4:$H$664,6,0)),\"\",(VLOOKUP(B43,'KAYIT LİSTESİ'!$B$4:$H$664,6,0)))","v":""},null,null,null,"",null,null,null,0,{"$f":"IF(LEN(N43)>0,VLOOKUP(N43,#REF!,4)-IF(COUNTIF(#REF!,N43)=0,0,0),\" \")","v":{"$error":"#REF!"}},null,3020,41]
[null,"Çekiç-37",{"$f":"IF(ISERROR(VLOOKUP(B44,'KAYIT LİSTESİ'!$B$4:$H$664,2,0)),\"\",(VLOOKUP(B44,'KAYIT LİSTESİ'!$B$4:$H$664,2,0)))","v":""},{"$f":"IF(ISERROR(VLOOKUP(B44,'KAYIT LİSTESİ'!$B$4:$H$664,4,0)),\"\",(VLOOKUP(B44,'KAYIT LİSTESİ'!$B$4:$H$664,4,0)))","v":""},{"$f":"IF(ISERROR(VLOOKUP(B44,'KAYIT LİSTESİ'!$B$4:$H$664,5,0)),\"\",(VLOOKUP(B44,'KAYIT LİSTESİ'!$B$4:$H$664,5,0)))","v":""},{"$f":"IF(ISERROR(VLOOKUP(B44,'KAYIT LİSTESİ'!$B$4:$H$664,6,0)),\"\",(VLOOKUP(B44,'KAYIT LİSTESİ'!$B$4:$H$664,6,0)))","v":""},null,null,null,"",null,null,null,0,{"$f":"IF(LEN(N44)>0,VLOOKUP(N44,#REF!,4)-IF(COUNTIF(#REF!,N44)=0,0,0),\" \")","v":{"$error":"#REF!"}},null,3064,42]
[null,"Çekiç-38",{"$f":"IF(ISERROR(VLOOKUP(B45,'KAYIT LİSTESİ'!$B$4:$H$664,2,0)),\"\",(VLOOKUP(B45,'KAYIT LİSTESİ'!$B$4:$H$664,2,0)))","v":""},{"$f":"IF(ISERROR(VLOOKUP(B45,'KAYIT LİSTESİ'!$B$4:$H$664,4,0)),\"\",(VLOOKUP(B45,'KAYIT LİSTESİ'!$B$4:$H$664,4,0)))","v":""},{"$f":"IF(ISERROR(VLOOKUP(B45,'KAYIT LİSTESİ'!$B$4:$H$664,5,0)),\"\",(VLOOKUP(B45,'KAYIT LİSTESİ'!$B$4:$H$664,5,0)))","v":""},{"$f":"IF(ISERROR(VLOOKUP(B45,'KAYIT LİSTESİ'!$B$4:$H$664,6,0)),\"\",(VLOOKUP(B45,'KAYIT LİSTESİ'!$B$4:$H$664,6,0)))","v":""},null,null,null,"",null,null,null,0,{"$f":"IF(LEN(N45)>0,VLOOKUP(N45,#REF!,4)-IF(COUNTIF(#REF!,N45)=0,0,0),\" \")","v":{"$error":"#REF!"}},null,3106,43]
[null,"Çekiç-39",{"$f":"IF(ISERROR(VLOOKUP(B46,'KAYIT LİSTESİ'!$B$4:$H$664,2,0)),\"\",(VLOOKUP(B46,'KAYIT LİSTESİ'!$B$4:$H$664,2,0)))","v":""},{"$f":"IF(ISERROR(VLOOKUP(B46,'KAYIT LİSTESİ'!$B$4:$H$664,4,0)),\"\",(VLOOKUP(B46,'KAYIT LİSTESİ'!$B$4:$H$664,4,0)))","v":""},{"$f":"IF(ISERROR(VLOOKUP(B46,'KAYIT LİSTESİ'!$B$4:$H$664,5,0)),\"\",(VLOOKUP(B46,'KAYIT LİSTESİ'!$B$4:$H$664,5,0)))","v":""},{"$f":"IF(ISERROR(VLOOKUP(B46,'KAYIT LİSTESİ'!$B$4:$H$664,6,0)),\"\",(VLOOKUP(B46,'KAYIT LİSTESİ'!$B$4:$H$664,6,0)))","v":""},null,null,null,"",null,null,null,0,{"$f":"IF(LEN(N46)>0,VLOOKUP(N46,#REF!,4)-IF(COUNTIF(#REF!,N46)=0,0,0),\" \")","v":{"$error":"#REF!"}},null,3148,44]
[null,"Çekiç-40",{"$f":"IF(ISERROR(VLOOKUP(B47,'KAYIT LİSTESİ'!$B$4:$H$664,2,0)),\"\",(VLOOKUP(B47,'KAYIT LİSTESİ'!$B$4:$H$664,2,0)))","v":""},{"$f":"IF(ISERROR(VLOOKUP(B47,'KAYIT LİSTESİ'!$B$4:$H$664,4,0)),\"\",(VLOOKUP(B47,'KAYIT LİSTESİ'!$B$4:$H$664,4,0)))","v":""},{"$f":"IF(ISERROR(VLOOKUP(B47,'KAYIT LİSTESİ'!$B$4:$H$664,5,0)),\"\",(VLOOKUP(B47,'KAYIT LİSTESİ'!$B$4:$H$664,5,0)))","v":""},{"$f":"IF(ISERROR(VLOOKUP(B47,'KAYIT LİSTESİ'!$B$4:$H$664,6,0)),\"\",(VLOOKUP(B47,'KAYIT LİSTESİ'!$B$4:$H$664,6,0)))","v":""},null,null,null,"",null,null,null,0,{"$f":"IF(LEN(N47)>0,VLOOKUP(N47,#REF!,4)-IF(COUNTIF(#REF!,N47)=0,0,0),\" \")","v":{"$error":"#REF!"}},null,3190,45]
[null,null,null,null,null,null,null,null,null,null,null,null,null,null,null,null,3232,46]
["Müsabaka \nDirektörü",null,null,null,"Baş Hakem","Lider","Sekreter",null,null,null,null,null,null,"Hakem",null,null,3274,47]
[null,null,null,null,null,null,null,null,null,null,null,null,null,null,null,null,3316,48]
[null,null,null,null,null,null,null,null,null,null,null,null,null,null,null,null,3358,49]
[null,null,null,null,null,null,null,null,null,null,null,null,null,null,null,null,3400,50]
[null,null,null,null,null,null,null,null,null,null,null,null,null,null,null,null,3442,51]
[null,null,null,null,null,null,null,null,null,null,null,null,null,null,null,null,3484,52]
[null,null,null,null,null,null,null,null,null,null,null,null,null,null,null,null,3526,53]
[null,null,null,null,null,null,null,null,null,null,null,null,null,null,null,null,3568,54]
[null,null,null,null,null,null,null,null,null,null,null,null,null,null,null,null,3610,55]
[null,null,null,null,null,null,null,null,null,null,null,null,null,null,null,null,3652,56]
[null,null,null,null,null,null,null,null,null,null,null,null,null,null,null,null,3694,57]
[null,null,null,null,null,null,null,null,null,null,null,null,null,null,null,null,3736,58]
[null,null,null,null,null,null,null,null,null,null,null,null,null,null,null,null,3776,59]
[null,null,null,null,null,null,null,null,null,null,null,null,null,null,null,null,3816,60]
[null,null,null,null,null,null,null,null,null,null,null,null,null,null,null,null,3856,61]
[null,null,null,null,null,null,null,null,null,null,null,null,null,null,null,null,3896,62]
[null,null,null,null,null,null,null,null,null,null,null,null,null,null,null,null,3936,63]
[null,null,null,null,null,null,null,null,null,null,null,null,null,null,null,null,3976,64]
[null,null,null,null,null,null,null,null,null,null,null,null,null,null,null,null,4016,65]
[null,null,null,null,null,null,null,null,null,null,null,null,null,null,null,null,4056,66]
[null,null,null,null,null,null,null,null,null,null,null,null,null,null,null,null,4096,67]
[null,null,null,null,null,null,null,null,null,null,null,null,null,null,null,null,4134,68]
[null,null,null,null,null,null,null,null,null,null,null,null,null,null,null,null,4172,69]
[null,null,null,null,null,null,null,null,null,null,null,null,null,null,null,null,4210,70]
[null,null,null,null,null,null,null,null,null,null,null,null,null,null,null,null,4248,71]
[null,null,null,null,null,null,null,null,null,null,null,null,null,null,null,null,4286,72]
[null,null,null,null,null,null,null,null,null,null,null,null,null,null,null,null,4324,73]
[null,null,null,null,null,null,null,null,null,null,null,null,null,null,null,null,4362,74]
[null,null,null,null,null,null,null,null,null,null,null,null,null,null,null,null,4400,75]
[null,null,null,null,null,null,null,null,null,null,null,null,null,null,null,null,4438,76]
[null,null,null,null,null,null,null,null,null,null,null,null,null,null,null,null,4476,77]
[null,null,null,null,null,null,null,null,null,null,null,null,null,null,null,null,4514,78]
[null,null,null,null,null,null,null,null,null,null,null,null,null,null,null,null,4552,79]
[null,null,null,null,null,null,null,null,null,null,null,null,null,null,null,null,4590,80]
[null,null,null,null,null,null,null,null,null,null,null,null,null,null,null,null,4628,81]
[null,null,null,null,null,null,null,null,null,null,null,null,null,null,null,null,4666,82]
[null,null,null,null,null,null,null,null,null,null,null,null,null,null,null,null,4704,83]
[null,null,null,null,null,null,null,null,null,null,null,null,null,null,null,null,4740,84]
[null,null,null,null,null,null,null,null,null,null,null,null,null,null,null,null,4776,85]
[null,null,null,null,null,null,null,null,null,null,null,null,null,null,null,null,4812,86]
[null,null,null,null,null,null,null,null,null,null,null,null,null,null,null,null,4848,87]
[null,null,null,null,null,null,null,null,null,null,null,null,null,null,null,null,4884,88]
[null,null,null,null,null,null,null,null,null,null,null,null,null,null,null,null,4920,89]
[null,null,null,null,null,null,null,null,null,null,null,null,null,null,null,null,4956,90]
[null,null,null,null,null,null,null,null,null,null,null,null,null,null,null,null,4992,91]
[null,null,null,null,null,null,null,null,null,null,null,null,null,null,null,null,5028,92]
[null,null,null,null,null,null,null,null,null,null,null,null,null,null,null,null,5062,93]
[null,null,null,null,null,null,null,null,null,null,null,null,null,null,null,null,5096,94]
[null,null,null,null,null,null,null,null,null,null,null,null,null,null,null,null,5130,95]
[null,null,null,null,null,null,null,null,null,null,null,null,null,null,null,null,5164,96]
[null,null,null,null,null,null,null,null,null,null,null,null,null,null,null,null,5198,97]
[null,null,null,null,null,null,null,null,null,null,null,null,null,null,null,null,5232,98]
[null,null,null,null,null,null,null,null,null,null,null,null,null,null,null,null,5266,99]
[null,null,null,null,null,null,null,null,null,null,null,null,null,null,null,null,5300,100]

{"sheet":"1.GÜN","index":10,"n_rows":5,"n_cols":18,"rows_kept":5,"cut":false,"hidden":false,"merged":[[4,17,4,21],[0,0,0,21],[1,0,1,21],[2,0,2,21],[3,0,3,21]]}
[{"$f":"('YARIŞMA BİLGİLERİ'!A2)","v":"Türkiye Atletizm Federasyonu\nMersin Atletizm İl Temsilciliği\n"}]
[{"$f":"'YARIŞMA BİLGİLERİ'!F19","v":"Olimpik Baraj  Yarışmaları"}]
["GENEL START LİSTESİ 1.GÜN"]
[{"$f":"'YARIŞMA BİLGİLERİ'!F21","v":"Kadınlar"}]
[null,null,null,null,null,null,null,null,null,null,null,null,null,null,null,null,null,{"$f":"NOW()","v":"2015-08-06T12:52:45.570"}]

{"sheet":"2.Gün Start Listesi ","index":11,"n_rows":179,"n_cols":15,"rows_kept":179,"cut":false,"hidden":true,"merged":[[46,0,46,6],[0,0,0,14],[1,0,1,14],[2,0,2,14],[3,0,3,6],[4,0,4,6],[71,0,71,6],[81,0,81,6],[91,0,91,6],[60,0,60,6],[3,8,3,14],[32,8,32,14],[5,12,6,12],[74,8,74,14],[5,13,6,13],[5,14,6,14],[61,0,61,6],[18,0,18,6],[32,0,32,6],[5,9,6,9],[5,11,6,11],[5,8,6,8],[158,8,158,14],[159,8,159,14],[169,8,169,14],[116,8,116,14],[101,0,101,6],[102,0,102,6],[112,0,112,6],[122,0,122,6],[132,0,132,6],[159,0,159,6],[169,0,169,6],[158,0,158,6]]}
[{"$f":"('YARIŞMA BİLGİLERİ'!A2)","v":"Türkiye Atletizm Federasyonu\nMersin Atletizm İl Temsilciliği\n"}]
[{"$f":"'YARIŞMA BİLGİLERİ'!F19","v":"Olimpik Baraj  Yarışmaları"}]
["2.GÜN GENÇ KIZLAR START LİSTELERİ"]
["800 METRE",null,null,null,null,null,null,null,"UZUN ATLAMA"]
["1. SERİ"]
["Sıra No","Formül","Göğüs No","Doğum Tarihi","Adı ve Soyadı","İli-Okulu","Start Kontrol",null,"SIRA NO",null,"GÖĞÜS NO","DOĞUM TARİHİ","ADI VE SOYADI","İli-Okulu","START KONTROL"]
[1,"800M-1-1",{"$f":"IF(ISERROR(VLOOKUP(B7,'KAYIT LİSTESİ'!$B$4:$H$664,2,0)),\"\",(VLOOKUP(B7,'KAYIT LİSTESİ'!$B$4:$H$664,2,0)))","v":""},{"$f":"IF(ISERROR(VLOOKUP(B7,'KAYIT LİSTESİ'!$B$4:$H$664,4,0)),\"\",(VLOOKUP(B7,'KAYIT LİSTESİ'!$B$4:$H$664,4,0)))","v":""},{"$f":"IF(ISERROR(VLOOKUP(B7,'KAYIT LİSTESİ'!$B$4:$H$664,5,0)),\"\",(VLOOKUP(B7,'KAYIT LİSTESİ'!$B$4:$H$664,5,0)))","v":""},{"$f":"IF(ISERROR(VLOOKUP(B7,'KAYIT LİSTESİ'!$B$4:$H$664,6,0)),\"\",(VLOOKUP(B7,'KAYIT LİSTESİ'!$B$4:$H$664,6,0)))","v":""}]
[2,"800M-1-2",{"$f":"IF(ISERROR(VLOOKUP(B8,'KAYIT LİSTESİ'!$B$4:$H$664,2,0)),\"\",(VLOOKUP(B8,'KAYIT LİSTESİ'!$B$4:$H$664,2,0)))","v":621},{"$f":"IF(ISERROR(VLOOKUP(B8,'KAYIT LİSTESİ'!$B$4:$H$664,4,0)),\"\",(VLOOKUP(B8,'KAYIT LİSTESİ'!$B$4:$H$664,4,0)))","v":"1998-06-10"},{"$f":"IF(ISERROR(VLOOKUP(B8,'KAYIT LİSTESİ'!$B$4:$H$664,5,0)),\"\",(VLOOKUP(B8,'KAYIT LİSTESİ'!$B$4:$H$664,5,0)))","v":"HATİCE TAŞÇI"},{"$f":"IF(ISERROR(VLOOKUP(B8,'KAYIT LİSTESİ'!$B$4:$H$664,6,0)),\"\",(VLOOKUP(B8,'KAYIT LİSTESİ'!$B$4:$H$664,6,0)))","v":"KAYSERİ"},null,null,1,"UZUN-1",{"$f":"IF(ISERROR(VLOOKUP(J8,'KAYIT LİSTESİ'!$B$4:$H$664,2,0)),\"\",(VLOOKUP(J8,'KAYIT LİSTESİ'!$B$4:$H$664,2,0)))","v":""},{"$f":"IF(ISERROR(VLOOKUP(J8,'KAYIT LİSTESİ'!$B$4:$H$664,4,0)),\"\",(VLOOKUP(J8,'KAYIT LİSTESİ'!$B$4:$H$664,4,0)))","v":""},{"$f":"IF(ISERROR(VLOOKUP(J8,'KAYIT LİSTESİ'!$B$4:$H$664,5,0)),\"\",(VLOOKUP(J8,'KAYIT LİSTESİ'!$B$4:$H$664,5,0)))","v":""},{"$f":"IF(ISERROR(VLOOKUP(J8,'KAYIT LİSTESİ'!$B$4:$H$664,6,0)),\"\",(VLOOKUP(J8,'KAYIT LİSTESİ'!$B$4:$H$664,6,0)))","v":""}]
[3,"800M-1-3",{"$f":"IF(ISERROR(VLOOKUP(B9,'KAYIT LİSTESİ'!$B$4:$H$664,2,0)),\"\",(VLOOKUP(B9,'KAYIT LİSTESİ'!$B$4:$H$664,2,0)))","v":629},{"$f":"IF(ISERROR(VLOOKUP(B9,'KAYIT LİSTESİ'!$B$4:$H$664,4,0)),\"\",(VLOOKUP(B9,'KAYIT LİSTESİ'!$B$4:$H$664,4,0)))","v":"1998-01-18"},{"$f":"IF(ISERROR(VLOOKUP(B9,'KAYIT LİSTESİ'!$B$4:$H$664,5,0)),\"\",(VLOOKUP(B9,'KAYIT LİSTESİ'!$B$4:$H$664,5,0)))","v":"SEMRA KARASLAN"},{"$f":"IF(ISERROR(VLOOKUP(B9,'KAYIT LİSTESİ'!$B$4:$H$664,6,0)),\"\",(VLOOKUP(B9,'KAYIT LİSTESİ'!$B$4:$H$664,6,0)))","v":"KIRIKKALE"},null,null,2,"UZUN-2",{"$f":"IF(ISERROR(VLOOKUP(J9,'KAYIT LİSTESİ'!$B$4:$H$664,2,0)),\"\",(VLOOKUP(J9,'KAYIT LİSTESİ'!$B$4:$H$664,2,0)))","v":""},{"$f":"IF(ISERROR(VLOOKUP(J9,'KAYIT LİSTESİ'!$B$4:$H$664,4,0)),\"\",(VLOOKUP(J9,'KAYIT LİSTESİ'!$B$4:$H$664,4,0)))","v":""},{"$f":"IF(ISERROR(VLOOKUP(J9,'KAYIT LİSTESİ'!$B$4:$H$664,5,0)),\"\",(VLOOKUP(J9,'KAYIT LİSTESİ'!$B$4:$H$664,5,0)))","v":""},{"$f":"IF(ISERROR(VLOOKUP(J9,'KAYIT LİSTESİ'!$B$4:$H$664,6,0)),\"\",(VLOOKUP(J9,'KAYIT LİSTESİ'!$B$4:$H$664,6,0)))","v":""}]
[4,"800M-1-4",{"$f":"IF(ISERROR(VLOOKUP(B10,'KAYIT LİSTESİ'!$B$4:$H$664,2,0)),\"\",(VLOOKUP(B10,'KAYIT LİSTESİ'!$B$4:$H$664,2,0)))","v":612},{"$f":"IF(ISERROR(VLOOKUP(B10,'KAYIT LİSTESİ'!$B$4:$H$664,4,0)),\"\",(VLOOKUP(B10,'KAYIT LİSTESİ'!$B$4:$H$664,4,0)))","v":"1999-06-23"},{"$f":"IF(ISERROR(VLOOKUP(B10,'KAYIT LİSTESİ'!$B$4:$H$664,5,0)),\"\",(VLOOKUP(B10,'KAYIT LİSTESİ'!$B$4:$H$664,5,0)))","v":"FADİME KOŞAR"},{"$f":"IF(ISERROR(VLOOKUP(B10,'KAYIT LİSTESİ'!$B$4:$H$664,6,0)),\"\",(VLOOKUP(B10,'KAYIT LİSTESİ'!$B$4:$H$664,6,0)))","v":"KONYA"},null,null,3,"UZUN-3",{"$f":"IF(ISERROR(VLOOKUP(J10,'KAYIT LİSTESİ'!$B$4:$H$664,2,0)),\"\",(VLOOKUP(J10,'KAYIT LİSTESİ'!$B$4:$H$664,2,0)))","v":""},{"$f":"IF(ISERROR(VLOOKUP(J10,'KAYIT LİSTESİ'!$B$4:$H$664,4,0)),\"\",(VLOOKUP(J10,'KAYIT LİSTESİ'!$B$4:$H$664,4,0)))","v":""},{"$f":"IF(ISERROR(VLOOKUP(J10,'KAYIT LİSTESİ'!$B$4:$H$664,5,0)),\"\",(VLOOKUP(J10,'KAYIT LİSTESİ'!$B$4:$H$664,5,0)))","v":""},{"$f":"IF(ISERROR(VLOOKUP(J10,'KAYIT LİSTESİ'!$B$4:$H$664,6,0)),\"\",(VLOOKUP(J10,'KAYIT LİSTESİ'!$B$4:$H$664,6,0)))","v":""}]
[5,"800M-1-5",{"$f":"IF(ISERROR(VLOOKUP(B11,'KAYIT LİSTESİ'!$B$4:$H$664,2,0)),\"\",(VLOOKUP(B11,'KAYIT LİSTESİ'!$B$4:$H$664,2,0)))","v":614},{"$f":"IF(ISERROR(VLOOKUP(B11,'KAYIT LİSTESİ'!$B$4:$H$664,4,0)),\"\",(VLOOKUP(B11,'KAYIT LİSTESİ'!$B$4:$H$664,4,0)))","v":"1999-08-15"},{"$f":"IF(ISERROR(VLOOKUP(B11,'KAYIT LİSTESİ'!$B$4:$H$664,5,0)),\"\",(VLOOKUP(B11,'KAYIT LİSTESİ'!$B$4:$H$664,5,0)))","v":"SELENAY BATİ"},{"$f":"IF(ISERROR(VLOOKUP(B11,'KAYIT LİSTESİ'!$B$4:$H$664,6,0)),\"\",(VLOOKUP(B11,'KAYIT LİSTESİ'!$B$4:$H$664,6,0)))","v":"HATAY"},null,null,4,"UZUN-4",{"$f":"IF(ISERROR(VLOOKUP(J11,'KAYIT LİSTESİ'!$B$4:$H$664,2,0)),\"\",(VLOOKUP(J11,'KAYIT LİSTESİ'!$B$4:$H$664,2,0)))","v":""},{"$f":"IF(ISERROR(VLOOKUP(J11,'KAYIT LİSTESİ'!$B$4:$H$664,4,0)),\"\",(VLOOKUP(J11,'KAYIT LİSTESİ'!$B$4:$H$664,4,0)))","v":""},{"$f":"IF(ISERROR(VLOOKUP(J11,'KAYIT LİSTESİ'!$B$4:$H$664,5,0)),\"\",(VLOOKUP(J11,'KAYIT LİSTESİ'!$B$4:$H$664,5,0)))","v":""},{"$f":"IF(ISERROR(VLOOKUP(J11,'KAYIT LİSTESİ'!$B$4:$H$664,6,0)),\"\",(VLOOKUP(J11,'KAYIT LİSTESİ'!$B$4:$H$664,6,0)))","v":""}]
[6,"800M-1-6",{"$f":"IF(ISERROR(VLOOKUP(B12,'KAYIT LİSTESİ'!$B$4:$H$664,2,0)),\"\",(VLOOKUP(B12,'KAYIT LİSTESİ'!$B$4:$H$664,2,0)))","v":630},{"$f":"IF(ISERROR(VLOOKUP(B12,'KAYIT LİSTESİ'!$B$4:$H$664,4,0)),\"\",(VLOOKUP(B12,'KAYIT LİSTESİ'!$B$4:$H$664,4,0)))","v":"1998-12-30"},{"$f":"IF(ISERROR(VLOOKUP(B12,'KAYIT LİSTESİ'!$B$4:$H$664,5,0)),\"\",(VLOOKUP(B12,'KAYIT LİSTESİ'!$B$4:$H$664,5,0)))","v":"BELHUDE SALMANLI"},{"$f":"IF(ISERROR(VLOOKUP(B12,'KAYIT LİSTESİ'!$B$4:$H$664,6,0)),\"\",(VLOOKUP(B12,'KAYIT LİSTESİ'!$B$4:$H$664,6,0)))","v":"KIRIKKALE"},null,null,5,"UZUN-5",{"$f":"IF(ISERROR(VLOOKUP(J12,'KAYIT LİSTESİ'!$B$4:$H$664,2,0)),\"\",(VLOOKUP(J12,'KAYIT LİSTESİ'!$B$4:$H$664,2,0)))","v":""},{"$f":"IF(ISERROR(VLOOKUP(J12,'KAYIT LİSTESİ'!$B$4:$H$664,4,0)),\"\",(VLOOKUP(J12,'KAYIT LİSTESİ'!$B$4:$H$664,4,0)))","v":""},{"$f":"IF(ISERROR(VLOOKUP(J12,'KAYIT LİSTESİ'!$B$4:$H$664,5,0)),\"\",(VLOOKUP(J12,'KAYIT LİSTESİ'!$B$4:$H$664,5,0)))","v":""},{"$f":"IF(ISERROR(VLOOKUP(J12,'KAYIT LİSTESİ'!$B$4:$H$664,6,0)),\"\",(VLOOKUP(J12,'KAYIT LİSTESİ'!$B$4:$H$664,6,0)))","v":""}]
[7,"800M-1-7",{"$f":"IF(ISERROR(VLOOKUP(B13,'KAYIT LİSTESİ'!$B$4:$H$664,2,0)),\"\",(VLOOKUP(B13,'KAYIT LİSTESİ'!$B$4:$H$664,2,0)))","v":""},{"$f":"IF(ISERROR(VLOOKUP(B13,'KAYIT LİSTESİ'!$B$4:$H$664,4,0)),\"\",(VLOOKUP(B13,'KAYIT LİSTESİ'!$B$4:$H$664,4,0)))","v":""},{"$f":"IF(ISERROR(VLOOKUP(B13,'KAYIT LİSTESİ'!$B$4:$H$664,5,0)),\"\",(VLOOKUP(B13,'KAYIT LİSTESİ'!$B$4:$H$664,5,0)))","v":""},{"$f":"IF(ISERROR(VLOOKUP(B13,'KAYIT LİSTESİ'!$B$4:$H$664,6,0)),\"\",(VLOOKUP(B13,'KAYIT LİSTESİ'!$B$4:$H$664,6,0)))","v":""},null,null,6,"UZUN-6",{"$f":"IF(ISERROR(VLOOKUP(J13,'KAYIT LİSTESİ'!$B$4:$H$664,2,0)),\"\",(VLOOKUP(J13,'KAYIT LİSTESİ'!$B$4:$H$664,2,0)))","v":""},{"$f":"IF(ISERROR(VLOOKUP(J13,'KAYIT LİSTESİ'!$B$4:$H$664,4,0)),\"\",(VLOOKUP(J13,'KAYIT LİSTESİ'!$B$4:$H$664,4,0)))","v":""},{"$f":"IF(ISERROR(VLOOKUP(J13,'KAYIT LİSTESİ'!$B$4:$H$664,5,0)),\"\",(VLOOKUP(J13,'KAYIT LİSTESİ'!$B$4:$H$664,5,0)))","v":""},{"$f":"IF(ISERROR(VLOOKUP(J13,'KAYIT LİSTESİ'!$B$4:$H$664,6,0)),\"\",(VLOOKUP(J13,'KAYIT LİSTESİ'!$B$4:$H$664,6,0)))","v":""}]
[8,"800M-1-8",{"$f":"IF(ISERROR(VLOOKUP(B14,'KAYIT LİSTESİ'!$B$4:$H$664,2,0)),\"\",(VLOOKUP(B14,'KAYIT LİSTESİ'!$B$4:$H$664,2,0)))","v":""},{"$f":"IF(ISERROR(VLOOKUP(B14,'KAYIT LİSTESİ'!$B$4:$H$664,4,0)),\"\",(VLOOKUP(B14,'KAYIT LİSTESİ'!$B$4:$H$664,4,0)))","v":""},{"$f":"IF(ISERROR(VLOOKUP(B14,'KAYIT LİSTESİ'!$B$4:$H$664,5,0)),\"\",(VLOOKUP(B14,'KAYIT LİSTESİ'!$B$4:$H$664,5,0)))","v":""},{"$f":"IF(ISERROR(VLOOKUP(B14,'KAYIT LİSTESİ'!$B$4:$H$664,6,0)),\"\",(VLOOKUP(B14,'KAYIT LİSTESİ'!$B$4:$H$664,6,0)))","v":""},null,null,7,"UZUN-7",{"$f":"IF(ISERROR(VLOOKUP(J14,'KAYIT LİSTESİ'!$B$4:$H$664,2,0)),\"\",(VLOOKUP(J14,'KAYIT LİSTESİ'!$B$4:$H$664,2,0)))","v":""},{"$f":"IF(ISERROR(VLOOKUP(J14,'KAYIT LİSTESİ'!$B$4:$H$664,4,0)),\"\",(VLOOKUP(J14,'KAYIT LİSTESİ'!$B$4:$H$664,4,0)))","v":""},{"$f":"IF(ISERROR(VLOOKUP(J14,'KAYIT LİSTESİ'!$B$4:$H$664,5,0)),\"\",(VLOOKUP(J14,'KAYIT LİSTESİ'!$B$4:$H$664,5,0)))","v":""},{"$f":"IF(ISERROR(VLOOKUP(J14,'KAYIT LİSTESİ'!$B$4:$H$664,6,0)),\"\",(VLOOKUP(J14,'KAYIT LİSTESİ'!$B$4:$H$664,6,0)))","v":""}]
[9,"800M-1-9",{"$f":"IF(ISERROR(VLOOKUP(B15,'KAYIT LİSTESİ'!$B$4:$H$664,2,0)),\"\",(VLOOKUP(B15,'KAYIT LİSTESİ'!$B$4:$H$664,2,0)))","v":""},{"$f":"IF(ISERROR(VLOOKUP(B15,'KAYIT LİSTESİ'!$B$4:$H$664,4,0)),\"\",(VLOOKUP(B15,'KAYIT LİSTESİ'!$B$4:$H$664,4,0)))","v":""},{"$f":"IF(ISERROR(VLOOKUP(B15,'KAYIT LİSTESİ'!$B$4:$H$664,5,0)),\"\",(VLOOKUP(B15,'KAYIT LİSTESİ'!$B$4:$H$664,5,0)))","v":""},{"$f":"IF(ISERROR(VLOOKUP(B15,'KAYIT LİSTESİ'!$B$4:$H$664,6,0)),\"\",(VLOOKUP(B15,'KAYIT LİSTESİ'!$B$4:$H$664,6,0)))","v":""},null,null,8,"UZUN-8",{"$f":"IF(ISERROR(VLOOKUP(J15,'KAYIT LİSTESİ'!$B$4:$H$664,2,0)),\"\",(VLOOKUP(J15,'KAYIT LİSTESİ'!$B$4:$H$664,2,0)))","v":""},{"$f":"IF(ISERROR(VLOOKUP(J15,'KAYIT LİSTESİ'!$B$4:$H$664,4,0)),\"\",(VLOOKUP(J15,'KAYIT LİSTESİ'!$B$4:$H$664,4,0)))","v":""},{"$f":"IF(ISERROR(VLOOKUP(J15,'KAYIT LİSTESİ'!$B$4:$H$664,5,0)),\"\",(VLOOKUP(J15,'KAYIT LİSTESİ'!$B$4:$H$664,5,0)))","v":""},{"$f":"IF(ISERROR(VLOOKUP(J15,'KAYIT LİSTESİ'!$B$4:$H$664,6,0)),\"\",(VLOOKUP(J15,'KAYIT LİSTESİ'!$B$4:$H$664,6,0)))","v":""}]
[10,"800M-1-10",{"$f":"IF(ISERROR(VLOOKUP(B16,'KAYIT LİSTESİ'!$B$4:$H$664,2,0)),\"\",(VLOOKUP(B16,'KAYIT LİSTESİ'!$B$4:$H$664,2,0)))","v":""},{"$f":"IF(ISERROR(VLOOKUP(B16,'KAYIT LİSTESİ'!$B$4:$H$664,4,0)),\"\",(VLOOKUP(B16,'KAYIT LİSTESİ'!$B$4:$H$664,4,0)))","v":""},{"$f":"IF(ISERROR(VLOOKUP(B16,'KAYIT LİSTESİ'!$B$4:$H$664,5,0)),\"\",(VLOOKUP(B16,'KAYIT LİSTESİ'!$B$4:$H$664,5,0)))","v":""},{"$f":"IF(ISERROR(VLOOKUP(B16,'KAYIT LİSTESİ'!$B$4:$H$664,6,0)),\"\",(VLOOKUP(B16,'KAYIT LİSTESİ'!$B$4:$H$664,6,0)))","v":""},null,null,9,"UZUN-9",{"$f":"IF(ISERROR(VLOOKUP(J16,'KAYIT LİSTESİ'!$B$4:$H$664,2,0)),\"\",(VLOOKUP(J16,'KAYIT LİSTESİ'!$B$4:$H$664,2,0)))","v":""},{"$f":"IF(ISERROR(VLOOKUP(J16,'KAYIT LİSTESİ'!$B$4:$H$664,4,0)),\"\",(VLOOKUP(J16,'KAYIT LİSTESİ'!$B$4:$H$664,4,0)))","v":""},{"$f":"IF(ISERROR(VLOOKUP(J16,'KAYIT LİSTESİ'!$B$4:$H$664,5,0)),\"\",(VLOOKUP(J16,'KAYIT LİSTESİ'!$B$4:$H$664,5,0)))","v":""},{"$f":"IF(ISERROR(VLOOKUP(J16,'KAYIT LİSTESİ'!$B$4:$H$664,6,0)),\"\",(VLOOKUP(J16,'KAYIT LİSTESİ'!$B$4:$H$664,6,0)))","v":""}]
[11,"800M-1-11",{"$f":"IF(ISERROR(VLOOKUP(B17,'KAYIT LİSTESİ'!$B$4:$H$664,2,0)),\"\",(VLOOKUP(B17,'KAYIT LİSTESİ'!$B$4:$H$664,2,0)))","v":""},{"$f":"IF(ISERROR(VLOOKUP(B17,'KAYIT LİSTESİ'!$B$4:$H$664,4,0)),\"\",(VLOOKUP(B17,'KAYIT LİSTESİ'!$B$4:$H$664,4,0)))","v":""},{"$f":"IF(ISERROR(VLOOKUP(B17,'KAYIT LİSTESİ'!$B$4:$H$664,5,0)),\"\",(VLOOKUP(B17,'KAYIT LİSTESİ'!$B$4:$H$664,5,0)))","v":""},{"$f":"IF(ISERROR(VLOOKUP(B17,'KAYIT LİSTESİ'!$B$4:$H$664,6,0)),\"\",(VLOOKUP(B17,'KAYIT LİSTESİ'!$B$4:$H$664,6,0)))","v":""},null,null,10,"UZUN-10",{"$f":"IF(ISERROR(VLOOKUP(J17,'KAYIT LİSTESİ'!$B$4:$H$664,2,0)),\"\",(VLOOKUP(J17,'KAYIT LİSTESİ'!$B$4:$H$664,2,0)))","v":""},{"$f":"IF(ISERROR(VLOOKUP(J17,'KAYIT LİSTESİ'!$B$4:$H$664,4,0)),\"\",(VLOOKUP(J17,'KAYIT LİSTESİ'!$B$4:$H$664,4,0)))","v":""},{"$f":"IF(ISERROR(VLOOKUP(J17,'KAYIT LİSTESİ'!$B$4:$H$664,5,0)),\"\",(VLOOKUP(J17,'KAYIT LİSTESİ'!$B$4:$H$664,5,0)))","v":""},{"$f":"IF(ISERROR(VLOOKUP(J17,'KAYIT LİSTESİ'!$B$4:$H$664,6,0)),\"\",(VLOOKUP(J17,'KAYIT LİSTESİ'!$B$4:$H$664,6,0)))","v":""}]
[12,"800M-1-12",{"$f":"IF(ISERROR(VLOOKUP(B18,'KAYIT LİSTESİ'!$B$4:$H$664,2,0)),\"\",(VLOOKUP(B18,'KAYIT LİSTESİ'!$B$4:$H$664,2,0)))","v":""},{"$f":"IF(ISERROR(VLOOKUP(B18,'KAYIT LİSTESİ'!$B$4:$H$664,4,0)),\"\",(VLOOKUP(B18,'KAYIT LİSTESİ'!$B$4:$H$664,4,0)))","v":""},{"$f":"IF(ISERROR(VLOOKUP(B18,'KAYIT LİSTESİ'!$B$4:$H$664,5,0)),\"\",(VLOOKUP(B18,'KAYIT LİSTESİ'!$B$4:$H$664,5,0)))","v":""},{"$f":"IF(ISERROR(VLOOKUP(B18,'KAYIT LİSTESİ'!$B$4:$H$664,6,0)),\"\",(VLOOKUP(B18,'KAYIT LİSTESİ'!$B$4:$H$664,6,0)))","v":""},null,null,11,"UZUN-11",{"$f":"IF(ISERROR(VLOOKUP(J18,'KAYIT LİSTESİ'!$B$4:$H$664,2,0)),\"\",(VLOOKUP(J18,'KAYIT LİSTESİ'!$B$4:$H$664,2,0)))","v":""},{"$f":"IF(ISERROR(VLOOKUP(J18,'KAYIT LİSTESİ'!$B$4:$H$664,4,0)),\"\",(VLOOKUP(J18,'KAYIT LİSTESİ'!$B$4:$H$664,4,0)))","v":""},{"$f":"IF(ISERROR(VLOOKUP(J18,'KAYIT LİSTESİ'!$B$4:$H$664,5,0)),\"\",(VLOOKUP(J18,'KAYIT LİSTESİ'!$B$4:$H$664,5,0)))","v":""},{"$f":"IF(ISERROR(VLOOKUP(J18,'KAYIT LİSTESİ'!$B$4:$H$664,6,0)),\"\",(VLOOKUP(J18,'KAYIT LİSTESİ'!$B$4:$H$664,6,0)))","v":""}]
["2. SERİ",null,null,null,null,null,null,null,12,"UZUN-12",{"$f":"IF(ISERROR(VLOOKUP(J19,'KAYIT LİSTESİ'!$B$4:$H$664,2,0)),\"\",(VLOOKUP(J19,'KAYIT LİSTESİ'!$B$4:$H$664,2,0)))","v":""},{"$f":"IF(ISERROR(VLOOKUP(J19,'KAYIT LİSTESİ'!$B$4:$H$664,4,0)),\"\",(VLOOKUP(J19,'KAYIT LİSTESİ'!$B$4:$H$664,4,0)))","v":""},{"$f":"IF(ISERROR(VLOOKUP(J19,'KAYIT LİSTESİ'!$B$4:$H$664,5,0)),\"\",(VLOOKUP(J19,'KAYIT LİSTESİ'!$B$4:$H$664,5,0)))","v":""},{"$f":"IF(ISERROR(VLOOKUP(J19,'KAYIT LİSTESİ'!$B$4:$H$664,6,0)),\"\",(VLOOKUP(J19,'KAYIT LİSTESİ'!$B$4:$H$664,6,0)))","v":""}]
["Sıra No","Formül","Göğüs No","Doğum Tarihi","Adı ve Soyadı","İli-Okulu","Start Kontrol",null,13,"UZUN-13",{"$f":"IF(ISERROR(VLOOKUP(J20,'KAYIT LİSTESİ'!$B$4:$H$664,2,0)),\"\",(VLOOKUP(J20,'KAYIT LİSTESİ'!$B$4:$H$664,2,0)))","v":""},{"$f":"IF(ISERROR(VLOOKUP(J20,'KAYIT LİSTESİ'!$B$4:$H$664,4,0)),\"\",(VLOOKUP(J20,'KAYIT LİSTESİ'!$B$4:$H$664,4,0)))","v":""},{"$f":"IF(ISERROR(VLOOKUP(J20,'KAYIT LİSTESİ'!$B$4:$H$664,5,0)),\"\",(VLOOKUP(J20,'KAYIT LİSTESİ'!$B$4:$H$664,5,0)))","v":""},{"$f":"IF(ISERROR(VLOOKUP(J20,'KAYIT LİSTESİ'!$B$4:$H$664,6,0)),\"\",(VLOOKUP(J20,'KAYIT LİSTESİ'!$B$4:$H$664,6,0)))","v":""}]
[1,"800M-2-1",{"$f":"IF(ISERROR(VLOOKUP(B21,'KAYIT LİSTESİ'!$B$4:$H$664,2,0)),\"\",(VLOOKUP(B21,'KAYIT LİSTESİ'!$B$4:$H$664,2,0)))","v":""},{"$f":"IF(ISERROR(VLOOKUP(B21,'KAYIT LİSTESİ'!$B$4:$H$664,4,0)),\"\",(VLOOKUP(B21,'KAYIT LİSTESİ'!$B$4:$H$664,4,0)))","v":""},{"$f":"IF(ISERROR(VLOOKUP(B21,'KAYIT LİSTESİ'!$B$4:$H$664,5,0)),\"\",(VLOOKUP(B21,'KAYIT LİSTESİ'!$B$4:$H$664,5,0)))","v":""},{"$f":"IF(ISERROR(VLOOKUP(B21,'KAYIT LİSTESİ'!$B$4:$H$664,6,0)),\"\",(VLOOKUP(B21,'KAYIT LİSTESİ'!$B$4:$H$664,6,0)))","v":""},null,null,14,"UZUN-14",{"$f":"IF(ISERROR(VLOOKUP(J21,'KAYIT LİSTESİ'!$B$4:$H$664,2,0)),\"\",(VLOOKUP(J21,'KAYIT LİSTESİ'!$B$4:$H$664,2,0)))","v":""},{"$f":"IF(ISERROR(VLOOKUP(J21,'KAYIT LİSTESİ'!$B$4:$H$664,4,0)),\"\",(VLOOKUP(J21,'KAYIT LİSTESİ'!$B$4:$H$664,4,0)))","v":""},{"$f":"IF(ISERROR(VLOOKUP(J21,'KAYIT LİSTESİ'!$B$4:$H$664,5,0)),\"\",(VLOOKUP(J21,'KAYIT LİSTESİ'!$B$4:$H$664,5,0)))","v":""},{"$f":"IF(ISERROR(VLOOKUP(J21,'KAYIT LİSTESİ'!$B$4:$H$664,6,0)),\"\",(VLOOKUP(J21,'KAYIT LİSTESİ'!$B$4:$H$664,6,0)))","v":""}]
[2,"800M-2-2",{"$f":"IF(ISERROR(VLOOKUP(B22,'KAYIT LİSTESİ'!$B$4:$H$664,2,0)),\"\",(VLOOKUP(B22,'KAYIT LİSTESİ'!$B$4:$H$664,2,0)))","v":620},{"$f":"IF(ISERROR(VLOOKUP(B22,'KAYIT LİSTESİ'!$B$4:$H$664,4,0)),\"\",(VLOOKUP(B22,'KAYIT LİSTESİ'!$B$4:$H$664,4,0)))","v":"1995-01-05"},{"$f":"IF(ISERROR(VLOOKUP(B22,'KAYIT LİSTESİ'!$B$4:$H$664,5,0)),\"\",(VLOOKUP(B22,'KAYIT LİSTESİ'!$B$4:$H$664,5,0)))","v":"SİNEM NUR ERARSLAN"},{"$f":"IF(ISERROR(VLOOKUP(B22,'KAYIT LİSTESİ'!$B$4:$H$664,6,0)),\"\",(VLOOKUP(B22,'KAYIT LİSTESİ'!$B$4:$H$664,6,0)))","v":"KAYSERİ"},null,null,15,"UZUN-15",{"$f":"IF(ISERROR(VLOOKUP(J22,'KAYIT LİSTESİ'!$B$4:$H$664,2,0)),\"\",(VLOOKUP(J22,'KAYIT LİSTESİ'!$B$4:$H$664,2,0)))","v":""},{"$f":"IF(ISERROR(VLOOKUP(J22,'KAYIT LİSTESİ'!$B$4:$H$664,4,0)),\"\",(VLOOKUP(J22,'KAYIT LİSTESİ'!$B$4:$H$664,4,0)))","v":""},{"$f":"IF(ISERROR(VLOOKUP(J22,'KAYIT LİSTESİ'!$B$4:$H$664,5,0)),\"\",(VLOOKUP(J22,'KAYIT LİSTESİ'!$B$4:$H$664,5,0)))","v":""},{"$f":"IF(ISERROR(VLOOKUP(J22,'KAYIT LİSTESİ'!$B$4:$H$664,6,0)),\"\",(VLOOKUP(J22,'KAYIT LİSTESİ'!$B$4:$H$664,6,0)))","v":""}]
[3,"800M-2-3",{"$f":"IF(ISERROR(VLOOKUP(B23,'KAYIT LİSTESİ'!$B$4:$H$664,2,0)),\"\",(VLOOKUP(B23,'KAYIT LİSTESİ'!$B$4:$H$664,2,0)))","v":604},{"$f":"IF(ISERROR(VLOOKUP(B23,'KAYIT LİSTESİ'!$B$4:$H$664,4,0)),\"\",(VLOOKUP(B23,'KAYIT LİSTESİ'!$B$4:$H$664,4,0)))","v":"1997-03-15"},{"$f":"IF(ISERROR(VLOOKUP(B23,'KAYIT LİSTESİ'!$B$4:$H$664,5,0)),\"\",(VLOOKUP(B23,'KAYIT LİSTESİ'!$B$4:$H$664,5,0)))","v":"RÜYA KAYA"},{"$f":"IF(ISERROR(VLOOKUP(B23,'KAYIT LİSTESİ'!$B$4:$H$664,6,0)),\"\",(VLOOKUP(B23,'KAYIT LİSTESİ'!$B$4:$H$664,6,0)))","v":"MERSİN"},null,null,16,"UZUN-16",{"$f":"IF(ISERROR(VLOOKUP(J23,'KAYIT LİSTESİ'!$B$4:$H$664,2,0)),\"\",(VLOOKUP(J23,'KAYIT LİSTESİ'!$B$4:$H$664,2,0)))","v":""},{"$f":"IF(ISERROR(VLOOKUP(J23,'KAYIT LİSTESİ'!$B$4:$H$664,4,0)),\"\",(VLOOKUP(J23,'KAYIT LİSTESİ'!$B$4:$H$664,4,0)))","v":""},{"$f":"IF(ISERROR(VLOOKUP(J23,'KAYIT LİSTESİ'!$B$4:$H$664,5,0)),\"\",(VLOOKUP(J23,'KAYIT LİSTESİ'!$B$4:$H$664,5,0)))","v":""},{"$f":"IF(ISERROR(VLOOKUP(J23,'KAYIT LİSTESİ'!$B$4:$H$664,6,0)),\"\",(VLOOKUP(J23,'KAYIT LİSTESİ'!$B$4:$H$664,6,0)))","v":""}]
[4,"800M-2-4",{"$f":"IF(ISERROR(VLOOKUP(B24,'KAYIT LİSTESİ'!$B$4:$H$664,2,0)),\"\",(VLOOKUP(B24,'KAYIT LİSTESİ'!$B$4:$H$664,2,0)))","v":622},{"$f":"IF(ISERROR(VLOOKUP(B24,'KAYIT LİSTESİ'!$B$4:$H$664,4,0)),\"\",(VLOOKUP(B24,'KAYIT LİSTESİ'!$B$4:$H$664,4,0)))","v":"1998-10-03"},{"$f":"IF(ISERROR(VLOOKUP(B24,'KAYIT LİSTESİ'!$B$4:$H$664,5,0)),\"\",(VLOOKUP(B24,'KAYIT LİSTESİ'!$B$4:$H$664,5,0)))","v":"KEZİBAN DEMİRALP"},{"$f":"IF(ISERROR(VLOOKUP(B24,'KAYIT LİSTESİ'!$B$4:$H$664,6,0)),\"\",(VLOOKUP(B24,'KAYIT LİSTESİ'!$B$4:$H$664,6,0)))","v":"KAYSERİ"},null,null,17,"UZUN-17",{"$f":"IF(ISERROR(VLOOKUP(J24,'KAYIT LİSTESİ'!$B$4:$H$664,2,0)),\"\",(VLOOKUP(J24,'KAYIT LİSTESİ'!$B$4:$H$664,2,0)))","v":""},{"$f":"IF(ISERROR(VLOOKUP(J24,'KAYIT LİSTESİ'!$B$4:$H$664,4,0)),\"\",(VLOOKUP(J24,'KAYIT LİSTESİ'!$B$4:$H$664,4,0)))","v":""},{"$f":"IF(ISERROR(VLOOKUP(J24,'KAYIT LİSTESİ'!$B$4:$H$664,5,0)),\"\",(VLOOKUP(J24,'KAYIT LİSTESİ'!$B$4:$H$664,5,0)))","v":""},{"$f":"IF(ISERROR(VLOOKUP(J24,'KAYIT LİSTESİ'!$B$4:$H$664,6,0)),\"\",(VLOOKUP(J24,'KAYIT LİSTESİ'!$B$4:$H$664,6,0)))","v":""}]
[5,"800M-2-5",{"$f":"IF(ISERROR(VLOOKUP(B25,'KAYIT LİSTESİ'!$B$4:$H$664,2,0)),\"\",(VLOOKUP(B25,'KAYIT LİSTESİ'!$B$4:$H$664,2,0)))","v":625},{"$f":"IF(ISERROR(VLOOKUP(B25,'KAYIT LİSTESİ'!$B$4:$H$664,4,0)),\"\",(VLOOKUP(B25,'KAYIT LİSTESİ'!$B$4:$H$664,4,0)))","v":"1999-11-01"},{"$f":"IF(ISERROR(VLOOKUP(B25,'KAYIT LİSTESİ'!$B$4:$H$664,5,0)),\"\",(VLOOKUP(B25,'KAYIT LİSTESİ'!$B$4:$H$664,5,0)))","v":"KARDELEN YILDIRIM"},{"$f":"IF(ISERROR(VLOOKUP(B25,'KAYIT LİSTESİ'!$B$4:$H$664,6,0)),\"\",(VLOOKUP(B25,'KAYIT LİSTESİ'!$B$4:$H$664,6,0)))","v":"ERZİNCAN"},null,null,18,"UZUN-18",{"$f":"IF(ISERROR(VLOOKUP(J25,'KAYIT LİSTESİ'!$B$4:$H$664,2,0)),\"\",(VLOOKUP(J25,'KAYIT LİSTESİ'!$B$4:$H$664,2,0)))","v":""},{"$f":"IF(ISERROR(VLOOKUP(J25,'KAYIT LİSTESİ'!$B$4:$H$664,4,0)),\"\",(VLOOKUP(J25,'KAYIT LİSTESİ'!$B$4:$H$664,4,0)))","v":""},{"$f":"IF(ISERROR(VLOOKUP(J25,'KAYIT LİSTESİ'!$B$4:$H$664,5,0)),\"\",(VLOOKUP(J25,'KAYIT LİSTESİ'!$B$4:$H$664,5,0)))","v":""},{"$f":"IF(ISERROR(VLOOKUP(J25,'KAYIT LİSTESİ'!$B$4:$H$664,6,0)),\"\",(VLOOKUP(J25,'KAYIT LİSTESİ'!$B$4:$H$664,6,0)))","v":""}]
[6,"800M-2-6",{"$f":"IF(ISERROR(VLOOKUP(B26,'KAYIT LİSTESİ'!$B$4:$H$664,2,0)),\"\",(VLOOKUP(B26,'KAYIT LİSTESİ'!$B$4:$H$664,2,0)))","v":617},{"$f":"IF(ISERROR(VLOOKUP(B26,'KAYIT LİSTESİ'!$B$4:$H$664,4,0)),\"\",(VLOOKUP(B26,'KAYIT LİSTESİ'!$B$4:$H$664,4,0)))","v":"1999-06-03"},{"$f":"IF(ISERROR(VLOOKUP(B26,'KAYIT LİSTESİ'!$B$4:$H$664,5,0)),\"\",(VLOOKUP(B26,'KAYIT LİSTESİ'!$B$4:$H$664,5,0)))","v":"SEÇİL AKPINAR"},{"$f":"IF(ISERROR(VLOOKUP(B26,'KAYIT LİSTESİ'!$B$4:$H$664,6,0)),\"\",(VLOOKUP(B26,'KAYIT LİSTESİ'!$B$4:$H$664,6,0)))","v":"HATAY"},null,null,19,"UZUN-19",{"$f":"IF(ISERROR(VLOOKUP(J26,'KAYIT LİSTESİ'!$B$4:$H$664,2,0)),\"\",(VLOOKUP(J26,'KAYIT LİSTESİ'!$B$4:$H$664,2,0)))","v":""},{"$f":"IF(ISERROR(VLOOKUP(J26,'KAYIT LİSTESİ'!$B$4:$H$664,4,0)),\"\",(VLOOKUP(J26,'KAYIT LİSTESİ'!$B$4:$H$664,4,0)))","v":""},{"$f":"IF(ISERROR(VLOOKUP(J26,'KAYIT LİSTESİ'!$B$4:$H$664,5,0)),\"\",(VLOOKUP(J26,'KAYIT LİSTESİ'!$B$4:$H$664,5,0)))","v":""},{"$f":"IF(ISERROR(VLOOKUP(J26,'KAYIT LİSTESİ'!$B$4:$H$664,6,0)),\"\",(VLOOKUP(J26,'KAYIT LİSTESİ'!$B$4:$H$664,6,0)))","v":""}]
[7,"800M-2-7",{"$f":"IF(ISERROR(VLOOKUP(B27,'KAYIT LİSTESİ'!$B$4:$H$664,2,0)),\"\",(VLOOKUP(B27,'KAYIT LİSTESİ'!$B$4:$H$664,2,0)))","v":628},{"$f":"IF(ISERROR(VLOOKUP(B27,'KAYIT LİSTESİ'!$B$4:$H$664,4,0)),\"\",(VLOOKUP(B27,'KAYIT LİSTESİ'!$B$4:$H$664,4,0)))","v":"1997-08-04"},{"$f":"IF(ISERROR(VLOOKUP(B27,'KAYIT LİSTESİ'!$B$4:$H$664,5,0)),\"\",(VLOOKUP(B27,'KAYIT LİSTESİ'!$B$4:$H$664,5,0)))","v":"HATICE DEDE "},{"$f":"IF(ISERROR(VLOOKUP(B27,'KAYIT LİSTESİ'!$B$4:$H$664,6,0)),\"\",(VLOOKUP(B27,'KAYIT LİSTESİ'!$B$4:$H$664,6,0)))","v":"AKSARAY"},null,null,20,"UZUN-20",{"$f":"IF(ISERROR(VLOOKUP(J27,'KAYIT LİSTESİ'!$B$4:$H$664,2,0)),\"\",(VLOOKUP(J27,'KAYIT LİSTESİ'!$B$4:$H$664,2,0)))","v":""},{"$f":"IF(ISERROR(VLOOKUP(J27,'KAYIT LİSTESİ'!$B$4:$H$664,4,0)),\"\",(VLOOKUP(J27,'KAYIT LİSTESİ'!$B$4:$H$664,4,0)))","v":""},{"$f":"IF(ISERROR(VLOOKUP(J27,'KAYIT LİSTESİ'!$B$4:$H$664,5,0)),\"\",(VLOOKUP(J27,'KAYIT LİSTESİ'!$B$4:$H$664,5,0)))","v":""},{"$f":"IF(ISERROR(VLOOKUP(J27,'KAYIT LİSTESİ'!$B$4:$H$664,6,0)),\"\",(VLOOKUP(J27,'KAYIT LİSTESİ'!$B$4:$H$664,6,0)))","v":""}]
[8,"800M-2-8",{"$f":"IF(ISERROR(VLOOKUP(B28,'KAYIT LİSTESİ'!$B$4:$H$664,2,0)),\"\",(VLOOKUP(B28,'KAYIT LİSTESİ'!$B$4:$H$664,2,0)))","v":""},{"$f":"IF(ISERROR(VLOOKUP(B28,'KAYIT LİSTESİ'!$B$4:$H$664,4,0)),\"\",(VLOOKUP(B28,'KAYIT LİSTESİ'!$B$4:$H$664,4,0)))","v":""},{"$f":"IF(ISERROR(VLOOKUP(B28,'KAYIT LİSTESİ'!$B$4:$H$664,5,0)),\"\",(VLOOKUP(B28,'KAYIT LİSTESİ'!$B$4:$H$664,5,0)))","v":""},{"$f":"IF(ISERROR(VLOOKUP(B28,'KAYIT LİSTESİ'!$B$4:$H$664,6,0)),\"\",(VLOOKUP(B28,'KAYIT LİSTESİ'!$B$4:$H$664,6,0)))","v":""},null,null,21,"UZUN-21",{"$f":"IF(ISERROR(VLOOKUP(J28,'KAYIT LİSTESİ'!$B$4:$H$664,2,0)),\"\",(VLOOKUP(J28,'KAYIT LİSTESİ'!$B$4:$H$664,2,0)))","v":""},{"$f":"IF(ISERROR(VLOOKUP(J28,'KAYIT LİSTESİ'!$B$4:$H$664,4,0)),\"\",(VLOOKUP(J28,'KAYIT LİSTESİ'!$B$4:$H$664,4,0)))","v":""},{"$f":"IF(ISERROR(VLOOKUP(J28,'KAYIT LİSTESİ'!$B$4:$H$664,5,0)),\"\",(VLOOKUP(J28,'KAYIT LİSTESİ'!$B$4:$H$664,5,0)))","v":""},{"$f":"IF(ISERROR(VLOOKUP(J28,'KAYIT LİSTESİ'!$B$4:$H$664,6,0)),\"\",(VLOOKUP(J28,'KAYIT LİSTESİ'!$B$4:$H$664,6,0)))","v":""}]
[9,"800M-2-9",{"$f":"IF(ISERROR(VLOOKUP(B29,'KAYIT LİSTESİ'!$B$4:$H$664,2,0)),\"\",(VLOOKUP(B29,'KAYIT LİSTESİ'!$B$4:$H$664,2,0)))","v":""},{"$f":"IF(ISERROR(VLOOKUP(B29,'KAYIT LİSTESİ'!$B$4:$H$664,4,0)),\"\",(VLOOKUP(B29,'KAYIT LİSTESİ'!$B$4:$H$664,4,0)))","v":""},{"$f":"IF(ISERROR(VLOOKUP(B29,'KAYIT LİSTESİ'!$B$4:$H$664,5,0)),\"\",(VLOOKUP(B29,'KAYIT LİSTESİ'!$B$4:$H$664,5,0)))","v":""},{"$f":"IF(ISERROR(VLOOKUP(B29,'KAYIT LİSTESİ'!$B$4:$H$664,6,0)),\"\",(VLOOKUP(B29,'KAYIT LİSTESİ'!$B$4:$H$664,6,0)))","v":""},null,null,22,"UZUN-22",{"$f":"IF(ISERROR(VLOOKUP(J29,'KAYIT LİSTESİ'!$B$4:$H$664,2,0)),\"\",(VLOOKUP(J29,'KAYIT LİSTESİ'!$B$4:$H$664,2,0)))","v":""},{"$f":"IF(ISERROR(VLOOKUP(J29,'KAYIT LİSTESİ'!$B$4:$H$664,4,0)),\"\",(VLOOKUP(J29,'KAYIT LİSTESİ'!$B$4:$H$664,4,0)))","v":""},{"$f":"IF(ISERROR(VLOOKUP(J29,'KAYIT LİSTESİ'!$B$4:$H$664,5,0)),\"\",(VLOOKUP(J29,'KAYIT LİSTESİ'!$B$4:$H$664,5,0)))","v":""},{"$f":"IF(ISERROR(VLOOKUP(J29,'KAYIT LİSTESİ'!$B$4:$H$664,6,0)),\"\",(VLOOKUP(J29,'KAYIT LİSTESİ'!$B$4:$H$664,6,0)))","v":""}]
[10,"800M-2-10",{"$f":"IF(ISERROR(VLOOKUP(B30,'KAYIT LİSTESİ'!$B$4:$H$664,2,0)),\"\",(VLOOKUP(B30,'KAYIT LİSTESİ'!$B$4:$H$664,2,0)))","v":""},{"$f":"IF(ISERROR(VLOOKUP(B30,'KAYIT LİSTESİ'!$B$4:$H$664,4,0)),\"\",(VLOOKUP(B30,'KAYIT LİSTESİ'!$B$4:$H$664,4,0)))","v":""},{"$f":"IF(ISERROR(VLOOKUP(B30,'KAYIT LİSTESİ'!$B$4:$H$664,5,0)),\"\",(VLOOKUP(B30,'KAYIT LİSTESİ'!$B$4:$H$664,5,0)))","v":""},{"$f":"IF(ISERROR(VLOOKUP(B30,'KAYIT LİSTESİ'!$B$4:$H$664,6,0)),\"\",(VLOOKUP(B30,'KAYIT LİSTESİ'!$B$4:$H$664,6,0)))","v":""},null,null,23,"UZUN-23",{"$f":"IF(ISERROR(VLOOKUP(J30,'KAYIT LİSTESİ'!$B$4:$H$664,2,0)),\"\",(VLOOKUP(J30,'KAYIT LİSTESİ'!$B$4:$H$664,2,0)))","v":""},{"$f":"IF(ISERROR(VLOOKUP(J30,'KAYIT LİSTESİ'!$B$4:$H$664,4,0)),\"\",(VLOOKUP(J30,'KAYIT LİSTESİ'!$B$4:$H$664,4,0)))","v":""},{"$f":"IF(ISERROR(VLOOKUP(J30,'KAYIT LİSTESİ'!$B$4:$H$664,5,0)),\"\",(VLOOKUP(J30,'KAYIT LİSTESİ'!$B$4:$H$664,5,0)))","v":""},{"$f":"IF(ISERROR(VLOOKUP(J30,'KAYIT LİSTESİ'!$B$4:$H$664,6,0)),\"\",(VLOOKUP(J30,'KAYIT LİSTESİ'!$B$4:$H$664,6,0)))","v":""}]
[11,"800M-2-11",{"$f":"IF(ISERROR(VLOOKUP(B31,'KAYIT LİSTESİ'!$B$4:$H$664,2,0)),\"\",(VLOOKUP(B31,'KAYIT LİSTESİ'!$B$4:$H$664,2,0)))","v":""},{"$f":"IF(ISERROR(VLOOKUP(B31,'KAYIT LİSTESİ'!$B$4:$H$664,4,0)),\"\",(VLOOKUP(B31,'KAYIT LİSTESİ'!$B$4:$H$664,4,0)))","v":""},{"$f":"IF(ISERROR(VLOOKUP(B31,'KAYIT LİSTESİ'!$B$4:$H$664,5,0)),\"\",(VLOOKUP(B31,'KAYIT LİSTESİ'!$B$4:$H$664,5,0)))","v":""},{"$f":"IF(ISERROR(VLOOKUP(B31,'KAYIT LİSTESİ'!$B$4:$H$664,6,0)),\"\",(VLOOKUP(B31,'KAYIT LİSTESİ'!$B$4:$H$664,6,0)))","v":""},null,null,24,"UZUN-24",{"$f":"IF(ISERROR(VLOOKUP(J31,'KAYIT LİSTESİ'!$B$4:$H$664,2,0)),\"\",(VLOOKUP(J31,'KAYIT LİSTESİ'!$B$4:$H$664,2,0)))","v":""},{"$f":"IF(ISERROR(VLOOKUP(J31,'KAYIT LİSTESİ'!$B$4:$H$664,4,0)),\"\",(VLOOKUP(J31,'KAYIT LİSTESİ'!$B$4:$H$664,4,0)))","v":""},{"$f":"IF(ISERROR(VLOOKUP(J31,'KAYIT LİSTESİ'!$B$4:$H$664,5,0)),\"\",(VLOOKUP(J31,'KAYIT LİSTESİ'!$B$4:$H$664,5,0)))","v":""},{"$f":"IF(ISERROR(VLOOKUP(J31,'KAYIT LİSTESİ'!$B$4:$H$664,6,0)),\"\",(VLOOKUP(J31,'KAYIT LİSTESİ'!$B$4:$H$664,6,0)))","v":""}]
[12,"800M-2-12",{"$f":"IF(ISERROR(VLOOKUP(B32,'KAYIT LİSTESİ'!$B$4:$H$664,2,0)),\"\",(VLOOKUP(B32,'KAYIT LİSTESİ'!$B$4:$H$664,2,0)))","v":""},{"$f":"IF(ISERROR(VLOOKUP(B32,'KAYIT LİSTESİ'!$B$4:$H$664,4,0)),\"\",(VLOOKUP(B32,'KAYIT LİSTESİ'!$B$4:$H$664,4,0)))","v":""},{"$f":"IF(ISERROR(VLOOKUP(B32,'KAYIT LİSTESİ'!$B$4:$H$664,5,0)),\"\",(VLOOKUP(B32,'KAYIT LİSTESİ'!$B$4:$H$664,5,0)))","v":""},{"$f":"IF(ISERROR(VLOOKUP(B32,'KAYIT LİSTESİ'!$B$4:$H$664,6,0)),\"\",(VLOOKUP(B32,'KAYIT LİSTESİ'!$B$4:$H$664,6,0)))","v":""},null,null,25,"UZUN-25",{"$f":"IF(ISERROR(VLOOKUP(J32,'KAYIT LİSTESİ'!$B$4:$H$664,2,0)),\"\",(VLOOKUP(J32,'KAYIT LİSTESİ'!$B$4:$H$664,2,0)))","v":""},{"$f":"IF(ISERROR(VLOOKUP(J32,'KAYIT LİSTESİ'!$B$4:$H$664,4,0)),\"\",(VLOOKUP(J32,'KAYIT LİSTESİ'!$B$4:$H$664,4,0)))","v":""},{"$f":"IF(ISERROR(VLOOKUP(J32,'KAYIT LİSTESİ'!$B$4:$H$664,5,0)),\"\",(VLOOKUP(J32,'KAYIT LİSTESİ'!$B$4:$H$664,5,0)))","v":""},{"$f":"IF(ISERROR(VLOOKUP(J32,'KAYIT LİSTESİ'!$B$4:$H$664,6,0)),\"\",(VLOOKUP(J32,'KAYIT LİSTESİ'!$B$4:$H$664,6,0)))","v":""}]
["3. SERİ",null,null,null,null,null,null,null,"DİSK ATMA"]
["Sıra No","Formül","Göğüs No","Doğum Tarihi","Adı ve Soyadı","İli-Okulu","Start Kontrol",null,"SIRA NO",null,"GÖĞÜS NO","DOĞUM TARİHİ","ADI VE SOYADI","İli-Okulu","START KONTROL"]
[1,"800M-3-1",{"$f":"IF(ISERROR(VLOOKUP(B35,'KAYIT LİSTESİ'!$B$4:$H$664,2,0)),\"\",(VLOOKUP(B35,'KAYIT LİSTESİ'!$B$4:$H$664,2,0)))","v":""},{"$f":"IF(ISERROR(VLOOKUP(B35,'KAYIT LİSTESİ'!$B$4:$H$664,4,0)),\"\",(VLOOKUP(B35,'KAYIT LİSTESİ'!$B$4:$H$664,4,0)))","v":""},{"$f":"IF(ISERROR(VLOOKUP(B35,'KAYIT LİSTESİ'!$B$4:$H$664,5,0)),\"\",(VLOOKUP(B35,'KAYIT LİSTESİ'!$B$4:$H$664,5,0)))","v":""},{"$f":"IF(ISERROR(VLOOKUP(B35,'KAYIT LİSTESİ'!$B$4:$H$664,6,0)),\"\",(VLOOKUP(B35,'KAYIT LİSTESİ'!$B$4:$H$664,6,0)))","v":""},null,null,1,"DİSK-1",{"$f":"IF(ISERROR(VLOOKUP(J35,'KAYIT LİSTESİ'!$B$4:$H$664,2,0)),\"\",(VLOOKUP(J35,'KAYIT LİSTESİ'!$B$4:$H$664,2,0)))","v":607},{"$f":"IF(ISERROR(VLOOKUP(J35,'KAYIT LİSTESİ'!$B$4:$H$664,4,0)),\"\",(VLOOKUP(J35,'KAYIT LİSTESİ'!$B$4:$H$664,4,0)))","v":"1997-10-01"},{"$f":"IF(ISERROR(VLOOKUP(J35,'KAYIT LİSTESİ'!$B$4:$H$664,5,0)),\"\",(VLOOKUP(J35,'KAYIT LİSTESİ'!$B$4:$H$664,5,0)))","v":"MELİKE TAN"},{"$f":"IF(ISERROR(VLOOKUP(J35,'KAYIT LİSTESİ'!$B$4:$H$664,6,0)),\"\",(VLOOKUP(J35,'KAYIT LİSTESİ'!$B$4:$H$664,6,0)))","v":"MERSİN"}]
[2,"800M-3-2",{"$f":"IF(ISERROR(VLOOKUP(B36,'KAYIT LİSTESİ'!$B$4:$H$664,2,0)),\"\",(VLOOKUP(B36,'KAYIT LİSTESİ'!$B$4:$H$664,2,0)))","v":""},{"$f":"IF(ISERROR(VLOOKUP(B36,'KAYIT LİSTESİ'!$B$4:$H$664,4,0)),\"\",(VLOOKUP(B36,'KAYIT LİSTESİ'!$B$4:$H$664,4,0)))","v":""},{"$f":"IF(ISERROR(VLOOKUP(B36,'KAYIT LİSTESİ'!$B$4:$H$664,5,0)),\"\",(VLOOKUP(B36,'KAYIT LİSTESİ'!$B$4:$H$664,5,0)))","v":""},{"$f":"IF(ISERROR(VLOOKUP(B36,'KAYIT LİSTESİ'!$B$4:$H$664,6,0)),\"\",(VLOOKUP(B36,'KAYIT LİSTESİ'!$B$4:$H$664,6,0)))","v":""},null,null,2,"DİSK-2",{"$f":"IF(ISERROR(VLOOKUP(J36,'KAYIT LİSTESİ'!$B$4:$H$664,2,0)),\"\",(VLOOKUP(J36,'KAYIT LİSTESİ'!$B$4:$H$664,2,0)))","v":611},{"$f":"IF(ISERROR(VLOOKUP(J36,'KAYIT LİSTESİ'!$B$4:$H$664,4,0)),\"\",(VLOOKUP(J36,'KAYIT LİSTESİ'!$B$4:$H$664,4,0)))","v":"1999-08-28"},{"$f":"IF(ISERROR(VLOOKUP(J36,'KAYIT LİSTESİ'!$B$4:$H$664,5,0)),\"\",(VLOOKUP(J36,'KAYIT LİSTESİ'!$B$4:$H$664,5,0)))","v":"AYSEL YILMAZ"},{"$f":"IF(ISERROR(VLOOKUP(J36,'KAYIT LİSTESİ'!$B$4:$H$664,6,0)),\"\",(VLOOKUP(J36,'KAYIT LİSTESİ'!$B$4:$H$664,6,0)))","v":"GAZİANTEP"}]
[3,"800M-3-3",{"$f":"IF(ISERROR(VLOOKUP(B37,'KAYIT LİSTESİ'!$B$4:$H$664,2,0)),\"\",(VLOOKUP(B37,'KAYIT LİSTESİ'!$B$4:$H$664,2,0)))","v":""},{"$f":"IF(ISERROR(VLOOKUP(B37,'KAYIT LİSTESİ'!$B$4:$H$664,4,0)),\"\",(VLOOKUP(B37,'KAYIT LİSTESİ'!$B$4:$H$664,4,0)))","v":""},{"$f":"IF(ISERROR(VLOOKUP(B37,'KAYIT LİSTESİ'!$B$4:$H$664,5,0)),\"\",(VLOOKUP(B37,'KAYIT LİSTESİ'!$B$4:$H$664,5,0)))","v":""},{"$f":"IF(ISERROR(VLOOKUP(B37,'KAYIT LİSTESİ'!$B$4:$H$664,6,0)),\"\",(VLOOKUP(B37,'KAYIT LİSTESİ'!$B$4:$H$664,6,0)))","v":""},null,null,3,"DİSK-3",{"$f":"IF(ISERROR(VLOOKUP(J37,'KAYIT LİSTESİ'!$B$4:$H$664,2,0)),\"\",(VLOOKUP(J37,'KAYIT LİSTESİ'!$B$4:$H$664,2,0)))","v":""},{"$f":"IF(ISERROR(VLOOKUP(J37,'KAYIT LİSTESİ'!$B$4:$H$664,4,0)),\"\",(VLOOKUP(J37,'KAYIT LİSTESİ'!$B$4:$H$664,4,0)))","v":""},{"$f":"IF(ISERROR(VLOOKUP(J37,'KAYIT LİSTESİ'!$B$4:$H$664,5,0)),\"\",(VLOOKUP(J37,'KAYIT LİSTESİ'!$B$4:$H$664,5,0)))","v":""},{"$f":"IF(ISERROR(VLOOKUP(J37,'KAYIT LİSTESİ'!$B$4:$H$664,6,0)),\"\",(VLOOKUP(J37,'KAYIT LİSTESİ'!$B$4:$H$664,6,0)))","v":""}]
[4,"800M-3-4",{"$f":"IF(ISERROR(VLOOKUP(B38,'KAYIT LİSTESİ'!$B$4:$H$664,2,0)),\"\",(VLOOKUP(B38,'KAYIT LİSTESİ'!$B$4:$H$664,2,0)))","v":""},{"$f":"IF(ISERROR(VLOOKUP(B38,'KAYIT LİSTESİ'!$B$4:$H$664,4,0)),\"\",(VLOOKUP(B38,'KAYIT LİSTESİ'!$B$4:$H$664,4,0)))","v":""},{"$f":"IF(ISERROR(VLOOKUP(B38,'KAYIT LİSTESİ'!$B$4:$H$664,5,0)),\"\",(VLOOKUP(B38,'KAYIT LİSTESİ'!$B$4:$H$664,5,0)))","v":""},{"$f":"IF(ISERROR(VLOOKUP(B38,'KAYIT LİSTESİ'!$B$4:$H$664,6,0)),\"\",(VLOOKUP(B38,'KAYIT LİSTESİ'!$B$4:$H$664,6,0)))","v":""},null,null,4,"DİSK-4",{"$f":"IF(ISERROR(VLOOKUP(J38,'KAYIT LİSTESİ'!$B$4:$H$664,2,0)),\"\",(VLOOKUP(J38,'KAYIT LİSTESİ'!$B$4:$H$664,2,0)))","v":""},{"$f":"IF(ISERROR(VLOOKUP(J38,'KAYIT LİSTESİ'!$B$4:$H$664,4,0)),\"\",(VLOOKUP(J38,'KAYIT LİSTESİ'!$B$4:$H$664,4,0)))","v":""},{"$f":"IF(ISERROR(VLOOKUP(J38,'KAYIT LİSTESİ'!$B$4:$H$664,5,0)),\"\",(VLOOKUP(J38,'KAYIT LİSTESİ'!$B$4:$H$664,5,0)))","v":""},{"$f":"IF(ISERROR(VLOOKUP(J38,'KAYIT LİSTESİ'!$B$4:$H$664,6,0)),\"\",(VLOOKUP(J38,'KAYIT LİSTESİ'!$B$4:$H$664,6,0)))","v":""}]
[5,"800M-3-5",{"$f":"IF(ISERROR(VLOOKUP(B39,'KAYIT LİSTESİ'!$B$4:$H$664,2,0)),\"\",(VLOOKUP(B39,'KAYIT LİSTESİ'!$B$4:$H$664,2,0)))","v":""},{"$f":"IF(ISERROR(VLOOKUP(B39,'KAYIT LİSTESİ'!$B$4:$H$664,4,0)),\"\",(VLOOKUP(B39,'KAYIT LİSTESİ'!$B$4:$H$664,4,0)))","v":""},{"$f":"IF(ISERROR(VLOOKUP(B39,'KAYIT LİSTESİ'!$B$4:$H$664,5,0)),\"\",(VLOOKUP(B39,'KAYIT LİSTESİ'!$B$4:$H$664,5,0)))","v":""},{"$f":"IF(ISERROR(VLOOKUP(B39,'KAYIT LİSTESİ'!$B$4:$H$664,6,0)),\"\",(VLOOKUP(B39,'KAYIT LİSTESİ'!$B$4:$H$664,6,0)))","v":""},null,null,5,"DİSK-5",{"$f":"IF(ISERROR(VLOOKUP(J39,'KAYIT LİSTESİ'!$B$4:$H$664,2,0)),\"\",(VLOOKUP(J39,'KAYIT LİSTESİ'!$B$4:$H$664,2,0)))","v":""},{"$f":"IF(ISERROR(VLOOKUP(J39,'KAYIT LİSTESİ'!$B$4:$H$664,4,0)),\"\",(VLOOKUP(J39,'KAYIT LİSTESİ'!$B$4:$H$664,4,0)))","v":""},{"$f":"IF(ISERROR(VLOOKUP(J39,'KAYIT LİSTESİ'!$B$4:$H$664,5,0)),\"\",(VLOOKUP(J39,'KAYIT LİSTESİ'!$B$4:$H$664,5,0)))","v":""},{"$f":"IF(ISERROR(VLOOKUP(J39,'KAYIT LİSTESİ'!$B$4:$H$664,6,0)),\"\",(VLOOKUP(J39,'KAYIT LİSTESİ'!$B$4:$H$664,6,0)))","v":""}]
[6,"800M-3-6",{"$f":"IF(ISERROR(VLOOKUP(B40,'KAYIT LİSTESİ'!$B$4:$H$664,2,0)),\"\",(VLOOKUP(B40,'KAYIT LİSTESİ'!$B$4:$H$664,2,0)))","v":""},{"$f":"IF(ISERROR(VLOOKUP(B40,'KAYIT LİSTESİ'!$B$4:$H$664,4,0)),\"\",(VLOOKUP(B40,'KAYIT LİSTESİ'!$B$4:$H$664,4,0)))","v":""},{"$f":"IF(ISERROR(VLOOKUP(B40,'KAYIT LİSTESİ'!$B$4:$H$664,5,0)),\"\",(VLOOKUP(B40,'KAYIT LİSTESİ'!$B$4:$H$664,5,0)))","v":""},{"$f":"IF(ISERROR(VLOOKUP(B40,'KAYIT LİSTESİ'!$B$4:$H$664,6,0)),\"\",(VLOOKUP(B40,'KAYIT LİSTESİ'!$B$4:$H$664,6,0)))","v":""},null,null,6,"DİSK-6",{"$f":"IF(ISERROR(VLOOKUP(J40,'KAYIT LİSTESİ'!$B$4:$H$664,2,0)),\"\",(VLOOKUP(J40,'KAYIT LİSTESİ'!$B$4:$H$664,2,0)))","v":""},{"$f":"IF(ISERROR(VLOOKUP(J40,'KAYIT LİSTESİ'!$B$4:$H$664,4,0)),\"\",(VLOOKUP(J40,'KAYIT LİSTESİ'!$B$4:$H$664,4,0)))","v":""},{"$f":"IF(ISERROR(VLOOKUP(J40,'KAYIT LİSTESİ'!$B$4:$H$664,5,0)),\"\",(VLOOKUP(J40,'KAYIT LİSTESİ'!$B$4:$H$664,5,0)))","v":""},{"$f":"IF(ISERROR(VLOOKUP(J40,'KAYIT LİSTESİ'!$B$4:$H$664,6,0)),\"\",(VLOOKUP(J40,'KAYIT LİSTESİ'!$B$4:$H$664,6,0)))","v":""}]
[7,"800M-3-7",{"$f":"IF(ISERROR(VLOOKUP(B41,'KAYIT LİSTESİ'!$B$4:$H$664,2,0)),\"\",(VLOOKUP(B41,'KAYIT LİSTESİ'!$B$4:$H$664,2,0)))","v":""},{"$f":"IF(ISERROR(VLOOKUP(B41,'KAYIT LİSTESİ'!$B$4:$H$664,4,0)),\"\",(VLOOKUP(B41,'KAYIT LİSTESİ'!$B$4:$H$664,4,0)))","v":""},{"$f":"IF(ISERROR(VLOOKUP(B41,'KAYIT LİSTESİ'!$B$4:$H$664,5,0)),\"\",(VLOOKUP(B41,'KAYIT LİSTESİ'!$B$4:$H$664,5,0)))","v":""},{"$f":"IF(ISERROR(VLOOKUP(B41,'KAYIT LİSTESİ'!$B$4:$H$664,6,0)),\"\",(VLOOKUP(B41,'KAYIT LİSTESİ'!$B$4:$H$664,6,0)))","v":""},null,null,7,"DİSK-7",{"$f":"IF(ISERROR(VLOOKUP(J41,'KAYIT LİSTESİ'!$B$4:$H$664,2,0)),\"\",(VLOOKUP(J41,'KAYIT LİSTESİ'!$B$4:$H$664,2,0)))","v":""},{"$f":"IF(ISERROR(VLOOKUP(J41,'KAYIT LİSTESİ'!$B$4:$H$664,4,0)),\"\",(VLOOKUP(J41,'KAYIT LİSTESİ'!$B$4:$H$664,4,0)))","v":""},{"$f":"IF(ISERROR(VLOOKUP(J41,'KAYIT LİSTESİ'!$B$4:$H$664,5,0)),\"\",(VLOOKUP(J41,'KAYIT LİSTESİ'!$B$4:$H$664,5,0)))","v":""},{"$f":"IF(ISERROR(VLOOKUP(J41,'KAYIT LİSTESİ'!$B$4:$H$664,6,0)),\"\",(VLOOKUP(J41,'KAYIT LİSTESİ'!$B$4:$H$664,6,0)))","v":""}]
[8,"800M-3-8",{"$f":"IF(ISERROR(VLOOKUP(B42,'KAYIT LİSTESİ'!$B$4:$H$664,2,0)),\"\",(VLOOKUP(B42,'KAYIT LİSTESİ'!$B$4:$H$664,2,0)))","v":""},{"$f":"IF(ISERROR(VLOOKUP(B42,'KAYIT LİSTESİ'!$B$4:$H$664,4,0)),\"\",(VLOOKUP(B42,'KAYIT LİSTESİ'!$B$4:$H$664,4,0)))","v":""},{"$f":"IF(ISERROR(VLOOKUP(B42,'KAYIT LİSTESİ'!$B$4:$H$664,5,0)),\"\",(VLOOKUP(B42,'KAYIT LİSTESİ'!$B$4:$H$664,5,0)))","v":""},{"$f":"IF(ISERROR(VLOOKUP(B42,'KAYIT LİSTESİ'!$B$4:$H$664,6,0)),\"\",(VLOOKUP(B42,'KAYIT LİSTESİ'!$B$4:$H$664,6,0)))","v":""},null,null,8,"DİSK-8",{"$f":"IF(ISERROR(VLOOKUP(J42,'KAYIT LİSTESİ'!$B$4:$H$664,2,0)),\"\",(VLOOKUP(J42,'KAYIT LİSTESİ'!$B$4:$H$664,2,0)))","v":""},{"$f":"IF(ISERROR(VLOOKUP(J42,'KAYIT LİSTESİ'!$B$4:$H$664,4,0)),\"\",(VLOOKUP(J42,'KAYIT LİSTESİ'!$B$4:$H$664,4,0)))","v":""},{"$f":"IF(ISERROR(VLOOKUP(J42,'KAYIT LİSTESİ'!$B$4:$H$664,5,0)),\"\",(VLOOKUP(J42,'KAYIT LİSTESİ'!$B$4:$H$664,5,0)))","v":""},{"$f":"IF(ISERROR(VLOOKUP(J42,'KAYIT LİSTESİ'!$B$4:$H$664,6,0)),\"\",(VLOOKUP(J42,'KAYIT LİSTESİ'!$B$4:$H$664,6,0)))","v":""}]
[9,"800M-3-9",{"$f":"IF(ISERROR(VLOOKUP(B43,'KAYIT LİSTESİ'!$B$4:$H$664,2,0)),\"\",(VLOOKUP(B43,'KAYIT LİSTESİ'!$B$4:$H$664,2,0)))","v":""},{"$f":"IF(ISERROR(VLOOKUP(B43,'KAYIT LİSTESİ'!$B$4:$H$664,4,0)),\"\",(VLOOKUP(B43,'KAYIT LİSTESİ'!$B$4:$H$664,4,0)))","v":""},{"$f":"IF(ISERROR(VLOOKUP(B43,'KAYIT LİSTESİ'!$B$4:$H$664,5,0)),\"\",(VLOOKUP(B43,'KAYIT LİSTESİ'!$B$4:$H$664,5,0)))","v":""},{"$f":"IF(ISERROR(VLOOKUP(B43,'KAYIT LİSTESİ'!$B$4:$H$664,6,0)),\"\",(VLOOKUP(B43,'KAYIT LİSTESİ'!$B$4:$H$664,6,0)))","v":""},null,null,9,"DİSK-9",{"$f":"IF(ISERROR(VLOOKUP(J43,'KAYIT LİSTESİ'!$B$4:$H$664,2,0)),\"\",(VLOOKUP(J43,'KAYIT LİSTESİ'!$B$4:$H$664,2,0)))","v":""},{"$f":"IF(ISERROR(VLOOKUP(J43,'KAYIT LİSTESİ'!$B$4:$H$664,4,0)),\"\",(VLOOKUP(J43,'KAYIT LİSTESİ'!$B$4:$H$664,4,0)))","v":""},{"$f":"IF(ISERROR(VLOOKUP(J43,'KAYIT LİSTESİ'!$B$4:$H$664,5,0)),\"\",(VLOOKUP(J43,'KAYIT LİSTESİ'!$B$4:$H$664,5,0)))","v":""},{"$f":"IF(ISERROR(VLOOKUP(J43,'KAYIT LİSTESİ'!$B$4:$H$664,6,0)),\"\",(VLOOKUP(J43,'KAYIT LİSTESİ'!$B$4:$H$664,6,0)))","v":""}]
[10,"800M-3-10",{"$f":"IF(ISERROR(VLOOKUP(B44,'KAYIT LİSTESİ'!$B$4:$H$664,2,0)),\"\",(VLOOKUP(B44,'KAYIT LİSTESİ'!$B$4:$H$664,2,0)))","v":""},{"$f":"IF(ISERROR(VLOOKUP(B44,'KAYIT LİSTESİ'!$B$4:$H$664,4,0)),\"\",(VLOOKUP(B44,'KAYIT LİSTESİ'!$B$4:$H$664,4,0)))","v":""},{"$f":"IF(ISERROR(VLOOKUP(B44,'KAYIT LİSTESİ'!$B$4:$H$664,5,0)),\"\",(VLOOKUP(B44,'KAYIT LİSTESİ'!$B$4:$H$664,5,0)))","v":""},{"$f":"IF(ISERROR(VLOOKUP(B44,'KAYIT LİSTESİ'!$B$4:$H$664,6,0)),\"\",(VLOOKUP(B44,'KAYIT LİSTESİ'!$B$4:$H$664,6,0)))","v":""},null,null,10,"DİSK-10",{"$f":"IF(ISERROR(VLOOKUP(J44,'KAYIT LİSTESİ'!$B$4:$H$664,2,0)),\"\",(VLOOKUP(J44,'KAYIT LİSTESİ'!$B$4:$H$664,2,0)))","v":""},{"$f":"IF(ISERROR(VLOOKUP(J44,'KAYIT LİSTESİ'!$B$4:$H$664,4,0)),\"\",(VLOOKUP(J44,'KAYIT LİSTESİ'!$B$4:$H$664,4,0)))","v":""},{"$f":"IF(ISERROR(VLOOKUP(J44,'KAYIT LİSTESİ'!$B$4:$H$664,5,0)),\"\",(VLOOKUP(J44,'KAYIT LİSTESİ'!$B$4:$H$664,5,0)))","v":""},{"$f":"IF(ISERROR(VLOOKUP(J44,'KAYIT LİSTESİ'!$B$4:$H$664,6,0)),\"\",(VLOOKUP(J44,'KAYIT LİSTESİ'!$B$4:$H$664,6,0)))","v":""}]
[11,"800M-3-11",{"$f":"IF(ISERROR(VLOOKUP(B45,'KAYIT LİSTESİ'!$B$4:$H$664,2,0)),\"\",(VLOOKUP(B45,'KAYIT LİSTESİ'!$B$4:$H$664,2,0)))","v":""},{"$f":"IF(ISERROR(VLOOKUP(B45,'KAYIT LİSTESİ'!$B$4:$H$664,4,0)),\"\",(VLOOKUP(B45,'KAYIT LİSTESİ'!$B$4:$H$664,4,0)))","v":""},{"$f":"IF(ISERROR(VLOOKUP(B45,'KAYIT LİSTESİ'!$B$4:$H$664,5,0)),\"\",(VLOOKUP(B45,'KAYIT LİSTESİ'!$B$4:$H$664,5,0)))","v":""},{"$f":"IF(ISERROR(VLOOKUP(B45,'KAYIT LİSTESİ'!$B$4:$H$664,6,0)),\"\",(VLOOKUP(B45,'KAYIT LİSTESİ'!$B$4:$H$664,6,0)))","v":""},null,null,11,"DİSK-11",{"$f":"IF(ISERROR(VLOOKUP(J45,'KAYIT LİSTESİ'!$B$4:$H$664,2,0)),\"\",(VLOOKUP(J45,'KAYIT LİSTESİ'!$B$4:$H$664,2,0)))","v":""},{"$f":"IF(ISERROR(VLOOKUP(J45,'KAYIT LİSTESİ'!$B$4:$H$664,4,0)),\"\",(VLOOKUP(J45,'KAYIT LİSTESİ'!$B$4:$H$664,4,0)))","v":""},{"$f":"IF(ISERROR(VLOOKUP(J45,'KAYIT LİSTESİ'!$B$4:$H$664,5,0)),\"\",(VLOOKUP(J45,'KAYIT LİSTESİ'!$B$4:$H$664,5,0)))","v":""},{"$f":"IF(ISERROR(VLOOKUP(J45,'KAYIT LİSTESİ'!$B$4:$H$664,6,0)),\"\",(VLOOKUP(J45,'KAYIT LİSTESİ'!$B$4:$H$664,6,0)))","v":""}]
[12,"800M-3-12",{"$f":"IF(ISERROR(VLOOKUP(B46,'KAYIT LİSTESİ'!$B$4:$H$664,2,0)),\"\",(VLOOKUP(B46,'KAYIT LİSTESİ'!$B$4:$H$664,2,0)))","v":""},{"$f":"IF(ISERROR(VLOOKUP(B46,'KAYIT LİSTESİ'!$B$4:$H$664,4,0)),\"\",(VLOOKUP(B46,'KAYIT LİSTESİ'!$B$4:$H$664,4,0)))","v":""},{"$f":"IF(ISERROR(VLOOKUP(B46,'KAYIT LİSTESİ'!$B$4:$H$664,5,0)),\"\",(VLOOKUP(B46,'KAYIT LİSTESİ'!$B$4:$H$664,5,0)))","v":""},{"$f":"IF(ISERROR(VLOOKUP(B46,'KAYIT LİSTESİ'!$B$4:$H$664,6,0)),\"\",(VLOOKUP(B46,'KAYIT LİSTESİ'!$B$4:$H$664,6,0)))","v":""},null,null,12,"DİSK-12",{"$f":"IF(ISERROR(VLOOKUP(J46,'KAYIT LİSTESİ'!$B$4:$H$664,2,0)),\"\",(VLOOKUP(J46,'KAYIT LİSTESİ'!$B$4:$H$664,2,0)))","v":""},{"$f":"IF(ISERROR(VLOOKUP(J46,'KAYIT LİSTESİ'!$B$4:$H$664,4,0)),\"\",(VLOOKUP(J46,'KAYIT LİSTESİ'!$B$4:$H$664,4,0)))","v":""},{"$f":"IF(ISERROR(VLOOKUP(J46,'KAYIT LİSTESİ'!$B$4:$H$664,5,0)),\"\",(VLOOKUP(J46,'KAYIT LİSTESİ'!$B$4:$H$664,5,0)))","v":""},{"$f":"IF(ISERROR(VLOOKUP(J46,'KAYIT LİSTESİ'!$B$4:$H$664,6,0)),\"\",(VLOOKUP(J46,'KAYIT LİSTESİ'!$B$4:$H$664,6,0)))","v":""}]
["4. SERİ",null,null,null,null,null,null,null,13,"DİSK-13",{"$f":"IF(ISERROR(VLOOKUP(J47,'KAYIT LİSTESİ'!$B$4:$H$664,2,0)),\"\",(VLOOKUP(J47,'KAYIT LİSTESİ'!$B$4:$H$664,2,0)))","v":""},{"$f":"IF(ISERROR(VLOOKUP(J47,'KAYIT LİSTESİ'!$B$4:$H$664,4,0)),\"\",(VLOOKUP(J47,'KAYIT LİSTESİ'!$B$4:$H$664,4,0)))","v":""},{"$f":"IF(ISERROR(VLOOKUP(J47,'KAYIT LİSTESİ'!$B$4:$H$664,5,0)),\"\",(VLOOKUP(J47,'KAYIT LİSTESİ'!$B$4:$H$664,5,0)))","v":""},{"$f":"IF(ISERROR(VLOOKUP(J47,'KAYIT LİSTESİ'!$B$4:$H$664,6,0)),\"\",(VLOOKUP(J47,'KAYIT LİSTESİ'!$B$4:$H$664,6,0)))","v":""}]
["Sıra No","Formül","Göğüs No","Doğum Tarihi","Adı ve Soyadı","İli-Okulu","Start Kontrol",null,14,"DİSK-14",{"$f":"IF(ISERROR(VLOOKUP(J48,'KAYIT LİSTESİ'!$B$4:$H$664,2,0)),\"\",(VLOOKUP(J48,'KAYIT LİSTESİ'!$B$4:$H$664,2,0)))","v":""},{"$f":"IF(ISERROR(VLOOKUP(J48,'KAYIT LİSTESİ'!$B$4:$H$664,4,0)),\"\",(VLOOKUP(J48,'KAYIT LİSTESİ'!$B$4:$H$664,4,0)))","v":""},{"$f":"IF(ISERROR(VLOOKUP(J48,'KAYIT LİSTESİ'!$B$4:$H$664,5,0)),\"\",(VLOOKUP(J48,'KAYIT LİSTESİ'!$B$4:$H$664,5,0)))","v":""},{"$f":"IF(ISERROR(VLOOKUP(J48,'KAYIT LİSTESİ'!$B$4:$H$664,6,0)),\"\",(VLOOKUP(J48,'KAYIT LİSTESİ'!$B$4:$H$664,6,0)))","v":""}]
[1,"800M-4-1",{"$f":"IF(ISERROR(VLOOKUP(B49,'KAYIT LİSTESİ'!$B$4:$H$664,2,0)),\"\",(VLOOKUP(B49,'KAYIT LİSTESİ'!$B$4:$H$664,2,0)))","v":""},{"$f":"IF(ISERROR(VLOOKUP(B49,'KAYIT LİSTESİ'!$B$4:$H$664,4,0)),\"\",(VLOOKUP(B49,'KAYIT LİSTESİ'!$B$4:$H$664,4,0)))","v":""},{"$f":"IF(ISERROR(VLOOKUP(B49,'KAYIT LİSTESİ'!$B$4:$H$664,5,0)),\"\",(VLOOKUP(B49,'KAYIT LİSTESİ'!$B$4:$H$664,5,0)))","v":""},{"$f":"IF(ISERROR(VLOOKUP(B49,'KAYIT LİSTESİ'!$B$4:$H$664,6,0)),\"\",(VLOOKUP(B49,'KAYIT LİSTESİ'!$B$4:$H$664,6,0)))","v":""},null,null,15,"DİSK-15",{"$f":"IF(ISERROR(VLOOKUP(J49,'KAYIT LİSTESİ'!$B$4:$H$664,2,0)),\"\",(VLOOKUP(J49,'KAYIT LİSTESİ'!$B$4:$H$664,2,0)))","v":""},{"$f":"IF(ISERROR(VLOOKUP(J49,'KAYIT LİSTESİ'!$B$4:$H$664,4,0)),\"\",(VLOOKUP(J49,'KAYIT LİSTESİ'!$B$4:$H$664,4,0)))","v":""},{"$f":"IF(ISERROR(VLOOKUP(J49,'KAYIT LİSTESİ'!$B$4:$H$664,5,0)),\"\",(VLOOKUP(J49,'KAYIT LİSTESİ'!$B$4:$H$664,5,0)))","v":""},{"$f":"IF(ISERROR(VLOOKUP(J49,'KAYIT LİSTESİ'!$B$4:$H$664,6,0)),\"\",(VLOOKUP(J49,'KAYIT LİSTESİ'!$B$4:$H$664,6,0)))","v":""}]
[2,"800M-4-2",{"$f":"IF(ISERROR(VLOOKUP(B50,'KAYIT LİSTESİ'!$B$4:$H$664,2,0)),\"\",(VLOOKUP(B50,'KAYIT LİSTESİ'!$B$4:$H$664,2,0)))","v":""},{"$f":"IF(ISERROR(VLOOKUP(B50,'KAYIT LİSTESİ'!$B$4:$H$664,4,0)),\"\",(VLOOKUP(B50,'KAYIT LİSTESİ'!$B$4:$H$664,4,0)))","v":""},{"$f":"IF(ISERROR(VLOOKUP(B50,'KAYIT LİSTESİ'!$B$4:$H$664,5,0)),\"\",(VLOOKUP(B50,'KAYIT LİSTESİ'!$B$4:$H$664,5,0)))","v":""},{"$f":"IF(ISERROR(VLOOKUP(B50,'KAYIT LİSTESİ'!$B$4:$H$664,6,0)),\"\",(VLOOKUP(B50,'KAYIT LİSTESİ'!$B$4:$H$664,6,0)))","v":""},null,null,16,"DİSK-16",{"$f":"IF(ISERROR(VLOOKUP(J50,'KAYIT LİSTESİ'!$B$4:$H$664,2,0)),\"\",(VLOOKUP(J50,'KAYIT LİSTESİ'!$B$4:$H$664,2,0)))","v":""},{"$f":"IF(ISERROR(VLOOKUP(J50,'KAYIT LİSTESİ'!$B$4:$H$664,4,0)),\"\",(VLOOKUP(J50,'KAYIT LİSTESİ'!$B$4:$H$664,4,0)))","v":""},{"$f":"IF(ISERROR(VLOOKUP(J50,'KAYIT LİSTESİ'!$B$4:$H$664,5,0)),\"\",(VLOOKUP(J50,'KAYIT LİSTESİ'!$B$4:$H$664,5,0)))","v":""},{"$f":"IF(ISERROR(VLOOKUP(J50,'KAYIT LİSTESİ'!$B$4:$H$664,6,0)),\"\",(VLOOKUP(J50,'KAYIT LİSTESİ'!$B$4:$H$664,6,0)))","v":""}]
[3,"800M-4-3",{"$f":"IF(ISERROR(VLOOKUP(B51,'KAYIT LİSTESİ'!$B$4:$H$664,2,0)),\"\",(VLOOKUP(B51,'KAYIT LİSTESİ'!$B$4:$H$664,2,0)))","v":""},{"$f":"IF(ISERROR(VLOOKUP(B51,'KAYIT LİSTESİ'!$B$4:$H$664,4,0)),\"\",(VLOOKUP(B51,'KAYIT LİSTESİ'!$B$4:$H$664,4,0)))","v":""},{"$f":"IF(ISERROR(VLOOKUP(B51,'KAYIT LİSTESİ'!$B$4:$H$664,5,0)),\"\",(VLOOKUP(B51,'KAYIT LİSTESİ'!$B$4:$H$664,5,0)))","v":""},{"$f":"IF(ISERROR(VLOOKUP(B51,'KAYIT LİSTESİ'!$B$4:$H$664,6,0)),\"\",(VLOOKUP(B51,'KAYIT LİSTESİ'!$B$4:$H$664,6,0)))","v":""},null,null,17,"DİSK-17",{"$f":"IF(ISERROR(VLOOKUP(J51,'KAYIT LİSTESİ'!$B$4:$H$664,2,0)),\"\",(VLOOKUP(J51,'KAYIT LİSTESİ'!$B$4:$H$664,2,0)))","v":""},{"$f":"IF(ISERROR(VLOOKUP(J51,'KAYIT LİSTESİ'!$B$4:$H$664,4,0)),\"\",(VLOOKUP(J51,'KAYIT LİSTESİ'!$B$4:$H$664,4,0)))","v":""},{"$f":"IF(ISERROR(VLOOKUP(J51,'KAYIT LİSTESİ'!$B$4:$H$664,5,0)),\"\",(VLOOKUP(J51,'KAYIT LİSTESİ'!$B$4:$H$664,5,0)))","v":""},{"$f":"IF(ISERROR(VLOOKUP(J51,'KAYIT LİSTESİ'!$B$4:$H$664,6,0)),\"\",(VLOOKUP(J51,'KAYIT LİSTESİ'!$B$4:$H$664,6,0)))","v":""}]
[4,"800M-4-4",{"$f":"IF(ISERROR(VLOOKUP(B52,'KAYIT LİSTESİ'!$B$4:$H$664,2,0)),\"\",(VLOOKUP(B52,'KAYIT LİSTESİ'!$B$4:$H$664,2,0)))","v":""},{"$f":"IF(ISERROR(VLOOKUP(B52,'KAYIT LİSTESİ'!$B$4:$H$664,4,0)),\"\",(VLOOKUP(B52,'KAYIT LİSTESİ'!$B$4:$H$664,4,0)))","v":""},{"$f":"IF(ISERROR(VLOOKUP(B52,'KAYIT LİSTESİ'!$B$4:$H$664,5,0)),\"\",(VLOOKUP(B52,'KAYIT LİSTESİ'!$B$4:$H$664,5,0)))","v":""},{"$f":"IF(ISERROR(VLOOKUP(B52,'KAYIT LİSTESİ'!$B$4:$H$664,6,0)),\"\",(VLOOKUP(B52,'KAYIT LİSTESİ'!$B$4:$H$664,6,0)))","v":""},null,null,18,"DİSK-18",{"$f":"IF(ISERROR(VLOOKUP(J52,'KAYIT LİSTESİ'!$B$4:$H$664,2,0)),\"\",(VLOOKUP(J52,'KAYIT LİSTESİ'!$B$4:$H$664,2,0)))","v":""},{"$f":"IF(ISERROR(VLOOKUP(J52,'KAYIT LİSTESİ'!$B$4:$H$664,4,0)),\"\",(VLOOKUP(J52,'KAYIT LİSTESİ'!$B$4:$H$664,4,0)))","v":""},{"$f":"IF(ISERROR(VLOOKUP(J52,'KAYIT LİSTESİ'!$B$4:$H$664,5,0)),\"\",(VLOOKUP(J52,'KAYIT LİSTESİ'!$B$4:$H$664,5,0)))","v":""},{"$f":"IF(ISERROR(VLOOKUP(J52,'KAYIT LİSTESİ'!$B$4:$H$664,6,0)),\"\",(VLOOKUP(J52,'KAYIT LİSTESİ'!$B$4:$H$664,6,0)))","v":""}]
[5,"800M-4-5",{"$f":"IF(ISERROR(VLOOKUP(B53,'KAYIT LİSTESİ'!$B$4:$H$664,2,0)),\"\",(VLOOKUP(B53,'KAYIT LİSTESİ'!$B$4:$H$664,2,0)))","v":""},{"$f":"IF(ISERROR(VLOOKUP(B53,'KAYIT LİSTESİ'!$B$4:$H$664,4,0)),\"\",(VLOOKUP(B53,'KAYIT LİSTESİ'!$B$4:$H$664,4,0)))","v":""},{"$f":"IF(ISERROR(VLOOKUP(B53,'KAYIT LİSTESİ'!$B$4:$H$664,5,0)),\"\",(VLOOKUP(B53,'KAYIT LİSTESİ'!$B$4:$H$664,5,0)))","v":""},{"$f":"IF(ISERROR(VLOOKUP(B53,'KAYIT LİSTESİ'!$B$4:$H$664,6,0)),\"\",(VLOOKUP(B53,'KAYIT LİSTESİ'!$B$4:$H$664,6,0)))","v":""},null,null,19,"DİSK-19",{"$f":"IF(ISERROR(VLOOKUP(J53,'KAYIT LİSTESİ'!$B$4:$H$664,2,0)),\"\",(VLOOKUP(J53,'KAYIT LİSTESİ'!$B$4:$H$664,2,0)))","v":""},{"$f":"IF(ISERROR(VLOOKUP(J53,'KAYIT LİSTESİ'!$B$4:$H$664,4,0)),\"\",(VLOOKUP(J53,'KAYIT LİSTESİ'!$B$4:$H$664,4,0)))","v":""},{"$f":"IF(ISERROR(VLOOKUP(J53,'KAYIT LİSTESİ'!$B$4:$H$664,5,0)),\"\",(VLOOKUP(J53,'KAYIT LİSTESİ'!$B$4:$H$664,5,0)))","v":""},{"$f":"IF(ISERROR(VLOOKUP(J53,'KAYIT LİSTESİ'!$B$4:$H$664,6,0)),\"\",(VLOOKUP(J53,'KAYIT LİSTESİ'!$B$4:$H$664,6,0)))","v":""}]
[6,"800M-4-6",{"$f":"IF(ISERROR(VLOOKUP(B54,'KAYIT LİSTESİ'!$B$4:$H$664,2,0)),\"\",(VLOOKUP(B54,'KAYIT LİSTESİ'!$B$4:$H$664,2,0)))","v":""},{"$f":"IF(ISERROR(VLOOKUP(B54,'KAYIT LİSTESİ'!$B$4:$H$664,4,0)),\"\",(VLOOKUP(B54,'KAYIT LİSTESİ'!$B$4:$H$664,4,0)))","v":""},{"$f":"IF(ISERROR(VLOOKUP(B54,'KAYIT LİSTESİ'!$B$4:$H$664,5,0)),\"\",(VLOOKUP(B54,'KAYIT LİSTESİ'!$B$4:$H$664,5,0)))","v":""},{"$f":"IF(ISERROR(VLOOKUP(B54,'KAYIT LİSTESİ'!$B$4:$H$664,6,0)),\"\",(VLOOKUP(B54,'KAYIT LİSTESİ'!$B$4:$H$664,6,0)))","v":""},null,null,20,"DİSK-20",{"$f":"IF(ISERROR(VLOOKUP(J54,'KAYIT LİSTESİ'!$B$4:$H$664,2,0)),\"\",(VLOOKUP(J54,'KAYIT LİSTESİ'!$B$4:$H$664,2,0)))","v":""},{"$f":"IF(ISERROR(VLOOKUP(J54,'KAYIT LİSTESİ'!$B$4:$H$664,4,0)),\"\",(VLOOKUP(J54,'KAYIT LİSTESİ'!$B$4:$H$664,4,0)))","v":""},{"$f":"IF(ISERROR(VLOOKUP(J54,'KAYIT LİSTESİ'!$B$4:$H$664,5,0)),\"\",(VLOOKUP(J54,'KAYIT LİSTESİ'!$B$4:$H$664,5,0)))","v":""},{"$f":"IF(ISERROR(VLOOKUP(J54,'KAYIT LİSTESİ'!$B$4:$H$664,6,0)),\"\",(VLOOKUP(J54,'KAYIT LİSTESİ'!$B$4:$H$664,6,0)))","v":""}]
[7,"800M-4-7",{"$f":"IF(ISERROR(VLOOKUP(B55,'KAYIT LİSTESİ'!$B$4:$H$664,2,0)),\"\",(VLOOKUP(B55,'KAYIT LİSTESİ'!$B$4:$H$664,2,0)))","v":""},{"$f":"IF(ISERROR(VLOOKUP(B55,'KAYIT LİSTESİ'!$B$4:$H$664,4,0)),\"\",(VLOOKUP(B55,'KAYIT LİSTESİ'!$B$4:$H$664,4,0)))","v":""},{"$f":"IF(ISERROR(VLOOKUP(B55,'KAYIT LİSTESİ'!$B$4:$H$664,5,0)),\"\",(VLOOKUP(B55,'KAYIT LİSTESİ'!$B$4:$H$664,5,0)))","v":""},{"$f":"IF(ISERROR(VLOOKUP(B55,'KAYIT LİSTESİ'!$B$4:$H$664,6,0)),\"\",(VLOOKUP(B55,'KAYIT LİSTESİ'!$B$4:$H$664,6,0)))","v":""},null,null,21,"DİSK-21",{"$f":"IF(ISERROR(VLOOKUP(J55,'KAYIT LİSTESİ'!$B$4:$H$664,2,0)),\"\",(VLOOKUP(J55,'KAYIT LİSTESİ'!$B$4:$H$664,2,0)))","v":""},{"$f":"IF(ISERROR(VLOOKUP(J55,'KAYIT LİSTESİ'!$B$4:$H$664,4,0)),\"\",(VLOOKUP(J55,'KAYIT LİSTESİ'!$B$4:$H$664,4,0)))","v":""},{"$f":"IF(ISERROR(VLOOKUP(J55,'KAYIT LİSTESİ'!$B$4:$H$664,5,0)),\"\",(VLOOKUP(J55,'KAYIT LİSTESİ'!$B$4:$H$664,5,0)))","v":""},{"$f":"IF(ISERROR(VLOOKUP(J55,'KAYIT LİSTESİ'!$B$4:$H$664,6,0)),\"\",(VLOOKUP(J55,'KAYIT LİSTESİ'!$B$4:$H$664,6,0)))","v":""}]
[8,"800M-4-8",{"$f":"IF(ISERROR(VLOOKUP(B56,'KAYIT LİSTESİ'!$B$4:$H$664,2,0)),\"\",(VLOOKUP(B56,'KAYIT LİSTESİ'!$B$4:$H$664,2,0)))","v":""},{"$f":"IF(ISERROR(VLOOKUP(B56,'KAYIT LİSTESİ'!$B$4:$H$664,4,0)),\"\",(VLOOKUP(B56,'KAYIT LİSTESİ'!$B$4:$H$664,4,0)))","v":""},{"$f":"IF(ISERROR(VLOOKUP(B56,'KAYIT LİSTESİ'!$B$4:$H$664,5,0)),\"\",(VLOOKUP(B56,'KAYIT LİSTESİ'!$B$4:$H$664,5,0)))","v":""},{"$f":"IF(ISERROR(VLOOKUP(B56,'KAYIT LİSTESİ'!$B$4:$H$664,6,0)),\"\",(VLOOKUP(B56,'KAYIT LİSTESİ'!$B$4:$H$664,6,0)))","v":""},null,null,22,"DİSK-22",{"$f":"IF(ISERROR(VLOOKUP(J56,'KAYIT LİSTESİ'!$B$4:$H$664,2,0)),\"\",(VLOOKUP(J56,'KAYIT LİSTESİ'!$B$4:$H$664,2,0)))","v":""},{"$f":"IF(ISERROR(VLOOKUP(J56,'KAYIT LİSTESİ'!$B$4:$H$664,4,0)),\"\",(VLOOKUP(J56,'KAYIT LİSTESİ'!$B$4:$H$664,4,0)))","v":""},{"$f":"IF(ISERROR(VLOOKUP(J56,'KAYIT LİSTESİ'!$B$4:$H$664,5,0)),\"\",(VLOOKUP(J56,'KAYIT LİSTESİ'!$B$4:$H$664,5,0)))","v":""},{"$f":"IF(ISERROR(VLOOKUP(J56,'KAYIT LİSTESİ'!$B$4:$H$664,6,0)),\"\",(VLOOKUP(J56,'KAYIT LİSTESİ'!$B$4:$H$664,6,0)))","v":""}]
[9,"800M-4-9",{"$f":"IF(ISERROR(VLOOKUP(B57,'KAYIT LİSTESİ'!$B$4:$H$664,2,0)),\"\",(VLOOKUP(B57,'KAYIT LİSTESİ'!$B$4:$H$664,2,0)))","v":""},{"$f":"IF(ISERROR(VLOOKUP(B57,'KAYIT LİSTESİ'!$B$4:$H$664,4,0)),\"\",(VLOOKUP(B57,'KAYIT LİSTESİ'!$B$4:$H$664,4,0)))","v":""},{"$f":"IF(ISERROR(VLOOKUP(B57,'KAYIT LİSTESİ'!$B$4:$H$664,5,0)),\"\",(VLOOKUP(B57,'KAYIT LİSTESİ'!$B$4:$H$664,5,0)))","v":""},{"$f":"IF(ISERROR(VLOOKUP(B57,'KAYIT LİSTESİ'!$B$4:$H$664,6,0)),\"\",(VLOOKUP(B57,'KAYIT LİSTESİ'!$B$4:$H$664,6,0)))","v":""},null,null,23,"DİSK-23",{"$f":"IF(ISERROR(VLOOKUP(J57,'KAYIT LİSTESİ'!$B$4:$H$664,2,0)),\"\",(VLOOKUP(J57,'KAYIT LİSTESİ'!$B$4:$H$664,2,0)))","v":""},{"$f":"IF(ISERROR(VLOOKUP(J57,'KAYIT LİSTESİ'!$B$4:$H$664,4,0)),\"\",(VLOOKUP(J57,'KAYIT LİSTESİ'!$B$4:$H$664,4,0)))","v":""},{"$f":"IF(ISERROR(VLOOKUP(J57,'KAYIT LİSTESİ'!$B$4:$H$664,5,0)),\"\",(VLOOKUP(J57,'KAYIT LİSTESİ'!$B$4:$H$664,5,0)))","v":""},{"$f":"IF(ISERROR(VLOOKUP(J57,'KAYIT LİSTESİ'!$B$4:$H$664,6,0)),\"\",(VLOOKUP(J57,'KAYIT LİSTESİ'!$B$4:$H$664,6,0)))","v":""}]
[10,"800M-4-10",{"$f":"IF(ISERROR(VLOOKUP(B58,'KAYIT LİSTESİ'!$B$4:$H$664,2,0)),\"\",(VLOOKUP(B58,'KAYIT LİSTESİ'!$B$4:$H$664,2,0)))","v":""},{"$f":"IF(ISERROR(VLOOKUP(B58,'KAYIT LİSTESİ'!$B$4:$H$664,4,0)),\"\",(VLOOKUP(B58,'KAYIT LİSTESİ'!$B$4:$H$664,4,0)))","v":""},{"$f":"IF(ISERROR(VLOOKUP(B58,'KAYIT LİSTESİ'!$B$4:$H$664,5,0)),\"\",(VLOOKUP(B58,'KAYIT LİSTESİ'!$B$4:$H$664,5,0)))","v":""},{"$f":"IF(ISERROR(VLOOKUP(B58,'KAYIT LİSTESİ'!$B$4:$H$664,6,0)),\"\",(VLOOKUP(B58,'KAYIT LİSTESİ'!$B$4:$H$664,6,0)))","v":""},null,null,24,"DİSK-24",{"$f":"IF(ISERROR(VLOOKUP(J58,'KAYIT LİSTESİ'!$B$4:$H$664,2,0)),\"\",(VLOOKUP(J58,'KAYIT LİSTESİ'!$B$4:$H$664,2,0)))","v":""},{"$f":"IF(ISERROR(VLOOKUP(J58,'KAYIT LİSTESİ'!$B$4:$H$664,4,0)),\"\",(VLOOKUP(J58,'KAYIT LİSTESİ'!$B$4:$H$664,4,0)))","v":""},{"$f":"IF(ISERROR(VLOOKUP(J58,'KAYIT LİSTESİ'!$B$4:$H$664,5,0)),\"\",(VLOOKUP(J58,'KAYIT LİSTESİ'!$B$4:$H$664,5,0)))","v":""},{"$f":"IF(ISERROR(VLOOKUP(J58,'KAYIT LİSTESİ'!$B$4:$H$664,6,0)),\"\",(VLOOKUP(J58,'KAYIT LİSTESİ'!$B$4:$H$664,6,0)))","v":""}]
[11,"800M-4-11",{"$f":"IF(ISERROR(VLOOKUP(B59,'KAYIT LİSTESİ'!$B$4:$H$664,2,0)),\"\",(VLOOKUP(B59,'KAYIT LİSTESİ'!$B$4:$H$664,2,0)))","v":""},{"$f":"IF(ISERROR(VLOOKUP(B59,'KAYIT LİSTESİ'!$B$4:$H$664,4,0)),\"\",(VLOOKUP(B59,'KAYIT LİSTESİ'!$B$4:$H$664,4,0)))","v":""},{"$f":"IF(ISERROR(VLOOKUP(B59,'KAYIT LİSTESİ'!$B$4:$H$664,5,0)),\"\",(VLOOKUP(B59,'KAYIT LİSTESİ'!$B$4:$H$664,5,0)))","v":""},{"$f":"IF(ISERROR(VLOOKUP(B59,'KAYIT LİSTESİ'!$B$4:$H$664,6,0)),\"\",(VLOOKUP(B59,'KAYIT LİSTESİ'!$B$4:$H$664,6,0)))","v":""},null,null,25,"DİSK-25",{"$f":"IF(ISERROR(VLOOKUP(J59,'KAYIT LİSTESİ'!$B$4:$H$664,2,0)),\"\",(VLOOKUP(J59,'KAYIT LİSTESİ'!$B$4:$H$664,2,0)))","v":""},{"$f":"IF(ISERROR(VLOOKUP(J59,'KAYIT LİSTESİ'!$B$4:$H$664,4,0)),\"\",(VLOOKUP(J59,'KAYIT LİSTESİ'!$B$4:$H$664,4,0)))","v":""},{"$f":"IF(ISERROR(VLOOKUP(J59,'KAYIT LİSTESİ'!$B$4:$H$664,5,0)),\"\",(VLOOKUP(J59,'KAYIT LİSTESİ'!$B$4:$H$664,5,0)))","v":""},{"$f":"IF(ISERROR(VLOOKUP(J59,'KAYIT LİSTESİ'!$B$4:$H$664,6,0)),\"\",(VLOOKUP(J59,'KAYIT LİSTESİ'!$B$4:$H$664,6,0)))","v":""}]
[12,"800M-4-12",{"$f":"IF(ISERROR(VLOOKUP(B60,'KAYIT LİSTESİ'!$B$4:$H$664,2,0)),\"\",(VLOOKUP(B60,'KAYIT LİSTESİ'!$B$4:$H$664,2,0)))","v":""},{"$f":"IF(ISERROR(VLOOKUP(B60,'KAYIT LİSTESİ'!$B$4:$H$664,4,0)),\"\",(VLOOKUP(B60,'KAYIT LİSTESİ'!$B$4:$H$664,4,0)))","v":""},{"$f":"IF(ISERROR(VLOOKUP(B60,'KAYIT LİSTESİ'!$B$4:$H$664,5,0)),\"\",(VLOOKUP(B60,'KAYIT LİSTESİ'!$B$4:$H$664,5,0)))","v":""},{"$f":"IF(ISERROR(VLOOKUP(B60,'KAYIT LİSTESİ'!$B$4:$H$664,6,0)),\"\",(VLOOKUP(B60,'KAYIT LİSTESİ'!$B$4:$H$664,6,0)))","v":""},null,null,26,"DİSK-26",{"$f":"IF(ISERROR(VLOOKUP(J60,'KAYIT LİSTESİ'!$B$4:$H$664,2,0)),\"\",(VLOOKUP(J60,'KAYIT LİSTESİ'!$B$4:$H$664,2,0)))","v":""},{"$f":"IF(ISERROR(VLOOKUP(J60,'KAYIT LİSTESİ'!$B$4:$H$664,4,0)),\"\",(VLOOKUP(J60,'KAYIT LİSTESİ'!$B$4:$H$664,4,0)))","v":""},{"$f":"IF(ISERROR(VLOOKUP(J60,'KAYIT LİSTESİ'!$B$4:$H$664,5,0)),\"\",(VLOOKUP(J60,'KAYIT LİSTESİ'!$B$4:$H$664,5,0)))","v":""},{"$f":"IF(ISERROR(VLOOKUP(J60,'KAYIT LİSTESİ'!$B$4:$H$664,6,0)),\"\",(VLOOKUP(J60,'KAYIT LİSTESİ'!$B$4:$H$664,6,0)))","v":""}]
["200 METRE",null,null,null,null,null,null,null,27,"DİSK-27",{"$f":"IF(ISERROR(VLOOKUP(J61,'KAYIT LİSTESİ'!$B$4:$H$664,2,0)),\"\",(VLOOKUP(J61,'KAYIT LİSTESİ'!$B$4:$H$664,2,0)))","v":""},{"$f":"IF(ISERROR(VLOOKUP(J61,'KAYIT LİSTESİ'!$B$4:$H$664,4,0)),\"\",(VLOOKUP(J61,'KAYIT LİSTESİ'!$B$4:$H$664,4,0)))","v":""},{"$f":"IF(ISERROR(VLOOKUP(J61,'KAYIT LİSTESİ'!$B$4:$H$664,5,0)),\"\",(VLOOKUP(J61,'KAYIT LİSTESİ'!$B$4:$H$664,5,0)))","v":""},{"$f":"IF(ISERROR(VLOOKUP(J61,'KAYIT LİSTESİ'!$B$4:$H$664,6,0)),\"\",(VLOOKUP(J61,'KAYIT LİSTESİ'!$B$4:$H$664,6,0)))","v":""}]
["1. SERİ",null,null,null,null,null,null,null,28,"DİSK-28",{"$f":"IF(ISERROR(VLOOKUP(J62,'KAYIT LİSTESİ'!$B$4:$H$664,2,0)),\"\",(VLOOKUP(J62,'KAYIT LİSTESİ'!$B$4:$H$664,2,0)))","v":""},{"$f":"IF(ISERROR(VLOOKUP(J62,'KAYIT LİSTESİ'!$B$4:$H$664,4,0)),\"\",(VLOOKUP(J62,'KAYIT LİSTESİ'!$B$4:$H$664,4,0)))","v":""},{"$f":"IF(ISERROR(VLOOKUP(J62,'KAYIT LİSTESİ'!$B$4:$H$664,5,0)),\"\",(VLOOKUP(J62,'KAYIT LİSTESİ'!$B$4:$H$664,5,0)))","v":""},{"$f":"IF(ISERROR(VLOOKUP(J62,'KAYIT LİSTESİ'!$B$4:$H$664,6,0)),\"\",(VLOOKUP(J62,'KAYIT LİSTESİ'!$B$4:$H$664,6,0)))","v":""}]
["Sıra No","Formül","Göğüs No","Doğum Tarihi","Adı ve Soyadı","İli-Okulu","Derece",null,29,"DİSK-29",{"$f":"IF(ISERROR(VLOOKUP(J63,'KAYIT LİSTESİ'!$B$4:$H$664,2,0)),\"\",(VLOOKUP(J63,'KAYIT LİSTESİ'!$B$4:$H$664,2,0)))","v":""},{"$f":"IF(ISERROR(VLOOKUP(J63,'KAYIT LİSTESİ'!$B$4:$H$664,4,0)),\"\",(VLOOKUP(J63,'KAYIT LİSTESİ'!$B$4:$H$664,4,0)))","v":""},{"$f":"IF(ISERROR(VLOOKUP(J63,'KAYIT LİSTESİ'!$B$4:$H$664,5,0)),\"\",(VLOOKUP(J63,'KAYIT LİSTESİ'!$B$4:$H$664,5,0)))","v":""},{"$f":"IF(ISERROR(VLOOKUP(J63,'KAYIT LİSTESİ'!$B$4:$H$664,6,0)),\"\",(VLOOKUP(J63,'KAYIT LİSTESİ'!$B$4:$H$664,6,0)))","v":""}]
[1,"200M-1-1",{"$f":"IF(ISERROR(VLOOKUP(B64,'KAYIT LİSTESİ'!$B$4:$H$664,2,0)),\"\",(VLOOKUP(B64,'KAYIT LİSTESİ'!$B$4:$H$664,2,0)))","v":""},{"$f":"IF(ISERROR(VLOOKUP(B64,'KAYIT LİSTESİ'!$B$4:$H$664,4,0)),\"\",(VLOOKUP(B64,'KAYIT LİSTESİ'!$B$4:$H$664,4,0)))","v":""},{"$f":"IF(ISERROR(VLOOKUP(B64,'KAYIT LİSTESİ'!$B$4:$H$664,5,0)),\"\",(VLOOKUP(B64,'KAYIT LİSTESİ'!$B$4:$H$664,5,0)))","v":""},{"$f":"IF(ISERROR(VLOOKUP(B64,'KAYIT LİSTESİ'!$B$4:$H$664,6,0)),\"\",(VLOOKUP(B64,'KAYIT LİSTESİ'!$B$4:$H$664,6,0)))","v":""},null,null,30,"DİSK-30",{"$f":"IF(ISERROR(VLOOKUP(J64,'KAYIT LİSTESİ'!$B$4:$H$664,2,0)),\"\",(VLOOKUP(J64,'KAYIT LİSTESİ'!$B$4:$H$664,2,0)))","v":""},{"$f":"IF(ISERROR(VLOOKUP(J64,'KAYIT LİSTESİ'!$B$4:$H$664,4,0)),\"\",(VLOOKUP(J64,'KAYIT LİSTESİ'!$B$4:$H$664,4,0)))","v":""},{"$f":"IF(ISERROR(VLOOKUP(J64,'KAYIT LİSTESİ'!$B$4:$H$664,5,0)),\"\",(VLOOKUP(J64,'KAYIT LİSTESİ'!$B$4:$H$664,5,0)))","v":""},{"$f":"IF(ISERROR(VLOOKUP(J64,'KAYIT LİSTESİ'!$B$4:$H$664,6,0)),\"\",(VLOOKUP(J64,'KAYIT LİSTESİ'!$B$4:$H$664,6,0)))","v":""}]
[2,"200M-1-2",{"$f":"IF(ISERROR(VLOOKUP(B65,'KAYIT LİSTESİ'!$B$4:$H$664,2,0)),\"\",(VLOOKUP(B65,'KAYIT LİSTESİ'!$B$4:$H$664,2,0)))","v":624},{"$f":"IF(ISERROR(VLOOKUP(B65,'KAYIT LİSTESİ'!$B$4:$H$664,4,0)),\"\",(VLOOKUP(B65,'KAYIT LİSTESİ'!$B$4:$H$664,4,0)))","v":"1997-03-17"},{"$f":"IF(ISERROR(VLOOKUP(B65,'KAYIT LİSTESİ'!$B$4:$H$664,5,0)),\"\",(VLOOKUP(B65,'KAYIT LİSTESİ'!$B$4:$H$664,5,0)))","v":"BAHAR ILDIRKAYA"},{"$f":"IF(ISERROR(VLOOKUP(B65,'KAYIT LİSTESİ'!$B$4:$H$664,6,0)),\"\",(VLOOKUP(B65,'KAYIT LİSTESİ'!$B$4:$H$664,6,0)))","v":"BURSA"},null,null,31,"DİSK-31",{"$f":"IF(ISERROR(VLOOKUP(J65,'KAYIT LİSTESİ'!$B$4:$H$664,2,0)),\"\",(VLOOKUP(J65,'KAYIT LİSTESİ'!$B$4:$H$664,2,0)))","v":""},{"$f":"IF(ISERROR(VLOOKUP(J65,'KAYIT LİSTESİ'!$B$4:$H$664,4,0)),\"\",(VLOOKUP(J65,'KAYIT LİSTESİ'!$B$4:$H$664,4,0)))","v":""},{"$f":"IF(ISERROR(VLOOKUP(J65,'KAYIT LİSTESİ'!$B$4:$H$664,5,0)),\"\",(VLOOKUP(J65,'KAYIT LİSTESİ'!$B$4:$H$664,5,0)))","v":""},{"$f":"IF(ISERROR(VLOOKUP(J65,'KAYIT LİSTESİ'!$B$4:$H$664,6,0)),\"\",(VLOOKUP(J65,'KAYIT LİSTESİ'!$B$4:$H$664,6,0)))","v":""}]
[3,"200M-1-3",{"$f":"IF(ISERROR(VLOOKUP(B66,'KAYIT LİSTESİ'!$B$4:$H$664,2,0)),\"\",(VLOOKUP(B66,'KAYIT LİSTESİ'!$B$4:$H$664,2,0)))","v":602},{"$f":"IF(ISERROR(VLOOKUP(B66,'KAYIT LİSTESİ'!$B$4:$H$664,4,0)),\"\",(VLOOKUP(B66,'KAYIT LİSTESİ'!$B$4:$H$664,4,0)))","v":"1984-03-28"},{"$f":"IF(ISERROR(VLOOKUP(B66,'KAYIT LİSTESİ'!$B$4:$H$664,5,0)),\"\",(VLOOKUP(B66,'KAYIT LİSTESİ'!$B$4:$H$664,5,0)))","v":"Serpil Koçak"},{"$f":"IF(ISERROR(VLOOKUP(B66,'KAYIT LİSTESİ'!$B$4:$H$664,6,0)),\"\",(VLOOKUP(B66,'KAYIT LİSTESİ'!$B$4:$H$664,6,0)))","v":"istanbul"},null,null,32,"DİSK-32",{"$f":"IF(ISERROR(VLOOKUP(J66,'KAYIT LİSTESİ'!$B$4:$H$664,2,0)),\"\",(VLOOKUP(J66,'KAYIT LİSTESİ'!$B$4:$H$664,2,0)))","v":""},{"$f":"IF(ISERROR(VLOOKUP(J66,'KAYIT LİSTESİ'!$B$4:$H$664,4,0)),\"\",(VLOOKUP(J66,'KAYIT LİSTESİ'!$B$4:$H$664,4,0)))","v":""},{"$f":"IF(ISERROR(VLOOKUP(J66,'KAYIT LİSTESİ'!$B$4:$H$664,5,0)),\"\",(VLOOKUP(J66,'KAYIT LİSTESİ'!$B$4:$H$664,5,0)))","v":""},{"$f":"IF(ISERROR(VLOOKUP(J66,'KAYIT LİSTESİ'!$B$4:$H$664,6,0)),\"\",(VLOOKUP(J66,'KAYIT LİSTESİ'!$B$4:$H$664,6,0)))","v":""}]
[4,"200M-1-4",{"$f":"IF(ISERROR(VLOOKUP(B67,'KAYIT LİSTESİ'!$B$4:$H$664,2,0)),\"\",(VLOOKUP(B67,'KAYIT LİSTESİ'!$B$4:$H$664,2,0)))","v":600},{"$f":"IF(ISERROR(VLOOKUP(B67,'KAYIT LİSTESİ'!$B$4:$H$664,4,0)),\"\",(VLOOKUP(B67,'KAYIT LİSTESİ'!$B$4:$H$664,4,0)))","v":"1987-03-30"},{"$f":"IF(ISERROR(VLOOKUP(B67,'KAYIT LİSTESİ'!$B$4:$H$664,5,0)),\"\",(VLOOKUP(B67,'KAYIT LİSTESİ'!$B$4:$H$664,5,0)))","v":"SİBEL İPEK"},{"$f":"IF(ISERROR(VLOOKUP(B67,'KAYIT LİSTESİ'!$B$4:$H$664,6,0)),\"\",(VLOOKUP(B67,'KAYIT LİSTESİ'!$B$4:$H$664,6,0)))","v":"DİYARBAKIR"},null,null,33,"DİSK-33",{"$f":"IF(ISERROR(VLOOKUP(J67,'KAYIT LİSTESİ'!$B$4:$H$664,2,0)),\"\",(VLOOKUP(J67,'KAYIT LİSTESİ'!$B$4:$H$664,2,0)))","v":""},{"$f":"IF(ISERROR(VLOOKUP(J67,'KAYIT LİSTESİ'!$B$4:$H$664,4,0)),\"\",(VLOOKUP(J67,'KAYIT LİSTESİ'!$B$4:$H$664,4,0)))","v":""},{"$f":"IF(ISERROR(VLOOKUP(J67,'KAYIT LİSTESİ'!$B$4:$H$664,5,0)),\"\",(VLOOKUP(J67,'KAYIT LİSTESİ'!$B$4:$H$664,5,0)))","v":""},{"$f":"IF(ISERROR(VLOOKUP(J67,'KAYIT LİSTESİ'!$B$4:$H$664,6,0)),\"\",(VLOOKUP(J67,'KAYIT LİSTESİ'!$B$4:$H$664,6,0)))","v":""}]
[5,"200M-1-5",{"$f":"IF(ISERROR(VLOOKUP(B68,'KAYIT LİSTESİ'!$B$4:$H$664,2,0)),\"\",(VLOOKUP(B68,'KAYIT LİSTESİ'!$B$4:$H$664,2,0)))","v":615},{"$f":"IF(ISERROR(VLOOKUP(B68,'KAYIT LİSTESİ'!$B$4:$H$664,4,0)),\"\",(VLOOKUP(B68,'KAYIT LİSTESİ'!$B$4:$H$664,4,0)))","v":"1997-01-19"},{"$f":"IF(ISERROR(VLOOKUP(B68,'KAYIT LİSTESİ'!$B$4:$H$664,5,0)),\"\",(VLOOKUP(B68,'KAYIT LİSTESİ'!$B$4:$H$664,5,0)))","v":"SEVNUR ALADAĞ"},{"$f":"IF(ISERROR(VLOOKUP(B68,'KAYIT LİSTESİ'!$B$4:$H$664,6,0)),\"\",(VLOOKUP(B68,'KAYIT LİSTESİ'!$B$4:$H$664,6,0)))","v":"HATAY"},null,null,34,"DİSK-34",{"$f":"IF(ISERROR(VLOOKUP(J68,'KAYIT LİSTESİ'!$B$4:$H$664,2,0)),\"\",(VLOOKUP(J68,'KAYIT LİSTESİ'!$B$4:$H$664,2,0)))","v":""},{"$f":"IF(ISERROR(VLOOKUP(J68,'KAYIT LİSTESİ'!$B$4:$H$664,4,0)),\"\",(VLOOKUP(J68,'KAYIT LİSTESİ'!$B$4:$H$664,4,0)))","v":""},{"$f":"IF(ISERROR(VLOOKUP(J68,'KAYIT LİSTESİ'!$B$4:$H$664,5,0)),\"\",(VLOOKUP(J68,'KAYIT LİSTESİ'!$B$4:$H$664,5,0)))","v":""},{"$f":"IF(ISERROR(VLOOKUP(J68,'KAYIT LİSTESİ'!$B$4:$H$664,6,0)),\"\",(VLOOKUP(J68,'KAYIT LİSTESİ'!$B$4:$H$664,6,0)))","v":""}]
[6,"200M-1-6",{"$f":"IF(ISERROR(VLOOKUP(B69,'KAYIT LİSTESİ'!$B$4:$H$664,2,0)),\"\",(VLOOKUP(B69,'KAYIT LİSTESİ'!$B$4:$H$664,2,0)))","v":611},{"$f":"IF(ISERROR(VLOOKUP(B69,'KAYIT LİSTESİ'!$B$4:$H$664,4,0)),\"\",(VLOOKUP(B69,'KAYIT LİSTESİ'!$B$4:$H$664,4,0)))","v":"1999-08-28"},{"$f":"IF(ISERROR(VLOOKUP(B69,'KAYIT LİSTESİ'!$B$4:$H$664,5,0)),\"\",(VLOOKUP(B69,'KAYIT LİSTESİ'!$B$4:$H$664,5,0)))","v":"AYSEL YILMAZ"},{"$f":"IF(ISERROR(VLOOKUP(B69,'KAYIT LİSTESİ'!$B$4:$H$664,6,0)),\"\",(VLOOKUP(B69,'KAYIT LİSTESİ'!$B$4:$H$664,6,0)))","v":"GAZİANTEP"},null,null,35,"DİSK-35",{"$f":"IF(ISERROR(VLOOKUP(J69,'KAYIT LİSTESİ'!$B$4:$H$664,2,0)),\"\",(VLOOKUP(J69,'KAYIT LİSTESİ'!$B$4:$H$664,2,0)))","v":""},{"$f":"IF(ISERROR(VLOOKUP(J69,'KAYIT LİSTESİ'!$B$4:$H$664,4,0)),\"\",(VLOOKUP(J69,'KAYIT LİSTESİ'!$B$4:$H$664,4,0)))","v":""},{"$f":"IF(ISERROR(VLOOKUP(J69,'KAYIT LİSTESİ'!$B$4:$H$664,5,0)),\"\",(VLOOKUP(J69,'KAYIT LİSTESİ'!$B$4:$H$664,5,0)))","v":""},{"$f":"IF(ISERROR(VLOOKUP(J69,'KAYIT LİSTESİ'!$B$4:$H$664,6,0)),\"\",(VLOOKUP(J69,'KAYIT LİSTESİ'!$B$4:$H$664,6,0)))","v":""}]
[7,"200M-1-7",{"$f":"IF(ISERROR(VLOOKUP(B70,'KAYIT LİSTESİ'!$B$4:$H$664,2,0)),\"\",(VLOOKUP(B70,'KAYIT LİSTESİ'!$B$4:$H$664,2,0)))","v":627},{"$f":"IF(ISERROR(VLOOKUP(B70,'KAYIT LİSTESİ'!$B$4:$H$664,4,0)),\"\",(VLOOKUP(B70,'KAYIT LİSTESİ'!$B$4:$H$664,4,0)))","v":"1999-05-13"},{"$f":"IF(ISERROR(VLOOKUP(B70,'KAYIT LİSTESİ'!$B$4:$H$664,5,0)),\"\",(VLOOKUP(B70,'KAYIT LİSTESİ'!$B$4:$H$664,5,0)))","v":"BERIVAN KAYA"},{"$f":"IF(ISERROR(VLOOKUP(B70,'KAYIT LİSTESİ'!$B$4:$H$664,6,0)),\"\",(VLOOKUP(B70,'KAYIT LİSTESİ'!$B$4:$H$664,6,0)))","v":"AKSARAY"},null,null,36,"DİSK-36",{"$f":"IF(ISERROR(VLOOKUP(J70,'KAYIT LİSTESİ'!$B$4:$H$664,2,0)),\"\",(VLOOKUP(J70,'KAYIT LİSTESİ'!$B$4:$H$664,2,0)))","v":""},{"$f":"IF(ISERROR(VLOOKUP(J70,'KAYIT LİSTESİ'!$B$4:$H$664,4,0)),\"\",(VLOOKUP(J70,'KAYIT LİSTESİ'!$B$4:$H$664,4,0)))","v":""},{"$f":"IF(ISERROR(VLOOKUP(J70,'KAYIT LİSTESİ'!$B$4:$H$664,5,0)),\"\",(VLOOKUP(J70,'KAYIT LİSTESİ'!$B$4:$H$664,5,0)))","v":""},{"$f":"IF(ISERROR(VLOOKUP(J70,'KAYIT LİSTESİ'!$B$4:$H$664,6,0)),\"\",(VLOOKUP(J70,'KAYIT LİSTESİ'!$B$4:$H$664,6,0)))","v":""}]
[8,"200M-1-8",{"$f":"IF(ISERROR(VLOOKUP(B71,'KAYIT LİSTESİ'!$B$4:$H$664,2,0)),\"\",(VLOOKUP(B71,'KAYIT LİSTESİ'!$B$4:$H$664,2,0)))","v":626},{"$f":"IF(ISERROR(VLOOKUP(B71,'KAYIT LİSTESİ'!$B$4:$H$664,4,0)),\"\",(VLOOKUP(B71,'KAYIT LİSTESİ'!$B$4:$H$664,4,0)))","v":"1999-02-02"},{"$f":"IF(ISERROR(VLOOKUP(B71,'KAYIT LİSTESİ'!$B$4:$H$664,5,0)),\"\",(VLOOKUP(B71,'KAYIT LİSTESİ'!$B$4:$H$664,5,0)))","v":"ESRA KARAKAYA"},{"$f":"IF(ISERROR(VLOOKUP(B71,'KAYIT LİSTESİ'!$B$4:$H$664,6,0)),\"\",(VLOOKUP(B71,'KAYIT LİSTESİ'!$B$4:$H$664,6,0)))","v":"AKSARAY"},null,null,37,"DİSK-37",{"$f":"IF(ISERROR(VLOOKUP(J71,'KAYIT LİSTESİ'!$B$4:$H$664,2,0)),\"\",(VLOOKUP(J71,'KAYIT LİSTESİ'!$B$4:$H$664,2,0)))","v":""},{"$f":"IF(ISERROR(VLOOKUP(J71,'KAYIT LİSTESİ'!$B$4:$H$664,4,0)),\"\",(VLOOKUP(J71,'KAYIT LİSTESİ'!$B$4:$H$664,4,0)))","v":""},{"$f":"IF(ISERROR(VLOOKUP(J71,'KAYIT LİSTESİ'!$B$4:$H$664,5,0)),\"\",(VLOOKUP(J71,'KAYIT LİSTESİ'!$B$4:$H$664,5,0)))","v":""},{"$f":"IF(ISERROR(VLOOKUP(J71,'KAYIT LİSTESİ'!$B$4:$H$664,6,0)),\"\",(VLOOKUP(J71,'KAYIT LİSTESİ'!$B$4:$H$664,6,0)))","v":""}]
["2. SERİ",null,null,null,null,null,null,null,38,"DİSK-38",{"$f":"IF(ISERROR(VLOOKUP(J72,'KAYIT LİSTESİ'!$B$4:$H$664,2,0)),\"\",(VLOOKUP(J72,'KAYIT LİSTESİ'!$B$4:$H$664,2,0)))","v":""},{"$f":"IF(ISERROR(VLOOKUP(J72,'KAYIT LİSTESİ'!$B$4:$H$664,4,0)),\"\",(VLOOKUP(J72,'KAYIT LİSTESİ'!$B$4:$H$664,4,0)))","v":""},{"$f":"IF(ISERROR(VLOOKUP(J72,'KAYIT LİSTESİ'!$B$4:$H$664,5,0)),\"\",(VLOOKUP(J72,'KAYIT LİSTESİ'!$B$4:$H$664,5,0)))","v":""},{"$f":"IF(ISERROR(VLOOKUP(J72,'KAYIT LİSTESİ'!$B$4:$H$664,6,0)),\"\",(VLOOKUP(J72,'KAYIT LİSTESİ'!$B$4:$H$664,6,0)))","v":""}]
["Sıra No","Formül","Göğüs No","Doğum Tarihi","Adı ve Soyadı","İli-Okulu","Derece",null,39,"DİSK-39",{"$f":"IF(ISERROR(VLOOKUP(J73,'KAYIT LİSTESİ'!$B$4:$H$664,2,0)),\"\",(VLOOKUP(J73,'KAYIT LİSTESİ'!$B$4:$H$664,2,0)))","v":""},{"$f":"IF(ISERROR(VLOOKUP(J73,'KAYIT LİSTESİ'!$B$4:$H$664,4,0)),\"\",(VLOOKUP(J73,'KAYIT LİSTESİ'!$B$4:$H$664,4,0)))","v":""},{"$f":"IF(ISERROR(VLOOKUP(J73,'KAYIT LİSTESİ'!$B$4:$H$664,5,0)),\"\",(VLOOKUP(J73,'KAYIT LİSTESİ'!$B$4:$H$664,5,0)))","v":""},{"$f":"IF(ISERROR(VLOOKUP(J73,'KAYIT LİSTESİ'!$B$4:$H$664,6,0)),\"\",(VLOOKUP(J73,'KAYIT LİSTESİ'!$B$4:$H$664,6,0)))","v":""}]
[1,"200M-2-1",{"$f":"IF(ISERROR(VLOOKUP(B74,'KAYIT LİSTESİ'!$B$4:$H$664,2,0)),\"\",(VLOOKUP(B74,'KAYIT LİSTESİ'!$B$4:$H$664,2,0)))","v":""},{"$f":"IF(ISERROR(VLOOKUP(B74,'KAYIT LİSTESİ'!$B$4:$H$664,4,0)),\"\",(VLOOKUP(B74,'KAYIT LİSTESİ'!$B$4:$H$664,4,0)))","v":""},{"$f":"IF(ISERROR(VLOOKUP(B74,'KAYIT LİSTESİ'!$B$4:$H$664,5,0)),\"\",(VLOOKUP(B74,'KAYIT LİSTESİ'!$B$4:$H$664,5,0)))","v":""},{"$f":"IF(ISERROR(VLOOKUP(B74,'KAYIT LİSTESİ'!$B$4:$H$664,6,0)),\"\",(VLOOKUP(B74,'KAYIT LİSTESİ'!$B$4:$H$664,6,0)))","v":""},null,null,40,"DİSK-40",{"$f":"IF(ISERROR(VLOOKUP(J74,'KAYIT LİSTESİ'!$B$4:$H$664,2,0)),\"\",(VLOOKUP(J74,'KAYIT LİSTESİ'!$B$4:$H$664,2,0)))","v":""},{"$f":"IF(ISERROR(VLOOKUP(J74,'KAYIT LİSTESİ'!$B$4:$H$664,4,0)),\"\",(VLOOKUP(J74,'KAYIT LİSTESİ'!$B$4:$H$664,4,0)))","v":""},{"$f":"IF(ISERROR(VLOOKUP(J74,'KAYIT LİSTESİ'!$B$4:$H$664,5,0)),\"\",(VLOOKUP(J74,'KAYIT LİSTESİ'!$B$4:$H$664,5,0)))","v":""},{"$f":"IF(ISERROR(VLOOKUP(J74,'KAYIT LİSTESİ'!$B$4:$H$664,6,0)),\"\",(VLOOKUP(J74,'KAYIT LİSTESİ'!$B$4:$H$664,6,0)))","v":""}]
[2,"200M-2-2",{"$f":"IF(ISERROR(VLOOKUP(B75,'KAYIT LİSTESİ'!$B$4:$H$664,2,0)),\"\",(VLOOKUP(B75,'KAYIT LİSTESİ'!$B$4:$H$664,2,0)))","v":""},{"$f":"IF(ISERROR(VLOOKUP(B75,'KAYIT LİSTESİ'!$B$4:$H$664,4,0)),\"\",(VLOOKUP(B75,'KAYIT LİSTESİ'!$B$4:$H$664,4,0)))","v":""},{"$f":"IF(ISERROR(VLOOKUP(B75,'KAYIT LİSTESİ'!$B$4:$H$664,5,0)),\"\",(VLOOKUP(B75,'KAYIT LİSTESİ'!$B$4:$H$664,5,0)))","v":""},{"$f":"IF(ISERROR(VLOOKUP(B75,'KAYIT LİSTESİ'!$B$4:$H$664,6,0)),\"\",(VLOOKUP(B75,'KAYIT LİSTESİ'!$B$4:$H$664,6,0)))","v":""},null,null,"CİRİT ATMA"]
[3,"200M-2-3",{"$f":"IF(ISERROR(VLOOKUP(B76,'KAYIT LİSTESİ'!$B$4:$H$664,2,0)),\"\",(VLOOKUP(B76,'KAYIT LİSTESİ'!$B$4:$H$664,2,0)))","v":""},{"$f":"IF(ISERROR(VLOOKUP(B76,'KAYIT LİSTESİ'!$B$4:$H$664,4,0)),\"\",(VLOOKUP(B76,'KAYIT LİSTESİ'!$B$4:$H$664,4,0)))","v":""},{"$f":"IF(ISERROR(VLOOKUP(B76,'KAYIT LİSTESİ'!$B$4:$H$664,5,0)),\"\",(VLOOKUP(B76,'KAYIT LİSTESİ'!$B$4:$H$664,5,0)))","v":""},{"$f":"IF(ISERROR(VLOOKUP(B76,'KAYIT LİSTESİ'!$B$4:$H$664,6,0)),\"\",(VLOOKUP(B76,'KAYIT LİSTESİ'!$B$4:$H$664,6,0)))","v":""},null,null,"SIRA NO",null,"GÖĞÜS NO","DOĞUM TARİHİ","ADI VE SOYADI","İli-Okulu","START KONTROL"]
[4,"200M-2-4",{"$f":"IF(ISERROR(VLOOKUP(B77,'KAYIT LİSTESİ'!$B$4:$H$664,2,0)),\"\",(VLOOKUP(B77,'KAYIT LİSTESİ'!$B$4:$H$664,2,0)))","v":""},{"$f":"IF(ISERROR(VLOOKUP(B77,'KAYIT LİSTESİ'!$B$4:$H$664,4,0)),\"\",(VLOOKUP(B77,'KAYIT LİSTESİ'!$B$4:$H$664,4,0)))","v":""},{"$f":"IF(ISERROR(VLOOKUP(B77,'KAYIT LİSTESİ'!$B$4:$H$664,5,0)),\"\",(VLOOKUP(B77,'KAYIT LİSTESİ'!$B$4:$H$664,5,0)))","v":""},{"$f":"IF(ISERROR(VLOOKUP(B77,'KAYIT LİSTESİ'!$B$4:$H$664,6,0)),\"\",(VLOOKUP(B77,'KAYIT LİSTESİ'!$B$4:$H$664,6,0)))","v":""},null,null,1,"CİRİT-1",{"$f":"IF(ISERROR(VLOOKUP(J77,'KAYIT LİSTESİ'!$B$4:$H$664,2,0)),\"\",(VLOOKUP(J77,'KAYIT LİSTESİ'!$B$4:$H$664,2,0)))","v":608},{"$f":"IF(ISERROR(VLOOKUP(J77,'KAYIT LİSTESİ'!$B$4:$H$664,4,0)),\"\",(VLOOKUP(J77,'KAYIT LİSTESİ'!$B$4:$H$664,4,0)))","v":"1998-04-03"},{"$f":"IF(ISERROR(VLOOKUP(J77,'KAYIT LİSTESİ'!$B$4:$H$664,5,0)),\"\",(VLOOKUP(J77,'KAYIT LİSTESİ'!$B$4:$H$664,5,0)))","v":"RABİA KARAMAN"},{"$f":"IF(ISERROR(VLOOKUP(J77,'KAYIT LİSTESİ'!$B$4:$H$664,6,0)),\"\",(VLOOKUP(J77,'KAYIT LİSTESİ'!$B$4:$H$664,6,0)))","v":"MERSİN"}]
[5,"200M-2-5",{"$f":"IF(ISERROR(VLOOKUP(B78,'KAYIT LİSTESİ'!$B$4:$H$664,2,0)),\"\",(VLOOKUP(B78,'KAYIT LİSTESİ'!$B$4:$H$664,2,0)))","v":""},{"$f":"IF(ISERROR(VLOOKUP(B78,'KAYIT LİSTESİ'!$B$4:$H$664,4,0)),\"\",(VLOOKUP(B78,'KAYIT LİSTESİ'!$B$4:$H$664,4,0)))","v":""},{"$f":"IF(ISERROR(VLOOKUP(B78,'KAYIT LİSTESİ'!$B$4:$H$664,5,0)),\"\",(VLOOKUP(B78,'KAYIT LİSTESİ'!$B$4:$H$664,5,0)))","v":""},{"$f":"IF(ISERROR(VLOOKUP(B78,'KAYIT LİSTESİ'!$B$4:$H$664,6,0)),\"\",(VLOOKUP(B78,'KAYIT LİSTESİ'!$B$4:$H$664,6,0)))","v":""},null,null,2,"CİRİT-2",{"$f":"IF(ISERROR(VLOOKUP(J78,'KAYIT LİSTESİ'!$B$4:$H$664,2,0)),\"\",(VLOOKUP(J78,'KAYIT LİSTESİ'!$B$4:$H$664,2,0)))","v":606},{"$f":"IF(ISERROR(VLOOKUP(J78,'KAYIT LİSTESİ'!$B$4:$H$664,4,0)),\"\",(VLOOKUP(J78,'KAYIT LİSTESİ'!$B$4:$H$664,4,0)))","v":"1998-08-05"},{"$f":"IF(ISERROR(VLOOKUP(J78,'KAYIT LİSTESİ'!$B$4:$H$664,5,0)),\"\",(VLOOKUP(J78,'KAYIT LİSTESİ'!$B$4:$H$664,5,0)))","v":"AYŞE SU KAŞ"},{"$f":"IF(ISERROR(VLOOKUP(J78,'KAYIT LİSTESİ'!$B$4:$H$664,6,0)),\"\",(VLOOKUP(J78,'KAYIT LİSTESİ'!$B$4:$H$664,6,0)))","v":"MERSİN"}]
[6,"200M-2-6",{"$f":"IF(ISERROR(VLOOKUP(B79,'KAYIT LİSTESİ'!$B$4:$H$664,2,0)),\"\",(VLOOKUP(B79,'KAYIT LİSTESİ'!$B$4:$H$664,2,0)))","v":""},{"$f":"IF(ISERROR(VLOOKUP(B79,'KAYIT LİSTESİ'!$B$4:$H$664,4,0)),\"\",(VLOOKUP(B79,'KAYIT LİSTESİ'!$B$4:$H$664,4,0)))","v":""},{"$f":"IF(ISERROR(VLOOKUP(B79,'KAYIT LİSTESİ'!$B$4:$H$664,5,0)),\"\",(VLOOKUP(B79,'KAYIT LİSTESİ'!$B$4:$H$664,5,0)))","v":""},{"$f":"IF(ISERROR(VLOOKUP(B79,'KAYIT LİSTESİ'!$B$4:$H$664,6,0)),\"\",(VLOOKUP(B79,'KAYIT LİSTESİ'!$B$4:$H$664,6,0)))","v":""},null,null,3,"CİRİT-3",{"$f":"IF(ISERROR(VLOOKUP(J79,'KAYIT LİSTESİ'!$B$4:$H$664,2,0)),\"\",(VLOOKUP(J79,'KAYIT LİSTESİ'!$B$4:$H$664,2,0)))","v":605},{"$f":"IF(ISERROR(VLOOKUP(J79,'KAYIT LİSTESİ'!$B$4:$H$664,4,0)),\"\",(VLOOKUP(J79,'KAYIT LİSTESİ'!$B$4:$H$664,4,0)))","v":"1993-09-22"},{"$f":"IF(ISERROR(VLOOKUP(J79,'KAYIT LİSTESİ'!$B$4:$H$664,5,0)),\"\",(VLOOKUP(J79,'KAYIT LİSTESİ'!$B$4:$H$664,5,0)))","v":"BERİVAN ŞAKIR"},{"$f":"IF(ISERROR(VLOOKUP(J79,'KAYIT LİSTESİ'!$B$4:$H$664,6,0)),\"\",(VLOOKUP(J79,'KAYIT LİSTESİ'!$B$4:$H$664,6,0)))","v":"MERSİN"}]
[7,"200M-2-7",{"$f":"IF(ISERROR(VLOOKUP(B80,'KAYIT LİSTESİ'!$B$4:$H$664,2,0)),\"\",(VLOOKUP(B80,'KAYIT LİSTESİ'!$B$4:$H$664,2,0)))","v":""},{"$f":"IF(ISERROR(VLOOKUP(B80,'KAYIT LİSTESİ'!$B$4:$H$664,4,0)),\"\",(VLOOKUP(B80,'KAYIT LİSTESİ'!$B$4:$H$664,4,0)))","v":""},{"$f":"IF(ISERROR(VLOOKUP(B80,'KAYIT LİSTESİ'!$B$4:$H$664,5,0)),\"\",(VLOOKUP(B80,'KAYIT LİSTESİ'!$B$4:$H$664,5,0)))","v":""},{"$f":"IF(ISERROR(VLOOKUP(B80,'KAYIT LİSTESİ'!$B$4:$H$664,6,0)),\"\",(VLOOKUP(B80,'KAYIT LİSTESİ'!$B$4:$H$664,6,0)))","v":""},null,null,4,"CİRİT-4",{"$f":"IF(ISERROR(VLOOKUP(J80,'KAYIT LİSTESİ'!$B$4:$H$664,2,0)),\"\",(VLOOKUP(J80,'KAYIT LİSTESİ'!$B$4:$H$664,2,0)))","v":619},{"$f":"IF(ISERROR(VLOOKUP(J80,'KAYIT LİSTESİ'!$B$4:$H$664,4,0)),\"\",(VLOOKUP(J80,'KAYIT LİSTESİ'!$B$4:$H$664,4,0)))","v":"1997-03-27"},{"$f":"IF(ISERROR(VLOOKUP(J80,'KAYIT LİSTESİ'!$B$4:$H$664,5,0)),\"\",(VLOOKUP(J80,'KAYIT LİSTESİ'!$B$4:$H$664,5,0)))","v":"  Eda TUĞSUZ"},{"$f":"IF(ISERROR(VLOOKUP(J80,'KAYIT LİSTESİ'!$B$4:$H$664,6,0)),\"\",(VLOOKUP(J80,'KAYIT LİSTESİ'!$B$4:$H$664,6,0)))","v":"ANTALYA"}]
[8,"200M-2-8",{"$f":"IF(ISERROR(VLOOKUP(B81,'KAYIT LİSTESİ'!$B$4:$H$664,2,0)),\"\",(VLOOKUP(B81,'KAYIT LİSTESİ'!$B$4:$H$664,2,0)))","v":""},{"$f":"IF(ISERROR(VLOOKUP(B81,'KAYIT LİSTESİ'!$B$4:$H$664,4,0)),\"\",(VLOOKUP(B81,'KAYIT LİSTESİ'!$B$4:$H$664,4,0)))","v":""},{"$f":"IF(ISERROR(VLOOKUP(B81,'KAYIT LİSTESİ'!$B$4:$H$664,5,0)),\"\",(VLOOKUP(B81,'KAYIT LİSTESİ'!$B$4:$H$664,5,0)))","v":""},{"$f":"IF(ISERROR(VLOOKUP(B81,'KAYIT LİSTESİ'!$B$4:$H$664,6,0)),\"\",(VLOOKUP(B81,'KAYIT LİSTESİ'!$B$4:$H$664,6,0)))","v":""},null,null,5,"CİRİT-5",{"$f":"IF(ISERROR(VLOOKUP(J81,'KAYIT LİSTESİ'!$B$4:$H$664,2,0)),\"\",(VLOOKUP(J81,'KAYIT LİSTESİ'!$B$4:$H$664,2,0)))","v":""},{"$f":"IF(ISERROR(VLOOKUP(J81,'KAYIT LİSTESİ'!$B$4:$H$664,4,0)),\"\",(VLOOKUP(J81,'KAYIT LİSTESİ'!$B$4:$H$664,4,0)))","v":""},{"$f":"IF(ISERROR(VLOOKUP(J81,'KAYIT LİSTESİ'!$B$4:$H$664,5,0)),\"\",(VLOOKUP(J81,'KAYIT LİSTESİ'!$B$4:$H$664,5,0)))","v":""},{"$f":"IF(ISERROR(VLOOKUP(J81,'KAYIT LİSTESİ'!$B$4:$H$664,6,0)),\"\",(VLOOKUP(J81,'KAYIT LİSTESİ'!$B$4:$H$664,6,0)))","v":""}]
["3. SERİ",null,null,null,null,null,null,null,6,"CİRİT-6",{"$f":"IF(ISERROR(VLOOKUP(J82,'KAYIT LİSTESİ'!$B$4:$H$664,2,0)),\"\",(VLOOKUP(J82,'KAYIT LİSTESİ'!$B$4:$H$664,2,0)))","v":""},{"$f":"IF(ISERROR(VLOOKUP(J82,'KAYIT LİSTESİ'!$B$4:$H$664,4,0)),\"\",(VLOOKUP(J82,'KAYIT LİSTESİ'!$B$4:$H$664,4,0)))","v":""},{"$f":"IF(ISERROR(VLOOKUP(J82,'KAYIT LİSTESİ'!$B$4:$H$664,5,0)),\"\",(VLOOKUP(J82,'KAYIT LİSTESİ'!$B$4:$H$664,5,0)))","v":""},{"$f":"IF(ISERROR(VLOOKUP(J82,'KAYIT LİSTESİ'!$B$4:$H$664,6,0)),\"\",(VLOOKUP(J82,'KAYIT LİSTESİ'!$B$4:$H$664,6,0)))","v":""}]
["Sıra No","Formül","Göğüs No","Doğum Tarihi","Adı ve Soyadı","İli-Okulu","Derece",null,7,"CİRİT-7",{"$f":"IF(ISERROR(VLOOKUP(J83,'KAYIT LİSTESİ'!$B$4:$H$664,2,0)),\"\",(VLOOKUP(J83,'KAYIT LİSTESİ'!$B$4:$H$664,2,0)))","v":""},{"$f":"IF(ISERROR(VLOOKUP(J83,'KAYIT LİSTESİ'!$B$4:$H$664,4,0)),\"\",(VLOOKUP(J83,'KAYIT LİSTESİ'!$B$4:$H$664,4,0)))","v":""},{"$f":"IF(ISERROR(VLOOKUP(J83,'KAYIT LİSTESİ'!$B$4:$H$664,5,0)),\"\",(VLOOKUP(J83,'KAYIT LİSTESİ'!$B$4:$H$664,5,0)))","v":""},{"$f":"IF(ISERROR(VLOOKUP(J83,'KAYIT LİSTESİ'!$B$4:$H$664,6,0)),\"\",(VLOOKUP(J83,'KAYIT LİSTESİ'!$B$4:$H$664,6,0)))","v":""}]
[1,"200M-3-1",{"$f":"IF(ISERROR(VLOOKUP(B84,'KAYIT LİSTESİ'!$B$4:$H$664,2,0)),\"\",(VLOOKUP(B84,'KAYIT LİSTESİ'!$B$4:$H$664,2,0)))","v":""},{"$f":"IF(ISERROR(VLOOKUP(B84,'KAYIT LİSTESİ'!$B$4:$H$664,4,0)),\"\",(VLOOKUP(B84,'KAYIT LİSTESİ'!$B$4:$H$664,4,0)))","v":""},{"$f":"IF(ISERROR(VLOOKUP(B84,'KAYIT LİSTESİ'!$B$4:$H$664,5,0)),\"\",(VLOOKUP(B84,'KAYIT LİSTESİ'!$B$4:$H$664,5,0)))","v":""},{"$f":"IF(ISERROR(VLOOKUP(B84,'KAYIT LİSTESİ'!$B$4:$H$664,6,0)),\"\",(VLOOKUP(B84,'KAYIT LİSTESİ'!$B$4:$H$664,6,0)))","v":""},null,null,8,"CİRİT-8",{"$f":"IF(ISERROR(VLOOKUP(J84,'KAYIT LİSTESİ'!$B$4:$H$664,2,0)),\"\",(VLOOKUP(J84,'KAYIT LİSTESİ'!$B$4:$H$664,2,0)))","v":""},{"$f":"IF(ISERROR(VLOOKUP(J84,'KAYIT LİSTESİ'!$B$4:$H$664,4,0)),\"\",(VLOOKUP(J84,'KAYIT LİSTESİ'!$B$4:$H$664,4,0)))","v":""},{"$f":"IF(ISERROR(VLOOKUP(J84,'KAYIT LİSTESİ'!$B$4:$H$664,5,0)),\"\",(VLOOKUP(J84,'KAYIT LİSTESİ'!$B$4:$H$664,5,0)))","v":""},{"$f":"IF(ISERROR(VLOOKUP(J84,'KAYIT LİSTESİ'!$B$4:$H$664,6,0)),\"\",(VLOOKUP(J84,'KAYIT LİSTESİ'!$B$4:$H$664,6,0)))","v":""}]
[2,"200M-3-2",{"$f":"IF(ISERROR(VLOOKUP(B85,'KAYIT LİSTESİ'!$B$4:$H$664,2,0)),\"\",(VLOOKUP(B85,'KAYIT LİSTESİ'!$B$4:$H$664,2,0)))","v":""},{"$f":"IF(ISERROR(VLOOKUP(B85,'KAYIT LİSTESİ'!$B$4:$H$664,4,0)),\"\",(VLOOKUP(B85,'KAYIT LİSTESİ'!$B$4:$H$664,4,0)))","v":""},{"$f":"IF(ISERROR(VLOOKUP(B85,'KAYIT LİSTESİ'!$B$4:$H$664,5,0)),\"\",(VLOOKUP(B85,'KAYIT LİSTESİ'!$B$4:$H$664,5,0)))","v":""},{"$f":"IF(ISERROR(VLOOKUP(B85,'KAYIT LİSTESİ'!$B$4:$H$664,6,0)),\"\",(VLOOKUP(B85,'KAYIT LİSTESİ'!$B$4:$H$664,6,0)))","v":""},null,null,9,"CİRİT-9",{"$f":"IF(ISERROR(VLOOKUP(J85,'KAYIT LİSTESİ'!$B$4:$H$664,2,0)),\"\",(VLOOKUP(J85,'KAYIT LİSTESİ'!$B$4:$H$664,2,0)))","v":""},{"$f":"IF(ISERROR(VLOOKUP(J85,'KAYIT LİSTESİ'!$B$4:$H$664,4,0)),\"\",(VLOOKUP(J85,'KAYIT LİSTESİ'!$B$4:$H$664,4,0)))","v":""},{"$f":"IF(ISERROR(VLOOKUP(J85,'KAYIT LİSTESİ'!$B$4:$H$664,5,0)),\"\",(VLOOKUP(J85,'KAYIT LİSTESİ'!$B$4:$H$664,5,0)))","v":""},{"$f":"IF(ISERROR(VLOOKUP(J85,'KAYIT LİSTESİ'!$B$4:$H$664,6,0)),\"\",(VLOOKUP(J85,'KAYIT LİSTESİ'!$B$4:$H$664,6,0)))","v":""}]
[3,"200M-3-3",{"$f":"IF(ISERROR(VLOOKUP(B86,'KAYIT LİSTESİ'!$B$4:$H$664,2,0)),\"\",(VLOOKUP(B86,'KAYIT LİSTESİ'!$B$4:$H$664,2,0)))","v":""},{"$f":"IF(ISERROR(VLOOKUP(B86,'KAYIT LİSTESİ'!$B$4:$H$664,4,0)),\"\",(VLOOKUP(B86,'KAYIT LİSTESİ'!$B$4:$H$664,4,0)))","v":""},{"$f":"IF(ISERROR(VLOOKUP(B86,'KAYIT LİSTESİ'!$B$4:$H$664,5,0)),\"\",(VLOOKUP(B86,'KAYIT LİSTESİ'!$B$4:$H$664,5,0)))","v":""},{"$f":"IF(ISERROR(VLOOKUP(B86,'KAYIT LİSTESİ'!$B$4:$H$664,6,0)),\"\",(VLOOKUP(B86,'KAYIT LİSTESİ'!$B$4:$H$664,6,0)))","v":""},null,null,10,"CİRİT-10",{"$f":"IF(ISERROR(VLOOKUP(J86,'KAYIT LİSTESİ'!$B$4:$H$664,2,0)),\"\",(VLOOKUP(J86,'KAYIT LİSTESİ'!$B$4:$H$664,2,0)))","v":""},{"$f":"IF(ISERROR(VLOOKUP(J86,'KAYIT LİSTESİ'!$B$4:$H$664,4,0)),\"\",(VLOOKUP(J86,'KAYIT LİSTESİ'!$B$4:$H$664,4,0)))","v":""},{"$f":"IF(ISERROR(VLOOKUP(J86,'KAYIT LİSTESİ'!$B$4:$H$664,5,0)),\"\",(VLOOKUP(J86,'KAYIT LİSTESİ'!$B$4:$H$664,5,0)))","v":""},{"$f":"IF(ISERROR(VLOOKUP(J86,'KAYIT LİSTESİ'!$B$4:$H$664,6,0)),\"\",(VLOOKUP(J86,'KAYIT LİSTESİ'!$B$4:$H$664,6,0)))","v":""}]
[4,"200M-3-4",{"$f":"IF(ISERROR(VLOOKUP(B87,'KAYIT LİSTESİ'!$B$4:$H$664,2,0)),\"\",(VLOOKUP(B87,'KAYIT LİSTESİ'!$B$4:$H$664,2,0)))","v":""},{"$f":"IF(ISERROR(VLOOKUP(B87,'KAYIT LİSTESİ'!$B$4:$H$664,4,0)),\"\",(VLOOKUP(B87,'KAYIT LİSTESİ'!$B$4:$H$664,4,0)))","v":""},{"$f":"IF(ISERROR(VLOOKUP(B87,'KAYIT LİSTESİ'!$B$4:$H$664,5,0)),\"\",(VLOOKUP(B87,'KAYIT LİSTESİ'!$B$4:$H$664,5,0)))","v":""},{"$f":"IF(ISERROR(VLOOKUP(B87,'KAYIT LİSTESİ'!$B$4:$H$664,6,0)),\"\",(VLOOKUP(B87,'KAYIT LİSTESİ'!$B$4:$H$664,6,0)))","v":""},null,null,11,"CİRİT-11",{"$f":"IF(ISERROR(VLOOKUP(J87,'KAYIT LİSTESİ'!$B$4:$H$664,2,0)),\"\",(VLOOKUP(J87,'KAYIT LİSTESİ'!$B$4:$H$664,2,0)))","v":""},{"$f":"IF(ISERROR(VLOOKUP(J87,'KAYIT LİSTESİ'!$B$4:$H$664,4,0)),\"\",(VLOOKUP(J87,'KAYIT LİSTESİ'!$B$4:$H$664,4,0)))","v":""},{"$f":"IF(ISERROR(VLOOKUP(J87,'KAYIT LİSTESİ'!$B$4:$H$664,5,0)),\"\",(VLOOKUP(J87,'KAYIT LİSTESİ'!$B$4:$H$664,5,0)))","v":""},{"$f":"IF(ISERROR(VLOOKUP(J87,'KAYIT LİSTESİ'!$B$4:$H$664,6,0)),\"\",(VLOOKUP(J87,'KAYIT LİSTESİ'!$B$4:$H$664,6,0)))","v":""}]
[5,"200M-3-5",{"$f":"IF(ISERROR(VLOOKUP(B88,'KAYIT LİSTESİ'!$B$4:$H$664,2,0)),\"\",(VLOOKUP(B88,'KAYIT LİSTESİ'!$B$4:$H$664,2,0)))","v":""},{"$f":"IF(ISERROR(VLOOKUP(B88,'KAYIT LİSTESİ'!$B$4:$H$664,4,0)),\"\",(VLOOKUP(B88,'KAYIT LİSTESİ'!$B$4:$H$664,4,0)))","v":""},{"$f":"IF(ISERROR(VLOOKUP(B88,'KAYIT LİSTESİ'!$B$4:$H$664,5,0)),\"\",(VLOOKUP(B88,'KAYIT LİSTESİ'!$B$4:$H$664,5,0)))","v":""},{"$f":"IF(ISERROR(VLOOKUP(B88,'KAYIT LİSTESİ'!$B$4:$H$664,6,0)),\"\",(VLOOKUP(B88,'KAYIT LİSTESİ'!$B$4:$H$664,6,0)))","v":""},null,null,12,"CİRİT-12",{"$f":"IF(ISERROR(VLOOKUP(J88,'KAYIT LİSTESİ'!$B$4:$H$664,2,0)),\"\",(VLOOKUP(J88,'KAYIT LİSTESİ'!$B$4:$H$664,2,0)))","v":""},{"$f":"IF(ISERROR(VLOOKUP(J88,'KAYIT LİSTESİ'!$B$4:$H$664,4,0)),\"\",(VLOOKUP(J88,'KAYIT LİSTESİ'!$B$4:$H$664,4,0)))","v":""},{"$f":"IF(ISERROR(VLOOKUP(J88,'KAYIT LİSTESİ'!$B$4:$H$664,5,0)),\"\",(VLOOKUP(J88,'KAYIT LİSTESİ'!$B$4:$H$664,5,0)))","v":""},{"$f":"IF(ISERROR(VLOOKUP(J88,'KAYIT LİSTESİ'!$B$4:$H$664,6,0)),\"\",(VLOOKUP(J88,'KAYIT LİSTESİ'!$B$4:$H$664,6,0)))","v":""}]
[6,"200M-3-6",{"$f":"IF(ISERROR(VLOOKUP(B89,'KAYIT LİSTESİ'!$B$4:$H$664,2,0)),\"\",(VLOOKUP(B89,'KAYIT LİSTESİ'!$B$4:$H$664,2,0)))","v":""},{"$f":"IF(ISERROR(VLOOKUP(B89,'KAYIT LİSTESİ'!$B$4:$H$664,4,0)),\"\",(VLOOKUP(B89,'KAYIT LİSTESİ'!$B$4:$H$664,4,0)))","v":""},{"$f":"IF(ISERROR(VLOOKUP(B89,'KAYIT LİSTESİ'!$B$4:$H$664,5,0)),\"\",(VLOOKUP(B89,'KAYIT LİSTESİ'!$B$4:$H$664,5,0)))","v":""},{"$f":"IF(ISERROR(VLOOKUP(B89,'KAYIT LİSTESİ'!$B$4:$H$664,6,0)),\"\",(VLOOKUP(B89,'KAYIT LİSTESİ'!$B$4:$H$664,6,0)))","v":""},null,null,13,"CİRİT-13",{"$f":"IF(ISERROR(VLOOKUP(J89,'KAYIT LİSTESİ'!$B$4:$H$664,2,0)),\"\",(VLOOKUP(J89,'KAYIT LİSTESİ'!$B$4:$H$664,2,0)))","v":""},{"$f":"IF(ISERROR(VLOOKUP(J89,'KAYIT LİSTESİ'!$B$4:$H$664,4,0)),\"\",(VLOOKUP(J89,'KAYIT LİSTESİ'!$B$4:$H$664,4,0)))","v":""},{"$f":"IF(ISERROR(VLOOKUP(J89,'KAYIT LİSTESİ'!$B$4:$H$664,5,0)),\"\",(VLOOKUP(J89,'KAYIT LİSTESİ'!$B$4:$H$664,5,0)))","v":""},{"$f":"IF(ISERROR(VLOOKUP(J89,'KAYIT LİSTESİ'!$B$4:$H$664,6,0)),\"\",(VLOOKUP(J89,'KAYIT LİSTESİ'!$B$4:$H$664,6,0)))","v":""}]
[7,"200M-3-7",{"$f":"IF(ISERROR(VLOOKUP(B90,'KAYIT LİSTESİ'!$B$4:$H$664,2,0)),\"\",(VLOOKUP(B90,'KAYIT LİSTESİ'!$B$4:$H$664,2,0)))","v":""},{"$f":"IF(ISERROR(VLOOKUP(B90,'KAYIT LİSTESİ'!$B$4:$H$664,4,0)),\"\",(VLOOKUP(B90,'KAYIT LİSTESİ'!$B$4:$H$664,4,0)))","v":""},{"$f":"IF(ISERROR(VLOOKUP(B90,'KAYIT LİSTESİ'!$B$4:$H$664,5,0)),\"\",(VLOOKUP(B90,'KAYIT LİSTESİ'!$B$4:$H$664,5,0)))","v":""},{"$f":"IF(ISERROR(VLOOKUP(B90,'KAYIT LİSTESİ'!$B$4:$H$664,6,0)),\"\",(VLOOKUP(B90,'KAYIT LİSTESİ'!$B$4:$H$664,6,0)))","v":""},null,null,14,"CİRİT-14",{"$f":"IF(ISERROR(VLOOKUP(J90,'KAYIT LİSTESİ'!$B$4:$H$664,2,0)),\"\",(VLOOKUP(J90,'KAYIT LİSTESİ'!$B$4:$H$664,2,0)))","v":""},{"$f":"IF(ISERROR(VLOOKUP(J90,'KAYIT LİSTESİ'!$B$4:$H$664,4,0)),\"\",(VLOOKUP(J90,'KAYIT LİSTESİ'!$B$4:$H$664,4,0)))","v":""},{"$f":"IF(ISERROR(VLOOKUP(J90,'KAYIT LİSTESİ'!$B$4:$H$664,5,0)),\"\",(VLOOKUP(J90,'KAYIT LİSTESİ'!$B$4:$H$664,5,0)))","v":""},{"$f":"IF(ISERROR(VLOOKUP(J90,'KAYIT LİSTESİ'!$B$4:$H$664,6,0)),\"\",(VLOOKUP(J90,'KAYIT LİSTESİ'!$B$4:$H$664,6,0)))","v":""}]
[8,"200M-3-8",{"$f":"IF(ISERROR(VLOOKUP(B91,'KAYIT LİSTESİ'!$B$4:$H$664,2,0)),\"\",(VLOOKUP(B91,'KAYIT LİSTESİ'!$B$4:$H$664,2,0)))","v":""},{"$f":"IF(ISERROR(VLOOKUP(B91,'KAYIT LİSTESİ'!$B$4:$H$664,4,0)),\"\",(VLOOKUP(B91,'KAYIT LİSTESİ'!$B$4:$H$664,4,0)))","v":""},{"$f":"IF(ISERROR(VLOOKUP(B91,'KAYIT LİSTESİ'!$B$4:$H$664,5,0)),\"\",(VLOOKUP(B91,'KAYIT LİSTESİ'!$B$4:$H$664,5,0)))","v":""},{"$f":"IF(ISERROR(VLOOKUP(B91,'KAYIT LİSTESİ'!$B$4:$H$664,6,0)),\"\",(VLOOKUP(B91,'KAYIT LİSTESİ'!$B$4:$H$664,6,0)))","v":""},null,null,15,"CİRİT-15",{"$f":"IF(ISERROR(VLOOKUP(J91,'KAYIT LİSTESİ'!$B$4:$H$664,2,0)),\"\",(VLOOKUP(J91,'KAYIT LİSTESİ'!$B$4:$H$664,2,0)))","v":""},{"$f":"IF(ISERROR(VLOOKUP(J91,'KAYIT LİSTESİ'!$B$4:$H$664,4,0)),\"\",(VLOOKUP(J91,'KAYIT LİSTESİ'!$B$4:$H$664,4,0)))","v":""},{"$f":"IF(ISERROR(VLOOKUP(J91,'KAYIT LİSTESİ'!$B$4:$H$664,5,0)),\"\",(VLOOKUP(J91,'KAYIT LİSTESİ'!$B$4:$H$664,5,0)))","v":""},{"$f":"IF(ISERROR(VLOOKUP(J91,'KAYIT LİSTESİ'!$B$4:$H$664,6,0)),\"\",(VLOOKUP(J91,'KAYIT LİSTESİ'!$B$4:$H$664,6,0)))","v":""}]
["4. SERİ",null,null,null,null,null,null,null,16,"CİRİT-16",{"$f":"IF(ISERROR(VLOOKUP(J92,'KAYIT LİSTESİ'!$B$4:$H$664,2,0)),\"\",(VLOOKUP(J92,'KAYIT LİSTESİ'!$B$4:$H$664,2,0)))","v":""},{"$f":"IF(ISERROR(VLOOKUP(J92,'KAYIT LİSTESİ'!$B$4:$H$664,4,0)),\"\",(VLOOKUP(J92,'KAYIT LİSTESİ'!$B$4:$H$664,4,0)))","v":""},{"$f":"IF(ISERROR(VLOOKUP(J92,'KAYIT LİSTESİ'!$B$4:$H$664,5,0)),\"\",(VLOOKUP(J92,'KAYIT LİSTESİ'!$B$4:$H$664,5,0)))","v":""},{"$f":"IF(ISERROR(VLOOKUP(J92,'KAYIT LİSTESİ'!$B$4:$H$664,6,0)),\"\",(VLOOKUP(J92,'KAYIT LİSTESİ'!$B$4:$H$664,6,0)))","v":""}]
["Sıra No","Formül","Göğüs No","Doğum Tarihi","Adı ve Soyadı","İli-Okulu","Derece",null,17,"CİRİT-17",{"$f":"IF(ISERROR(VLOOKUP(J93,'KAYIT LİSTESİ'!$B$4:$H$664,2,0)),\"\",(VLOOKUP(J93,'KAYIT LİSTESİ'!$B$4:$H$664,2,0)))","v":""},{"$f":"IF(ISERROR(VLOOKUP(J93,'KAYIT LİSTESİ'!$B$4:$H$664,4,0)),\"\",(VLOOKUP(J93,'KAYIT LİSTESİ'!$B$4:$H$664,4,0)))","v":""},{"$f":"IF(ISERROR(VLOOKUP(J93,'KAYIT LİSTESİ'!$B$4:$H$664,5,0)),\"\",(VLOOKUP(J93,'KAYIT LİSTESİ'!$B$4:$H$664,5,0)))","v":""},{"$f":"IF(ISERROR(VLOOKUP(J93,'KAYIT LİSTESİ'!$B$4:$H$664,6,0)),\"\",(VLOOKUP(J93,'KAYIT LİSTESİ'!$B$4:$H$664,6,0)))","v":""}]
[1,"200M-4-1",{"$f":"IF(ISERROR(VLOOKUP(B94,'KAYIT LİSTESİ'!$B$4:$H$664,2,0)),\"\",(VLOOKUP(B94,'KAYIT LİSTESİ'!$B$4:$H$664,2,0)))","v":""},{"$f":"IF(ISERROR(VLOOKUP(B94,'KAYIT LİSTESİ'!$B$4:$H$664,4,0)),\"\",(VLOOKUP(B94,'KAYIT LİSTESİ'!$B$4:$H$664,4,0)))","v":""},{"$f":"IF(ISERROR(VLOOKUP(B94,'KAYIT LİSTESİ'!$B$4:$H$664,5,0)),\"\",(VLOOKUP(B94,'KAYIT LİSTESİ'!$B$4:$H$664,5,0)))","v":""},{"$f":"IF(ISERROR(VLOOKUP(B94,'KAYIT LİSTESİ'!$B$4:$H$664,6,0)),\"\",(VLOOKUP(B94,'KAYIT LİSTESİ'!$B$4:$H$664,6,0)))","v":""},null,null,18,"CİRİT-18",{"$f":"IF(ISERROR(VLOOKUP(J94,'KAYIT LİSTESİ'!$B$4:$H$664,2,0)),\"\",(VLOOKUP(J94,'KAYIT LİSTESİ'!$B$4:$H$664,2,0)))","v":""},{"$f":"IF(ISERROR(VLOOKUP(J94,'KAYIT LİSTESİ'!$B$4:$H$664,4,0)),\"\",(VLOOKUP(J94,'KAYIT LİSTESİ'!$B$4:$H$664,4,0)))","v":""},{"$f":"IF(ISERROR(VLOOKUP(J94,'KAYIT LİSTESİ'!$B$4:$H$664,5,0)),\"\",(VLOOKUP(J94,'KAYIT LİSTESİ'!$B$4:$H$664,5,0)))","v":""},{"$f":"IF(ISERROR(VLOOKUP(J94,'KAYIT LİSTESİ'!$B$4:$H$664,6,0)),\"\",(VLOOKUP(J94,'KAYIT LİSTESİ'!$B$4:$H$664,6,0)))","v":""}]
[2,"200M-4-2",{"$f":"IF(ISERROR(VLOOKUP(B95,'KAYIT LİSTESİ'!$B$4:$H$664,2,0)),\"\",(VLOOKUP(B95,'KAYIT LİSTESİ'!$B$4:$H$664,2,0)))","v":""},{"$f":"IF(ISERROR(VLOOKUP(B95,'KAYIT LİSTESİ'!$B$4:$H$664,4,0)),\"\",(VLOOKUP(B95,'KAYIT LİSTESİ'!$B$4:$H$664,4,0)))","v":""},{"$f":"IF(ISERROR(VLOOKUP(B95,'KAYIT LİSTESİ'!$B$4:$H$664,5,0)),\"\",(VLOOKUP(B95,'KAYIT LİSTESİ'!$B$4:$H$664,5,0)))","v":""},{"$f":"IF(ISERROR(VLOOKUP(B95,'KAYIT LİSTESİ'!$B$4:$H$664,6,0)),\"\",(VLOOKUP(B95,'KAYIT LİSTESİ'!$B$4:$H$664,6,0)))","v":""},null,null,19,"CİRİT-19",{"$f":"IF(ISERROR(VLOOKUP(J95,'KAYIT LİSTESİ'!$B$4:$H$664,2,0)),\"\",(VLOOKUP(J95,'KAYIT LİSTESİ'!$B$4:$H$664,2,0)))","v":""},{"$f":"IF(ISERROR(VLOOKUP(J95,'KAYIT LİSTESİ'!$B$4:$H$664,4,0)),\"\",(VLOOKUP(J95,'KAYIT LİSTESİ'!$B$4:$H$664,4,0)))","v":""},{"$f":"IF(ISERROR(VLOOKUP(J95,'KAYIT LİSTESİ'!$B$4:$H$664,5,0)),\"\",(VLOOKUP(J95,'KAYIT LİSTESİ'!$B$4:$H$664,5,0)))","v":""},{"$f":"IF(ISERROR(VLOOKUP(J95,'KAYIT LİSTESİ'!$B$4:$H$664,6,0)),\"\",(VLOOKUP(J95,'KAYIT LİSTESİ'!$B$4:$H$664,6,0)))","v":""}]
[3,"200M-4-3",{"$f":"IF(ISERROR(VLOOKUP(B96,'KAYIT LİSTESİ'!$B$4:$H$664,2,0)),\"\",(VLOOKUP(B96,'KAYIT LİSTESİ'!$B$4:$H$664,2,0)))","v":""},{"$f":"IF(ISERROR(VLOOKUP(B96,'KAYIT LİSTESİ'!$B$4:$H$664,4,0)),\"\",(VLOOKUP(B96,'KAYIT LİSTESİ'!$B$4:$H$664,4,0)))","v":""},{"$f":"IF(ISERROR(VLOOKUP(B96,'KAYIT LİSTESİ'!$B$4:$H$664,5,0)),\"\",(VLOOKUP(B96,'KAYIT LİSTESİ'!$B$4:$H$664,5,0)))","v":""},{"$f":"IF(ISERROR(VLOOKUP(B96,'KAYIT LİSTESİ'!$B$4:$H$664,6,0)),\"\",(VLOOKUP(B96,'KAYIT LİSTESİ'!$B$4:$H$664,6,0)))","v":""},null,null,20,"CİRİT-20",{"$f":"IF(ISERROR(VLOOKUP(J96,'KAYIT LİSTESİ'!$B$4:$H$664,2,0)),\"\",(VLOOKUP(J96,'KAYIT LİSTESİ'!$B$4:$H$664,2,0)))","v":""},{"$f":"IF(ISERROR(VLOOKUP(J96,'KAYIT LİSTESİ'!$B$4:$H$664,4,0)),\"\",(VLOOKUP(J96,'KAYIT LİSTESİ'!$B$4:$H$664,4,0)))","v":""},{"$f":"IF(ISERROR(VLOOKUP(J96,'KAYIT LİSTESİ'!$B$4:$H$664,5,0)),\"\",(VLOOKUP(J96,'KAYIT LİSTESİ'!$B$4:$H$664,5,0)))","v":""},{"$f":"IF(ISERROR(VLOOKUP(J96,'KAYIT LİSTESİ'!$B$4:$H$664,6,0)),\"\",(VLOOKUP(J96,'KAYIT LİSTESİ'!$B$4:$H$664,6,0)))","v":""}]
[4,"200M-4-4",{"$f":"IF(ISERROR(VLOOKUP(B97,'KAYIT LİSTESİ'!$B$4:$H$664,2,0)),\"\",(VLOOKUP(B97,'KAYIT LİSTESİ'!$B$4:$H$664,2,0)))","v":""},{"$f":"IF(ISERROR(VLOOKUP(B97,'KAYIT LİSTESİ'!$B$4:$H$664,4,0)),\"\",(VLOOKUP(B97,'KAYIT LİSTESİ'!$B$4:$H$664,4,0)))","v":""},{"$f":"IF(ISERROR(VLOOKUP(B97,'KAYIT LİSTESİ'!$B$4:$H$664,5,0)),\"\",(VLOOKUP(B97,'KAYIT LİSTESİ'!$B$4:$H$664,5,0)))","v":""},{"$f":"IF(ISERROR(VLOOKUP(B97,'KAYIT LİSTESİ'!$B$4:$H$664,6,0)),\"\",(VLOOKUP(B97,'KAYIT LİSTESİ'!$B$4:$H$664,6,0)))","v":""},null,null,21,"CİRİT-21",{"$f":"IF(ISERROR(VLOOKUP(J97,'KAYIT LİSTESİ'!$B$4:$H$664,2,0)),\"\",(VLOOKUP(J97,'KAYIT LİSTESİ'!$B$4:$H$664,2,0)))","v":""},{"$f":"IF(ISERROR(VLOOKUP(J97,'KAYIT LİSTESİ'!$B$4:$H$664,4,0)),\"\",(VLOOKUP(J97,'KAYIT LİSTESİ'!$B$4:$H$664,4,0)))","v":""},{"$f":"IF(ISERROR(VLOOKUP(J97,'KAYIT LİSTESİ'!$B$4:$H$664,5,0)),\"\",(VLOOKUP(J97,'KAYIT LİSTESİ'!$B$4:$H$664,5,0)))","v":""},{"$f":"IF(ISERROR(VLOOKUP(J97,'KAYIT LİSTESİ'!$B$4:$H$664,6,0)),\"\",(VLOOKUP(J97,'KAYIT LİSTESİ'!$B$4:$H$664,6,0)))","v":""}]
[5,"200M-4-5",{"$f":"IF(ISERROR(VLOOKUP(B98,'KAYIT LİSTESİ'!$B$4:$H$664,2,0)),\"\",(VLOOKUP(B98,'KAYIT LİSTESİ'!$B$4:$H$664,2,0)))","v":""},{"$f":"IF(ISERROR(VLOOKUP(B98,'KAYIT LİSTESİ'!$B$4:$H$664,4,0)),\"\",(VLOOKUP(B98,'KAYIT LİSTESİ'!$B$4:$H$664,4,0)))","v":""},{"$f":"IF(ISERROR(VLOOKUP(B98,'KAYIT LİSTESİ'!$B$4:$H$664,5,0)),\"\",(VLOOKUP(B98,'KAYIT LİSTESİ'!$B$4:$H$664,5,0)))","v":""},{"$f":"IF(ISERROR(VLOOKUP(B98,'KAYIT LİSTESİ'!$B$4:$H$664,6,0)),\"\",(VLOOKUP(B98,'KAYIT LİSTESİ'!$B$4:$H$664,6,0)))","v":""},null,null,22,"CİRİT-22",{"$f":"IF(ISERROR(VLOOKUP(J98,'KAYIT LİSTESİ'!$B$4:$H$664,2,0)),\"\",(VLOOKUP(J98,'KAYIT LİSTESİ'!$B$4:$H$664,2,0)))","v":""},{"$f":"IF(ISERROR(VLOOKUP(J98,'KAYIT LİSTESİ'!$B$4:$H$664,4,0)),\"\",(VLOOKUP(J98,'KAYIT LİSTESİ'!$B$4:$H$664,4,0)))","v":""},{"$f":"IF(ISERROR(VLOOKUP(J98,'KAYIT LİSTESİ'!$B$4:$H$664,5,0)),\"\",(VLOOKUP(J98,'KAYIT LİSTESİ'!$B$4:$H$664,5,0)))","v":""},{"$f":"IF(ISERROR(VLOOKUP(J98,'KAYIT LİSTESİ'!$B$4:$H$664,6,0)),\"\",(VLOOKUP(J98,'KAYIT LİSTESİ'!$B$4:$H$664,6,0)))","v":""}]
[6,"200M-4-6",{"$f":"IF(ISERROR(VLOOKUP(B99,'KAYIT LİSTESİ'!$B$4:$H$664,2,0)),\"\",(VLOOKUP(B99,'KAYIT LİSTESİ'!$B$4:$H$664,2,0)))","v":""},{"$f":"IF(ISERROR(VLOOKUP(B99,'KAYIT LİSTESİ'!$B$4:$H$664,4,0)),\"\",(VLOOKUP(B99,'KAYIT LİSTESİ'!$B$4:$H$664,4,0)))","v":""},{"$f":"IF(ISERROR(VLOOKUP(B99,'KAYIT LİSTESİ'!$B$4:$H$664,5,0)),\"\",(VLOOKUP(B99,'KAYIT LİSTESİ'!$B$4:$H$664,5,0)))","v":""},{"$f":"IF(ISERROR(VLOOKUP(B99,'KAYIT LİSTESİ'!$B$4:$H$664,6,0)),\"\",(VLOOKUP(B99,'KAYIT LİSTESİ'!$B$4:$H$664,6,0)))","v":""},null,null,23,"CİRİT-23",{"$f":"IF(ISERROR(VLOOKUP(J99,'KAYIT LİSTESİ'!$B$4:$H$664,2,0)),\"\",(VLOOKUP(J99,'KAYIT LİSTESİ'!$B$4:$H$664,2,0)))","v":""},{"$f":"IF(ISERROR(VLOOKUP(J99,'KAYIT LİSTESİ'!$B$4:$H$664,4,0)),\"\",(VLOOKUP(J99,'KAYIT LİSTESİ'!$B$4:$H$664,4,0)))","v":""},{"$f":"IF(ISERROR(VLOOKUP(J99,'KAYIT LİSTESİ'!$B$4:$H$664,5,0)),\"\",(VLOOKUP(J99,'KAYIT LİSTESİ'!$B$4:$H$664,5,0)))","v":""},{"$f":"IF(ISERROR(VLOOKUP(J99,'KAYIT LİSTESİ'!$B$4:$H$664,6,0)),\"\",(VLOOKUP(J99,'KAYIT LİSTESİ'!$B$4:$H$664,6,0)))","v":""}]
[7,"200M-4-7",{"$f":"IF(ISERROR(VLOOKUP(B100,'KAYIT LİSTESİ'!$B$4:$H$664,2,0)),\"\",(VLOOKUP(B100,'KAYIT LİSTESİ'!$B$4:$H$664,2,0)))","v":""},{"$f":"IF(ISERROR(VLOOKUP(B100,'KAYIT LİSTESİ'!$B$4:$H$664,4,0)),\"\",(VLOOKUP(B100,'KAYIT LİSTESİ'!$B$4:$H$664,4,0)))","v":""},{"$f":"IF(ISERROR(VLOOKUP(B100,'KAYIT LİSTESİ'!$B$4:$H$664,5,0)),\"\",(VLOOKUP(B100,'KAYIT LİSTESİ'!$B$4:$H$664,5,0)))","v":""},{"$f":"IF(ISERROR(VLOOKUP(B100,'KAYIT LİSTESİ'!$B$4:$H$664,6,0)),\"\",(VLOOKUP(B100,'KAYIT LİSTESİ'!$B$4:$H$664,6,0)))","v":""},null,null,24,"CİRİT-24",{"$f":"IF(ISERROR(VLOOKUP(J100,'KAYIT LİSTESİ'!$B$4:$H$664,2,0)),\"\",(VLOOKUP(J100,'KAYIT LİSTESİ'!$B$4:$H$664,2,0)))","v":""},{"$f":"IF(ISERROR(VLOOKUP(J100,'KAYIT LİSTESİ'!$B$4:$H$664,4,0)),\"\",(VLOOKUP(J100,'KAYIT LİSTESİ'!$B$4:$H$664,4,0)))","v":""},{"$f":"IF(ISERROR(VLOOKUP(J100,'KAYIT LİSTESİ'!$B$4:$H$664,5,0)),\"\",(VLOOKUP(J100,'KAYIT LİSTESİ'!$B$4:$H$664,5,0)))","v":""},{"$f":"IF(ISERROR(VLOOKUP(J100,'KAYIT LİSTESİ'!$B$4:$H$664,6,0)),\"\",(VLOOKUP(J100,'KAYIT LİSTESİ'!$B$4:$H$664,6,0)))","v":""}]
[8,"200M-4-8",{"$f":"IF(ISERROR(VLOOKUP(B101,'KAYIT LİSTESİ'!$B$4:$H$664,2,0)),\"\",(VLOOKUP(B101,'KAYIT LİSTESİ'!$B$4:$H$664,2,0)))","v":""},{"$f":"IF(ISERROR(VLOOKUP(B101,'KAYIT LİSTESİ'!$B$4:$H$664,4,0)),\"\",(VLOOKUP(B101,'KAYIT LİSTESİ'!$B$4:$H$664,4,0)))","v":""},{"$f":"IF(ISERROR(VLOOKUP(B101,'KAYIT LİSTESİ'!$B$4:$H$664,5,0)),\"\",(VLOOKUP(B101,'KAYIT LİSTESİ'!$B$4:$H$664,5,0)))","v":""},{"$f":"IF(ISERROR(VLOOKUP(B101,'KAYIT LİSTESİ'!$B$4:$H$664,6,0)),\"\",(VLOOKUP(B101,'KAYIT LİSTESİ'!$B$4:$H$664,6,0)))","v":""},null,null,25,"CİRİT-25",{"$f":"IF(ISERROR(VLOOKUP(J101,'KAYIT LİSTESİ'!$B$4:$H$664,2,0)),\"\",(VLOOKUP(J101,'KAYIT LİSTESİ'!$B$4:$H$664,2,0)))","v":""},{"$f":"IF(ISERROR(VLOOKUP(J101,'KAYIT LİSTESİ'!$B$4:$H$664,4,0)),\"\",(VLOOKUP(J101,'KAYIT LİSTESİ'!$B$4:$H$664,4,0)))","v":""},{"$f":"IF(ISERROR(VLOOKUP(J101,'KAYIT LİSTESİ'!$B$4:$H$664,5,0)),\"\",(VLOOKUP(J101,'KAYIT LİSTESİ'!$B$4:$H$664,5,0)))","v":""},{"$f":"IF(ISERROR(VLOOKUP(J101,'KAYIT LİSTESİ'!$B$4:$H$664,6,0)),\"\",(VLOOKUP(J101,'KAYIT LİSTESİ'!$B$4:$H$664,6,0)))","v":""}]
["300 METRE ENGELLİ",null,null,null,null,null,null,null,26,"CİRİT-26",{"$f":"IF(ISERROR(VLOOKUP(J102,'KAYIT LİSTESİ'!$B$4:$H$664,2,0)),\"\",(VLOOKUP(J102,'KAYIT LİSTESİ'!$B$4:$H$664,2,0)))","v":""},{"$f":"IF(ISERROR(VLOOKUP(J102,'KAYIT LİSTESİ'!$B$4:$H$664,4,0)),\"\",(VLOOKUP(J102,'KAYIT LİSTESİ'!$B$4:$H$664,4,0)))","v":""},{"$f":"IF(ISERROR(VLOOKUP(J102,'KAYIT LİSTESİ'!$B$4:$H$664,5,0)),\"\",(VLOOKUP(J102,'KAYIT LİSTESİ'!$B$4:$H$664,5,0)))","v":""},{"$f":"IF(ISERROR(VLOOKUP(J102,'KAYIT LİSTESİ'!$B$4:$H$664,6,0)),\"\",(VLOOKUP(J102,'KAYIT LİSTESİ'!$B$4:$H$664,6,0)))","v":""}]
["1. SERİ",null,null,null,null,null,null,null,27,"CİRİT-27",{"$f":"IF(ISERROR(VLOOKUP(J103,'KAYIT LİSTESİ'!$B$4:$H$664,2,0)),\"\",(VLOOKUP(J103,'KAYIT LİSTESİ'!$B$4:$H$664,2,0)))","v":""},{"$f":"IF(ISERROR(VLOOKUP(J103,'KAYIT LİSTESİ'!$B$4:$H$664,4,0)),\"\",(VLOOKUP(J103,'KAYIT LİSTESİ'!$B$4:$H$664,4,0)))","v":""},{"$f":"IF(ISERROR(VLOOKUP(J103,'KAYIT LİSTESİ'!$B$4:$H$664,5,0)),\"\",(VLOOKUP(J103,'KAYIT LİSTESİ'!$B$4:$H$664,5,0)))","v":""},{"$f":"IF(ISERROR(VLOOKUP(J103,'KAYIT LİSTESİ'!$B$4:$H$664,6,0)),\"\",(VLOOKUP(J103,'KAYIT LİSTESİ'!$B$4:$H$664,6,0)))","v":""}]
["Sıra No","Formül","Göğüs No","Doğum Tarihi","Adı ve Soyadı","İli-Okulu","Start Kontrol",null,28,"CİRİT-28",{"$f":"IF(ISERROR(VLOOKUP(J104,'KAYIT LİSTESİ'!$B$4:$H$664,2,0)),\"\",(VLOOKUP(J104,'KAYIT LİSTESİ'!$B$4:$H$664,2,0)))","v":""},{"$f":"IF(ISERROR(VLOOKUP(J104,'KAYIT LİSTESİ'!$B$4:$H$664,4,0)),\"\",(VLOOKUP(J104,'KAYIT LİSTESİ'!$B$4:$H$664,4,0)))","v":""},{"$f":"IF(ISERROR(VLOOKUP(J104,'KAYIT LİSTESİ'!$B$4:$H$664,5,0)),\"\",(VLOOKUP(J104,'KAYIT LİSTESİ'!$B$4:$H$664,5,0)))","v":""},{"$f":"IF(ISERROR(VLOOKUP(J104,'KAYIT LİSTESİ'!$B$4:$H$664,6,0)),\"\",(VLOOKUP(J104,'KAYIT LİSTESİ'!$B$4:$H$664,6,0)))","v":""}]
[1,"300M.ENG-1-1",{"$f":"IF(ISERROR(VLOOKUP(B105,'KAYIT LİSTESİ'!$B$4:$H$664,2,0)),\"\",(VLOOKUP(B105,'KAYIT LİSTESİ'!$B$4:$H$664,2,0)))","v":""},{"$f":"IF(ISERROR(VLOOKUP(B105,'KAYIT LİSTESİ'!$B$4:$H$664,4,0)),\"\",(VLOOKUP(B105,'KAYIT LİSTESİ'!$B$4:$H$664,4,0)))","v":""},{"$f":"IF(ISERROR(VLOOKUP(B105,'KAYIT LİSTESİ'!$B$4:$H$664,5,0)),\"\",(VLOOKUP(B105,'KAYIT LİSTESİ'!$B$4:$H$664,5,0)))","v":""},{"$f":"IF(ISERROR(VLOOKUP(B105,'KAYIT LİSTESİ'!$B$4:$H$664,6,0)),\"\",(VLOOKUP(B105,'KAYIT LİSTESİ'!$B$4:$H$664,6,0)))","v":""},null,null,29,"CİRİT-29",{"$f":"IF(ISERROR(VLOOKUP(J105,'KAYIT LİSTESİ'!$B$4:$H$664,2,0)),\"\",(VLOOKUP(J105,'KAYIT LİSTESİ'!$B$4:$H$664,2,0)))","v":""},{"$f":"IF(ISERROR(VLOOKUP(J105,'KAYIT LİSTESİ'!$B$4:$H$664,4,0)),\"\",(VLOOKUP(J105,'KAYIT LİSTESİ'!$B$4:$H$664,4,0)))","v":""},{"$f":"IF(ISERROR(VLOOKUP(J105,'KAYIT LİSTESİ'!$B$4:$H$664,5,0)),\"\",(VLOOKUP(J105,'KAYIT LİSTESİ'!$B$4:$H$664,5,0)))","v":""},{"$f":"IF(ISERROR(VLOOKUP(J105,'KAYIT LİSTESİ'!$B$4:$H$664,6,0)),\"\",(VLOOKUP(J105,'KAYIT LİSTESİ'!$B$4:$H$664,6,0)))","v":""}]
[2,"300M.ENG-1-2",{"$f":"IF(ISERROR(VLOOKUP(B106,'KAYIT LİSTESİ'!$B$4:$H$664,2,0)),\"\",(VLOOKUP(B106,'KAYIT LİSTESİ'!$B$4:$H$664,2,0)))","v":""},{"$f":"IF(ISERROR(VLOOKUP(B106,'KAYIT LİSTESİ'!$B$4:$H$664,4,0)),\"\",(VLOOKUP(B106,'KAYIT LİSTESİ'!$B$4:$H$664,4,0)))","v":""},{"$f":"IF(ISERROR(VLOOKUP(B106,'KAYIT LİSTESİ'!$B$4:$H$664,5,0)),\"\",(VLOOKUP(B106,'KAYIT LİSTESİ'!$B$4:$H$664,5,0)))","v":""},{"$f":"IF(ISERROR(VLOOKUP(B106,'KAYIT LİSTESİ'!$B$4:$H$664,6,0)),\"\",(VLOOKUP(B106,'KAYIT LİSTESİ'!$B$4:$H$664,6,0)))","v":""},null,null,30,"CİRİT-30",{"$f":"IF(ISERROR(VLOOKUP(J106,'KAYIT LİSTESİ'!$B$4:$H$664,2,0)),\"\",(VLOOKUP(J106,'KAYIT LİSTESİ'!$B$4:$H$664,2,0)))","v":""},{"$f":"IF(ISERROR(VLOOKUP(J106,'KAYIT LİSTESİ'!$B$4:$H$664,4,0)),\"\",(VLOOKUP(J106,'KAYIT LİSTESİ'!$B$4:$H$664,4,0)))","v":""},{"$f":"IF(ISERROR(VLOOKUP(J106,'KAYIT LİSTESİ'!$B$4:$H$664,5,0)),\"\",(VLOOKUP(J106,'KAYIT LİSTESİ'!$B$4:$H$664,5,0)))","v":""},{"$f":"IF(ISERROR(VLOOKUP(J106,'KAYIT LİSTESİ'!$B$4:$H$664,6,0)),\"\",(VLOOKUP(J106,'KAYIT LİSTESİ'!$B$4:$H$664,6,0)))","v":""}]
[3,"300M.ENG-1-3",{"$f":"IF(ISERROR(VLOOKUP(B107,'KAYIT LİSTESİ'!$B$4:$H$664,2,0)),\"\",(VLOOKUP(B107,'KAYIT LİSTESİ'!$B$4:$H$664,2,0)))","v":""},{"$f":"IF(ISERROR(VLOOKUP(B107,'KAYIT LİSTESİ'!$B$4:$H$664,4,0)),\"\",(VLOOKUP(B107,'KAYIT LİSTESİ'!$B$4:$H$664,4,0)))","v":""},{"$f":"IF(ISERROR(VLOOKUP(B107,'KAYIT LİSTESİ'!$B$4:$H$664,5,0)),\"\",(VLOOKUP(B107,'KAYIT LİSTESİ'!$B$4:$H$664,5,0)))","v":""},{"$f":"IF(ISERROR(VLOOKUP(B107,'KAYIT LİSTESİ'!$B$4:$H$664,6,0)),\"\",(VLOOKUP(B107,'KAYIT LİSTESİ'!$B$4:$H$664,6,0)))","v":""},null,null,31,"CİRİT-31",{"$f":"IF(ISERROR(VLOOKUP(J107,'KAYIT LİSTESİ'!$B$4:$H$664,2,0)),\"\",(VLOOKUP(J107,'KAYIT LİSTESİ'!$B$4:$H$664,2,0)))","v":""},{"$f":"IF(ISERROR(VLOOKUP(J107,'KAYIT LİSTESİ'!$B$4:$H$664,4,0)),\"\",(VLOOKUP(J107,'KAYIT LİSTESİ'!$B$4:$H$664,4,0)))","v":""},{"$f":"IF(ISERROR(VLOOKUP(J107,'KAYIT LİSTESİ'!$B$4:$H$664,5,0)),\"\",(VLOOKUP(J107,'KAYIT LİSTESİ'!$B$4:$H$664,5,0)))","v":""},{"$f":"IF(ISERROR(VLOOKUP(J107,'KAYIT LİSTESİ'!$B$4:$H$664,6,0)),\"\",(VLOOKUP(J107,'KAYIT LİSTESİ'!$B$4:$H$664,6,0)))","v":""}]
[4,"300M.ENG-1-4",{"$f":"IF(ISERROR(VLOOKUP(B108,'KAYIT LİSTESİ'!$B$4:$H$664,2,0)),\"\",(VLOOKUP(B108,'KAYIT LİSTESİ'!$B$4:$H$664,2,0)))","v":""},{"$f":"IF(ISERROR(VLOOKUP(B108,'KAYIT LİSTESİ'!$B$4:$H$664,4,0)),\"\",(VLOOKUP(B108,'KAYIT LİSTESİ'!$B$4:$H$664,4,0)))","v":""},{"$f":"IF(ISERROR(VLOOKUP(B108,'KAYIT LİSTESİ'!$B$4:$H$664,5,0)),\"\",(VLOOKUP(B108,'KAYIT LİSTESİ'!$B$4:$H$664,5,0)))","v":""},{"$f":"IF(ISERROR(VLOOKUP(B108,'KAYIT LİSTESİ'!$B$4:$H$664,6,0)),\"\",(VLOOKUP(B108,'KAYIT LİSTESİ'!$B$4:$H$664,6,0)))","v":""},null,null,32,"CİRİT-32",{"$f":"IF(ISERROR(VLOOKUP(J108,'KAYIT LİSTESİ'!$B$4:$H$664,2,0)),\"\",(VLOOKUP(J108,'KAYIT LİSTESİ'!$B$4:$H$664,2,0)))","v":""},{"$f":"IF(ISERROR(VLOOKUP(J108,'KAYIT LİSTESİ'!$B$4:$H$664,4,0)),\"\",(VLOOKUP(J108,'KAYIT LİSTESİ'!$B$4:$H$664,4,0)))","v":""},{"$f":"IF(ISERROR(VLOOKUP(J108,'KAYIT LİSTESİ'!$B$4:$H$664,5,0)),\"\",(VLOOKUP(J108,'KAYIT LİSTESİ'!$B$4:$H$664,5,0)))","v":""},{"$f":"IF(ISERROR(VLOOKUP(J108,'KAYIT LİSTESİ'!$B$4:$H$664,6,0)),\"\",(VLOOKUP(J108,'KAYIT LİSTESİ'!$B$4:$H$664,6,0)))","v":""}]
[5,"300M.ENG-1-5",{"$f":"IF(ISERROR(VLOOKUP(B109,'KAYIT LİSTESİ'!$B$4:$H$664,2,0)),\"\",(VLOOKUP(B109,'KAYIT LİSTESİ'!$B$4:$H$664,2,0)))","v":""},{"$f":"IF(ISERROR(VLOOKUP(B109,'KAYIT LİSTESİ'!$B$4:$H$664,4,0)),\"\",(VLOOKUP(B109,'KAYIT LİSTESİ'!$B$4:$H$664,4,0)))","v":""},{"$f":"IF(ISERROR(VLOOKUP(B109,'KAYIT LİSTESİ'!$B$4:$H$664,5,0)),\"\",(VLOOKUP(B109,'KAYIT LİSTESİ'!$B$4:$H$664,5,0)))","v":""},{"$f":"IF(ISERROR(VLOOKUP(B109,'KAYIT LİSTESİ'!$B$4:$H$664,6,0)),\"\",(VLOOKUP(B109,'KAYIT LİSTESİ'!$B$4:$H$664,6,0)))","v":""},null,null,33,"CİRİT-33",{"$f":"IF(ISERROR(VLOOKUP(J109,'KAYIT LİSTESİ'!$B$4:$H$664,2,0)),\"\",(VLOOKUP(J109,'KAYIT LİSTESİ'!$B$4:$H$664,2,0)))","v":""},{"$f":"IF(ISERROR(VLOOKUP(J109,'KAYIT LİSTESİ'!$B$4:$H$664,4,0)),\"\",(VLOOKUP(J109,'KAYIT LİSTESİ'!$B$4:$H$664,4,0)))","v":""},{"$f":"IF(ISERROR(VLOOKUP(J109,'KAYIT LİSTESİ'!$B$4:$H$664,5,0)),\"\",(VLOOKUP(J109,'KAYIT LİSTESİ'!$B$4:$H$664,5,0)))","v":""},{"$f":"IF(ISERROR(VLOOKUP(J109,'KAYIT LİSTESİ'!$B$4:$H$664,6,0)),\"\",(VLOOKUP(J109,'KAYIT LİSTESİ'!$B$4:$H$664,6,0)))","v":""}]
[6,"300M.ENG-1-6",{"$f":"IF(ISERROR(VLOOKUP(B110,'KAYIT LİSTESİ'!$B$4:$H$664,2,0)),\"\",(VLOOKUP(B110,'KAYIT LİSTESİ'!$B$4:$H$664,2,0)))","v":""},{"$f":"IF(ISERROR(VLOOKUP(B110,'KAYIT LİSTESİ'!$B$4:$H$664,4,0)),\"\",(VLOOKUP(B110,'KAYIT LİSTESİ'!$B$4:$H$664,4,0)))","v":""},{"$f":"IF(ISERROR(VLOOKUP(B110,'KAYIT LİSTESİ'!$B$4:$H$664,5,0)),\"\",(VLOOKUP(B110,'KAYIT LİSTESİ'!$B$4:$H$664,5,0)))","v":""},{"$f":"IF(ISERROR(VLOOKUP(B110,'KAYIT LİSTESİ'!$B$4:$H$664,6,0)),\"\",(VLOOKUP(B110,'KAYIT LİSTESİ'!$B$4:$H$664,6,0)))","v":""},null,null,34,"CİRİT-34",{"$f":"IF(ISERROR(VLOOKUP(J110,'KAYIT LİSTESİ'!$B$4:$H$664,2,0)),\"\",(VLOOKUP(J110,'KAYIT LİSTESİ'!$B$4:$H$664,2,0)))","v":""},{"$f":"IF(ISERROR(VLOOKUP(J110,'KAYIT LİSTESİ'!$B$4:$H$664,4,0)),\"\",(VLOOKUP(J110,'KAYIT LİSTESİ'!$B$4:$H$664,4,0)))","v":""},{"$f":"IF(ISERROR(VLOOKUP(J110,'KAYIT LİSTESİ'!$B$4:$H$664,5,0)),\"\",(VLOOKUP(J110,'KAYIT LİSTESİ'!$B$4:$H$664,5,0)))","v":""},{"$f":"IF(ISERROR(VLOOKUP(J110,'KAYIT LİSTESİ'!$B$4:$H$664,6,0)),\"\",(VLOOKUP(J110,'KAYIT LİSTESİ'!$B$4:$H$664,6,0)))","v":""}]
[7,"300M.ENG-1-7",{"$f":"IF(ISERROR(VLOOKUP(B111,'KAYIT LİSTESİ'!$B$4:$H$664,2,0)),\"\",(VLOOKUP(B111,'KAYIT LİSTESİ'!$B$4:$H$664,2,0)))","v":""},{"$f":"IF(ISERROR(VLOOKUP(B111,'KAYIT LİSTESİ'!$B$4:$H$664,4,0)),\"\",(VLOOKUP(B111,'KAYIT LİSTESİ'!$B$4:$H$664,4,0)))","v":""},{"$f":"IF(ISERROR(VLOOKUP(B111,'KAYIT LİSTESİ'!$B$4:$H$664,5,0)),\"\",(VLOOKUP(B111,'KAYIT LİSTESİ'!$B$4:$H$664,5,0)))","v":""},{"$f":"IF(ISERROR(VLOOKUP(B111,'KAYIT LİSTESİ'!$B$4:$H$664,6,0)),\"\",(VLOOKUP(B111,'KAYIT LİSTESİ'!$B$4:$H$664,6,0)))","v":""},null,null,35,"CİRİT-35",{"$f":"IF(ISERROR(VLOOKUP(J111,'KAYIT LİSTESİ'!$B$4:$H$664,2,0)),\"\",(VLOOKUP(J111,'KAYIT LİSTESİ'!$B$4:$H$664,2,0)))","v":""},{"$f":"IF(ISERROR(VLOOKUP(J111,'KAYIT LİSTESİ'!$B$4:$H$664,4,0)),\"\",(VLOOKUP(J111,'KAYIT LİSTESİ'!$B$4:$H$664,4,0)))","v":""},{"$f":"IF(ISERROR(VLOOKUP(J111,'KAYIT LİSTESİ'!$B$4:$H$664,5,0)),\"\",(VLOOKUP(J111,'KAYIT LİSTESİ'!$B$4:$H$664,5,0)))","v":""},{"$f":"IF(ISERROR(VLOOKUP(J111,'KAYIT LİSTESİ'!$B$4:$H$664,6,0)),\"\",(VLOOKUP(J111,'KAYIT LİSTESİ'!$B$4:$H$664,6,0)))","v":""}]
[8,"300M.ENG-1-8",{"$f":"IF(ISERROR(VLOOKUP(B112,'KAYIT LİSTESİ'!$B$4:$H$664,2,0)),\"\",(VLOOKUP(B112,'KAYIT LİSTESİ'!$B$4:$H$664,2,0)))","v":""},{"$f":"IF(ISERROR(VLOOKUP(B112,'KAYIT LİSTESİ'!$B$4:$H$664,4,0)),\"\",(VLOOKUP(B112,'KAYIT LİSTESİ'!$B$4:$H$664,4,0)))","v":""},{"$f":"IF(ISERROR(VLOOKUP(B112,'KAYIT LİSTESİ'!$B$4:$H$664,5,0)),\"\",(VLOOKUP(B112,'KAYIT LİSTESİ'!$B$4:$H$664,5,0)))","v":""},{"$f":"IF(ISERROR(VLOOKUP(B112,'KAYIT LİSTESİ'!$B$4:$H$664,6,0)),\"\",(VLOOKUP(B112,'KAYIT LİSTESİ'!$B$4:$H$664,6,0)))","v":""},null,null,36,"CİRİT-36",{"$f":"IF(ISERROR(VLOOKUP(J112,'KAYIT LİSTESİ'!$B$4:$H$664,2,0)),\"\",(VLOOKUP(J112,'KAYIT LİSTESİ'!$B$4:$H$664,2,0)))","v":""},{"$f":"IF(ISERROR(VLOOKUP(J112,'KAYIT LİSTESİ'!$B$4:$H$664,4,0)),\"\",(VLOOKUP(J112,'KAYIT LİSTESİ'!$B$4:$H$664,4,0)))","v":""},{"$f":"IF(ISERROR(VLOOKUP(J112,'KAYIT LİSTESİ'!$B$4:$H$664,5,0)),\"\",(VLOOKUP(J112,'KAYIT LİSTESİ'!$B$4:$H$664,5,0)))","v":""},{"$f":"IF(ISERROR(VLOOKUP(J112,'KAYIT LİSTESİ'!$B$4:$H$664,6,0)),\"\",(VLOOKUP(J112,'KAYIT LİSTESİ'!$B$4:$H$664,6,0)))","v":""}]
["2. SERİ",null,null,null,null,null,null,null,37,"CİRİT-37",{"$f":"IF(ISERROR(VLOOKUP(J113,'KAYIT LİSTESİ'!$B$4:$H$664,2,0)),\"\",(VLOOKUP(J113,'KAYIT LİSTESİ'!$B$4:$H$664,2,0)))","v":""},{"$f":"IF(ISERROR(VLOOKUP(J113,'KAYIT LİSTESİ'!$B$4:$H$664,4,0)),\"\",(VLOOKUP(J113,'KAYIT LİSTESİ'!$B$4:$H$664,4,0)))","v":""},{"$f":"IF(ISERROR(VLOOKUP(J113,'KAYIT LİSTESİ'!$B$4:$H$664,5,0)),\"\",(VLOOKUP(J113,'KAYIT LİSTESİ'!$B$4:$H$664,5,0)))","v":""},{"$f":"IF(ISERROR(VLOOKUP(J113,'KAYIT LİSTESİ'!$B$4:$H$664,6,0)),\"\",(VLOOKUP(J113,'KAYIT LİSTESİ'!$B$4:$H$664,6,0)))","v":""}]
["Sıra No","Formül","Göğüs No","Doğum Tarihi","Adı ve Soyadı","İli-Okulu","Start Kontrol",null,38,"CİRİT-38",{"$f":"IF(ISERROR(VLOOKUP(J114,'KAYIT LİSTESİ'!$B$4:$H$664,2,0)),\"\",(VLOOKUP(J114,'KAYIT LİSTESİ'!$B$4:$H$664,2,0)))","v":""},{"$f":"IF(ISERROR(VLOOKUP(J114,'KAYIT LİSTESİ'!$B$4:$H$664,4,0)),\"\",(VLOOKUP(J114,'KAYIT LİSTESİ'!$B$4:$H$664,4,0)))","v":""},{"$f":"IF(ISERROR(VLOOKUP(J114,'KAYIT LİSTESİ'!$B$4:$H$664,5,0)),\"\",(VLOOKUP(J114,'KAYIT LİSTESİ'!$B$4:$H$664,5,0)))","v":""},{"$f":"IF(ISERROR(VLOOKUP(J114,'KAYIT LİSTESİ'!$B$4:$H$664,6,0)),\"\",(VLOOKUP(J114,'KAYIT LİSTESİ'!$B$4:$H$664,6,0)))","v":""}]
[1,"300M.ENG-2-1",{"$f":"IF(ISERROR(VLOOKUP(B115,'KAYIT LİSTESİ'!$B$4:$H$664,2,0)),\"\",(VLOOKUP(B115,'KAYIT LİSTESİ'!$B$4:$H$664,2,0)))","v":""},{"$f":"IF(ISERROR(VLOOKUP(B115,'KAYIT LİSTESİ'!$B$4:$H$664,4,0)),\"\",(VLOOKUP(B115,'KAYIT LİSTESİ'!$B$4:$H$664,4,0)))","v":""},{"$f":"IF(ISERROR(VLOOKUP(B115,'KAYIT LİSTESİ'!$B$4:$H$664,5,0)),\"\",(VLOOKUP(B115,'KAYIT LİSTESİ'!$B$4:$H$664,5,0)))","v":""},{"$f":"IF(ISERROR(VLOOKUP(B115,'KAYIT LİSTESİ'!$B$4:$H$664,6,0)),\"\",(VLOOKUP(B115,'KAYIT LİSTESİ'!$B$4:$H$664,6,0)))","v":""},null,null,39,"CİRİT-39",{"$f":"IF(ISERROR(VLOOKUP(J115,'KAYIT LİSTESİ'!$B$4:$H$664,2,0)),\"\",(VLOOKUP(J115,'KAYIT LİSTESİ'!$B$4:$H$664,2,0)))","v":""},{"$f":"IF(ISERROR(VLOOKUP(J115,'KAYIT LİSTESİ'!$B$4:$H$664,4,0)),\"\",(VLOOKUP(J115,'KAYIT LİSTESİ'!$B$4:$H$664,4,0)))","v":""},{"$f":"IF(ISERROR(VLOOKUP(J115,'KAYIT LİSTESİ'!$B$4:$H$664,5,0)),\"\",(VLOOKUP(J115,'KAYIT LİSTESİ'!$B$4:$H$664,5,0)))","v":""},{"$f":"IF(ISERROR(VLOOKUP(J115,'KAYIT LİSTESİ'!$B$4:$H$664,6,0)),\"\",(VLOOKUP(J115,'KAYIT LİSTESİ'!$B$4:$H$664,6,0)))","v":""}]
[2,"300M.ENG-2-2",{"$f":"IF(ISERROR(VLOOKUP(B116,'KAYIT LİSTESİ'!$B$4:$H$664,2,0)),\"\",(VLOOKUP(B116,'KAYIT LİSTESİ'!$B$4:$H$664,2,0)))","v":""},{"$f":"IF(ISERROR(VLOOKUP(B116,'KAYIT LİSTESİ'!$B$4:$H$664,4,0)),\"\",(VLOOKUP(B116,'KAYIT LİSTESİ'!$B$4:$H$664,4,0)))","v":""},{"$f":"IF(ISERROR(VLOOKUP(B116,'KAYIT LİSTESİ'!$B$4:$H$664,5,0)),\"\",(VLOOKUP(B116,'KAYIT LİSTESİ'!$B$4:$H$664,5,0)))","v":""},{"$f":"IF(ISERROR(VLOOKUP(B116,'KAYIT LİSTESİ'!$B$4:$H$664,6,0)),\"\",(VLOOKUP(B116,'KAYIT LİSTESİ'!$B$4:$H$664,6,0)))","v":""},null,null,40,"CİRİT-40",{"$f":"IF(ISERROR(VLOOKUP(J116,'KAYIT LİSTESİ'!$B$4:$H$664,2,0)),\"\",(VLOOKUP(J116,'KAYIT LİSTESİ'!$B$4:$H$664,2,0)))","v":""},{"$f":"IF(ISERROR(VLOOKUP(J116,'KAYIT LİSTESİ'!$B$4:$H$664,4,0)),\"\",(VLOOKUP(J116,'KAYIT LİSTESİ'!$B$4:$H$664,4,0)))","v":""},{"$f":"IF(ISERROR(VLOOKUP(J116,'KAYIT LİSTESİ'!$B$4:$H$664,5,0)),\"\",(VLOOKUP(J116,'KAYIT LİSTESİ'!$B$4:$H$664,5,0)))","v":""},{"$f":"IF(ISERROR(VLOOKUP(J116,'KAYIT LİSTESİ'!$B$4:$H$664,6,0)),\"\",(VLOOKUP(J116,'KAYIT LİSTESİ'!$B$4:$H$664,6,0)))","v":""}]
[3,"300M.ENG-2-3",{"$f":"IF(ISERROR(VLOOKUP(B117,'KAYIT LİSTESİ'!$B$4:$H$664,2,0)),\"\",(VLOOKUP(B117,'KAYIT LİSTESİ'!$B$4:$H$664,2,0)))","v":""},{"$f":"IF(ISERROR(VLOOKUP(B117,'KAYIT LİSTESİ'!$B$4:$H$664,4,0)),\"\",(VLOOKUP(B117,'KAYIT LİSTESİ'!$B$4:$H$664,4,0)))","v":""},{"$f":"IF(ISERROR(VLOOKUP(B117,'KAYIT LİSTESİ'!$B$4:$H$664,5,0)),\"\",(VLOOKUP(B117,'KAYIT LİSTESİ'!$B$4:$H$664,5,0)))","v":""},{"$f":"IF(ISERROR(VLOOKUP(B117,'KAYIT LİSTESİ'!$B$4:$H$664,6,0)),\"\",(VLOOKUP(B117,'KAYIT LİSTESİ'!$B$4:$H$664,6,0)))","v":""},null,null,"YÜKSEK ATLAMA"]
[4,"300M.ENG-2-4",{"$f":"IF(ISERROR(VLOOKUP(B118,'KAYIT LİSTESİ'!$B$4:$H$664,2,0)),\"\",(VLOOKUP(B118,'KAYIT LİSTESİ'!$B$4:$H$664,2,0)))","v":""},{"$f":"IF(ISERROR(VLOOKUP(B118,'KAYIT LİSTESİ'!$B$4:$H$664,4,0)),\"\",(VLOOKUP(B118,'KAYIT LİSTESİ'!$B$4:$H$664,4,0)))","v":""},{"$f":"IF(ISERROR(VLOOKUP(B118,'KAYIT LİSTESİ'!$B$4:$H$664,5,0)),\"\",(VLOOKUP(B118,'KAYIT LİSTESİ'!$B$4:$H$664,5,0)))","v":""},{"$f":"IF(ISERROR(VLOOKUP(B118,'KAYIT LİSTESİ'!$B$4:$H$664,6,0)),\"\",(VLOOKUP(B118,'KAYIT LİSTESİ'!$B$4:$H$664,6,0)))","v":""},null,null,"SIRA NO",null,"GÖĞÜS NO","DOĞUM TARİHİ","ADI VE SOYADI","İli-Okulu","START KONTROL"]
[5,"300M.ENG-2-5",{"$f":"IF(ISERROR(VLOOKUP(B119,'KAYIT LİSTESİ'!$B$4:$H$664,2,0)),\"\",(VLOOKUP(B119,'KAYIT LİSTESİ'!$B$4:$H$664,2,0)))","v":""},{"$f":"IF(ISERROR(VLOOKUP(B119,'KAYIT LİSTESİ'!$B$4:$H$664,4,0)),\"\",(VLOOKUP(B119,'KAYIT LİSTESİ'!$B$4:$H$664,4,0)))","v":""},{"$f":"IF(ISERROR(VLOOKUP(B119,'KAYIT LİSTESİ'!$B$4:$H$664,5,0)),\"\",(VLOOKUP(B119,'KAYIT LİSTESİ'!$B$4:$H$664,5,0)))","v":""},{"$f":"IF(ISERROR(VLOOKUP(B119,'KAYIT LİSTESİ'!$B$4:$H$664,6,0)),\"\",(VLOOKUP(B119,'KAYIT LİSTESİ'!$B$4:$H$664,6,0)))","v":""},null,null,1,"YÜKSEK-1",{"$f":"IF(ISERROR(VLOOKUP(J119,'KAYIT LİSTESİ'!$B$4:$H$664,2,0)),\"\",(VLOOKUP(J119,'KAYIT LİSTESİ'!$B$4:$H$664,2,0)))","v":""},{"$f":"IF(ISERROR(VLOOKUP(J119,'KAYIT LİSTESİ'!$B$4:$H$664,4,0)),\"\",(VLOOKUP(J119,'KAYIT LİSTESİ'!$B$4:$H$664,4,0)))","v":""},{"$f":"IF(ISERROR(VLOOKUP(J119,'KAYIT LİSTESİ'!$B$4:$H$664,5,0)),\"\",(VLOOKUP(J119,'KAYIT LİSTESİ'!$B$4:$H$664,5,0)))","v":""},{"$f":"IF(ISERROR(VLOOKUP(J119,'KAYIT LİSTESİ'!$B$4:$H$664,6,0)),\"\",(VLOOKUP(J119,'KAYIT LİSTESİ'!$B$4:$H$664,6,0)))","v":""}]
[6,"300M.ENG-2-6",{"$f":"IF(ISERROR(VLOOKUP(B120,'KAYIT LİSTESİ'!$B$4:$H$664,2,0)),\"\",(VLOOKUP(B120,'KAYIT LİSTESİ'!$B$4:$H$664,2,0)))","v":""},{"$f":"IF(ISERROR(VLOOKUP(B120,'KAYIT LİSTESİ'!$B$4:$H$664,4,0)),\"\",(VLOOKUP(B120,'KAYIT LİSTESİ'!$B$4:$H$664,4,0)))","v":""},{"$f":"IF(ISERROR(VLOOKUP(B120,'KAYIT LİSTESİ'!$B$4:$H$664,5,0)),\"\",(VLOOKUP(B120,'KAYIT LİSTESİ'!$B$4:$H$664,5,0)))","v":""},{"$f":"IF(ISERROR(VLOOKUP(B120,'KAYIT LİSTESİ'!$B$4:$H$664,6,0)),\"\",(VLOOKUP(B120,'KAYIT LİSTESİ'!$B$4:$H$664,6,0)))","v":""},null,null,2,"YÜKSEK-2",{"$f":"IF(ISERROR(VLOOKUP(J120,'KAYIT LİSTESİ'!$B$4:$H$664,2,0)),\"\",(VLOOKUP(J120,'KAYIT LİSTESİ'!$B$4:$H$664,2,0)))","v":""},{"$f":"IF(ISERROR(VLOOKUP(J120,'KAYIT LİSTESİ'!$B$4:$H$664,4,0)),\"\",(VLOOKUP(J120,'KAYIT LİSTESİ'!$B$4:$H$664,4,0)))","v":""},{"$f":"IF(ISERROR(VLOOKUP(J120,'KAYIT LİSTESİ'!$B$4:$H$664,5,0)),\"\",(VLOOKUP(J120,'KAYIT LİSTESİ'!$B$4:$H$664,5,0)))","v":""},{"$f":"IF(ISERROR(VLOOKUP(J120,'KAYIT LİSTESİ'!$B$4:$H$664,6,0)),\"\",(VLOOKUP(J120,'KAYIT LİSTESİ'!$B$4:$H$664,6,0)))","v":""}]
[7,"300M.ENG-2-7",{"$f":"IF(ISERROR(VLOOKUP(B121,'KAYIT LİSTESİ'!$B$4:$H$664,2,0)),\"\",(VLOOKUP(B121,'KAYIT LİSTESİ'!$B$4:$H$664,2,0)))","v":""},{"$f":"IF(ISERROR(VLOOKUP(B121,'KAYIT LİSTESİ'!$B$4:$H$664,4,0)),\"\",(VLOOKUP(B121,'KAYIT LİSTESİ'!$B$4:$H$664,4,0)))","v":""},{"$f":"IF(ISERROR(VLOOKUP(B121,'KAYIT LİSTESİ'!$B$4:$H$664,5,0)),\"\",(VLOOKUP(B121,'KAYIT LİSTESİ'!$B$4:$H$664,5,0)))","v":""},{"$f":"IF(ISERROR(VLOOKUP(B121,'KAYIT LİSTESİ'!$B$4:$H$664,6,0)),\"\",(VLOOKUP(B121,'KAYIT LİSTESİ'!$B$4:$H$664,6,0)))","v":""},null,null,3,"YÜKSEK-3",{"$f":"IF(ISERROR(VLOOKUP(J121,'KAYIT LİSTESİ'!$B$4:$H$664,2,0)),\"\",(VLOOKUP(J121,'KAYIT LİSTESİ'!$B$4:$H$664,2,0)))","v":""},{"$f":"IF(ISERROR(VLOOKUP(J121,'KAYIT LİSTESİ'!$B$4:$H$664,4,0)),\"\",(VLOOKUP(J121,'KAYIT LİSTESİ'!$B$4:$H$664,4,0)))","v":""},{"$f":"IF(ISERROR(VLOOKUP(J121,'KAYIT LİSTESİ'!$B$4:$H$664,5,0)),\"\",(VLOOKUP(J121,'KAYIT LİSTESİ'!$B$4:$H$664,5,0)))","v":""},{"$f":"IF(ISERROR(VLOOKUP(J121,'KAYIT LİSTESİ'!$B$4:$H$664,6,0)),\"\",(VLOOKUP(J121,'KAYIT LİSTESİ'!$B$4:$H$664,6,0)))","v":""}]
[8,"300M.ENG-2-8",{"$f":"IF(ISERROR(VLOOKUP(B122,'KAYIT LİSTESİ'!$B$4:$H$664,2,0)),\"\",(VLOOKUP(B122,'KAYIT LİSTESİ'!$B$4:$H$664,2,0)))","v":""},{"$f":"IF(ISERROR(VLOOKUP(B122,'KAYIT LİSTESİ'!$B$4:$H$664,4,0)),\"\",(VLOOKUP(B122,'KAYIT LİSTESİ'!$B$4:$H$664,4,0)))","v":""},{"$f":"IF(ISERROR(VLOOKUP(B122,'KAYIT LİSTESİ'!$B$4:$H$664,5,0)),\"\",(VLOOKUP(B122,'KAYIT LİSTESİ'!$B$4:$H$664,5,0)))","v":""},{"$f":"IF(ISERROR(VLOOKUP(B122,'KAYIT LİSTESİ'!$B$4:$H$664,6,0)),\"\",(VLOOKUP(B122,'KAYIT LİSTESİ'!$B$4:$H$664,6,0)))","v":""},null,null,4,"YÜKSEK-4",{"$f":"IF(ISERROR(VLOOKUP(J122,'KAYIT LİSTESİ'!$B$4:$H$664,2,0)),\"\",(VLOOKUP(J122,'KAYIT LİSTESİ'!$B$4:$H$664,2,0)))","v":""},{"$f":"IF(ISERROR(VLOOKUP(J122,'KAYIT LİSTESİ'!$B$4:$H$664,4,0)),\"\",(VLOOKUP(J122,'KAYIT LİSTESİ'!$B$4:$H$664,4,0)))","v":""},{"$f":"IF(ISERROR(VLOOKUP(J122,'KAYIT LİSTESİ'!$B$4:$H$664,5,0)),\"\",(VLOOKUP(J122,'KAYIT LİSTESİ'!$B$4:$H$664,5,0)))","v":""},{"$f":"IF(ISERROR(VLOOKUP(J122,'KAYIT LİSTESİ'!$B$4:$H$664,6,0)),\"\",(VLOOKUP(J122,'KAYIT LİSTESİ'!$B$4:$H$664,6,0)))","v":""}]
["3. SERİ",null,null,null,null,null,null,null,5,"YÜKSEK-5",{"$f":"IF(ISERROR(VLOOKUP(J123,'KAYIT LİSTESİ'!$B$4:$H$664,2,0)),\"\",(VLOOKUP(J123,'KAYIT LİSTESİ'!$B$4:$H$664,2,0)))","v":""},{"$f":"IF(ISERROR(VLOOKUP(J123,'KAYIT LİSTESİ'!$B$4:$H$664,4,0)),\"\",(VLOOKUP(J123,'KAYIT LİSTESİ'!$B$4:$H$664,4,0)))","v":""},{"$f":"IF(ISERROR(VLOOKUP(J123,'KAYIT LİSTESİ'!$B$4:$H$664,5,0)),\"\",(VLOOKUP(J123,'KAYIT LİSTESİ'!$B$4:$H$664,5,0)))","v":""},{"$f":"IF(ISERROR(VLOOKUP(J123,'KAYIT LİSTESİ'!$B$4:$H$664,6,0)),\"\",(VLOOKUP(J123,'KAYIT LİSTESİ'!$B$4:$H$664,6,0)))","v":""}]
["Sıra No","Formül","Göğüs No","Doğum Tarihi","Adı ve Soyadı","İli-Okulu","Start Kontrol",null,6,"YÜKSEK-6",{"$f":"IF(ISERROR(VLOOKUP(J124,'KAYIT LİSTESİ'!$B$4:$H$664,2,0)),\"\",(VLOOKUP(J124,'KAYIT LİSTESİ'!$B$4:$H$664,2,0)))","v":""},{"$f":"IF(ISERROR(VLOOKUP(J124,'KAYIT LİSTESİ'!$B$4:$H$664,4,0)),\"\",(VLOOKUP(J124,'KAYIT LİSTESİ'!$B$4:$H$664,4,0)))","v":""},{"$f":"IF(ISERROR(VLOOKUP(J124,'KAYIT LİSTESİ'!$B$4:$H$664,5,0)),\"\",(VLOOKUP(J124,'KAYIT LİSTESİ'!$B$4:$H$664,5,0)))","v":""},{"$f":"IF(ISERROR(VLOOKUP(J124,'KAYIT LİSTESİ'!$B$4:$H$664,6,0)),\"\",(VLOOKUP(J124,'KAYIT LİSTESİ'!$B$4:$H$664,6,0)))","v":""}]
[1,"300M.ENG-3-1",{"$f":"IF(ISERROR(VLOOKUP(B125,'KAYIT LİSTESİ'!$B$4:$H$664,2,0)),\"\",(VLOOKUP(B125,'KAYIT LİSTESİ'!$B$4:$H$664,2,0)))","v":""},{"$f":"IF(ISERROR(VLOOKUP(B125,'KAYIT LİSTESİ'!$B$4:$H$664,4,0)),\"\",(VLOOKUP(B125,'KAYIT LİSTESİ'!$B$4:$H$664,4,0)))","v":""},{"$f":"IF(ISERROR(VLOOKUP(B125,'KAYIT LİSTESİ'!$B$4:$H$664,5,0)),\"\",(VLOOKUP(B125,'KAYIT LİSTESİ'!$B$4:$H$664,5,0)))","v":""},{"$f":"IF(ISERROR(VLOOKUP(B125,'KAYIT LİSTESİ'!$B$4:$H$664,6,0)),\"\",(VLOOKUP(B125,'KAYIT LİSTESİ'!$B$4:$H$664,6,0)))","v":""},null,null,7,"YÜKSEK-7",{"$f":"IF(ISERROR(VLOOKUP(J125,'KAYIT LİSTESİ'!$B$4:$H$664,2,0)),\"\",(VLOOKUP(J125,'KAYIT LİSTESİ'!$B$4:$H$664,2,0)))","v":""},{"$f":"IF(ISERROR(VLOOKUP(J125,'KAYIT LİSTESİ'!$B$4:$H$664,4,0)),\"\",(VLOOKUP(J125,'KAYIT LİSTESİ'!$B$4:$H$664,4,0)))","v":""},{"$f":"IF(ISERROR(VLOOKUP(J125,'KAYIT LİSTESİ'!$B$4:$H$664,5,0)),\"\",(VLOOKUP(J125,'KAYIT LİSTESİ'!$B$4:$H$664,5,0)))","v":""},{"$f":"IF(ISERROR(VLOOKUP(J125,'KAYIT LİSTESİ'!$B$4:$H$664,6,0)),\"\",(VLOOKUP(J125,'KAYIT LİSTESİ'!$B$4:$H$664,6,0)))","v":""}]
[2,"300M.ENG-3-2",{"$f":"IF(ISERROR(VLOOKUP(B126,'KAYIT LİSTESİ'!$B$4:$H$664,2,0)),\"\",(VLOOKUP(B126,'KAYIT LİSTESİ'!$B$4:$H$664,2,0)))","v":""},{"$f":"IF(ISERROR(VLOOKUP(B126,'KAYIT LİSTESİ'!$B$4:$H$664,4,0)),\"\",(VLOOKUP(B126,'KAYIT LİSTESİ'!$B$4:$H$664,4,0)))","v":""},{"$f":"IF(ISERROR(VLOOKUP(B126,'KAYIT LİSTESİ'!$B$4:$H$664,5,0)),\"\",(VLOOKUP(B126,'KAYIT LİSTESİ'!$B$4:$H$664,5,0)))","v":""},{"$f":"IF(ISERROR(VLOOKUP(B126,'KAYIT LİSTESİ'!$B$4:$H$664,6,0)),\"\",(VLOOKUP(B126,'KAYIT LİSTESİ'!$B$4:$H$664,6,0)))","v":""},null,null,8,"YÜKSEK-8",{"$f":"IF(ISERROR(VLOOKUP(J126,'KAYIT LİSTESİ'!$B$4:$H$664,2,0)),\"\",(VLOOKUP(J126,'KAYIT LİSTESİ'!$B$4:$H$664,2,0)))","v":""},{"$f":"IF(ISERROR(VLOOKUP(J126,'KAYIT LİSTESİ'!$B$4:$H$664,4,0)),\"\",(VLOOKUP(J126,'KAYIT LİSTESİ'!$B$4:$H$664,4,0)))","v":""},{"$f":"IF(ISERROR(VLOOKUP(J126,'KAYIT LİSTESİ'!$B$4:$H$664,5,0)),\"\",(VLOOKUP(J126,'KAYIT LİSTESİ'!$B$4:$H$664,5,0)))","v":""},{"$f":"IF(ISERROR(VLOOKUP(J126,'KAYIT LİSTESİ'!$B$4:$H$664,6,0)),\"\",(VLOOKUP(J126,'KAYIT LİSTESİ'!$B$4:$H$664,6,0)))","v":""}]
[3,"300M.ENG-3-3",{"$f":"IF(ISERROR(VLOOKUP(B127,'KAYIT LİSTESİ'!$B$4:$H$664,2,0)),\"\",(VLOOKUP(B127,'KAYIT LİSTESİ'!$B$4:$H$664,2,0)))","v":""},{"$f":"IF(ISERROR(VLOOKUP(B127,'KAYIT LİSTESİ'!$B$4:$H$664,4,0)),\"\",(VLOOKUP(B127,'KAYIT LİSTESİ'!$B$4:$H$664,4,0)))","v":""},{"$f":"IF(ISERROR(VLOOKUP(B127,'KAYIT LİSTESİ'!$B$4:$H$664,5,0)),\"\",(VLOOKUP(B127,'KAYIT LİSTESİ'!$B$4:$H$664,5,0)))","v":""},{"$f":"IF(ISERROR(VLOOKUP(B127,'KAYIT LİSTESİ'!$B$4:$H$664,6,0)),\"\",(VLOOKUP(B127,'KAYIT LİSTESİ'!$B$4:$H$664,6,0)))","v":""},null,null,9,"YÜKSEK-9",{"$f":"IF(ISERROR(VLOOKUP(J127,'KAYIT LİSTESİ'!$B$4:$H$664,2,0)),\"\",(VLOOKUP(J127,'KAYIT LİSTESİ'!$B$4:$H$664,2,0)))","v":""},{"$f":"IF(ISERROR(VLOOKUP(J127,'KAYIT LİSTESİ'!$B$4:$H$664,4,0)),\"\",(VLOOKUP(J127,'KAYIT LİSTESİ'!$B$4:$H$664,4,0)))","v":""},{"$f":"IF(ISERROR(VLOOKUP(J127,'KAYIT LİSTESİ'!$B$4:$H$664,5,0)),\"\",(VLOOKUP(J127,'KAYIT LİSTESİ'!$B$4:$H$664,5,0)))","v":""},{"$f":"IF(ISERROR(VLOOKUP(J127,'KAYIT LİSTESİ'!$B$4:$H$664,6,0)),\"\",(VLOOKUP(J127,'KAYIT LİSTESİ'!$B$4:$H$664,6,0)))","v":""}]
[4,"300M.ENG-3-4",{"$f":"IF(ISERROR(VLOOKUP(B128,'KAYIT LİSTESİ'!$B$4:$H$664,2,0)),\"\",(VLOOKUP(B128,'KAYIT LİSTESİ'!$B$4:$H$664,2,0)))","v":""},{"$f":"IF(ISERROR(VLOOKUP(B128,'KAYIT LİSTESİ'!$B$4:$H$664,4,0)),\"\",(VLOOKUP(B128,'KAYIT LİSTESİ'!$B$4:$H$664,4,0)))","v":""},{"$f":"IF(ISERROR(VLOOKUP(B128,'KAYIT LİSTESİ'!$B$4:$H$664,5,0)),\"\",(VLOOKUP(B128,'KAYIT LİSTESİ'!$B$4:$H$664,5,0)))","v":""},{"$f":"IF(ISERROR(VLOOKUP(B128,'KAYIT LİSTESİ'!$B$4:$H$664,6,0)),\"\",(VLOOKUP(B128,'KAYIT LİSTESİ'!$B$4:$H$664,6,0)))","v":""},null,null,10,"YÜKSEK-10",{"$f":"IF(ISERROR(VLOOKUP(J128,'KAYIT LİSTESİ'!$B$4:$H$664,2,0)),\"\",(VLOOKUP(J128,'KAYIT LİSTESİ'!$B$4:$H$664,2,0)))","v":""},{"$f":"IF(ISERROR(VLOOKUP(J128,'KAYIT LİSTESİ'!$B$4:$H$664,4,0)),\"\",(VLOOKUP(J128,'KAYIT LİSTESİ'!$B$4:$H$664,4,0)))","v":""},{"$f":"IF(ISERROR(VLOOKUP(J128,'KAYIT LİSTESİ'!$B$4:$H$664,5,0)),\"\",(VLOOKUP(J128,'KAYIT LİSTESİ'!$B$4:$H$664,5,0)))","v":""},{"$f":"IF(ISERROR(VLOOKUP(J128,'KAYIT LİSTESİ'!$B$4:$H$664,6,0)),\"\",(VLOOKUP(J128,'KAYIT LİSTESİ'!$B$4:$H$664,6,0)))","v":""}]
[5,"300M.ENG-3-5",{"$f":"IF(ISERROR(VLOOKUP(B129,'KAYIT LİSTESİ'!$B$4:$H$664,2,0)),\"\",(VLOOKUP(B129,'KAYIT LİSTESİ'!$B$4:$H$664,2,0)))","v":""},{"$f":"IF(ISERROR(VLOOKUP(B129,'KAYIT LİSTESİ'!$B$4:$H$664,4,0)),\"\",(VLOOKUP(B129,'KAYIT LİSTESİ'!$B$4:$H$664,4,0)))","v":""},{"$f":"IF(ISERROR(VLOOKUP(B129,'KAYIT LİSTESİ'!$B$4:$H$664,5,0)),\"\",(VLOOKUP(B129,'KAYIT LİSTESİ'!$B$4:$H$664,5,0)))","v":""},{"$f":"IF(ISERROR(VLOOKUP(B129,'KAYIT LİSTESİ'!$B$4:$H$664,6,0)),\"\",(VLOOKUP(B129,'KAYIT LİSTESİ'!$B$4:$H$664,6,0)))","v":""},null,null,11,"YÜKSEK-11",{"$f":"IF(ISERROR(VLOOKUP(J129,'KAYIT LİSTESİ'!$B$4:$H$664,2,0)),\"\",(VLOOKUP(J129,'KAYIT LİSTESİ'!$B$4:$H$664,2,0)))","v":""},{"$f":"IF(ISERROR(VLOOKUP(J129,'KAYIT LİSTESİ'!$B$4:$H$664,4,0)),\"\",(VLOOKUP(J129,'KAYIT LİSTESİ'!$B$4:$H$664,4,0)))","v":""},{"$f":"IF(ISERROR(VLOOKUP(J129,'KAYIT LİSTESİ'!$B$4:$H$664,5,0)),\"\",(VLOOKUP(J129,'KAYIT LİSTESİ'!$B$4:$H$664,5,0)))","v":""},{"$f":"IF(ISERROR(VLOOKUP(J129,'KAYIT LİSTESİ'!$B$4:$H$664,6,0)),\"\",(VLOOKUP(J129,'KAYIT LİSTESİ'!$B$4:$H$664,6,0)))","v":""}]
[6,"300M.ENG-3-6",{"$f":"IF(ISERROR(VLOOKUP(B130,'KAYIT LİSTESİ'!$B$4:$H$664,2,0)),\"\",(VLOOKUP(B130,'KAYIT LİSTESİ'!$B$4:$H$664,2,0)))","v":""},{"$f":"IF(ISERROR(VLOOKUP(B130,'KAYIT LİSTESİ'!$B$4:$H$664,4,0)),\"\",(VLOOKUP(B130,'KAYIT LİSTESİ'!$B$4:$H$664,4,0)))","v":""},{"$f":"IF(ISERROR(VLOOKUP(B130,'KAYIT LİSTESİ'!$B$4:$H$664,5,0)),\"\",(VLOOKUP(B130,'KAYIT LİSTESİ'!$B$4:$H$664,5,0)))","v":""},{"$f":"IF(ISERROR(VLOOKUP(B130,'KAYIT LİSTESİ'!$B$4:$H$664,6,0)),\"\",(VLOOKUP(B130,'KAYIT LİSTESİ'!$B$4:$H$664,6,0)))","v":""},null,null,12,"YÜKSEK-12",{"$f":"IF(ISERROR(VLOOKUP(J130,'KAYIT LİSTESİ'!$B$4:$H$664,2,0)),\"\",(VLOOKUP(J130,'KAYIT LİSTESİ'!$B$4:$H$664,2,0)))","v":""},{"$f":"IF(ISERROR(VLOOKUP(J130,'KAYIT LİSTESİ'!$B$4:$H$664,4,0)),\"\",(VLOOKUP(J130,'KAYIT LİSTESİ'!$B$4:$H$664,4,0)))","v":""},{"$f":"IF(ISERROR(VLOOKUP(J130,'KAYIT LİSTESİ'!$B$4:$H$664,5,0)),\"\",(VLOOKUP(J130,'KAYIT LİSTESİ'!$B$4:$H$664,5,0)))","v":""},{"$f":"IF(ISERROR(VLOOKUP(J130,'KAYIT LİSTESİ'!$B$4:$H$664,6,0)),\"\",(VLOOKUP(J130,'KAYIT LİSTESİ'!$B$4:$H$664,6,0)))","v":""}]
[7,"300M.ENG-3-7",{"$f":"IF(ISERROR(VLOOKUP(B131,'KAYIT LİSTESİ'!$B$4:$H$664,2,0)),\"\",(VLOOKUP(B131,'KAYIT LİSTESİ'!$B$4:$H$664,2,0)))","v":""},{"$f":"IF(ISERROR(VLOOKUP(B131,'KAYIT LİSTESİ'!$B$4:$H$664,4,0)),\"\",(VLOOKUP(B131,'KAYIT LİSTESİ'!$B$4:$H$664,4,0)))","v":""},{"$f":"IF(ISERROR(VLOOKUP(B131,'KAYIT LİSTESİ'!$B$4:$H$664,5,0)),\"\",(VLOOKUP(B131,'KAYIT LİSTESİ'!$B$4:$H$664,5,0)))","v":""},{"$f":"IF(ISERROR(VLOOKUP(B131,'KAYIT LİSTESİ'!$B$4:$H$664,6,0)),\"\",(VLOOKUP(B131,'KAYIT LİSTESİ'!$B$4:$H$664,6,0)))","v":""},null,null,13,"YÜKSEK-13",{"$f":"IF(ISERROR(VLOOKUP(J131,'KAYIT LİSTESİ'!$B$4:$H$664,2,0)),\"\",(VLOOKUP(J131,'KAYIT LİSTESİ'!$B$4:$H$664,2,0)))","v":""},{"$f":"IF(ISERROR(VLOOKUP(J131,'KAYIT LİSTESİ'!$B$4:$H$664,4,0)),\"\",(VLOOKUP(J131,'KAYIT LİSTESİ'!$B$4:$H$664,4,0)))","v":""},{"$f":"IF(ISERROR(VLOOKUP(J131,'KAYIT LİSTESİ'!$B$4:$H$664,5,0)),\"\",(VLOOKUP(J131,'KAYIT LİSTESİ'!$B$4:$H$664,5,0)))","v":""},{"$f":"IF(ISERROR(VLOOKUP(J131,'KAYIT LİSTESİ'!$B$4:$H$664,6,0)),\"\",(VLOOKUP(J131,'KAYIT LİSTESİ'!$B$4:$H$664,6,0)))","v":""}]
[8,"300M.ENG-3-8",{"$f":"IF(ISERROR(VLOOKUP(B132,'KAYIT LİSTESİ'!$B$4:$H$664,2,0)),\"\",(VLOOKUP(B132,'KAYIT LİSTESİ'!$B$4:$H$664,2,0)))","v":""},{"$f":"IF(ISERROR(VLOOKUP(B132,'KAYIT LİSTESİ'!$B$4:$H$664,4,0)),\"\",(VLOOKUP(B132,'KAYIT LİSTESİ'!$B$4:$H$664,4,0)))","v":""},{"$f":"IF(ISERROR(VLOOKUP(B132,'KAYIT LİSTESİ'!$B$4:$H$664,5,0)),\"\",(VLOOKUP(B132,'KAYIT LİSTESİ'!$B$4:$H$664,5,0)))","v":""},{"$f":"IF(ISERROR(VLOOKUP(B132,'KAYIT LİSTESİ'!$B$4:$H$664,6,0)),\"\",(VLOOKUP(B132,'KAYIT LİSTESİ'!$B$4:$H$664,6,0)))","v":""},null,null,14,"YÜKSEK-14",{"$f":"IF(ISERROR(VLOOKUP(J132,'KAYIT LİSTESİ'!$B$4:$H$664,2,0)),\"\",(VLOOKUP(J132,'KAYIT LİSTESİ'!$B$4:$H$664,2,0)))","v":""},{"$f":"IF(ISERROR(VLOOKUP(J132,'KAYIT LİSTESİ'!$B$4:$H$664,4,0)),\"\",(VLOOKUP(J132,'KAYIT LİSTESİ'!$B$4:$H$664,4,0)))","v":""},{"$f":"IF(ISERROR(VLOOKUP(J132,'KAYIT LİSTESİ'!$B$4:$H$664,5,0)),\"\",(VLOOKUP(J132,'KAYIT LİSTESİ'!$B$4:$H$664,5,0)))","v":""},{"$f":"IF(ISERROR(VLOOKUP(J132,'KAYIT LİSTESİ'!$B$4:$H$664,6,0)),\"\",(VLOOKUP(J132,'KAYIT LİSTESİ'!$B$4:$H$664,6,0)))","v":""}]
["4. SERİ",null,null,null,null,null,null,null,15,"YÜKSEK-15",{"$f":"IF(ISERROR(VLOOKUP(J133,'KAYIT LİSTESİ'!$B$4:$H$664,2,0)),\"\",(VLOOKUP(J133,'KAYIT LİSTESİ'!$B$4:$H$664,2,0)))","v":""},{"$f":"IF(ISERROR(VLOOKUP(J133,'KAYIT LİSTESİ'!$B$4:$H$664,4,0)),\"\",(VLOOKUP(J133,'KAYIT LİSTESİ'!$B$4:$H$664,4,0)))","v":""},{"$f":"IF(ISERROR(VLOOKUP(J133,'KAYIT LİSTESİ'!$B$4:$H$664,5,0)),\"\",(VLOOKUP(J133,'KAYIT LİSTESİ'!$B$4:$H$664,5,0)))","v":""},{"$f":"IF(ISERROR(VLOOKUP(J133,'KAYIT LİSTESİ'!$B$4:$H$664,6,0)),\"\",(VLOOKUP(J133,'KAYIT LİSTESİ'!$B$4:$H$664,6,0)))","v":""}]
["Sıra No","Formül","Göğüs No","Doğum Tarihi","Adı ve Soyadı","İli-Okulu","Start Kontrol",null,16,"YÜKSEK-16",{"$f":"IF(ISERROR(VLOOKUP(J134,'KAYIT LİSTESİ'!$B$4:$H$664,2,0)),\"\",(VLOOKUP(J134,'KAYIT LİSTESİ'!$B$4:$H$664,2,0)))","v":""},{"$f":"IF(ISERROR(VLOOKUP(J134,'KAYIT LİSTESİ'!$B$4:$H$664,4,0)),\"\",(VLOOKUP(J134,'KAYIT LİSTESİ'!$B$4:$H$664,4,0)))","v":""},{"$f":"IF(ISERROR(VLOOKUP(J134,'KAYIT LİSTESİ'!$B$4:$H$664,5,0)),\"\",(VLOOKUP(J134,'KAYIT LİSTESİ'!$B$4:$H$664,5,0)))","v":""},{"$f":"IF(ISERROR(VLOOKUP(J134,'KAYIT LİSTESİ'!$B$4:$H$664,6,0)),\"\",(VLOOKUP(J134,'KAYIT LİSTESİ'!$B$4:$H$664,6,0)))","v":""}]
[1,"300M.ENG-4-1",{"$f":"IF(ISERROR(VLOOKUP(B135,'KAYIT LİSTESİ'!$B$4:$H$664,2,0)),\"\",(VLOOKUP(B135,'KAYIT LİSTESİ'!$B$4:$H$664,2,0)))","v":""},{"$f":"IF(ISERROR(VLOOKUP(B135,'KAYIT LİSTESİ'!$B$4:$H$664,4,0)),\"\",(VLOOKUP(B135,'KAYIT LİSTESİ'!$B$4:$H$664,4,0)))","v":""},{"$f":"IF(ISERROR(VLOOKUP(B135,'KAYIT LİSTESİ'!$B$4:$H$664,5,0)),\"\",(VLOOKUP(B135,'KAYIT LİSTESİ'!$B$4:$H$664,5,0)))","v":""},{"$f":"IF(ISERROR(VLOOKUP(B135,'KAYIT LİSTESİ'!$B$4:$H$664,6,0)),\"\",(VLOOKUP(B135,'KAYIT LİSTESİ'!$B$4:$H$664,6,0)))","v":""},null,null,17,"YÜKSEK-17",{"$f":"IF(ISERROR(VLOOKUP(J135,'KAYIT LİSTESİ'!$B$4:$H$664,2,0)),\"\",(VLOOKUP(J135,'KAYIT LİSTESİ'!$B$4:$H$664,2,0)))","v":""},{"$f":"IF(ISERROR(VLOOKUP(J135,'KAYIT LİSTESİ'!$B$4:$H$664,4,0)),\"\",(VLOOKUP(J135,'KAYIT LİSTESİ'!$B$4:$H$664,4,0)))","v":""},{"$f":"IF(ISERROR(VLOOKUP(J135,'KAYIT LİSTESİ'!$B$4:$H$664,5,0)),\"\",(VLOOKUP(J135,'KAYIT LİSTESİ'!$B$4:$H$664,5,0)))","v":""},{"$f":"IF(ISERROR(VLOOKUP(J135,'KAYIT LİSTESİ'!$B$4:$H$664,6,0)),\"\",(VLOOKUP(J135,'KAYIT LİSTESİ'!$B$4:$H$664,6,0)))","v":""}]
[2,"300M.ENG-4-2",{"$f":"IF(ISERROR(VLOOKUP(B136,'KAYIT LİSTESİ'!$B$4:$H$664,2,0)),\"\",(VLOOKUP(B136,'KAYIT LİSTESİ'!$B$4:$H$664,2,0)))","v":""},{"$f":"IF(ISERROR(VLOOKUP(B136,'KAYIT LİSTESİ'!$B$4:$H$664,4,0)),\"\",(VLOOKUP(B136,'KAYIT LİSTESİ'!$B$4:$H$664,4,0)))","v":""},{"$f":"IF(ISERROR(VLOOKUP(B136,'KAYIT LİSTESİ'!$B$4:$H$664,5,0)),\"\",(VLOOKUP(B136,'KAYIT LİSTESİ'!$B$4:$H$664,5,0)))","v":""},{"$f":"IF(ISERROR(VLOOKUP(B136,'KAYIT LİSTESİ'!$B$4:$H$664,6,0)),\"\",(VLOOKUP(B136,'KAYIT LİSTESİ'!$B$4:$H$664,6,0)))","v":""},null,null,18,"YÜKSEK-18",{"$f":"IF(ISERROR(VLOOKUP(J136,'KAYIT LİSTESİ'!$B$4:$H$664,2,0)),\"\",(VLOOKUP(J136,'KAYIT LİSTESİ'!$B$4:$H$664,2,0)))","v":""},{"$f":"IF(ISERROR(VLOOKUP(J136,'KAYIT LİSTESİ'!$B$4:$H$664,4,0)),\"\",(VLOOKUP(J136,'KAYIT LİSTESİ'!$B$4:$H$664,4,0)))","v":""},{"$f":"IF(ISERROR(VLOOKUP(J136,'KAYIT LİSTESİ'!$B$4:$H$664,5,0)),\"\",(VLOOKUP(J136,'KAYIT LİSTESİ'!$B$4:$H$664,5,0)))","v":""},{"$f":"IF(ISERROR(VLOOKUP(J136,'KAYIT LİSTESİ'!$B$4:$H$664,6,0)),\"\",(VLOOKUP(J136,'KAYIT LİSTESİ'!$B$4:$H$664,6,0)))","v":""}]
[3,"300M.ENG-4-3",{"$f":"IF(ISERROR(VLOOKUP(B137,'KAYIT LİSTESİ'!$B$4:$H$664,2,0)),\"\",(VLOOKUP(B137,'KAYIT LİSTESİ'!$B$4:$H$664,2,0)))","v":""},{"$f":"IF(ISERROR(VLOOKUP(B137,'KAYIT LİSTESİ'!$B$4:$H$664,4,0)),\"\",(VLOOKUP(B137,'KAYIT LİSTESİ'!$B$4:$H$664,4,0)))","v":""},{"$f":"IF(ISERROR(VLOOKUP(B137,'KAYIT LİSTESİ'!$B$4:$H$664,5,0)),\"\",(VLOOKUP(B137,'KAYIT LİSTESİ'!$B$4:$H$664,5,0)))","v":""},{"$f":"IF(ISERROR(VLOOKUP(B137,'KAYIT LİSTESİ'!$B$4:$H$664,6,0)),\"\",(VLOOKUP(B137,'KAYIT LİSTESİ'!$B$4:$H$664,6,0)))","v":""},null,null,19,"YÜKSEK-19",{"$f":"IF(ISERROR(VLOOKUP(J137,'KAYIT LİSTESİ'!$B$4:$H$664,2,0)),\"\",(VLOOKUP(J137,'KAYIT LİSTESİ'!$B$4:$H$664,2,0)))","v":""},{"$f":"IF(ISERROR(VLOOKUP(J137,'KAYIT LİSTESİ'!$B$4:$H$664,4,0)),\"\",(VLOOKUP(J137,'KAYIT LİSTESİ'!$B$4:$H$664,4,0)))","v":""},{"$f":"IF(ISERROR(VLOOKUP(J137,'KAYIT LİSTESİ'!$B$4:$H$664,5,0)),\"\",(VLOOKUP(J137,'KAYIT LİSTESİ'!$B$4:$H$664,5,0)))","v":""},{"$f":"IF(ISERROR(VLOOKUP(J137,'KAYIT LİSTESİ'!$B$4:$H$664,6,0)),\"\",(VLOOKUP(J137,'KAYIT LİSTESİ'!$B$4:$H$664,6,0)))","v":""}]
[4,"300M.ENG-4-4",{"$f":"IF(ISERROR(VLOOKUP(B138,'KAYIT LİSTESİ'!$B$4:$H$664,2,0)),\"\",(VLOOKUP(B138,'KAYIT LİSTESİ'!$B$4:$H$664,2,0)))","v":""},{"$f":"IF(ISERROR(VLOOKUP(B138,'KAYIT LİSTESİ'!$B$4:$H$664,4,0)),\"\",(VLOOKUP(B138,'KAYIT LİSTESİ'!$B$4:$H$664,4,0)))","v":""},{"$f":"IF(ISERROR(VLOOKUP(B138,'KAYIT LİSTESİ'!$B$4:$H$664,5,0)),\"\",(VLOOKUP(B138,'KAYIT LİSTESİ'!$B$4:$H$664,5,0)))","v":""},{"$f":"IF(ISERROR(VLOOKUP(B138,'KAYIT LİSTESİ'!$B$4:$H$664,6,0)),\"\",(VLOOKUP(B138,'KAYIT LİSTESİ'!$B$4:$H$664,6,0)))","v":""},null,null,20,"YÜKSEK-20",{"$f":"IF(ISERROR(VLOOKUP(J138,'KAYIT LİSTESİ'!$B$4:$H$664,2,0)),\"\",(VLOOKUP(J138,'KAYIT LİSTESİ'!$B$4:$H$664,2,0)))","v":""},{"$f":"IF(ISERROR(VLOOKUP(J138,'KAYIT LİSTESİ'!$B$4:$H$664,4,0)),\"\",(VLOOKUP(J138,'KAYIT LİSTESİ'!$B$4:$H$664,4,0)))","v":""},{"$f":"IF(ISERROR(VLOOKUP(J138,'KAYIT LİSTESİ'!$B$4:$H$664,5,0)),\"\",(VLOOKUP(J138,'KAYIT LİSTESİ'!$B$4:$H$664,5,0)))","v":""},{"$f":"IF(ISERROR(VLOOKUP(J138,'KAYIT LİSTESİ'!$B$4:$H$664,6,0)),\"\",(VLOOKUP(J138,'KAYIT LİSTESİ'!$B$4:$H$664,6,0)))","v":""}]
[5,"300M.ENG-4-5",{"$f":"IF(ISERROR(VLOOKUP(B139,'KAYIT LİSTESİ'!$B$4:$H$664,2,0)),\"\",(VLOOKUP(B139,'KAYIT LİSTESİ'!$B$4:$H$664,2,0)))","v":""},{"$f":"IF(ISERROR(VLOOKUP(B139,'KAYIT LİSTESİ'!$B$4:$H$664,4,0)),\"\",(VLOOKUP(B139,'KAYIT LİSTESİ'!$B$4:$H$664,4,0)))","v":""},{"$f":"IF(ISERROR(VLOOKUP(B139,'KAYIT LİSTESİ'!$B$4:$H$664,5,0)),\"\",(VLOOKUP(B139,'KAYIT LİSTESİ'!$B$4:$H$664,5,0)))","v":""},{"$f":"IF(ISERROR(VLOOKUP(B139,'KAYIT LİSTESİ'!$B$4:$H$664,6,0)),\"\",(VLOOKUP(B139,'KAYIT LİSTESİ'!$B$4:$H$664,6,0)))","v":""},null,null,21,"YÜKSEK-21",{"$f":"IF(ISERROR(VLOOKUP(J139,'KAYIT LİSTESİ'!$B$4:$H$664,2,0)),\"\",(VLOOKUP(J139,'KAYIT LİSTESİ'!$B$4:$H$664,2,0)))","v":""},{"$f":"IF(ISERROR(VLOOKUP(J139,'KAYIT LİSTESİ'!$B$4:$H$664,4,0)),\"\",(VLOOKUP(J139,'KAYIT LİSTESİ'!$B$4:$H$664,4,0)))","v":""},{"$f":"IF(ISERROR(VLOOKUP(J139,'KAYIT LİSTESİ'!$B$4:$H$664,5,0)),\"\",(VLOOKUP(J139,'KAYIT LİSTESİ'!$B$4:$H$664,5,0)))","v":""},{"$f":"IF(ISERROR(VLOOKUP(J139,'KAYIT LİSTESİ'!$B$4:$H$664,6,0)),\"\",(VLOOKUP(J139,'KAYIT LİSTESİ'!$B$4:$H$664,6,0)))","v":""}]
[6,"300M.ENG-4-6",{"$f":"IF(ISERROR(VLOOKUP(B140,'KAYIT LİSTESİ'!$B$4:$H$664,2,0)),\"\",(VLOOKUP(B140,'KAYIT LİSTESİ'!$B$4:$H$664,2,0)))","v":""},{"$f":"IF(ISERROR(VLOOKUP(B140,'KAYIT LİSTESİ'!$B$4:$H$664,4,0)),\"\",(VLOOKUP(B140,'KAYIT LİSTESİ'!$B$4:$H$664,4,0)))","v":""},{"$f":"IF(ISERROR(VLOOKUP(B140,'KAYIT LİSTESİ'!$B$4:$H$664,5,0)),\"\",(VLOOKUP(B140,'KAYIT LİSTESİ'!$B$4:$H$664,5,0)))","v":""},{"$f":"IF(ISERROR(VLOOKUP(B140,'KAYIT LİSTESİ'!$B$4:$H$664,6,0)),\"\",(VLOOKUP(B140,'KAYIT LİSTESİ'!$B$4:$H$664,6,0)))","v":""},null,null,22,"YÜKSEK-22",{"$f":"IF(ISERROR(VLOOKUP(J140,'KAYIT LİSTESİ'!$B$4:$H$664,2,0)),\"\",(VLOOKUP(J140,'KAYIT LİSTESİ'!$B$4:$H$664,2,0)))","v":""},{"$f":"IF(ISERROR(VLOOKUP(J140,'KAYIT LİSTESİ'!$B$4:$H$664,4,0)),\"\",(VLOOKUP(J140,'KAYIT LİSTESİ'!$B$4:$H$664,4,0)))","v":""},{"$f":"IF(ISERROR(VLOOKUP(J140,'KAYIT LİSTESİ'!$B$4:$H$664,5,0)),\"\",(VLOOKUP(J140,'KAYIT LİSTESİ'!$B$4:$H$664,5,0)))","v":""},{"$f":"IF(ISERROR(VLOOKUP(J140,'KAYIT LİSTESİ'!$B$4:$H$664,6,0)),\"\",(VLOOKUP(J140,'KAYIT LİSTESİ'!$B$4:$H$664,6,0)))","v":""}]
[7,"300M.ENG-4-7",{"$f":"IF(ISERROR(VLOOKUP(B141,'KAYIT LİSTESİ'!$B$4:$H$664,2,0)),\"\",(VLOOKUP(B141,'KAYIT LİSTESİ'!$B$4:$H$664,2,0)))","v":""},{"$f":"IF(ISERROR(VLOOKUP(B141,'KAYIT LİSTESİ'!$B$4:$H$664,4,0)),\"\",(VLOOKUP(B141,'KAYIT LİSTESİ'!$B$4:$H$664,4,0)))","v":""},{"$f":"IF(ISERROR(VLOOKUP(B141,'KAYIT LİSTESİ'!$B$4:$H$664,5,0)),\"\",(VLOOKUP(B141,'KAYIT LİSTESİ'!$B$4:$H$664,5,0)))","v":""},{"$f":"IF(ISERROR(VLOOKUP(B141,'KAYIT LİSTESİ'!$B$4:$H$664,6,0)),\"\",(VLOOKUP(B141,'KAYIT LİSTESİ'!$B$4:$H$664,6,0)))","v":""},null,null,23,"YÜKSEK-23",{"$f":"IF(ISERROR(VLOOKUP(J141,'KAYIT LİSTESİ'!$B$4:$H$664,2,0)),\"\",(VLOOKUP(J141,'KAYIT LİSTESİ'!$B$4:$H$664,2,0)))","v":""},{"$f":"IF(ISERROR(VLOOKUP(J141,'KAYIT LİSTESİ'!$B$4:$H$664,4,0)),\"\",(VLOOKUP(J141,'KAYIT LİSTESİ'!$B$4:$H$664,4,0)))","v":""},{"$f":"IF(ISERROR(VLOOKUP(J141,'KAYIT LİSTESİ'!$B$4:$H$664,5,0)),\"\",(VLOOKUP(J141,'KAYIT LİSTESİ'!$B$4:$H$664,5,0)))","v":""},{"$f":"IF(ISERROR(VLOOKUP(J141,'KAYIT LİSTESİ'!$B$4:$H$664,6,0)),\"\",(VLOOKUP(J141,'KAYIT LİSTESİ'!$B$4:$H$664,6,0)))","v":""}]
[8,"300M.ENG-4-8",{"$f":"IF(ISERROR(VLOOKUP(B142,'KAYIT LİSTESİ'!$B$4:$H$664,2,0)),\"\",(VLOOKUP(B142,'KAYIT LİSTESİ'!$B$4:$H$664,2,0)))","v":""},{"$f":"IF(ISERROR(VLOOKUP(B142,'KAYIT LİSTESİ'!$B$4:$H$664,4,0)),\"\",(VLOOKUP(B142,'KAYIT LİSTESİ'!$B$4:$H$664,4,0)))","v":""},{"$f":"IF(ISERROR(VLOOKUP(B142,'KAYIT LİSTESİ'!$B$4:$H$664,5,0)),\"\",(VLOOKUP(B142,'KAYIT LİSTESİ'!$B$4:$H$664,5,0)))","v":""},{"$f":"IF(ISERROR(VLOOKUP(B142,'KAYIT LİSTESİ'!$B$4:$H$664,6,0)),\"\",(VLOOKUP(B142,'KAYIT LİSTESİ'!$B$4:$H$664,6,0)))","v":""},null,null,24,"YÜKSEK-24",{"$f":"IF(ISERROR(VLOOKUP(J142,'KAYIT LİSTESİ'!$B$4:$H$664,2,0)),\"\",(VLOOKUP(J142,'KAYIT LİSTESİ'!$B$4:$H$664,2,0)))","v":""},{"$f":"IF(ISERROR(VLOOKUP(J142,'KAYIT LİSTESİ'!$B$4:$H$664,4,0)),\"\",(VLOOKUP(J142,'KAYIT LİSTESİ'!$B$4:$H$664,4,0)))","v":""},{"$f":"IF(ISERROR(VLOOKUP(J142,'KAYIT LİSTESİ'!$B$4:$H$664,5,0)),\"\",(VLOOKUP(J142,'KAYIT LİSTESİ'!$B$4:$H$664,5,0)))","v":""},{"$f":"IF(ISERROR(VLOOKUP(J142,'KAYIT LİSTESİ'!$B$4:$H$664,6,0)),\"\",(VLOOKUP(J142,'KAYIT LİSTESİ'!$B$4:$H$664,6,0)))","v":""}]
[null,null,null,null,null,null,null,null,25,"YÜKSEK-25",{"$f":"IF(ISERROR(VLOOKUP(J143,'KAYIT LİSTESİ'!$B$4:$H$664,2,0)),\"\",(VLOOKUP(J143,'KAYIT LİSTESİ'!$B$4:$H$664,2,0)))","v":""},{"$f":"IF(ISERROR(VLOOKUP(J143,'KAYIT LİSTESİ'!$B$4:$H$664,4,0)),\"\",(VLOOKUP(J143,'KAYIT LİSTESİ'!$B$4:$H$664,4,0)))","v":""},{"$f":"IF(ISERROR(VLOOKUP(J143,'KAYIT LİSTESİ'!$B$4:$H$664,5,0)),\"\",(VLOOKUP(J143,'KAYIT LİSTESİ'!$B$4:$H$664,5,0)))","v":""},{"$f":"IF(ISERROR(VLOOKUP(J143,'KAYIT LİSTESİ'!$B$4:$H$664,6,0)),\"\",(VLOOKUP(J143,'KAYIT LİSTESİ'!$B$4:$H$664,6,0)))","v":""}]
[null,null,null,null,null,null,null,null,26,"YÜKSEK-26",{"$f":"IF(ISERROR(VLOOKUP(J144,'KAYIT LİSTESİ'!$B$4:$H$664,2,0)),\"\",(VLOOKUP(J144,'KAYIT LİSTESİ'!$B$4:$H$664,2,0)))","v":""},{"$f":"IF(ISERROR(VLOOKUP(J144,'KAYIT LİSTESİ'!$B$4:$H$664,4,0)),\"\",(VLOOKUP(J144,'KAYIT LİSTESİ'!$B$4:$H$664,4,0)))","v":""},{"$f":"IF(ISERROR(VLOOKUP(J144,'KAYIT LİSTESİ'!$B$4:$H$664,5,0)),\"\",(VLOOKUP(J144,'KAYIT LİSTESİ'!$B$4:$H$664,5,0)))","v":""},{"$f":"IF(ISERROR(VLOOKUP(J144,'KAYIT LİSTESİ'!$B$4:$H$664,6,0)),\"\",(VLOOKUP(J144,'KAYIT LİSTESİ'!$B$4:$H$664,6,0)))","v":""}]
[null,null,null,null,null,null,null,null,27,"YÜKSEK-27",{"$f":"IF(ISERROR(VLOOKUP(J145,'KAYIT LİSTESİ'!$B$4:$H$664,2,0)),\"\",(VLOOKUP(J145,'KAYIT LİSTESİ'!$B$4:$H$664,2,0)))","v":""},{"$f":"IF(ISERROR(VLOOKUP(J145,'KAYIT LİSTESİ'!$B$4:$H$664,4,0)),\"\",(VLOOKUP(J145,'KAYIT LİSTESİ'!$B$4:$H$664,4,0)))","v":""},{"$f":"IF(ISERROR(VLOOKUP(J145,'KAYIT LİSTESİ'!$B$4:$H$664,5,0)),\"\",(VLOOKUP(J145,'KAYIT LİSTESİ'!$B$4:$H$664,5,0)))","v":""},{"$f":"IF(ISERROR(VLOOKUP(J145,'KAYIT LİSTESİ'!$B$4:$H$664,6,0)),\"\",(VLOOKUP(J145,'KAYIT LİSTESİ'!$B$4:$H$664,6,0)))","v":""}]
[null,null,null,null,null,null,null,null,28,"YÜKSEK-28",{"$f":"IF(ISERROR(VLOOKUP(J146,'KAYIT LİSTESİ'!$B$4:$H$664,2,0)),\"\",(VLOOKUP(J146,'KAYIT LİSTESİ'!$B$4:$H$664,2,0)))","v":""},{"$f":"IF(ISERROR(VLOOKUP(J146,'KAYIT LİSTESİ'!$B$4:$H$664,4,0)),\"\",(VLOOKUP(J146,'KAYIT LİSTESİ'!$B$4:$H$664,4,0)))","v":""},{"$f":"IF(ISERROR(VLOOKUP(J146,'KAYIT LİSTESİ'!$B$4:$H$664,5,0)),\"\",(VLOOKUP(J146,'KAYIT LİSTESİ'!$B$4:$H$664,5,0)))","v":""},{"$f":"IF(ISERROR(VLOOKUP(J146,'KAYIT LİSTESİ'!$B$4:$H$664,6,0)),\"\",(VLOOKUP(J146,'KAYIT LİSTESİ'!$B$4:$H$664,6,0)))","v":""}]
[null,null,null,null,null,null,null,null,29,"YÜKSEK-29",{"$f":"IF(ISERROR(VLOOKUP(J147,'KAYIT LİSTESİ'!$B$4:$H$664,2,0)),\"\",(VLOOKUP(J147,'KAYIT LİSTESİ'!$B$4:$H$664,2,0)))","v":""},{"$f":"IF(ISERROR(VLOOKUP(J147,'KAYIT LİSTESİ'!$B$4:$H$664,4,0)),\"\",(VLOOKUP(J147,'KAYIT LİSTESİ'!$B$4:$H$664,4,0)))","v":""},{"$f":"IF(ISERROR(VLOOKUP(J147,'KAYIT LİSTESİ'!$B$4:$H$664,5,0)),\"\",(VLOOKUP(J147,'KAYIT LİSTESİ'!$B$4:$H$664,5,0)))","v":""},{"$f":"IF(ISERROR(VLOOKUP(J147,'KAYIT LİSTESİ'!$B$4:$H$664,6,0)),\"\",(VLOOKUP(J147,'KAYIT LİSTESİ'!$B$4:$H$664,6,0)))","v":""}]
[null,null,null,null,null,null,null,null,30,"YÜKSEK-30",{"$f":"IF(ISERROR(VLOOKUP(J148,'KAYIT LİSTESİ'!$B$4:$H$664,2,0)),\"\",(VLOOKUP(J148,'KAYIT LİSTESİ'!$B$4:$H$664,2,0)))","v":""},{"$f":"IF(ISERROR(VLOOKUP(J148,'KAYIT LİSTESİ'!$B$4:$H$664,4,0)),\"\",(VLOOKUP(J148,'KAYIT LİSTESİ'!$B$4:$H$664,4,0)))","v":""},{"$f":"IF(ISERROR(VLOOKUP(J148,'KAYIT LİSTESİ'!$B$4:$H$664,5,0)),\"\",(VLOOKUP(J148,'KAYIT LİSTESİ'!$B$4:$H$664,5,0)))","v":""},{"$f":"IF(ISERROR(VLOOKUP(J148,'KAYIT LİSTESİ'!$B$4:$H$664,6,0)),\"\",(VLOOKUP(J148,'KAYIT LİSTESİ'!$B$4:$H$664,6,0)))","v":""}]
[null,null,null,null,null,null,null,null,31,"YÜKSEK-31",{"$f":"IF(ISERROR(VLOOKUP(J149,'KAYIT LİSTESİ'!$B$4:$H$664,2,0)),\"\",(VLOOKUP(J149,'KAYIT LİSTESİ'!$B$4:$H$664,2,0)))","v":""},{"$f":"IF(ISERROR(VLOOKUP(J149,'KAYIT LİSTESİ'!$B$4:$H$664,4,0)),\"\",(VLOOKUP(J149,'KAYIT LİSTESİ'!$B$4:$H$664,4,0)))","v":""},{"$f":"IF(ISERROR(VLOOKUP(J149,'KAYIT LİSTESİ'!$B$4:$H$664,5,0)),\"\",(VLOOKUP(J149,'KAYIT LİSTESİ'!$B$4:$H$664,5,0)))","v":""},{"$f":"IF(ISERROR(VLOOKUP(J149,'KAYIT LİSTESİ'!$B$4:$H$664,6,0)),\"\",(VLOOKUP(J149,'KAYIT LİSTESİ'!$B$4:$H$664,6,0)))","v":""}]
[null,null,null,null,null,null,null,null,32,"YÜKSEK-32",{"$f":"IF(ISERROR(VLOOKUP(J150,'KAYIT LİSTESİ'!$B$4:$H$664,2,0)),\"\",(VLOOKUP(J150,'KAYIT LİSTESİ'!$B$4:$H$664,2,0)))","v":""},{"$f":"IF(ISERROR(VLOOKUP(J150,'KAYIT LİSTESİ'!$B$4:$H$664,4,0)),\"\",(VLOOKUP(J150,'KAYIT LİSTESİ'!$B$4:$H$664,4,0)))","v":""},{"$f":"IF(ISERROR(VLOOKUP(J150,'KAYIT LİSTESİ'!$B$4:$H$664,5,0)),\"\",(VLOOKUP(J150,'KAYIT LİSTESİ'!$B$4:$H$664,5,0)))","v":""},{"$f":"IF(ISERROR(VLOOKUP(J150,'KAYIT LİSTESİ'!$B$4:$H$664,6,0)),\"\",(VLOOKUP(J150,'KAYIT LİSTESİ'!$B$4:$H$664,6,0)))","v":""}]
[null,null,null,null,null,null,null,null,33,"YÜKSEK-33",{"$f":"IF(ISERROR(VLOOKUP(J151,'KAYIT LİSTESİ'!$B$4:$H$664,2,0)),\"\",(VLOOKUP(J151,'KAYIT LİSTESİ'!$B$4:$H$664,2,0)))","v":""},{"$f":"IF(ISERROR(VLOOKUP(J151,'KAYIT LİSTESİ'!$B$4:$H$664,4,0)),\"\",(VLOOKUP(J151,'KAYIT LİSTESİ'!$B$4:$H$664,4,0)))","v":""},{"$f":"IF(ISERROR(VLOOKUP(J151,'KAYIT LİSTESİ'!$B$4:$H$664,5,0)),\"\",(VLOOKUP(J151,'KAYIT LİSTESİ'!$B$4:$H$664,5,0)))","v":""},{"$f":"IF(ISERROR(VLOOKUP(J151,'KAYIT LİSTESİ'!$B$4:$H$664,6,0)),\"\",(VLOOKUP(J151,'KAYIT LİSTESİ'!$B$4:$H$664,6,0)))","v":""}]
[null,null,null,null,null,null,null,null,34,"YÜKSEK-34",{"$f":"IF(ISERROR(VLOOKUP(J152,'KAYIT LİSTESİ'!$B$4:$H$664,2,0)),\"\",(VLOOKUP(J152,'KAYIT LİSTESİ'!$B$4:$H$664,2,0)))","v":""},{"$f":"IF(ISERROR(VLOOKUP(J152,'KAYIT LİSTESİ'!$B$4:$H$664,4,0)),\"\",(VLOOKUP(J152,'KAYIT LİSTESİ'!$B$4:$H$664,4,0)))","v":""},{"$f":"IF(ISERROR(VLOOKUP(J152,'KAYIT LİSTESİ'!$B$4:$H$664,5,0)),\"\",(VLOOKUP(J152,'KAYIT LİSTESİ'!$B$4:$H$664,5,0)))","v":""},{"$f":"IF(ISERROR(VLOOKUP(J152,'KAYIT LİSTESİ'!$B$4:$H$664,6,0)),\"\",(VLOOKUP(J152,'KAYIT LİSTESİ'!$B$4:$H$664,6,0)))","v":""}]
[null,null,null,null,null,null,null,null,35,"YÜKSEK-35",{"$f":"IF(ISERROR(VLOOKUP(J153,'KAYIT LİSTESİ'!$B$4:$H$664,2,0)),\"\",(VLOOKUP(J153,'KAYIT LİSTESİ'!$B$4:$H$664,2,0)))","v":""},{"$f":"IF(ISERROR(VLOOKUP(J153,'KAYIT LİSTESİ'!$B$4:$H$664,4,0)),\"\",(VLOOKUP(J153,'KAYIT LİSTESİ'!$B$4:$H$664,4,0)))","v":""},{"$f":"IF(ISERROR(VLOOKUP(J153,'KAYIT LİSTESİ'!$B$4:$H$664,5,0)),\"\",(VLOOKUP(J153,'KAYIT LİSTESİ'!$B$4:$H$664,5,0)))","v":""},{"$f":"IF(ISERROR(VLOOKUP(J153,'KAYIT LİSTESİ'!$B$4:$H$664,6,0)),\"\",(VLOOKUP(J153,'KAYIT LİSTESİ'!$B$4:$H$664,6,0)))","v":""}]
[null,null,null,null,null,null,null,null,36,"YÜKSEK-36",{"$f":"IF(ISERROR(VLOOKUP(J154,'KAYIT LİSTESİ'!$B$4:$H$664,2,0)),\"\",(VLOOKUP(J154,'KAYIT LİSTESİ'!$B$4:$H$664,2,0)))","v":""},{"$f":"IF(ISERROR(VLOOKUP(J154,'KAYIT LİSTESİ'!$B$4:$H$664,4,0)),\"\",(VLOOKUP(J154,'KAYIT LİSTESİ'!$B$4:$H$664,4,0)))","v":""},{"$f":"IF(ISERROR(VLOOKUP(J154,'KAYIT LİSTESİ'!$B$4:$H$664,5,0)),\"\",(VLOOKUP(J154,'KAYIT LİSTESİ'!$B$4:$H$664,5,0)))","v":""},{"$f":"IF(ISERROR(VLOOKUP(J154,'KAYIT LİSTESİ'!$B$4:$H$664,6,0)),\"\",(VLOOKUP(J154,'KAYIT LİSTESİ'!$B$4:$H$664,6,0)))","v":""}]
[null,null,null,null,null,null,null,null,37,"YÜKSEK-37",{"$f":"IF(ISERROR(VLOOKUP(J155,'KAYIT LİSTESİ'!$B$4:$H$664,2,0)),\"\",(VLOOKUP(J155,'KAYIT LİSTESİ'!$B$4:$H$664,2,0)))","v":""},{"$f":"IF(ISERROR(VLOOKUP(J155,'KAYIT LİSTESİ'!$B$4:$H$664,4,0)),\"\",(VLOOKUP(J155,'KAYIT LİSTESİ'!$B$4:$H$664,4,0)))","v":""},{"$f":"IF(ISERROR(VLOOKUP(J155,'KAYIT LİSTESİ'!$B$4:$H$664,5,0)),\"\",(VLOOKUP(J155,'KAYIT LİSTESİ'!$B$4:$H$664,5,0)))","v":""},{"$f":"IF(ISERROR(VLOOKUP(J155,'KAYIT LİSTESİ'!$B$4:$H$664,6,0)),\"\",(VLOOKUP(J155,'KAYIT LİSTESİ'!$B$4:$H$664,6,0)))","v":""}]
[null,null,null,null,null,null,null,null,38,"YÜKSEK-38",{"$f":"IF(ISERROR(VLOOKUP(J156,'KAYIT LİSTESİ'!$B$4:$H$664,2,0)),\"\",(VLOOKUP(J156,'KAYIT LİSTESİ'!$B$4:$H$664,2,0)))","v":""},{"$f":"IF(ISERROR(VLOOKUP(J156,'KAYIT LİSTESİ'!$B$4:$H$664,4,0)),\"\",(VLOOKUP(J156,'KAYIT LİSTESİ'!$B$4:$H$664,4,0)))","v":""},{"$f":"IF(ISERROR(VLOOKUP(J156,'KAYIT LİSTESİ'!$B$4:$H$664,5,0)),\"\",(VLOOKUP(J156,'KAYIT LİSTESİ'!$B$4:$H$664,5,0)))","v":""},{"$f":"IF(ISERROR(VLOOKUP(J156,'KAYIT LİSTESİ'!$B$4:$H$664,6,0)),\"\",(VLOOKUP(J156,'KAYIT LİSTESİ'!$B$4:$H$664,6,0)))","v":""}]
[null,null,null,null,null,null,null,null,39,"YÜKSEK-39",{"$f":"IF(ISERROR(VLOOKUP(J157,'KAYIT LİSTESİ'!$B$4:$H$664,2,0)),\"\",(VLOOKUP(J157,'KAYIT LİSTESİ'!$B$4:$H$664,2,0)))","v":""},{"$f":"IF(ISERROR(VLOOKUP(J157,'KAYIT LİSTESİ'!$B$4:$H$664,4,0)),\"\",(VLOOKUP(J157,'KAYIT LİSTESİ'!$B$4:$H$664,4,0)))","v":""},{"$f":"IF(ISERROR(VLOOKUP(J157,'KAYIT LİSTESİ'!$B$4:$H$664,5,0)),\"\",(VLOOKUP(J157,'KAYIT LİSTESİ'!$B$4:$H$664,5,0)))","v":""},{"$f":"IF(ISERROR(VLOOKUP(J157,'KAYIT LİSTESİ'!$B$4:$H$664,6,0)),\"\",(VLOOKUP(J157,'KAYIT LİSTESİ'!$B$4:$H$664,6,0)))","v":""}]
[null,null,null,null,null,null,null,null,40,"YÜKSEK-40",{"$f":"IF(ISERROR(VLOOKUP(J158,'KAYIT LİSTESİ'!$B$4:$H$664,2,0)),\"\",(VLOOKUP(J158,'KAYIT LİSTESİ'!$B$4:$H$664,2,0)))","v":""},{"$f":"IF(ISERROR(VLOOKUP(J158,'KAYIT LİSTESİ'!$B$4:$H$664,4,0)),\"\",(VLOOKUP(J158,'KAYIT LİSTESİ'!$B$4:$H$664,4,0)))","v":""},{"$f":"IF(ISERROR(VLOOKUP(J158,'KAYIT LİSTESİ'!$B$4:$H$664,5,0)),\"\",(VLOOKUP(J158,'KAYIT LİSTESİ'!$B$4:$H$664,5,0)))","v":""},{"$f":"IF(ISERROR(VLOOKUP(J158,'KAYIT LİSTESİ'!$B$4:$H$664,6,0)),\"\",(VLOOKUP(J158,'KAYIT LİSTESİ'!$B$4:$H$664,6,0)))","v":""}]
["İSVEÇ BAYRAK",null,null,null,null,null,null,null,"İSVEÇ BAYRAK"]
["1. SERİ",null,null,null,null,null,null,null,"3. SERİ"]
["Sıra No","Formül","Göğüs No","Doğum Tarihi","Adı ve Soyadı","İli-Okulu","Start Kontrol",null,"Sıra No","Formül","Göğüs No","Doğum Tarihi","Adı ve Soyadı","İli-Okulu","Start Kontrol"]
[1,"İSVEÇ-1-1",{"$f":"IF(ISERROR(VLOOKUP(B162,'KAYIT LİSTESİ'!$B$4:$H$664,2,0)),\"\",(VLOOKUP(B162,'KAYIT LİSTESİ'!$B$4:$H$664,2,0)))","v":""},{"$f":"IF(ISERROR(VLOOKUP(B162,'KAYIT LİSTESİ'!$B$4:$H$664,4,0)),\"\",(VLOOKUP(B162,'KAYIT LİSTESİ'!$B$4:$H$664,4,0)))","v":""},{"$f":"IF(ISERROR(VLOOKUP(B162,'KAYIT LİSTESİ'!$B$4:$H$664,5,0)),\"\",(VLOOKUP(B162,'KAYIT LİSTESİ'!$B$4:$H$664,5,0)))","v":""},{"$f":"IF(ISERROR(VLOOKUP(B162,'KAYIT LİSTESİ'!$B$4:$H$664,6,0)),\"\",(VLOOKUP(B162,'KAYIT LİSTESİ'!$B$4:$H$664,6,0)))","v":""},null,null,1,"İSVEÇ-3-1",{"$f":"IF(ISERROR(VLOOKUP(J162,'KAYIT LİSTESİ'!$B$4:$H$664,2,0)),\"\",(VLOOKUP(J162,'KAYIT LİSTESİ'!$B$4:$H$664,2,0)))","v":""},{"$f":"IF(ISERROR(VLOOKUP(J162,'KAYIT LİSTESİ'!$B$4:$H$664,4,0)),\"\",(VLOOKUP(J162,'KAYIT LİSTESİ'!$B$4:$H$664,4,0)))","v":""},{"$f":"IF(ISERROR(VLOOKUP(J162,'KAYIT LİSTESİ'!$B$4:$H$664,5,0)),\"\",(VLOOKUP(J162,'KAYIT LİSTESİ'!$B$4:$H$664,5,0)))","v":""},{"$f":"IF(ISERROR(VLOOKUP(J162,'KAYIT LİSTESİ'!$B$4:$H$664,6,0)),\"\",(VLOOKUP(J162,'KAYIT LİSTESİ'!$B$4:$H$664,6,0)))","v":""}]
[2,"İSVEÇ-1-2",{"$f":"IF(ISERROR(VLOOKUP(B163,'KAYIT LİSTESİ'!$B$4:$H$664,2,0)),\"\",(VLOOKUP(B163,'KAYIT LİSTESİ'!$B$4:$H$664,2,0)))","v":""},{"$f":"IF(ISERROR(VLOOKUP(B163,'KAYIT LİSTESİ'!$B$4:$H$664,4,0)),\"\",(VLOOKUP(B163,'KAYIT LİSTESİ'!$B$4:$H$664,4,0)))","v":""},{"$f":"IF(ISERROR(VLOOKUP(B163,'KAYIT LİSTESİ'!$B$4:$H$664,5,0)),\"\",(VLOOKUP(B163,'KAYIT LİSTESİ'!$B$4:$H$664,5,0)))","v":""},{"$f":"IF(ISERROR(VLOOKUP(B163,'KAYIT LİSTESİ'!$B$4:$H$664,6,0)),\"\",(VLOOKUP(B163,'KAYIT LİSTESİ'!$B$4:$H$664,6,0)))","v":""},null,null,2,"İSVEÇ-3-2",{"$f":"IF(ISERROR(VLOOKUP(J163,'KAYIT LİSTESİ'!$B$4:$H$664,2,0)),\"\",(VLOOKUP(J163,'KAYIT LİSTESİ'!$B$4:$H$664,2,0)))","v":""},{"$f":"IF(ISERROR(VLOOKUP(J163,'KAYIT LİSTESİ'!$B$4:$H$664,4,0)),\"\",(VLOOKUP(J163,'KAYIT LİSTESİ'!$B$4:$H$664,4,0)))","v":""},{"$f":"IF(ISERROR(VLOOKUP(J163,'KAYIT LİSTESİ'!$B$4:$H$664,5,0)),\"\",(VLOOKUP(J163,'KAYIT LİSTESİ'!$B$4:$H$664,5,0)))","v":""},{"$f":"IF(ISERROR(VLOOKUP(J163,'KAYIT LİSTESİ'!$B$4:$H$664,6,0)),\"\",(VLOOKUP(J163,'KAYIT LİSTESİ'!$B$4:$H$664,6,0)))","v":""}]
[3,"İSVEÇ-1-3",{"$f":"IF(ISERROR(VLOOKUP(B164,'KAYIT LİSTESİ'!$B$4:$H$664,2,0)),\"\",(VLOOKUP(B164,'KAYIT LİSTESİ'!$B$4:$H$664,2,0)))","v":""},{"$f":"IF(ISERROR(VLOOKUP(B164,'KAYIT LİSTESİ'!$B$4:$H$664,4,0)),\"\",(VLOOKUP(B164,'KAYIT LİSTESİ'!$B$4:$H$664,4,0)))","v":""},{"$f":"IF(ISERROR(VLOOKUP(B164,'KAYIT LİSTESİ'!$B$4:$H$664,5,0)),\"\",(VLOOKUP(B164,'KAYIT LİSTESİ'!$B$4:$H$664,5,0)))","v":""},{"$f":"IF(ISERROR(VLOOKUP(B164,'KAYIT LİSTESİ'!$B$4:$H$664,6,0)),\"\",(VLOOKUP(B164,'KAYIT LİSTESİ'!$B$4:$H$664,6,0)))","v":""},null,null,3,"İSVEÇ-3-3",{"$f":"IF(ISERROR(VLOOKUP(J164,'KAYIT LİSTESİ'!$B$4:$H$664,2,0)),\"\",(VLOOKUP(J164,'KAYIT LİSTESİ'!$B$4:$H$664,2,0)))","v":""},{"$f":"IF(ISERROR(VLOOKUP(J164,'KAYIT LİSTESİ'!$B$4:$H$664,4,0)),\"\",(VLOOKUP(J164,'KAYIT LİSTESİ'!$B$4:$H$664,4,0)))","v":""},{"$f":"IF(ISERROR(VLOOKUP(J164,'KAYIT LİSTESİ'!$B$4:$H$664,5,0)),\"\",(VLOOKUP(J164,'KAYIT LİSTESİ'!$B$4:$H$664,5,0)))","v":""},{"$f":"IF(ISERROR(VLOOKUP(J164,'KAYIT LİSTESİ'!$B$4:$H$664,6,0)),\"\",(VLOOKUP(J164,'KAYIT LİSTESİ'!$B$4:$H$664,6,0)))","v":""}]
[4,"İSVEÇ-1-4",{"$f":"IF(ISERROR(VLOOKUP(B165,'KAYIT LİSTESİ'!$B$4:$H$664,2,0)),\"\",(VLOOKUP(B165,'KAYIT LİSTESİ'!$B$4:$H$664,2,0)))","v":""},{"$f":"IF(ISERROR(VLOOKUP(B165,'KAYIT LİSTESİ'!$B$4:$H$664,4,0)),\"\",(VLOOKUP(B165,'KAYIT LİSTESİ'!$B$4:$H$664,4,0)))","v":""},{"$f":"IF(ISERROR(VLOOKUP(B165,'KAYIT LİSTESİ'!$B$4:$H$664,5,0)),\"\",(VLOOKUP(B165,'KAYIT LİSTESİ'!$B$4:$H$664,5,0)))","v":""},{"$f":"IF(ISERROR(VLOOKUP(B165,'KAYIT LİSTESİ'!$B$4:$H$664,6,0)),\"\",(VLOOKUP(B165,'KAYIT LİSTESİ'!$B$4:$H$664,6,0)))","v":""},null,null,4,"İSVEÇ-3-4",{"$f":"IF(ISERROR(VLOOKUP(J165,'KAYIT LİSTESİ'!$B$4:$H$664,2,0)),\"\",(VLOOKUP(J165,'KAYIT LİSTESİ'!$B$4:$H$664,2,0)))","v":""},{"$f":"IF(ISERROR(VLOOKUP(J165,'KAYIT LİSTESİ'!$B$4:$H$664,4,0)),\"\",(VLOOKUP(J165,'KAYIT LİSTESİ'!$B$4:$H$664,4,0)))","v":""},{"$f":"IF(ISERROR(VLOOKUP(J165,'KAYIT LİSTESİ'!$B$4:$H$664,5,0)),\"\",(VLOOKUP(J165,'KAYIT LİSTESİ'!$B$4:$H$664,5,0)))","v":""},{"$f":"IF(ISERROR(VLOOKUP(J165,'KAYIT LİSTESİ'!$B$4:$H$664,6,0)),\"\",(VLOOKUP(J165,'KAYIT LİSTESİ'!$B$4:$H$664,6,0)))","v":""}]
[5,"İSVEÇ-1-5",{"$f":"IF(ISERROR(VLOOKUP(B166,'KAYIT LİSTESİ'!$B$4:$H$664,2,0)),\"\",(VLOOKUP(B166,'KAYIT LİSTESİ'!$B$4:$H$664,2,0)))","v":""},{"$f":"IF(ISERROR(VLOOKUP(B166,'KAYIT LİSTESİ'!$B$4:$H$664,4,0)),\"\",(VLOOKUP(B166,'KAYIT LİSTESİ'!$B$4:$H$664,4,0)))","v":""},{"$f":"IF(ISERROR(VLOOKUP(B166,'KAYIT LİSTESİ'!$B$4:$H$664,5,0)),\"\",(VLOOKUP(B166,'KAYIT LİSTESİ'!$B$4:$H$664,5,0)))","v":""},{"$f":"IF(ISERROR(VLOOKUP(B166,'KAYIT LİSTESİ'!$B$4:$H$664,6,0)),\"\",(VLOOKUP(B166,'KAYIT LİSTESİ'!$B$4:$H$664,6,0)))","v":""},null,null,5,"İSVEÇ-3-5",{"$f":"IF(ISERROR(VLOOKUP(J166,'KAYIT LİSTESİ'!$B$4:$H$664,2,0)),\"\",(VLOOKUP(J166,'KAYIT LİSTESİ'!$B$4:$H$664,2,0)))","v":""},{"$f":"IF(ISERROR(VLOOKUP(J166,'KAYIT LİSTESİ'!$B$4:$H$664,4,0)),\"\",(VLOOKUP(J166,'KAYIT LİSTESİ'!$B$4:$H$664,4,0)))","v":""},{"$f":"IF(ISERROR(VLOOKUP(J166,'KAYIT LİSTESİ'!$B$4:$H$664,5,0)),\"\",(VLOOKUP(J166,'KAYIT LİSTESİ'!$B$4:$H$664,5,0)))","v":""},{"$f":"IF(ISERROR(VLOOKUP(J166,'KAYIT LİSTESİ'!$B$4:$H$664,6,0)),\"\",(VLOOKUP(J166,'KAYIT LİSTESİ'!$B$4:$H$664,6,0)))","v":""}]
[6,"İSVEÇ-1-6",{"$f":"IF(ISERROR(VLOOKUP(B167,'KAYIT LİSTESİ'!$B$4:$H$664,2,0)),\"\",(VLOOKUP(B167,'KAYIT LİSTESİ'!$B$4:$H$664,2,0)))","v":""},{"$f":"IF(ISERROR(VLOOKUP(B167,'KAYIT LİSTESİ'!$B$4:$H$664,4,0)),\"\",(VLOOKUP(B167,'KAYIT LİSTESİ'!$B$4:$H$664,4,0)))","v":""},{"$f":"IF(ISERROR(VLOOKUP(B167,'KAYIT LİSTESİ'!$B$4:$H$664,5,0)),\"\",(VLOOKUP(B167,'KAYIT LİSTESİ'!$B$4:$H$664,5,0)))","v":""},{"$f":"IF(ISERROR(VLOOKUP(B167,'KAYIT LİSTESİ'!$B$4:$H$664,6,0)),\"\",(VLOOKUP(B167,'KAYIT LİSTESİ'!$B$4:$H$664,6,0)))","v":""},null,null,6,"İSVEÇ-3-6",{"$f":"IF(ISERROR(VLOOKUP(J167,'KAYIT LİSTESİ'!$B$4:$H$664,2,0)),\"\",(VLOOKUP(J167,'KAYIT LİSTESİ'!$B$4:$H$664,2,0)))","v":""},{"$f":"IF(ISERROR(VLOOKUP(J167,'KAYIT LİSTESİ'!$B$4:$H$664,4,0)),\"\",(VLOOKUP(J167,'KAYIT LİSTESİ'!$B$4:$H$664,4,0)))","v":""},{"$f":"IF(ISERROR(VLOOKUP(J167,'KAYIT LİSTESİ'!$B$4:$H$664,5,0)),\"\",(VLOOKUP(J167,'KAYIT LİSTESİ'!$B$4:$H$664,5,0)))","v":""},{"$f":"IF(ISERROR(VLOOKUP(J167,'KAYIT LİSTESİ'!$B$4:$H$664,6,0)),\"\",(VLOOKUP(J167,'KAYIT LİSTESİ'!$B$4:$H$664,6,0)))","v":""}]
[7,"İSVEÇ-1-7",{"$f":"IF(ISERROR(VLOOKUP(B168,'KAYIT LİSTESİ'!$B$4:$H$664,2,0)),\"\",(VLOOKUP(B168,'KAYIT LİSTESİ'!$B$4:$H$664,2,0)))","v":""},{"$f":"IF(ISERROR(VLOOKUP(B168,'KAYIT LİSTESİ'!$B$4:$H$664,4,0)),\"\",(VLOOKUP(B168,'KAYIT LİSTESİ'!$B$4:$H$664,4,0)))","v":""},{"$f":"IF(ISERROR(VLOOKUP(B168,'KAYIT LİSTESİ'!$B$4:$H$664,5,0)),\"\",(VLOOKUP(B168,'KAYIT LİSTESİ'!$B$4:$H$664,5,0)))","v":""},{"$f":"IF(ISERROR(VLOOKUP(B168,'KAYIT LİSTESİ'!$B$4:$H$664,6,0)),\"\",(VLOOKUP(B168,'KAYIT LİSTESİ'!$B$4:$H$664,6,0)))","v":""},null,null,7,"İSVEÇ-3-7",{"$f":"IF(ISERROR(VLOOKUP(J168,'KAYIT LİSTESİ'!$B$4:$H$664,2,0)),\"\",(VLOOKUP(J168,'KAYIT LİSTESİ'!$B$4:$H$664,2,0)))","v":""},{"$f":"IF(ISERROR(VLOOKUP(J168,'KAYIT LİSTESİ'!$B$4:$H$664,4,0)),\"\",(VLOOKUP(J168,'KAYIT LİSTESİ'!$B$4:$H$664,4,0)))","v":""},{"$f":"IF(ISERROR(VLOOKUP(J168,'KAYIT LİSTESİ'!$B$4:$H$664,5,0)),\"\",(VLOOKUP(J168,'KAYIT LİSTESİ'!$B$4:$H$664,5,0)))","v":""},{"$f":"IF(ISERROR(VLOOKUP(J168,'KAYIT LİSTESİ'!$B$4:$H$664,6,0)),\"\",(VLOOKUP(J168,'KAYIT LİSTESİ'!$B$4:$H$664,6,0)))","v":""}]
[8,"İSVEÇ-1-8",{"$f":"IF(ISERROR(VLOOKUP(B169,'KAYIT LİSTESİ'!$B$4:$H$664,2,0)),\"\",(VLOOKUP(B169,'KAYIT LİSTESİ'!$B$4:$H$664,2,0)))","v":""},{"$f":"IF(ISERROR(VLOOKUP(B169,'KAYIT LİSTESİ'!$B$4:$H$664,4,0)),\"\",(VLOOKUP(B169,'KAYIT LİSTESİ'!$B$4:$H$664,4,0)))","v":""},{"$f":"IF(ISERROR(VLOOKUP(B169,'KAYIT LİSTESİ'!$B$4:$H$664,5,0)),\"\",(VLOOKUP(B169,'KAYIT LİSTESİ'!$B$4:$H$664,5,0)))","v":""},{"$f":"IF(ISERROR(VLOOKUP(B169,'KAYIT LİSTESİ'!$B$4:$H$664,6,0)),\"\",(VLOOKUP(B169,'KAYIT LİSTESİ'!$B$4:$H$664,6,0)))","v":""},null,null,8,"İSVEÇ-3-8",{"$f":"IF(ISERROR(VLOOKUP(J169,'KAYIT LİSTESİ'!$B$4:$H$664,2,0)),\"\",(VLOOKUP(J169,'KAYIT LİSTESİ'!$B$4:$H$664,2,0)))","v":""},{"$f":"IF(ISERROR(VLOOKUP(J169,'KAYIT LİSTESİ'!$B$4:$H$664,4,0)),\"\",(VLOOKUP(J169,'KAYIT LİSTESİ'!$B$4:$H$664,4,0)))","v":""},{"$f":"IF(ISERROR(VLOOKUP(J169,'KAYIT LİSTESİ'!$B$4:$H$664,5,0)),\"\",(VLOOKUP(J169,'KAYIT LİSTESİ'!$B$4:$H$664,5,0)))","v":""},{"$f":"IF(ISERROR(VLOOKUP(J169,'KAYIT LİSTESİ'!$B$4:$H$664,6,0)),\"\",(VLOOKUP(J169,'KAYIT LİSTESİ'!$B$4:$H$664,6,0)))","v":""}]
["2. SERİ",null,null,null,null,null,null,null,"4. SERİ"]
["Sıra No","Formül","Göğüs No","Doğum Tarihi","Adı ve Soyadı","İli-Okulu","Start Kontrol",null,"Sıra No","Formül","Göğüs No","Doğum Tarihi","Adı ve Soyadı","İli-Okulu","Start Kontrol"]
[1,"İSVEÇ-2-1",{"$f":"IF(ISERROR(VLOOKUP(B172,'KAYIT LİSTESİ'!$B$4:$H$664,2,0)),\"\",(VLOOKUP(B172,'KAYIT LİSTESİ'!$B$4:$H$664,2,0)))","v":""},{"$f":"IF(ISERROR(VLOOKUP(B172,'KAYIT LİSTESİ'!$B$4:$H$664,4,0)),\"\",(VLOOKUP(B172,'KAYIT LİSTESİ'!$B$4:$H$664,4,0)))","v":""},{"$f":"IF(ISERROR(VLOOKUP(B172,'KAYIT LİSTESİ'!$B$4:$H$664,5,0)),\"\",(VLOOKUP(B172,'KAYIT LİSTESİ'!$B$4:$H$664,5,0)))","v":""},{"$f":"IF(ISERROR(VLOOKUP(B172,'KAYIT LİSTESİ'!$B$4:$H$664,6,0)),\"\",(VLOOKUP(B172,'KAYIT LİSTESİ'!$B$4:$H$664,6,0)))","v":""},null,null,1,"İSVEÇ-4-1",{"$f":"IF(ISERROR(VLOOKUP(J172,'KAYIT LİSTESİ'!$B$4:$H$664,2,0)),\"\",(VLOOKUP(J172,'KAYIT LİSTESİ'!$B$4:$H$664,2,0)))","v":""},{"$f":"IF(ISERROR(VLOOKUP(J172,'KAYIT LİSTESİ'!$B$4:$H$664,4,0)),\"\",(VLOOKUP(J172,'KAYIT LİSTESİ'!$B$4:$H$664,4,0)))","v":""},{"$f":"IF(ISERROR(VLOOKUP(J172,'KAYIT LİSTESİ'!$B$4:$H$664,5,0)),\"\",(VLOOKUP(J172,'KAYIT LİSTESİ'!$B$4:$H$664,5,0)))","v":""},{"$f":"IF(ISERROR(VLOOKUP(J172,'KAYIT LİSTESİ'!$B$4:$H$664,6,0)),\"\",(VLOOKUP(J172,'KAYIT LİSTESİ'!$B$4:$H$664,6,0)))","v":""}]
[2,"İSVEÇ-2-2",{"$f":"IF(ISERROR(VLOOKUP(B173,'KAYIT LİSTESİ'!$B$4:$H$664,2,0)),\"\",(VLOOKUP(B173,'KAYIT LİSTESİ'!$B$4:$H$664,2,0)))","v":""},{"$f":"IF(ISERROR(VLOOKUP(B173,'KAYIT LİSTESİ'!$B$4:$H$664,4,0)),\"\",(VLOOKUP(B173,'KAYIT LİSTESİ'!$B$4:$H$664,4,0)))","v":""},{"$f":"IF(ISERROR(VLOOKUP(B173,'KAYIT LİSTESİ'!$B$4:$H$664,5,0)),\"\",(VLOOKUP(B173,'KAYIT LİSTESİ'!$B$4:$H$664,5,0)))","v":""},{"$f":"IF(ISERROR(VLOOKUP(B173,'KAYIT LİSTESİ'!$B$4:$H$664,6,0)),\"\",(VLOOKUP(B173,'KAYIT LİSTESİ'!$B$4:$H$664,6,0)))","v":""},null,null,2,"İSVEÇ-4-2",{"$f":"IF(ISERROR(VLOOKUP(J173,'KAYIT LİSTESİ'!$B$4:$H$664,2,0)),\"\",(VLOOKUP(J173,'KAYIT LİSTESİ'!$B$4:$H$664,2,0)))","v":""},{"$f":"IF(ISERROR(VLOOKUP(J173,'KAYIT LİSTESİ'!$B$4:$H$664,4,0)),\"\",(VLOOKUP(J173,'KAYIT LİSTESİ'!$B$4:$H$664,4,0)))","v":""},{"$f":"IF(ISERROR(VLOOKUP(J173,'KAYIT LİSTESİ'!$B$4:$H$664,5,0)),\"\",(VLOOKUP(J173,'KAYIT LİSTESİ'!$B$4:$H$664,5,0)))","v":""},{"$f":"IF(ISERROR(VLOOKUP(J173,'KAYIT LİSTESİ'!$B$4:$H$664,6,0)),\"\",(VLOOKUP(J173,'KAYIT LİSTESİ'!$B$4:$H$664,6,0)))","v":""}]
[3,"İSVEÇ-2-3",{"$f":"IF(ISERROR(VLOOKUP(B174,'KAYIT LİSTESİ'!$B$4:$H$664,2,0)),\"\",(VLOOKUP(B174,'KAYIT LİSTESİ'!$B$4:$H$664,2,0)))","v":""},{"$f":"IF(ISERROR(VLOOKUP(B174,'KAYIT LİSTESİ'!$B$4:$H$664,4,0)),\"\",(VLOOKUP(B174,'KAYIT LİSTESİ'!$B$4:$H$664,4,0)))","v":""},{"$f":"IF(ISERROR(VLOOKUP(B174,'KAYIT LİSTESİ'!$B$4:$H$664,5,0)),\"\",(VLOOKUP(B174,'KAYIT LİSTESİ'!$B$4:$H$664,5,0)))","v":""},{"$f":"IF(ISERROR(VLOOKUP(B174,'KAYIT LİSTESİ'!$B$4:$H$664,6,0)),\"\",(VLOOKUP(B174,'KAYIT LİSTESİ'!$B$4:$H$664,6,0)))","v":""},null,null,3,"İSVEÇ-4-3",{"$f":"IF(ISERROR(VLOOKUP(J174,'KAYIT LİSTESİ'!$B$4:$H$664,2,0)),\"\",(VLOOKUP(J174,'KAYIT LİSTESİ'!$B$4:$H$664,2,0)))","v":""},{"$f":"IF(ISERROR(VLOOKUP(J174,'KAYIT LİSTESİ'!$B$4:$H$664,4,0)),\"\",(VLOOKUP(J174,'KAYIT LİSTESİ'!$B$4:$H$664,4,0)))","v":""},{"$f":"IF(ISERROR(VLOOKUP(J174,'KAYIT LİSTESİ'!$B$4:$H$664,5,0)),\"\",(VLOOKUP(J174,'KAYIT LİSTESİ'!$B$4:$H$664,5,0)))","v":""},{"$f":"IF(ISERROR(VLOOKUP(J174,'KAYIT LİSTESİ'!$B$4:$H$664,6,0)),\"\",(VLOOKUP(J174,'KAYIT LİSTESİ'!$B$4:$H$664,6,0)))","v":""}]
[4,"İSVEÇ-2-4",{"$f":"IF(ISERROR(VLOOKUP(B175,'KAYIT LİSTESİ'!$B$4:$H$664,2,0)),\"\",(VLOOKUP(B175,'KAYIT LİSTESİ'!$B$4:$H$664,2,0)))","v":""},{"$f":"IF(ISERROR(VLOOKUP(B175,'KAYIT LİSTESİ'!$B$4:$H$664,4,0)),\"\",(VLOOKUP(B175,'KAYIT LİSTESİ'!$B$4:$H$664,4,0)))","v":""},{"$f":"IF(ISERROR(VLOOKUP(B175,'KAYIT LİSTESİ'!$B$4:$H$664,5,0)),\"\",(VLOOKUP(B175,'KAYIT LİSTESİ'!$B$4:$H$664,5,0)))","v":""},{"$f":"IF(ISERROR(VLOOKUP(B175,'KAYIT LİSTESİ'!$B$4:$H$664,6,0)),\"\",(VLOOKUP(B175,'KAYIT LİSTESİ'!$B$4:$H$664,6,0)))","v":""},null,null,4,"İSVEÇ-4-4",{"$f":"IF(ISERROR(VLOOKUP(J175,'KAYIT LİSTESİ'!$B$4:$H$664,2,0)),\"\",(VLOOKUP(J175,'KAYIT LİSTESİ'!$B$4:$H$664,2,0)))","v":""},{"$f":"IF(ISERROR(VLOOKUP(J175,'KAYIT LİSTESİ'!$B$4:$H$664,4,0)),\"\",(VLOOKUP(J175,'KAYIT LİSTESİ'!$B$4:$H$664,4,0)))","v":""},{"$f":"IF(ISERROR(VLOOKUP(J175,'KAYIT LİSTESİ'!$B$4:$H$664,5,0)),\"\",(VLOOKUP(J175,'KAYIT LİSTESİ'!$B$4:$H$664,5,0)))","v":""},{"$f":"IF(ISERROR(VLOOKUP(J175,'KAYIT LİSTESİ'!$B$4:$H$664,6,0)),\"\",(VLOOKUP(J175,'KAYIT LİSTESİ'!$B$4:$H$664,6,0)))","v":""}]
[5,"İSVEÇ-2-5",{"$f":"IF(ISERROR(VLOOKUP(B176,'KAYIT LİSTESİ'!$B$4:$H$664,2,0)),\"\",(VLOOKUP(B176,'KAYIT LİSTESİ'!$B$4:$H$664,2,0)))","v":""},{"$f":"IF(ISERROR(VLOOKUP(B176,'KAYIT LİSTESİ'!$B$4:$H$664,4,0)),\"\",(VLOOKUP(B176,'KAYIT LİSTESİ'!$B$4:$H$664,4,0)))","v":""},{"$f":"IF(ISERROR(VLOOKUP(B176,'KAYIT LİSTESİ'!$B$4:$H$664,5,0)),\"\",(VLOOKUP(B176,'KAYIT LİSTESİ'!$B$4:$H$664,5,0)))","v":""},{"$f":"IF(ISERROR(VLOOKUP(B176,'KAYIT LİSTESİ'!$B$4:$H$664,6,0)),\"\",(VLOOKUP(B176,'KAYIT LİSTESİ'!$B$4:$H$664,6,0)))","v":""},null,null,5,"İSVEÇ-4-5",{"$f":"IF(ISERROR(VLOOKUP(J176,'KAYIT LİSTESİ'!$B$4:$H$664,2,0)),\"\",(VLOOKUP(J176,'KAYIT LİSTESİ'!$B$4:$H$664,2,0)))","v":""},{"$f":"IF(ISERROR(VLOOKUP(J176,'KAYIT LİSTESİ'!$B$4:$H$664,4,0)),\"\",(VLOOKUP(J176,'KAYIT LİSTESİ'!$B$4:$H$664,4,0)))","v":""},{"$f":"IF(ISERROR(VLOOKUP(J176,'KAYIT LİSTESİ'!$B$4:$H$664,5,0)),\"\",(VLOOKUP(J176,'KAYIT LİSTESİ'!$B$4:$H$664,5,0)))","v":""},{"$f":"IF(ISERROR(VLOOKUP(J176,'KAYIT LİSTESİ'!$B$4:$H$664,6,0)),\"\",(VLOOKUP(J176,'KAYIT LİSTESİ'!$B$4:$H$664,6,0)))","v":""}]
[6,"İSVEÇ-2-6",{"$f":"IF(ISERROR(VLOOKUP(B177,'KAYIT LİSTESİ'!$B$4:$H$664,2,0)),\"\",(VLOOKUP(B177,'KAYIT LİSTESİ'!$B$4:$H$664,2,0)))","v":""},{"$f":"IF(ISERROR(VLOOKUP(B177,'KAYIT LİSTESİ'!$B$4:$H$664,4,0)),\"\",(VLOOKUP(B177,'KAYIT LİSTESİ'!$B$4:$H$664,4,0)))","v":""},{"$f":"IF(ISERROR(VLOOKUP(B177,'KAYIT LİSTESİ'!$B$4:$H$664,5,0)),\"\",(VLOOKUP(B177,'KAYIT LİSTESİ'!$B$4:$H$664,5,0)))","v":""},{"$f":"IF(ISERROR(VLOOKUP(B177,'KAYIT LİSTESİ'!$B$4:$H$664,6,0)),\"\",(VLOOKUP(B177,'KAYIT LİSTESİ'!$B$4:$H$664,6,0)))","v":""},null,null,6,"İSVEÇ-4-6",{"$f":"IF(ISERROR(VLOOKUP(J177,'KAYIT LİSTESİ'!$B$4:$H$664,2,0)),\"\",(VLOOKUP(J177,'KAYIT LİSTESİ'!$B$4:$H$664,2,0)))","v":""},{"$f":"IF(ISERROR(VLOOKUP(J177,'KAYIT LİSTESİ'!$B$4:$H$664,4,0)),\"\",(VLOOKUP(J177,'KAYIT LİSTESİ'!$B$4:$H$664,4,0)))","v":""},{"$f":"IF(ISERROR(VLOOKUP(J177,'KAYIT LİSTESİ'!$B$4:$H$664,5,0)),\"\",(VLOOKUP(J177,'KAYIT LİSTESİ'!$B$4:$H$664,5,0)))","v":""},{"$f":"IF(ISERROR(VLOOKUP(J177,'KAYIT LİSTESİ'!$B$4:$H$664,6,0)),\"\",(VLOOKUP(J177,'KAYIT LİSTESİ'!$B$4:$H$664,6,0)))","v":""}]
[7,"İSVEÇ-2-7",{"$f":"IF(ISERROR(VLOOKUP(B178,'KAYIT LİSTESİ'!$B$4:$H$664,2,0)),\"\",(VLOOKUP(B178,'KAYIT LİSTESİ'!$B$4:$H$664,2,0)))","v":""},{"$f":"IF(ISERROR(VLOOKUP(B178,'KAYIT LİSTESİ'!$B$4:$H$664,4,0)),\"\",(VLOOKUP(B178,'KAYIT LİSTESİ'!$B$4:$H$664,4,0)))","v":""},{"$f":"IF(ISERROR(VLOOKUP(B178,'KAYIT LİSTESİ'!$B$4:$H$664,5,0)),\"\",(VLOOKUP(B178,'KAYIT LİSTESİ'!$B$4:$H$664,5,0)))","v":""},{"$f":"IF(ISERROR(VLOOKUP(B178,'KAYIT LİSTESİ'!$B$4:$H$664,6,0)),\"\",(VLOOKUP(B178,'KAYIT LİSTESİ'!$B$4:$H$664,6,0)))","v":""},null,null,7,"İSVEÇ-4-7",{"$f":"IF(ISERROR(VLOOKUP(J178,'KAYIT LİSTESİ'!$B$4:$H$664,2,0)),\"\",(VLOOKUP(J178,'KAYIT LİSTESİ'!$B$4:$H$664,2,0)))","v":""},{"$f":"IF(ISERROR(VLOOKUP(J178,'KAYIT LİSTESİ'!$B$4:$H$664,4,0)),\"\",(VLOOKUP(J178,'KAYIT LİSTESİ'!$B$4:$H$664,4,0)))","v":""},{"$f":"IF(ISERROR(VLOOKUP(J178,'KAYIT LİSTESİ'!$B$4:$H$664,5,0)),\"\",(VLOOKUP(J178,'KAYIT LİSTESİ'!$B$4:$H$664,5,0)))","v":""},{"$f":"IF(ISERROR(VLOOKUP(J178,'KAYIT LİSTESİ'!$B$4:$H$664,6,0)),\"\",(VLOOKUP(J178,'KAYIT LİSTESİ'!$B$4:$H$664,6,0)))","v":""}]
[8,"İSVEÇ-2-8",{"$f":"IF(ISERROR(VLOOKUP(B179,'KAYIT LİSTESİ'!$B$4:$H$664,2,0)),\"\",(VLOOKUP(B179,'KAYIT LİSTESİ'!$B$4:$H$664,2,0)))","v":""},{"$f":"IF(ISERROR(VLOOKUP(B179,'KAYIT LİSTESİ'!$B$4:$H$664,4,0)),\"\",(VLOOKUP(B179,'KAYIT LİSTESİ'!$B$4:$H$664,4,0)))","v":""},{"$f":"IF(ISERROR(VLOOKUP(B179,'KAYIT LİSTESİ'!$B$4:$H$664,5,0)),\"\",(VLOOKUP(B179,'KAYIT LİSTESİ'!$B$4:$H$664,5,0)))","v":""},{"$f":"IF(ISERROR(VLOOKUP(B179,'KAYIT LİSTESİ'!$B$4:$H$664,6,0)),\"\",(VLOOKUP(B179,'KAYIT LİSTESİ'!$B$4:$H$664,6,0)))","v":""},null,null,8,"İSVEÇ-4-8",{"$f":"IF(ISERROR(VLOOKUP(J179,'KAYIT LİSTESİ'!$B$4:$H$664,2,0)),\"\",(VLOOKUP(J179,'KAYIT LİSTESİ'!$B$4:$H$664,2,0)))","v":""},{"$f":"IF(ISERROR(VLOOKUP(J179,'KAYIT LİSTESİ'!$B$4:$H$664,4,0)),\"\",(VLOOKUP(J179,'KAYIT LİSTESİ'!$B$4:$H$664,4,0)))","v":""},{"$f":"IF(ISERROR(VLOOKUP(J179,'KAYIT LİSTESİ'!$B$4:$H$664,5,0)),\"\",(VLOOKUP(J179,'KAYIT LİSTESİ'!$B$4:$H$664,5,0)))","v":""},{"$f":"IF(ISERROR(VLOOKUP(J179,'KAYIT LİSTESİ'!$B$4:$H$664,6,0)),\"\",(VLOOKUP(J179,'KAYIT LİSTESİ'!$B$4:$H$664,6,0)))","v":""}]

{"sheet":"2.GÜN","index":12,"n_rows":5,"n_cols":18,"rows_kept":5,"cut":false,"hidden":false,"merged":[[0,0,0,21],[1,0,1,21],[2,0,2,21],[3,0,3,21],[4,17,4,21]]}
[{"$f":"('YARIŞMA BİLGİLERİ'!A2)","v":"Türkiye Atletizm Federasyonu\nMersin Atletizm İl Temsilciliği\n"}]
[{"$f":"'YARIŞMA BİLGİLERİ'!F19","v":"Olimpik Baraj  Yarışmaları"}]
["GENEL START LİSTESİ 2.GÜN"]
[{"$f":"'YARIŞMA BİLGİLERİ'!F21","v":"Kadınlar"}]
[null,null,null,null,null,null,null,null,null,null,null,null,null,null,null,null,null,{"$f":"NOW()","v":"2015-08-06T12:52:45.570"}]

{"sheet":"800m.","index":13,"n_rows":51,"n_cols":17,"rows_kept":51,"cut":false,"hidden":false,"merged":[[5,0,6,0],[5,1,6,1],[3,13,3,16],[2,8,2,11],[2,13,2,16],[3,0,3,2],[3,3,3,4],[5,4,6,4],[5,5,6,5],[5,2,6,2],[5,3,6,3],[4,13,4,16],[5,6,6,6],[0,0,0,16],[1,0,1,16],[2,0,2,2],[2,3,2,4],[2,5,2,6]]}
[{"$f":"('YARIŞMA BİLGİLERİ'!A2)","v":"Türkiye Atletizm Federasyonu\nMersin Atletizm İl Temsilciliği\n"}]
[{"$f":"'YARIŞMA BİLGİLERİ'!F19","v":"Olimpik Baraj  Yarışmaları"}]
["Yarışma :",null,null,{"$f":"#REF!","v":{"$error":"#REF!"}},null,"Baraj Derecesi ",null,":",{"$f":"#REF!","v":{"$error":"#REF!"}}]
["Kategori :",null,null,{"$f":"'YARIŞMA BİLGİLERİ'!F21","v":"Kadınlar"},null,null,null,null,null,null,null,null,"Tarih-Saat ",{"$f":"#REF!","v":{"$error":"#REF!"}}]
[null,null,null,null,null,null,null,null,null,null,null,null,null,{"$f":"NOW()","v":42222.536638541664}]
["Sıra No","Göğüs No","Doğum Tarihi\nGün/Ay/Yıl","Adı ve Soyadı","İli-Okulu","Derece","Puan",null,"1. SERİ"]
[null,null,null,null,null,null,null,null,"Sıra No","Formül","Göğüs No","Doğum Tarihi","Adı ve Soyadı","İli-Okulu","Elektronik Kronometre","El Kronometre","Seri Geliş"]
[1,null,null,null,null,null,{"$f":"IF(ISTEXT(F8),0,IFERROR(VLOOKUP(SMALL(#REF!,COUNTIF(#REF!,\"<\"&F8)+1),#REF!, 2,0),\" \"))","v":" "},null,1,"800M-1-1",{"$f":"IF(ISERROR(VLOOKUP(J8,'KAYIT LİSTESİ'!$B$4:$H$664,2,0)),\"\",(VLOOKUP(J8,'KAYIT LİSTESİ'!$B$4:$H$664,2,0)))","v":""},{"$f":"IF(ISERROR(VLOOKUP(J8,'KAYIT LİSTESİ'!$B$4:$H$664,4,0)),\"\",(VLOOKUP(J8,'KAYIT LİSTESİ'!$B$4:$H$664,4,0)))","v":""},{"$f":"IF(ISERROR(VLOOKUP(J8,'KAYIT LİSTESİ'!$B$4:$H$664,5,0)),\"\",(VLOOKUP(J8,'KAYIT LİSTESİ'!$B$4:$H$664,5,0)))","v":""},{"$f":"IF(ISERROR(VLOOKUP(J8,'KAYIT LİSTESİ'!$B$4:$H$664,6,0)),\"\",(VLOOKUP(J8,'KAYIT LİSTESİ'!$B$4:$H$664,6,0)))","v":""},{"$f":"IF(IF(OR(P8=\"NM\",P8=\"DNF\",P8=\"DNS\",P8=\"DQ\",P8=\"\"),P8,(ROUNDUP(P8,)+24))=0,\" \",IF(OR(P8=\"NM\",P8=\"DNF\",P8=\"DNS\",P8=\"DQ\",P8=\"\"),P8,(ROUNDUP(P8,)+24)))","v":" "}]
[2,null,null,null,null,null,{"$f":"IF(ISTEXT(F9),0,IFERROR(VLOOKUP(SMALL(#REF!,COUNTIF(#REF!,\"<\"&F9)+1),#REF!, 2,0),\" \"))","v":" "},null,2,"800M-1-2",{"$f":"IF(ISERROR(VLOOKUP(J9,'KAYIT LİSTESİ'!$B$4:$H$664,2,0)),\"\",(VLOOKUP(J9,'KAYIT LİSTESİ'!$B$4:$H$664,2,0)))","v":621},{"$f":"IF(ISERROR(VLOOKUP(J9,'KAYIT LİSTESİ'!$B$4:$H$664,4,0)),\"\",(VLOOKUP(J9,'KAYIT LİSTESİ'!$B$4:$H$664,4,0)))","v":"1998-06-10"},{"$f":"IF(ISERROR(VLOOKUP(J9,'KAYIT LİSTESİ'!$B$4:$H$664,5,0)),\"\",(VLOOKUP(J9,'KAYIT LİSTESİ'!$B$4:$H$664,5,0)))","v":"HATİCE TAŞÇI"},{"$f":"IF(ISERROR(VLOOKUP(J9,'KAYIT LİSTESİ'!$B$4:$H$664,6,0)),\"\",(VLOOKUP(J9,'KAYIT LİSTESİ'!$B$4:$H$664,6,0)))","v":"KAYSERİ"}," "]
[3,null,null,null,null,null,{"$f":"IF(ISTEXT(F10),0,IFERROR(VLOOKUP(SMALL(#REF!,COUNTIF(#REF!,\"<\"&F10)+1),#REF!, 2,0),\" \"))","v":" "},null,3,"800M-1-3",{"$f":"IF(ISERROR(VLOOKUP(J10,'KAYIT LİSTESİ'!$B$4:$H$664,2,0)),\"\",(VLOOKUP(J10,'KAYIT LİSTESİ'!$B$4:$H$664,2,0)))","v":629},{"$f":"IF(ISERROR(VLOOKUP(J10,'KAYIT LİSTESİ'!$B$4:$H$664,4,0)),\"\",(VLOOKUP(J10,'KAYIT LİSTESİ'!$B$4:$H$664,4,0)))","v":"1998-01-18"},{"$f":"IF(ISERROR(VLOOKUP(J10,'KAYIT LİSTESİ'!$B$4:$H$664,5,0)),\"\",(VLOOKUP(J10,'KAYIT LİSTESİ'!$B$4:$H$664,5,0)))","v":"SEMRA KARASLAN"},{"$f":"IF(ISERROR(VLOOKUP(J10,'KAYIT LİSTESİ'!$B$4:$H$664,6,0)),\"\",(VLOOKUP(J10,'KAYIT LİSTESİ'!$B$4:$H$664,6,0)))","v":"KIRIKKALE"}," "]
[4,null,null,null,null,null,{"$f":"IF(ISTEXT(F11),0,IFERROR(VLOOKUP(SMALL(#REF!,COUNTIF(#REF!,\"<\"&F11)+1),#REF!, 2,0),\" \"))","v":" "},null,4,"800M-1-4",{"$f":"IF(ISERROR(VLOOKUP(J11,'KAYIT LİSTESİ'!$B$4:$H$664,2,0)),\"\",(VLOOKUP(J11,'KAYIT LİSTESİ'!$B$4:$H$664,2,0)))","v":612},{"$f":"IF(ISERROR(VLOOKUP(J11,'KAYIT LİSTESİ'!$B$4:$H$664,4,0)),\"\",(VLOOKUP(J11,'KAYIT LİSTESİ'!$B$4:$H$664,4,0)))","v":"1999-06-23"},{"$f":"IF(ISERROR(VLOOKUP(J11,'KAYIT LİSTESİ'!$B$4:$H$664,5,0)),\"\",(VLOOKUP(J11,'KAYIT LİSTESİ'!$B$4:$H$664,5,0)))","v":"FADİME KOŞAR"},{"$f":"IF(ISERROR(VLOOKUP(J11,'KAYIT LİSTESİ'!$B$4:$H$664,6,0)),\"\",(VLOOKUP(J11,'KAYIT LİSTESİ'!$B$4:$H$664,6,0)))","v":"KONYA"}," "]
[5,null,null,null,null,null,{"$f":"IF(ISTEXT(F12),0,IFERROR(VLOOKUP(SMALL(#REF!,COUNTIF(#REF!,\"<\"&F12)+1),#REF!, 2,0),\" \"))","v":" "},null,5,"800M-1-5",{"$f":"IF(ISERROR(VLOOKUP(J12,'KAYIT LİSTESİ'!$B$4:$H$664,2,0)),\"\",(VLOOKUP(J12,'KAYIT LİSTESİ'!$B$4:$H$664,2,0)))","v":614},{"$f":"IF(ISERROR(VLOOKUP(J12,'KAYIT LİSTESİ'!$B$4:$H$664,4,0)),\"\",(VLOOKUP(J12,'KAYIT LİSTESİ'!$B$4:$H$664,4,0)))","v":"1999-08-15"},{"$f":"IF(ISERROR(VLOOKUP(J12,'KAYIT LİSTESİ'!$B$4:$H$664,5,0)),\"\",(VLOOKUP(J12,'KAYIT LİSTESİ'!$B$4:$H$664,5,0)))","v":"SELENAY BATİ"},{"$f":"IF(ISERROR(VLOOKUP(J12,'KAYIT LİSTESİ'!$B$4:$H$664,6,0)),\"\",(VLOOKUP(J12,'KAYIT LİSTESİ'!$B$4:$H$664,6,0)))","v":"HATAY"}," "]
[6,null,null,null,null,null,{"$f":"IF(ISTEXT(F13),0,IFERROR(VLOOKUP(SMALL(#REF!,COUNTIF(#REF!,\"<\"&F13)+1),#REF!, 2,0),\" \"))","v":" "},null,6,"800M-1-6",{"$f":"IF(ISERROR(VLOOKUP(J13,'KAYIT LİSTESİ'!$B$4:$H$664,2,0)),\"\",(VLOOKUP(J13,'KAYIT LİSTESİ'!$B$4:$H$664,2,0)))","v":630},{"$f":"IF(ISERROR(VLOOKUP(J13,'KAYIT LİSTESİ'!$B$4:$H$664,4,0)),\"\",(VLOOKUP(J13,'KAYIT LİSTESİ'!$B$4:$H$664,4,0)))","v":"1998-12-30"},{"$f":"IF(ISERROR(VLOOKUP(J13,'KAYIT LİSTESİ'!$B$4:$H$664,5,0)),\"\",(VLOOKUP(J13,'KAYIT LİSTESİ'!$B$4:$H$664,5,0)))","v":"BELHUDE SALMANLI"},{"$f":"IF(ISERROR(VLOOKUP(J13,'KAYIT LİSTESİ'!$B$4:$H$664,6,0)),\"\",(VLOOKUP(J13,'KAYIT LİSTESİ'!$B$4:$H$664,6,0)))","v":"KIRIKKALE"}," "]
[7,null,null,null,null,null,{"$f":"IF(ISTEXT(F14),0,IFERROR(VLOOKUP(SMALL(#REF!,COUNTIF(#REF!,\"<\"&F14)+1),#REF!, 2,0),\" \"))","v":" "},null,7,"800M-1-7",{"$f":"IF(ISERROR(VLOOKUP(J14,'KAYIT LİSTESİ'!$B$4:$H$664,2,0)),\"\",(VLOOKUP(J14,'KAYIT LİSTESİ'!$B$4:$H$664,2,0)))","v":""},{"$f":"IF(ISERROR(VLOOKUP(J14,'KAYIT LİSTESİ'!$B$4:$H$664,4,0)),\"\",(VLOOKUP(J14,'KAYIT LİSTESİ'!$B$4:$H$664,4,0)))","v":""},{"$f":"IF(ISERROR(VLOOKUP(J14,'KAYIT LİSTESİ'!$B$4:$H$664,5,0)),\"\",(VLOOKUP(J14,'KAYIT LİSTESİ'!$B$4:$H$664,5,0)))","v":""},{"$f":"IF(ISERROR(VLOOKUP(J14,'KAYIT LİSTESİ'!$B$4:$H$664,6,0)),\"\",(VLOOKUP(J14,'KAYIT LİSTESİ'!$B$4:$H$664,6,0)))","v":""}," "]
[8,null,null,null,null,null,{"$f":"IF(ISTEXT(F15),0,IFERROR(VLOOKUP(SMALL(#REF!,COUNTIF(#REF!,\"<\"&F15)+1),#REF!, 2,0),\" \"))","v":" "},null,8,"800M-1-8",{"$f":"IF(ISERROR(VLOOKUP(J15,'KAYIT LİSTESİ'!$B$4:$H$664,2,0)),\"\",(VLOOKUP(J15,'KAYIT LİSTESİ'!$B$4:$H$664,2,0)))","v":""},{"$f":"IF(ISERROR(VLOOKUP(J15,'KAYIT LİSTESİ'!$B$4:$H$664,4,0)),\"\",(VLOOKUP(J15,'KAYIT LİSTESİ'!$B$4:$H$664,4,0)))","v":""},{"$f":"IF(ISERROR(VLOOKUP(J15,'KAYIT LİSTESİ'!$B$4:$H$664,5,0)),\"\",(VLOOKUP(J15,'KAYIT LİSTESİ'!$B$4:$H$664,5,0)))","v":""},{"$f":"IF(ISERROR(VLOOKUP(J15,'KAYIT LİSTESİ'!$B$4:$H$664,6,0)),\"\",(VLOOKUP(J15,'KAYIT LİSTESİ'!$B$4:$H$664,6,0)))","v":""}," "]
[13,null,null,null,null,null,{"$f":"IF(ISTEXT(F16),0,IFERROR(VLOOKUP(SMALL(#REF!,COUNTIF(#REF!,\"<\"&F16)+1),#REF!, 2,0),\" \"))","v":" "},null,"2. SERİ"]
[14,null,null,null,null,null,{"$f":"IF(ISTEXT(F17),0,IFERROR(VLOOKUP(SMALL(#REF!,COUNTIF(#REF!,\"<\"&F17)+1),#REF!, 2,0),\" \"))","v":" "},null,"Sıra No","Formül","Göğüs No","Doğum Tarihi","Adı ve Soyadı","İli-Okulu","Elektronik Kronometre","El Kronometre","Seri Geliş"]
[15,null,null,null,null,null,{"$f":"IF(ISTEXT(F18),0,IFERROR(VLOOKUP(SMALL(#REF!,COUNTIF(#REF!,\"<\"&F18)+1),#REF!, 2,0),\" \"))","v":" "},null,1,"800M-2-1",{"$f":"IF(ISERROR(VLOOKUP(J18,'KAYIT LİSTESİ'!$B$4:$H$664,2,0)),\"\",(VLOOKUP(J18,'KAYIT LİSTESİ'!$B$4:$H$664,2,0)))","v":""},{"$f":"IF(ISERROR(VLOOKUP(J18,'KAYIT LİSTESİ'!$B$4:$H$664,4,0)),\"\",(VLOOKUP(J18,'KAYIT LİSTESİ'!$B$4:$H$664,4,0)))","v":""},{"$f":"IF(ISERROR(VLOOKUP(J18,'KAYIT LİSTESİ'!$B$4:$H$664,5,0)),\"\",(VLOOKUP(J18,'KAYIT LİSTESİ'!$B$4:$H$664,5,0)))","v":""},{"$f":"IF(ISERROR(VLOOKUP(J18,'KAYIT LİSTESİ'!$B$4:$H$664,6,0)),\"\",(VLOOKUP(J18,'KAYIT LİSTESİ'!$B$4:$H$664,6,0)))","v":""},{"$f":"IF(IF(OR(P18=\"NM\",P18=\"DNF\",P18=\"DNS\",P18=\"DQ\",P18=\"\"),P18,(ROUNDUP(P18,)+24))=0,\" \",IF(OR(P18=\"NM\",P18=\"DNF\",P18=\"DNS\",P18=\"DQ\",P18=\"\"),P18,(ROUNDUP(P18,)+24)))","v":" "}]
[16,null,null,null,null,null,{"$f":"IF(ISTEXT(F19),0,IFERROR(VLOOKUP(SMALL(#REF!,COUNTIF(#REF!,\"<\"&F19)+1),#REF!, 2,0),\" \"))","v":" "},null,2,"800M-2-2",{"$f":"IF(ISERROR(VLOOKUP(J19,'KAYIT LİSTESİ'!$B$4:$H$664,2,0)),\"\",(VLOOKUP(J19,'KAYIT LİSTESİ'!$B$4:$H$664,2,0)))","v":620},{"$f":"IF(ISERROR(VLOOKUP(J19,'KAYIT LİSTESİ'!$B$4:$H$664,4,0)),\"\",(VLOOKUP(J19,'KAYIT LİSTESİ'!$B$4:$H$664,4,0)))","v":"1995-01-05"},{"$f":"IF(ISERROR(VLOOKUP(J19,'KAYIT LİSTESİ'!$B$4:$H$664,5,0)),\"\",(VLOOKUP(J19,'KAYIT LİSTESİ'!$B$4:$H$664,5,0)))","v":"SİNEM NUR ERARSLAN"},{"$f":"IF(ISERROR(VLOOKUP(J19,'KAYIT LİSTESİ'!$B$4:$H$664,6,0)),\"\",(VLOOKUP(J19,'KAYIT LİSTESİ'!$B$4:$H$664,6,0)))","v":"KAYSERİ"}," "]
[17,null,null,null,null,null,{"$f":"IF(ISTEXT(F20),0,IFERROR(VLOOKUP(SMALL(#REF!,COUNTIF(#REF!,\"<\"&F20)+1),#REF!, 2,0),\" \"))","v":" "},null,3,"800M-2-3",{"$f":"IF(ISERROR(VLOOKUP(J20,'KAYIT LİSTESİ'!$B$4:$H$664,2,0)),\"\",(VLOOKUP(J20,'KAYIT LİSTESİ'!$B$4:$H$664,2,0)))","v":604},{"$f":"IF(ISERROR(VLOOKUP(J20,'KAYIT LİSTESİ'!$B$4:$H$664,4,0)),\"\",(VLOOKUP(J20,'KAYIT LİSTESİ'!$B$4:$H$664,4,0)))","v":"1997-03-15"},{"$f":"IF(ISERROR(VLOOKUP(J20,'KAYIT LİSTESİ'!$B$4:$H$664,5,0)),\"\",(VLOOKUP(J20,'KAYIT LİSTESİ'!$B$4:$H$664,5,0)))","v":"RÜYA KAYA"},{"$f":"IF(ISERROR(VLOOKUP(J20,'KAYIT LİSTESİ'!$B$4:$H$664,6,0)),\"\",(VLOOKUP(J20,'KAYIT LİSTESİ'!$B$4:$H$664,6,0)))","v":"MERSİN"}," "]
[18,null,null,null,null,null,{"$f":"IF(ISTEXT(F21),0,IFERROR(VLOOKUP(SMALL(#REF!,COUNTIF(#REF!,\"<\"&F21)+1),#REF!, 2,0),\" \"))","v":" "},null,4,"800M-2-4",{"$f":"IF(ISERROR(VLOOKUP(J21,'KAYIT LİSTESİ'!$B$4:$H$664,2,0)),\"\",(VLOOKUP(J21,'KAYIT LİSTESİ'!$B$4:$H$664,2,0)))","v":622},{"$f":"IF(ISERROR(VLOOKUP(J21,'KAYIT LİSTESİ'!$B$4:$H$664,4,0)),\"\",(VLOOKUP(J21,'KAYIT LİSTESİ'!$B$4:$H$664,4,0)))","v":"1998-10-03"},{"$f":"IF(ISERROR(VLOOKUP(J21,'KAYIT LİSTESİ'!$B$4:$H$664,5,0)),\"\",(VLOOKUP(J21,'KAYIT LİSTESİ'!$B$4:$H$664,5,0)))","v":"KEZİBAN DEMİRALP"},{"$f":"IF(ISERROR(VLOOKUP(J21,'KAYIT LİSTESİ'!$B$4:$H$664,6,0)),\"\",(VLOOKUP(J21,'KAYIT LİSTESİ'!$B$4:$H$664,6,0)))","v":"KAYSERİ"}," "]
[19,null,null,null,null,null,{"$f":"IF(ISTEXT(F22),0,IFERROR(VLOOKUP(SMALL(#REF!,COUNTIF(#REF!,\"<\"&F22)+1),#REF!, 2,0),\" \"))","v":" "},null,5,"800M-2-5",{"$f":"IF(ISERROR(VLOOKUP(J22,'KAYIT LİSTESİ'!$B$4:$H$664,2,0)),\"\",(VLOOKUP(J22,'KAYIT LİSTESİ'!$B$4:$H$664,2,0)))","v":625},{"$f":"IF(ISERROR(VLOOKUP(J22,'KAYIT LİSTESİ'!$B$4:$H$664,4,0)),\"\",(VLOOKUP(J22,'KAYIT LİSTESİ'!$B$4:$H$664,4,0)))","v":"1999-11-01"},{"$f":"IF(ISERROR(VLOOKUP(J22,'KAYIT LİSTESİ'!$B$4:$H$664,5,0)),\"\",(VLOOKUP(J22,'KAYIT LİSTESİ'!$B$4:$H$664,5,0)))","v":"KARDELEN YILDIRIM"},{"$f":"IF(ISERROR(VLOOKUP(J22,'KAYIT LİSTESİ'!$B$4:$H$664,6,0)),\"\",(VLOOKUP(J22,'KAYIT LİSTESİ'!$B$4:$H$664,6,0)))","v":"ERZİNCAN"}," "]
[20,null,null,null,null,null,{"$f":"IF(ISTEXT(F23),0,IFERROR(VLOOKUP(SMALL(#REF!,COUNTIF(#REF!,\"<\"&F23)+1),#REF!, 2,0),\" \"))","v":" "},null,6,"800M-2-6",{"$f":"IF(ISERROR(VLOOKUP(J23,'KAYIT LİSTESİ'!$B$4:$H$664,2,0)),\"\",(VLOOKUP(J23,'KAYIT LİSTESİ'!$B$4:$H$664,2,0)))","v":617},{"$f":"IF(ISERROR(VLOOKUP(J23,'KAYIT LİSTESİ'!$B$4:$H$664,4,0)),\"\",(VLOOKUP(J23,'KAYIT LİSTESİ'!$B$4:$H$664,4,0)))","v":"1999-06-03"},{"$f":"IF(ISERROR(VLOOKUP(J23,'KAYIT LİSTESİ'!$B$4:$H$664,5,0)),\"\",(VLOOKUP(J23,'KAYIT LİSTESİ'!$B$4:$H$664,5,0)))","v":"SEÇİL AKPINAR"},{"$f":"IF(ISERROR(VLOOKUP(J23,'KAYIT LİSTESİ'!$B$4:$H$664,6,0)),\"\",(VLOOKUP(J23,'KAYIT LİSTESİ'!$B$4:$H$664,6,0)))","v":"HATAY"}," "]
[21,null,null,null,null,null,{"$f":"IF(ISTEXT(F24),0,IFERROR(VLOOKUP(SMALL(#REF!,COUNTIF(#REF!,\"<\"&F24)+1),#REF!, 2,0),\" \"))","v":" "},null,7,"800M-2-7",{"$f":"IF(ISERROR(VLOOKUP(J24,'KAYIT LİSTESİ'!$B$4:$H$664,2,0)),\"\",(VLOOKUP(J24,'KAYIT LİSTESİ'!$B$4:$H$664,2,0)))","v":628},{"$f":"IF(ISERROR(VLOOKUP(J24,'KAYIT LİSTESİ'!$B$4:$H$664,4,0)),\"\",(VLOOKUP(J24,'KAYIT LİSTESİ'!$B$4:$H$664,4,0)))","v":"1997-08-04"},{"$f":"IF(ISERROR(VLOOKUP(J24,'KAYIT LİSTESİ'!$B$4:$H$664,5,0)),\"\",(VLOOKUP(J24,'KAYIT LİSTESİ'!$B$4:$H$664,5,0)))","v":"HATICE DEDE "},{"$f":"IF(ISERROR(VLOOKUP(J24,'KAYIT LİSTESİ'!$B$4:$H$664,6,0)),\"\",(VLOOKUP(J24,'KAYIT LİSTESİ'!$B$4:$H$664,6,0)))","v":"AKSARAY"}," "]
[22,null,null,null,null,null,{"$f":"IF(ISTEXT(F25),0,IFERROR(VLOOKUP(SMALL(#REF!,COUNTIF(#REF!,\"<\"&F25)+1),#REF!, 2,0),\" \"))","v":" "},null,8,"800M-2-8",{"$f":"IF(ISERROR(VLOOKUP(J25,'KAYIT LİSTESİ'!$B$4:$H$664,2,0)),\"\",(VLOOKUP(J25,'KAYIT LİSTESİ'!$B$4:$H$664,2,0)))","v":""},{"$f":"IF(ISERROR(VLOOKUP(J25,'KAYIT LİSTESİ'!$B$4:$H$664,4,0)),\"\",(VLOOKUP(J25,'KAYIT LİSTESİ'!$B$4:$H$664,4,0)))","v":""},{"$f":"IF(ISERROR(VLOOKUP(J25,'KAYIT LİSTESİ'!$B$4:$H$664,5,0)),\"\",(VLOOKUP(J25,'KAYIT LİSTESİ'!$B$4:$H$664,5,0)))","v":""},{"$f":"IF(ISERROR(VLOOKUP(J25,'KAYIT LİSTESİ'!$B$4:$H$664,6,0)),\"\",(VLOOKUP(J25,'KAYIT LİSTESİ'!$B$4:$H$664,6,0)))","v":""}," "]
[27,null,null,null,null,null,{"$f":"IF(ISTEXT(F26),0,IFERROR(VLOOKUP(SMALL(#REF!,COUNTIF(#REF!,\"<\"&F26)+1),#REF!, 2,0),\" \"))","v":" "},null,"3. SERİ"]
[28,null,null,null,null,null,{"$f":"IF(ISTEXT(F27),0,IFERROR(VLOOKUP(SMALL(#REF!,COUNTIF(#REF!,\"<\"&F27)+1),#REF!, 2,0),\" \"))","v":" "},null,"Sıra No","Formül","Göğüs No","Doğum Tarihi","Adı ve Soyadı","İli-Okulu","Elektronik Kronometre","El Kronometre","Seri Geliş"]
[29,null,null,null,null,null,{"$f":"IF(ISTEXT(F28),0,IFERROR(VLOOKUP(SMALL(#REF!,COUNTIF(#REF!,\"<\"&F28)+1),#REF!, 2,0),\" \"))","v":" "},null,1,"800M-3-1",{"$f":"IF(ISERROR(VLOOKUP(J28,'KAYIT LİSTESİ'!$B$4:$H$664,2,0)),\"\",(VLOOKUP(J28,'KAYIT LİSTESİ'!$B$4:$H$664,2,0)))","v":""},{"$f":"IF(ISERROR(VLOOKUP(J28,'KAYIT LİSTESİ'!$B$4:$H$664,4,0)),\"\",(VLOOKUP(J28,'KAYIT LİSTESİ'!$B$4:$H$664,4,0)))","v":""},{"$f":"IF(ISERROR(VLOOKUP(J28,'KAYIT LİSTESİ'!$B$4:$H$664,5,0)),\"\",(VLOOKUP(J28,'KAYIT LİSTESİ'!$B$4:$H$664,5,0)))","v":""},{"$f":"IF(ISERROR(VLOOKUP(J28,'KAYIT LİSTESİ'!$B$4:$H$664,6,0)),\"\",(VLOOKUP(J28,'KAYIT LİSTESİ'!$B$4:$H$664,6,0)))","v":""},{"$f":"IF(IF(OR(P28=\"NM\",P28=\"DNF\",P28=\"DNS\",P28=\"DQ\",P28=\"\"),P28,(ROUNDUP(P28,)+24))=0,\" \",IF(OR(P28=\"NM\",P28=\"DNF\",P28=\"DNS\",P28=\"DQ\",P28=\"\"),P28,(ROUNDUP(P28,)+24)))","v":" "}]
[30,null,null,null,null,null,{"$f":"IF(ISTEXT(F29),0,IFERROR(VLOOKUP(SMALL(#REF!,COUNTIF(#REF!,\"<\"&F29)+1),#REF!, 2,0),\" \"))","v":" "},null,2,"800M-3-2",{"$f":"IF(ISERROR(VLOOKUP(J29,'KAYIT LİSTESİ'!$B$4:$H$664,2,0)),\"\",(VLOOKUP(J29,'KAYIT LİSTESİ'!$B$4:$H$664,2,0)))","v":""},{"$f":"IF(ISERROR(VLOOKUP(J29,'KAYIT LİSTESİ'!$B$4:$H$664,4,0)),\"\",(VLOOKUP(J29,'KAYIT LİSTESİ'!$B$4:$H$664,4,0)))","v":""},{"$f":"IF(ISERROR(VLOOKUP(J29,'KAYIT LİSTESİ'!$B$4:$H$664,5,0)),\"\",(VLOOKUP(J29,'KAYIT LİSTESİ'!$B$4:$H$664,5,0)))","v":""},{"$f":"IF(ISERROR(VLOOKUP(J29,'KAYIT LİSTESİ'!$B$4:$H$664,6,0)),\"\",(VLOOKUP(J29,'KAYIT LİSTESİ'!$B$4:$H$664,6,0)))","v":""}," "]
[31,null,null,null,null,null,{"$f":"IF(ISTEXT(F30),0,IFERROR(VLOOKUP(SMALL(#REF!,COUNTIF(#REF!,\"<\"&F30)+1),#REF!, 2,0),\" \"))","v":" "},null,3,"800M-3-3",{"$f":"IF(ISERROR(VLOOKUP(J30,'KAYIT LİSTESİ'!$B$4:$H$664,2,0)),\"\",(VLOOKUP(J30,'KAYIT LİSTESİ'!$B$4:$H$664,2,0)))","v":""},{"$f":"IF(ISERROR(VLOOKUP(J30,'KAYIT LİSTESİ'!$B$4:$H$664,4,0)),\"\",(VLOOKUP(J30,'KAYIT LİSTESİ'!$B$4:$H$664,4,0)))","v":""},{"$f":"IF(ISERROR(VLOOKUP(J30,'KAYIT LİSTESİ'!$B$4:$H$664,5,0)),\"\",(VLOOKUP(J30,'KAYIT LİSTESİ'!$B$4:$H$664,5,0)))","v":""},{"$f":"IF(ISERROR(VLOOKUP(J30,'KAYIT LİSTESİ'!$B$4:$H$664,6,0)),\"\",(VLOOKUP(J30,'KAYIT LİSTESİ'!$B$4:$H$664,6,0)))","v":""}," "]
[32,null,null,null,null,null,{"$f":"IF(ISTEXT(F31),0,IFERROR(VLOOKUP(SMALL(#REF!,COUNTIF(#REF!,\"<\"&F31)+1),#REF!, 2,0),\" \"))","v":" "},null,4,"800M-3-4",{"$f":"IF(ISERROR(VLOOKUP(J31,'KAYIT LİSTESİ'!$B$4:$H$664,2,0)),\"\",(VLOOKUP(J31,'KAYIT LİSTESİ'!$B$4:$H$664,2,0)))","v":""},{"$f":"IF(ISERROR(VLOOKUP(J31,'KAYIT LİSTESİ'!$B$4:$H$664,4,0)),\"\",(VLOOKUP(J31,'KAYIT LİSTESİ'!$B$4:$H$664,4,0)))","v":""},{"$f":"IF(ISERROR(VLOOKUP(J31,'KAYIT LİSTESİ'!$B$4:$H$664,5,0)),\"\",(VLOOKUP(J31,'KAYIT LİSTESİ'!$B$4:$H$664,5,0)))","v":""},{"$f":"IF(ISERROR(VLOOKUP(J31,'KAYIT LİSTESİ'!$B$4:$H$664,6,0)),\"\",(VLOOKUP(J31,'KAYIT LİSTESİ'!$B$4:$H$664,6,0)))","v":""}," "]
[33,null,null,null,null,null,{"$f":"IF(ISTEXT(F32),0,IFERROR(VLOOKUP(SMALL(#REF!,COUNTIF(#REF!,\"<\"&F32)+1),#REF!, 2,0),\" \"))","v":" "},null,5,"800M-3-5",{"$f":"IF(ISERROR(VLOOKUP(J32,'KAYIT LİSTESİ'!$B$4:$H$664,2,0)),\"\",(VLOOKUP(J32,'KAYIT LİSTESİ'!$B$4:$H$664,2,0)))","v":""},{"$f":"IF(ISERROR(VLOOKUP(J32,'KAYIT LİSTESİ'!$B$4:$H$664,4,0)),\"\",(VLOOKUP(J32,'KAYIT LİSTESİ'!$B$4:$H$664,4,0)))","v":""},{"$f":"IF(ISERROR(VLOOKUP(J32,'KAYIT LİSTESİ'!$B$4:$H$664,5,0)),\"\",(VLOOKUP(J32,'KAYIT LİSTESİ'!$B$4:$H$664,5,0)))","v":""},{"$f":"IF(ISERROR(VLOOKUP(J32,'KAYIT LİSTESİ'!$B$4:$H$664,6,0)),\"\",(VLOOKUP(J32,'KAYIT LİSTESİ'!$B$4:$H$664,6,0)))","v":""}," "]
[34,null,null,null,null,null,{"$f":"IF(ISTEXT(F33),0,IFERROR(VLOOKUP(SMALL(#REF!,COUNTIF(#REF!,\"<\"&F33)+1),#REF!, 2,0),\" \"))","v":" "},null,6,"800M-3-6",{"$f":"IF(ISERROR(VLOOKUP(J33,'KAYIT LİSTESİ'!$B$4:$H$664,2,0)),\"\",(VLOOKUP(J33,'KAYIT LİSTESİ'!$B$4:$H$664,2,0)))","v":""},{"$f":"IF(ISERROR(VLOOKUP(J33,'KAYIT LİSTESİ'!$B$4:$H$664,4,0)),\"\",(VLOOKUP(J33,'KAYIT LİSTESİ'!$B$4:$H$664,4,0)))","v":""},{"$f":"IF(ISERROR(VLOOKUP(J33,'KAYIT LİSTESİ'!$B$4:$H$664,5,0)),\"\",(VLOOKUP(J33,'KAYIT LİSTESİ'!$B$4:$H$664,5,0)))","v":""},{"$f":"IF(ISERROR(VLOOKUP(J33,'KAYIT LİSTESİ'!$B$4:$H$664,6,0)),\"\",(VLOOKUP(J33,'KAYIT LİSTESİ'!$B$4:$H$664,6,0)))","v":""}," "]
[35,null,null,null,null,null,{"$f":"IF(ISTEXT(F34),0,IFERROR(VLOOKUP(SMALL(#REF!,COUNTIF(#REF!,\"<\"&F34)+1),#REF!, 2,0),\" \"))","v":" "},null,7,"800M-3-7",{"$f":"IF(ISERROR(VLOOKUP(J34,'KAYIT LİSTESİ'!$B$4:$H$664,2,0)),\"\",(VLOOKUP(J34,'KAYIT LİSTESİ'!$B$4:$H$664,2,0)))","v":""},{"$f":"IF(ISERROR(VLOOKUP(J34,'KAYIT LİSTESİ'!$B$4:$H$664,4,0)),\"\",(VLOOKUP(J34,'KAYIT LİSTESİ'!$B$4:$H$664,4,0)))","v":""},{"$f":"IF(ISERROR(VLOOKUP(J34,'KAYIT LİSTESİ'!$B$4:$H$664,5,0)),\"\",(VLOOKUP(J34,'KAYIT LİSTESİ'!$B$4:$H$664,5,0)))","v":""},{"$f":"IF(ISERROR(VLOOKUP(J34,'KAYIT LİSTESİ'!$B$4:$H$664,6,0)),\"\",(VLOOKUP(J34,'KAYIT LİSTESİ'!$B$4:$H$664,6,0)))","v":""}," "]
[36,null,null,null,null,null,{"$f":"IF(ISTEXT(F35),0,IFERROR(VLOOKUP(SMALL(#REF!,COUNTIF(#REF!,\"<\"&F35)+1),#REF!, 2,0),\" \"))","v":" "},null,8,"800M-3-8",{"$f":"IF(ISERROR(VLOOKUP(J35,'KAYIT LİSTESİ'!$B$4:$H$664,2,0)),\"\",(VLOOKUP(J35,'KAYIT LİSTESİ'!$B$4:$H$664,2,0)))","v":""},{"$f":"IF(ISERROR(VLOOKUP(J35,'KAYIT LİSTESİ'!$B$4:$H$664,4,0)),\"\",(VLOOKUP(J35,'KAYIT LİSTESİ'!$B$4:$H$664,4,0)))","v":""},{"$f":"IF(ISERROR(VLOOKUP(J35,'KAYIT LİSTESİ'!$B$4:$H$664,5,0)),\"\",(VLOOKUP(J35,'KAYIT LİSTESİ'!$B$4:$H$664,5,0)))","v":""},{"$f":"IF(ISERROR(VLOOKUP(J35,'KAYIT LİSTESİ'!$B$4:$H$664,6,0)),\"\",(VLOOKUP(J35,'KAYIT LİSTESİ'!$B$4:$H$664,6,0)))","v":""}," "]
[41,null,null,null,null,null,{"$f":"IF(ISTEXT(F36),0,IFERROR(VLOOKUP(SMALL(#REF!,COUNTIF(#REF!,\"<\"&F36)+1),#REF!, 2,0),\" \"))","v":" "},null,"4. SERİ"]
[42,null,null,null,null,null,{"$f":"IF(ISTEXT(F37),0,IFERROR(VLOOKUP(SMALL(#REF!,COUNTIF(#REF!,\"<\"&F37)+1),#REF!, 2,0),\" \"))","v":" "},null,"Sıra No","Formül","Göğüs No","Doğum Tarihi","Adı ve Soyadı","İli-Okulu","Elektronik Kronometre","El Kronometre","Seri Geliş"]
[43,null,null,null,null,null,{"$f":"IF(ISTEXT(F38),0,IFERROR(VLOOKUP(SMALL(#REF!,COUNTIF(#REF!,\"<\"&F38)+1),#REF!, 2,0),\" \"))","v":" "},null,1,"800M-4-1",{"$f":"IF(ISERROR(VLOOKUP(J38,'KAYIT LİSTESİ'!$B$4:$H$664,2,0)),\"\",(VLOOKUP(J38,'KAYIT LİSTESİ'!$B$4:$H$664,2,0)))","v":""},{"$f":"IF(ISERROR(VLOOKUP(J38,'KAYIT LİSTESİ'!$B$4:$H$664,4,0)),\"\",(VLOOKUP(J38,'KAYIT LİSTESİ'!$B$4:$H$664,4,0)))","v":""},{"$f":"IF(ISERROR(VLOOKUP(J38,'KAYIT LİSTESİ'!$B$4:$H$664,5,0)),\"\",(VLOOKUP(J38,'KAYIT LİSTESİ'!$B$4:$H$664,5,0)))","v":""},{"$f":"IF(ISERROR(VLOOKUP(J38,'KAYIT LİSTESİ'!$B$4:$H$664,6,0)),\"\",(VLOOKUP(J38,'KAYIT LİSTESİ'!$B$4:$H$664,6,0)))","v":""}]
[44,null,null,null,null,null,{"$f":"IF(ISTEXT(F39),0,IFERROR(VLOOKUP(SMALL(#REF!,COUNTIF(#REF!,\"<\"&F39)+1),#REF!, 2,0),\" \"))","v":" "},null,2,"800M-4-2",{"$f":"IF(ISERROR(VLOOKUP(J39,'KAYIT LİSTESİ'!$B$4:$H$664,2,0)),\"\",(VLOOKUP(J39,'KAYIT LİSTESİ'!$B$4:$H$664,2,0)))","v":""},{"$f":"IF(ISERROR(VLOOKUP(J39,'KAYIT LİSTESİ'!$B$4:$H$664,4,0)),\"\",(VLOOKUP(J39,'KAYIT LİSTESİ'!$B$4:$H$664,4,0)))","v":""},{"$f":"IF(ISERROR(VLOOKUP(J39,'KAYIT LİSTESİ'!$B$4:$H$664,5,0)),\"\",(VLOOKUP(J39,'KAYIT LİSTESİ'!$B$4:$H$664,5,0)))","v":""},{"$f":"IF(ISERROR(VLOOKUP(J39,'KAYIT LİSTESİ'!$B$4:$H$664,6,0)),\"\",(VLOOKUP(J39,'KAYIT LİSTESİ'!$B$4:$H$664,6,0)))","v":""}]
[45,null,null,null,null,null,{"$f":"IF(ISTEXT(F40),0,IFERROR(VLOOKUP(SMALL(#REF!,COUNTIF(#REF!,\"<\"&F40)+1),#REF!, 2,0),\" \"))","v":" "},null,3,"800M-4-3",{"$f":"IF(ISERROR(VLOOKUP(J40,'KAYIT LİSTESİ'!$B$4:$H$664,2,0)),\"\",(VLOOKUP(J40,'KAYIT LİSTESİ'!$B$4:$H$664,2,0)))","v":""},{"$f":"IF(ISERROR(VLOOKUP(J40,'KAYIT LİSTESİ'!$B$4:$H$664,4,0)),\"\",(VLOOKUP(J40,'KAYIT LİSTESİ'!$B$4:$H$664,4,0)))","v":""},{"$f":"IF(ISERROR(VLOOKUP(J40,'KAYIT LİSTESİ'!$B$4:$H$664,5,0)),\"\",(VLOOKUP(J40,'KAYIT LİSTESİ'!$B$4:$H$664,5,0)))","v":""},{"$f":"IF(ISERROR(VLOOKUP(J40,'KAYIT LİSTESİ'!$B$4:$H$664,6,0)),\"\",(VLOOKUP(J40,'KAYIT LİSTESİ'!$B$4:$H$664,6,0)))","v":""}]
[46,null,null,null,null,null,{"$f":"IF(ISTEXT(F41),0,IFERROR(VLOOKUP(SMALL(#REF!,COUNTIF(#REF!,\"<\"&F41)+1),#REF!, 2,0),\" \"))","v":" "},null,4,"800M-4-4",{"$f":"IF(ISERROR(VLOOKUP(J41,'KAYIT LİSTESİ'!$B$4:$H$664,2,0)),\"\",(VLOOKUP(J41,'KAYIT LİSTESİ'!$B$4:$H$664,2,0)))","v":""},{"$f":"IF(ISERROR(VLOOKUP(J41,'KAYIT LİSTESİ'!$B$4:$H$664,4,0)),\"\",(VLOOKUP(J41,'KAYIT LİSTESİ'!$B$4:$H$664,4,0)))","v":""},{"$f":"IF(ISERROR(VLOOKUP(J41,'KAYIT LİSTESİ'!$B$4:$H$664,5,0)),\"\",(VLOOKUP(J41,'KAYIT LİSTESİ'!$B$4:$H$664,5,0)))","v":""},{"$f":"IF(ISERROR(VLOOKUP(J41,'KAYIT LİSTESİ'!$B$4:$H$664,6,0)),\"\",(VLOOKUP(J41,'KAYIT LİSTESİ'!$B$4:$H$664,6,0)))","v":""}]
[47,null,null,null,null,null,{"$f":"IF(ISTEXT(F42),0,IFERROR(VLOOKUP(SMALL(#REF!,COUNTIF(#REF!,\"<\"&F42)+1),#REF!, 2,0),\" \"))","v":" "},null,5,"800M-4-5",{"$f":"IF(ISERROR(VLOOKUP(J42,'KAYIT LİSTESİ'!$B$4:$H$664,2,0)),\"\",(VLOOKUP(J42,'KAYIT LİSTESİ'!$B$4:$H$664,2,0)))","v":""},{"$f":"IF(ISERROR(VLOOKUP(J42,'KAYIT LİSTESİ'!$B$4:$H$664,4,0)),\"\",(VLOOKUP(J42,'KAYIT LİSTESİ'!$B$4:$H$664,4,0)))","v":""},{"$f":"IF(ISERROR(VLOOKUP(J42,'KAYIT LİSTESİ'!$B$4:$H$664,5,0)),\"\",(VLOOKUP(J42,'KAYIT LİSTESİ'!$B$4:$H$664,5,0)))","v":""},{"$f":"IF(ISERROR(VLOOKUP(J42,'KAYIT LİSTESİ'!$B$4:$H$664,6,0)),\"\",(VLOOKUP(J42,'KAYIT LİSTESİ'!$B$4:$H$664,6,0)))","v":""}]
[48,null,null,null,null,null,{"$f":"IF(ISTEXT(F43),0,IFERROR(VLOOKUP(SMALL(#REF!,COUNTIF(#REF!,\"<\"&F43)+1),#REF!, 2,0),\" \"))","v":" "},null,6,"800M-4-6",{"$f":"IF(ISERROR(VLOOKUP(J43,'KAYIT LİSTESİ'!$B$4:$H$664,2,0)),\"\",(VLOOKUP(J43,'KAYIT LİSTESİ'!$B$4:$H$664,2,0)))","v":""},{"$f":"IF(ISERROR(VLOOKUP(J43,'KAYIT LİSTESİ'!$B$4:$H$664,4,0)),\"\",(VLOOKUP(J43,'KAYIT LİSTESİ'!$B$4:$H$664,4,0)))","v":""},{"$f":"IF(ISERROR(VLOOKUP(J43,'KAYIT LİSTESİ'!$B$4:$H$664,5,0)),\"\",(VLOOKUP(J43,'KAYIT LİSTESİ'!$B$4:$H$664,5,0)))","v":""},{"$f":"IF(ISERROR(VLOOKUP(J43,'KAYIT LİSTESİ'!$B$4:$H$664,6,0)),\"\",(VLOOKUP(J43,'KAYIT LİSTESİ'!$B$4:$H$664,6,0)))","v":""}]
[49,null,null,null,null,null,{"$f":"IF(ISTEXT(F44),0,IFERROR(VLOOKUP(SMALL(#REF!,COUNTIF(#REF!,\"<\"&F44)+1),#REF!, 2,0),\" \"))","v":" "},null,7,"800M-4-7",{"$f":"IF(ISERROR(VLOOKUP(J44,'KAYIT LİSTESİ'!$B$4:$H$664,2,0)),\"\",(VLOOKUP(J44,'KAYIT LİSTESİ'!$B$4:$H$664,2,0)))","v":""},{"$f":"IF(ISERROR(VLOOKUP(J44,'KAYIT LİSTESİ'!$B$4:$H$664,4,0)),\"\",(VLOOKUP(J44,'KAYIT LİSTESİ'!$B$4:$H$664,4,0)))","v":""},{"$f":"IF(ISERROR(VLOOKUP(J44,'KAYIT LİSTESİ'!$B$4:$H$664,5,0)),\"\",(VLOOKUP(J44,'KAYIT LİSTESİ'!$B$4:$H$664,5,0)))","v":""},{"$f":"IF(ISERROR(VLOOKUP(J44,'KAYIT LİSTESİ'!$B$4:$H$664,6,0)),\"\",(VLOOKUP(J44,'KAYIT LİSTESİ'!$B$4:$H$664,6,0)))","v":""}]
[50,null,null,null,null,null,{"$f":"IF(ISTEXT(F45),0,IFERROR(VLOOKUP(SMALL(#REF!,COUNTIF(#REF!,\"<\"&F45)+1),#REF!, 2,0),\" \"))","v":" "},null,8,"800M-4-8",{"$f":"IF(ISERROR(VLOOKUP(J45,'KAYIT LİSTESİ'!$B$4:$H$664,2,0)),\"\",(VLOOKUP(J45,'KAYIT LİSTESİ'!$B$4:$H$664,2,0)))","v":""},{"$f":"IF(ISERROR(VLOOKUP(J45,'KAYIT LİSTESİ'!$B$4:$H$664,4,0)),\"\",(VLOOKUP(J45,'KAYIT LİSTESİ'!$B$4:$H$664,4,0)))","v":""},{"$f":"IF(ISERROR(VLOOKUP(J45,'KAYIT LİSTESİ'!$B$4:$H$664,5,0)),\"\",(VLOOKUP(J45,'KAYIT LİSTESİ'!$B$4:$H$664,5,0)))","v":""},{"$f":"IF(ISERROR(VLOOKUP(J45,'KAYIT LİSTESİ'!$B$4:$H$664,6,0)),\"\",(VLOOKUP(J45,'KAYIT LİSTESİ'!$B$4:$H$664,6,0)))","v":""}]
[51,null,null,null,null,null,{"$f":"IF(ISTEXT(F46),0,IFERROR(VLOOKUP(SMALL(#REF!,COUNTIF(#REF!,\"<\"&F46)+1),#REF!, 2,0),\" \"))","v":" "},null,9,"800M-4-9",{"$f":"IF(ISERROR(VLOOKUP(J46,'KAYIT LİSTESİ'!$B$4:$H$664,2,0)),\"\",(VLOOKUP(J46,'KAYIT LİSTESİ'!$B$4:$H$664,2,0)))","v":""},{"$f":"IF(ISERROR(VLOOKUP(J46,'KAYIT LİSTESİ'!$B$4:$H$664,4,0)),\"\",(VLOOKUP(J46,'KAYIT LİSTESİ'!$B$4:$H$664,4,0)))","v":""},{"$f":"IF(ISERROR(VLOOKUP(J46,'KAYIT LİSTESİ'!$B$4:$H$664,5,0)),\"\",(VLOOKUP(J46,'KAYIT LİSTESİ'!$B$4:$H$664,5,0)))","v":""},{"$f":"IF(ISERROR(VLOOKUP(J46,'KAYIT LİSTESİ'!$B$4:$H$664,6,0)),\"\",(VLOOKUP(J46,'KAYIT LİSTESİ'!$B$4:$H$664,6,0)))","v":""}]
[52,null,null,null,null,null,{"$f":"IF(ISTEXT(F47),0,IFERROR(VLOOKUP(SMALL(#REF!,COUNTIF(#REF!,\"<\"&F47)+1),#REF!, 2,0),\" \"))","v":" "},null,10,"800M-4-10",{"$f":"IF(ISERROR(VLOOKUP(J47,'KAYIT LİSTESİ'!$B$4:$H$664,2,0)),\"\",(VLOOKUP(J47,'KAYIT LİSTESİ'!$B$4:$H$664,2,0)))","v":""},{"$f":"IF(ISERROR(VLOOKUP(J47,'KAYIT LİSTESİ'!$B$4:$H$664,4,0)),\"\",(VLOOKUP(J47,'KAYIT LİSTESİ'!$B$4:$H$664,4,0)))","v":""},{"$f":"IF(ISERROR(VLOOKUP(J47,'KAYIT LİSTESİ'!$B$4:$H$664,5,0)),\"\",(VLOOKUP(J47,'KAYIT LİSTESİ'!$B$4:$H$664,5,0)))","v":""},{"$f":"IF(ISERROR(VLOOKUP(J47,'KAYIT LİSTESİ'!$B$4:$H$664,6,0)),\"\",(VLOOKUP(J47,'KAYIT LİSTESİ'!$B$4:$H$664,6,0)))","v":""}]
[53,null,null,null,null,null,{"$f":"IF(ISTEXT(F48),0,IFERROR(VLOOKUP(SMALL(#REF!,COUNTIF(#REF!,\"<\"&F48)+1),#REF!, 2,0),\" \"))","v":" "},null,11,"800M-4-11",{"$f":"IF(ISERROR(VLOOKUP(J48,'KAYIT LİSTESİ'!$B$4:$H$664,2,0)),\"\",(VLOOKUP(J48,'KAYIT LİSTESİ'!$B$4:$H$664,2,0)))","v":""},{"$f":"IF(ISERROR(VLOOKUP(J48,'KAYIT LİSTESİ'!$B$4:$H$664,4,0)),\"\",(VLOOKUP(J48,'KAYIT LİSTESİ'!$B$4:$H$664,4,0)))","v":""},{"$f":"IF(ISERROR(VLOOKUP(J48,'KAYIT LİSTESİ'!$B$4:$H$664,5,0)),\"\",(VLOOKUP(J48,'KAYIT LİSTESİ'!$B$4:$H$664,5,0)))","v":""},{"$f":"IF(ISERROR(VLOOKUP(J48,'KAYIT LİSTESİ'!$B$4:$H$664,6,0)),\"\",(VLOOKUP(J48,'KAYIT LİSTESİ'!$B$4:$H$664,6,0)))","v":""}]
[54,null,null,null,null,null,{"$f":"IF(ISTEXT(F49),0,IFERROR(VLOOKUP(SMALL(#REF!,COUNTIF(#REF!,\"<\"&F49)+1),#REF!, 2,0),\" \"))","v":" "},null,12,"800M-4-12",{"$f":"IF(ISERROR(VLOOKUP(J49,'KAYIT LİSTESİ'!$B$4:$H$664,2,0)),\"\",(VLOOKUP(J49,'KAYIT LİSTESİ'!$B$4:$H$664,2,0)))","v":""},{"$f":"IF(ISERROR(VLOOKUP(J49,'KAYIT LİSTESİ'!$B$4:$H$664,4,0)),\"\",(VLOOKUP(J49,'KAYIT LİSTESİ'!$B$4:$H$664,4,0)))","v":""},{"$f":"IF(ISERROR(VLOOKUP(J49,'KAYIT LİSTESİ'!$B$4:$H$664,5,0)),\"\",(VLOOKUP(J49,'KAYIT LİSTESİ'!$B$4:$H$664,5,0)))","v":""},{"$f":"IF(ISERROR(VLOOKUP(J49,'KAYIT LİSTESİ'!$B$4:$H$664,6,0)),\"\",(VLOOKUP(J49,'KAYIT LİSTESİ'!$B$4:$H$664,6,0)))","v":""}]
[]
["Müsabakalar Direktörü",null,null,null,"Baş Hakem","Lider",null,"Sekreter",null,null,null,null,"Hakem","Hakem",null,"Hakem"]

{"sheet":"200m.","index":14,"n_rows":47,"n_cols":17,"rows_kept":47,"cut":false,"hidden":false,"merged":[[0,0,0,16],[1,0,1,16],[2,0,2,2],[2,3,2,4],[2,5,2,6],[2,8,2,11],[2,13,2,16],[5,5,6,5],[5,6,6,6],[3,0,3,2],[3,3,3,4],[3,13,3,16],[4,13,4,16],[5,0,6,0],[5,1,6,1],[5,2,6,2],[5,3,6,3],[5,4,6,4]]}
[{"$f":"('YARIŞMA BİLGİLERİ'!A2)","v":"Türkiye Atletizm Federasyonu\nMersin Atletizm İl Temsilciliği\n"}]
[{"$f":"'YARIŞMA BİLGİLERİ'!F19","v":"Olimpik Baraj  Yarışmaları"}]
["Yarışma :",null,null,{"$f":"#REF!","v":{"$error":"#REF!"}},null,"Baraj Derecesi ",null,":",{"$f":"#REF!","v":{"$error":"#REF!"}}]
["Kategori :",null,null,{"$f":"'YARIŞMA BİLGİLERİ'!F21","v":"Kadınlar"},null,null,null,null,null,null,null,null,"Tarih-Saat :",{"$f":"#REF!","v":{"$error":"#REF!"}}]
[null,null,null,null,null,null,null,null,null,null,null,null,null,{"$f":"NOW()","v":42222.536638541664}]
["Sıra No","Göğüs No","Doğum Tarihi\nGün/Ay/Yıl","Adı ve Soyadı","İli-Okulu","Derece","Puan",null,"1. SERİ",null,null,null,"Rüzgar:"]
[null,null,null,null,null,null,null,null,"Sıra No","Formül","Göğüs No","Doğum Tarihi","Adı ve Soyadı","İli-Okulu","Elektronik Kronometre","El Kronometre","Seri Geliş"]
[1,null,null,null,null,null,{"$f":"IF(ISTEXT(F8),0,IFERROR(VLOOKUP(SMALL(#REF!,COUNTIF(#REF!,\"<\"&F8)+1),#REF!, 2,0),\" \"))","v":" "},null,1,"200M-1-1",{"$f":"IF(ISERROR(VLOOKUP(J8,'KAYIT LİSTESİ'!$B$4:$H$664,2,0)),\"\",(VLOOKUP(J8,'KAYIT LİSTESİ'!$B$4:$H$664,2,0)))","v":""},{"$f":"IF(ISERROR(VLOOKUP(J8,'KAYIT LİSTESİ'!$B$4:$H$664,4,0)),\"\",(VLOOKUP(J8,'KAYIT LİSTESİ'!$B$4:$H$664,4,0)))","v":""},{"$f":"IF(ISERROR(VLOOKUP(J8,'KAYIT LİSTESİ'!$B$4:$H$664,5,0)),\"\",(VLOOKUP(J8,'KAYIT LİSTESİ'!$B$4:$H$664,5,0)))","v":""},{"$f":"IF(ISERROR(VLOOKUP(J8,'KAYIT LİSTESİ'!$B$4:$H$664,6,0)),\"\",(VLOOKUP(J8,'KAYIT LİSTESİ'!$B$4:$H$664,6,0)))","v":""},{"$f":"IF(IF(OR(P8=\"NM\",P8=\"DNF\",P8=\"DNS\",P8=\"DQ\",P8=\"\"),P8,(ROUNDUP(P8,)+24))=0,\" \",IF(OR(P8=\"NM\",P8=\"DNF\",P8=\"DNS\",P8=\"DQ\",P8=\"\"),P8,(ROUNDUP(P8,)+24)))","v":" "}]
[2,null,null,null,null,null,{"$f":"IF(ISTEXT(F9),0,IFERROR(VLOOKUP(SMALL(#REF!,COUNTIF(#REF!,\"<\"&F9)+1),#REF!, 2,0),\" \"))","v":" "},null,2,"200M-1-2",{"$f":"IF(ISERROR(VLOOKUP(J9,'KAYIT LİSTESİ'!$B$4:$H$664,2,0)),\"\",(VLOOKUP(J9,'KAYIT LİSTESİ'!$B$4:$H$664,2,0)))","v":624},{"$f":"IF(ISERROR(VLOOKUP(J9,'KAYIT LİSTESİ'!$B$4:$H$664,4,0)),\"\",(VLOOKUP(J9,'KAYIT LİSTESİ'!$B$4:$H$664,4,0)))","v":"1997-03-17"},{"$f":"IF(ISERROR(VLOOKUP(J9,'KAYIT LİSTESİ'!$B$4:$H$664,5,0)),\"\",(VLOOKUP(J9,'KAYIT LİSTESİ'!$B$4:$H$664,5,0)))","v":"BAHAR ILDIRKAYA"},{"$f":"IF(ISERROR(VLOOKUP(J9,'KAYIT LİSTESİ'!$B$4:$H$664,6,0)),\"\",(VLOOKUP(J9,'KAYIT LİSTESİ'!$B$4:$H$664,6,0)))","v":"BURSA"}," "]
[3,null,null,null,null,null,{"$f":"IF(ISTEXT(F10),0,IFERROR(VLOOKUP(SMALL(#REF!,COUNTIF(#REF!,\"<\"&F10)+1),#REF!, 2,0),\" \"))","v":" "},null,3,"200M-1-3",{"$f":"IF(ISERROR(VLOOKUP(J10,'KAYIT LİSTESİ'!$B$4:$H$664,2,0)),\"\",(VLOOKUP(J10,'KAYIT LİSTESİ'!$B$4:$H$664,2,0)))","v":602},{"$f":"IF(ISERROR(VLOOKUP(J10,'KAYIT LİSTESİ'!$B$4:$H$664,4,0)),\"\",(VLOOKUP(J10,'KAYIT LİSTESİ'!$B$4:$H$664,4,0)))","v":"1984-03-28"},{"$f":"IF(ISERROR(VLOOKUP(J10,'KAYIT LİSTESİ'!$B$4:$H$664,5,0)),\"\",(VLOOKUP(J10,'KAYIT LİSTESİ'!$B$4:$H$664,5,0)))","v":"Serpil Koçak"},{"$f":"IF(ISERROR(VLOOKUP(J10,'KAYIT LİSTESİ'!$B$4:$H$664,6,0)),\"\",(VLOOKUP(J10,'KAYIT LİSTESİ'!$B$4:$H$664,6,0)))","v":"istanbul"}," "]
[4,null,null,null,null,null,{"$f":"IF(ISTEXT(F11),0,IFERROR(VLOOKUP(SMALL(#REF!,COUNTIF(#REF!,\"<\"&F11)+1),#REF!, 2,0),\" \"))","v":" "},null,4,"200M-1-4",{"$f":"IF(ISERROR(VLOOKUP(J11,'KAYIT LİSTESİ'!$B$4:$H$664,2,0)),\"\",(VLOOKUP(J11,'KAYIT LİSTESİ'!$B$4:$H$664,2,0)))","v":600},{"$f":"IF(ISERROR(VLOOKUP(J11,'KAYIT LİSTESİ'!$B$4:$H$664,4,0)),\"\",(VLOOKUP(J11,'KAYIT LİSTESİ'!$B$4:$H$664,4,0)))","v":"1987-03-30"},{"$f":"IF(ISERROR(VLOOKUP(J11,'KAYIT LİSTESİ'!$B$4:$H$664,5,0)),\"\",(VLOOKUP(J11,'KAYIT LİSTESİ'!$B$4:$H$664,5,0)))","v":"SİBEL İPEK"},{"$f":"IF(ISERROR(VLOOKUP(J11,'KAYIT LİSTESİ'!$B$4:$H$664,6,0)),\"\",(VLOOKUP(J11,'KAYIT LİSTESİ'!$B$4:$H$664,6,0)))","v":"DİYARBAKIR"}," "]
[5,null,null,null,null,null,{"$f":"IF(ISTEXT(F12),0,IFERROR(VLOOKUP(SMALL(#REF!,COUNTIF(#REF!,\"<\"&F12)+1),#REF!, 2,0),\" \"))","v":" "},null,5,"200M-1-5",{"$f":"IF(ISERROR(VLOOKUP(J12,'KAYIT LİSTESİ'!$B$4:$H$664,2,0)),\"\",(VLOOKUP(J12,'KAYIT LİSTESİ'!$B$4:$H$664,2,0)))","v":615},{"$f":"IF(ISERROR(VLOOKUP(J12,'KAYIT LİSTESİ'!$B$4:$H$664,4,0)),\"\",(VLOOKUP(J12,'KAYIT LİSTESİ'!$B$4:$H$664,4,0)))","v":"1997-01-19"},{"$f":"IF(ISERROR(VLOOKUP(J12,'KAYIT LİSTESİ'!$B$4:$H$664,5,0)),\"\",(VLOOKUP(J12,'KAYIT LİSTESİ'!$B$4:$H$664,5,0)))","v":"SEVNUR ALADAĞ"},{"$f":"IF(ISERROR(VLOOKUP(J12,'KAYIT LİSTESİ'!$B$4:$H$664,6,0)),\"\",(VLOOKUP(J12,'KAYIT LİSTESİ'!$B$4:$H$664,6,0)))","v":"HATAY"}," "]
[6,null,null,null,null,null,{"$f":"IF(ISTEXT(F13),0,IFERROR(VLOOKUP(SMALL(#REF!,COUNTIF(#REF!,\"<\"&F13)+1),#REF!, 2,0),\" \"))","v":" "},null,6,"200M-1-6",{"$f":"IF(ISERROR(VLOOKUP(J13,'KAYIT LİSTESİ'!$B$4:$H$664,2,0)),\"\",(VLOOKUP(J13,'KAYIT LİSTESİ'!$B$4:$H$664,2,0)))","v":611},{"$f":"IF(ISERROR(VLOOKUP(J13,'KAYIT LİSTESİ'!$B$4:$H$664,4,0)),\"\",(VLOOKUP(J13,'KAYIT LİSTESİ'!$B$4:$H$664,4,0)))","v":"1999-08-28"},{"$f":"IF(ISERROR(VLOOKUP(J13,'KAYIT LİSTESİ'!$B$4:$H$664,5,0)),\"\",(VLOOKUP(J13,'KAYIT LİSTESİ'!$B$4:$H$664,5,0)))","v":"AYSEL YILMAZ"},{"$f":"IF(ISERROR(VLOOKUP(J13,'KAYIT LİSTESİ'!$B$4:$H$664,6,0)),\"\",(VLOOKUP(J13,'KAYIT LİSTESİ'!$B$4:$H$664,6,0)))","v":"GAZİANTEP"}," "]
[7,null,null,null,null,null,{"$f":"IF(ISTEXT(F14),0,IFERROR(VLOOKUP(SMALL(#REF!,COUNTIF(#REF!,\"<\"&F14)+1),#REF!, 2,0),\" \"))","v":" "},null,7,"200M-1-7",{"$f":"IF(ISERROR(VLOOKUP(J14,'KAYIT LİSTESİ'!$B$4:$H$664,2,0)),\"\",(VLOOKUP(J14,'KAYIT LİSTESİ'!$B$4:$H$664,2,0)))","v":627},{"$f":"IF(ISERROR(VLOOKUP(J14,'KAYIT LİSTESİ'!$B$4:$H$664,4,0)),\"\",(VLOOKUP(J14,'KAYIT LİSTESİ'!$B$4:$H$664,4,0)))","v":"1999-05-13"},{"$f":"IF(ISERROR(VLOOKUP(J14,'KAYIT LİSTESİ'!$B$4:$H$664,5,0)),\"\",(VLOOKUP(J14,'KAYIT LİSTESİ'!$B$4:$H$664,5,0)))","v":"BERIVAN KAYA"},{"$f":"IF(ISERROR(VLOOKUP(J14,'KAYIT LİSTESİ'!$B$4:$H$664,6,0)),\"\",(VLOOKUP(J14,'KAYIT LİSTESİ'!$B$4:$H$664,6,0)))","v":"AKSARAY"}," "]
[8,null,null,null,null,null,{"$f":"IF(ISTEXT(F15),0,IFERROR(VLOOKUP(SMALL(#REF!,COUNTIF(#REF!,\"<\"&F15)+1),#REF!, 2,0),\" \"))","v":" "},null,8,"200M-1-8",{"$f":"IF(ISERROR(VLOOKUP(J15,'KAYIT LİSTESİ'!$B$4:$H$664,2,0)),\"\",(VLOOKUP(J15,'KAYIT LİSTESİ'!$B$4:$H$664,2,0)))","v":626},{"$f":"IF(ISERROR(VLOOKUP(J15,'KAYIT LİSTESİ'!$B$4:$H$664,4,0)),\"\",(VLOOKUP(J15,'KAYIT LİSTESİ'!$B$4:$H$664,4,0)))","v":"1999-02-02"},{"$f":"IF(ISERROR(VLOOKUP(J15,'KAYIT LİSTESİ'!$B$4:$H$664,5,0)),\"\",(VLOOKUP(J15,'KAYIT LİSTESİ'!$B$4:$H$664,5,0)))","v":"ESRA KARAKAYA"},{"$f":"IF(ISERROR(VLOOKUP(J15,'KAYIT LİSTESİ'!$B$4:$H$664,6,0)),\"\",(VLOOKUP(J15,'KAYIT LİSTESİ'!$B$4:$H$664,6,0)))","v":"AKSARAY"}," "]
[9,null,null,null,null,null,{"$f":"IF(ISTEXT(F16),0,IFERROR(VLOOKUP(SMALL(#REF!,COUNTIF(#REF!,\"<\"&F16)+1),#REF!, 2,0),\" \"))","v":" "},null,"2. SERİ",null,null,null,"Rüzgar:"]
[10,null,null,null,null,null,{"$f":"IF(ISTEXT(F17),0,IFERROR(VLOOKUP(SMALL(#REF!,COUNTIF(#REF!,\"<\"&F17)+1),#REF!, 2,0),\" \"))","v":" "},null,"Sıra No","Formül","Göğüs No","Doğum Tarihi","Adı ve Soyadı","İli-Okulu","Elektronik Kronometre","El Kronometre","Seri Geliş"]
[11,null,null,null,null,null,{"$f":"IF(ISTEXT(F18),0,IFERROR(VLOOKUP(SMALL(#REF!,COUNTIF(#REF!,\"<\"&F18)+1),#REF!, 2,0),\" \"))","v":" "},null,1,"200M-2-1",{"$f":"IF(ISERROR(VLOOKUP(J18,'KAYIT LİSTESİ'!$B$4:$H$664,2,0)),\"\",(VLOOKUP(J18,'KAYIT LİSTESİ'!$B$4:$H$664,2,0)))","v":""},{"$f":"IF(ISERROR(VLOOKUP(J18,'KAYIT LİSTESİ'!$B$4:$H$664,4,0)),\"\",(VLOOKUP(J18,'KAYIT LİSTESİ'!$B$4:$H$664,4,0)))","v":""},{"$f":"IF(ISERROR(VLOOKUP(J18,'KAYIT LİSTESİ'!$B$4:$H$664,5,0)),\"\",(VLOOKUP(J18,'KAYIT LİSTESİ'!$B$4:$H$664,5,0)))","v":""},{"$f":"IF(ISERROR(VLOOKUP(J18,'KAYIT LİSTESİ'!$B$4:$H$664,6,0)),\"\",(VLOOKUP(J18,'KAYIT LİSTESİ'!$B$4:$H$664,6,0)))","v":""},{"$f":"IF(IF(OR(P18=\"NM\",P18=\"DNF\",P18=\"DNS\",P18=\"DQ\",P18=\"\"),P18,(ROUNDUP(P18,)+24))=0,\" \",IF(OR(P18=\"NM\",P18=\"DNF\",P18=\"DNS\",P18=\"DQ\",P18=\"\"),P18,(ROUNDUP(P18,)+24)))","v":" "}]
[12,null,null,null,null,null,{"$f":"IF(ISTEXT(F19),0,IFERROR(VLOOKUP(SMALL(#REF!,COUNTIF(#REF!,\"<\"&F19)+1),#REF!, 2,0),\" \"))","v":" "},null,2,"200M-2-2",{"$f":"IF(ISERROR(VLOOKUP(J19,'KAYIT LİSTESİ'!$B$4:$H$664,2,0)),\"\",(VLOOKUP(J19,'KAYIT LİSTESİ'!$B$4:$H$664,2,0)))","v":""},{"$f":"IF(ISERROR(VLOOKUP(J19,'KAYIT LİSTESİ'!$B$4:$H$664,4,0)),\"\",(VLOOKUP(J19,'KAYIT LİSTESİ'!$B$4:$H$664,4,0)))","v":""},{"$f":"IF(ISERROR(VLOOKUP(J19,'KAYIT LİSTESİ'!$B$4:$H$664,5,0)),\"\",(VLOOKUP(J19,'KAYIT LİSTESİ'!$B$4:$H$664,5,0)))","v":""},{"$f":"IF(ISERROR(VLOOKUP(J19,'KAYIT LİSTESİ'!$B$4:$H$664,6,0)),\"\",(VLOOKUP(J19,'KAYIT LİSTESİ'!$B$4:$H$664,6,0)))","v":""}," "]
[13,null,null,null,null,null,{"$f":"IF(ISTEXT(F20),0,IFERROR(VLOOKUP(SMALL(#REF!,COUNTIF(#REF!,\"<\"&F20)+1),#REF!, 2,0),\" \"))","v":" "},null,3,"200M-2-3",{"$f":"IF(ISERROR(VLOOKUP(J20,'KAYIT LİSTESİ'!$B$4:$H$664,2,0)),\"\",(VLOOKUP(J20,'KAYIT LİSTESİ'!$B$4:$H$664,2,0)))","v":""},{"$f":"IF(ISERROR(VLOOKUP(J20,'KAYIT LİSTESİ'!$B$4:$H$664,4,0)),\"\",(VLOOKUP(J20,'KAYIT LİSTESİ'!$B$4:$H$664,4,0)))","v":""},{"$f":"IF(ISERROR(VLOOKUP(J20,'KAYIT LİSTESİ'!$B$4:$H$664,5,0)),\"\",(VLOOKUP(J20,'KAYIT LİSTESİ'!$B$4:$H$664,5,0)))","v":""},{"$f":"IF(ISERROR(VLOOKUP(J20,'KAYIT LİSTESİ'!$B$4:$H$664,6,0)),\"\",(VLOOKUP(J20,'KAYIT LİSTESİ'!$B$4:$H$664,6,0)))","v":""}," "]
[14,null,null,null,null,null,{"$f":"IF(ISTEXT(F21),0,IFERROR(VLOOKUP(SMALL(#REF!,COUNTIF(#REF!,\"<\"&F21)+1),#REF!, 2,0),\" \"))","v":" "},null,4,"200M-2-4",{"$f":"IF(ISERROR(VLOOKUP(J21,'KAYIT LİSTESİ'!$B$4:$H$664,2,0)),\"\",(VLOOKUP(J21,'KAYIT LİSTESİ'!$B$4:$H$664,2,0)))","v":""},{"$f":"IF(ISERROR(VLOOKUP(J21,'KAYIT LİSTESİ'!$B$4:$H$664,4,0)),\"\",(VLOOKUP(J21,'KAYIT LİSTESİ'!$B$4:$H$664,4,0)))","v":""},{"$f":"IF(ISERROR(VLOOKUP(J21,'KAYIT LİSTESİ'!$B$4:$H$664,5,0)),\"\",(VLOOKUP(J21,'KAYIT LİSTESİ'!$B$4:$H$664,5,0)))","v":""},{"$f":"IF(ISERROR(VLOOKUP(J21,'KAYIT LİSTESİ'!$B$4:$H$664,6,0)),\"\",(VLOOKUP(J21,'KAYIT LİSTESİ'!$B$4:$H$664,6,0)))","v":""}," "]
[15,null,null,null,null,null,{"$f":"IF(ISTEXT(F22),0,IFERROR(VLOOKUP(SMALL(#REF!,COUNTIF(#REF!,\"<\"&F22)+1),#REF!, 2,0),\" \"))","v":" "},null,5,"200M-2-5",{"$f":"IF(ISERROR(VLOOKUP(J22,'KAYIT LİSTESİ'!$B$4:$H$664,2,0)),\"\",(VLOOKUP(J22,'KAYIT LİSTESİ'!$B$4:$H$664,2,0)))","v":""},{"$f":"IF(ISERROR(VLOOKUP(J22,'KAYIT LİSTESİ'!$B$4:$H$664,4,0)),\"\",(VLOOKUP(J22,'KAYIT LİSTESİ'!$B$4:$H$664,4,0)))","v":""},{"$f":"IF(ISERROR(VLOOKUP(J22,'KAYIT LİSTESİ'!$B$4:$H$664,5,0)),\"\",(VLOOKUP(J22,'KAYIT LİSTESİ'!$B$4:$H$664,5,0)))","v":""},{"$f":"IF(ISERROR(VLOOKUP(J22,'KAYIT LİSTESİ'!$B$4:$H$664,6,0)),\"\",(VLOOKUP(J22,'KAYIT LİSTESİ'!$B$4:$H$664,6,0)))","v":""}," "]
[16,null,null,null,null,null,{"$f":"IF(ISTEXT(F23),0,IFERROR(VLOOKUP(SMALL(#REF!,COUNTIF(#REF!,\"<\"&F23)+1),#REF!, 2,0),\" \"))","v":" "},null,6,"200M-2-6",{"$f":"IF(ISERROR(VLOOKUP(J23,'KAYIT LİSTESİ'!$B$4:$H$664,2,0)),\"\",(VLOOKUP(J23,'KAYIT LİSTESİ'!$B$4:$H$664,2,0)))","v":""},{"$f":"IF(ISERROR(VLOOKUP(J23,'KAYIT LİSTESİ'!$B$4:$H$664,4,0)),\"\",(VLOOKUP(J23,'KAYIT LİSTESİ'!$B$4:$H$664,4,0)))","v":""},{"$f":"IF(ISERROR(VLOOKUP(J23,'KAYIT LİSTESİ'!$B$4:$H$664,5,0)),\"\",(VLOOKUP(J23,'KAYIT LİSTESİ'!$B$4:$H$664,5,0)))","v":""},{"$f":"IF(ISERROR(VLOOKUP(J23,'KAYIT LİSTESİ'!$B$4:$H$664,6,0)),\"\",(VLOOKUP(J23,'KAYIT LİSTESİ'!$B$4:$H$664,6,0)))","v":""}," "]
[17,null,null,null,null,null,{"$f":"IF(ISTEXT(F24),0,IFERROR(VLOOKUP(SMALL(#REF!,COUNTIF(#REF!,\"<\"&F24)+1),#REF!, 2,0),\" \"))","v":" "},null,7,"200M-2-7",{"$f":"IF(ISERROR(VLOOKUP(J24,'KAYIT LİSTESİ'!$B$4:$H$664,2,0)),\"\",(VLOOKUP(J24,'KAYIT LİSTESİ'!$B$4:$H$664,2,0)))","v":""},{"$f":"IF(ISERROR(VLOOKUP(J24,'KAYIT LİSTESİ'!$B$4:$H$664,4,0)),\"\",(VLOOKUP(J24,'KAYIT LİSTESİ'!$B$4:$H$664,4,0)))","v":""},{"$f":"IF(ISERROR(VLOOKUP(J24,'KAYIT LİSTESİ'!$B$4:$H$664,5,0)),\"\",(VLOOKUP(J24,'KAYIT LİSTESİ'!$B$4:$H$664,5,0)))","v":""},{"$f":"IF(ISERROR(VLOOKUP(J24,'KAYIT LİSTESİ'!$B$4:$H$664,6,0)),\"\",(VLOOKUP(J24,'KAYIT LİSTESİ'!$B$4:$H$664,6,0)))","v":""}," "]
[18,null,null,null,null,null,{"$f":"IF(ISTEXT(F25),0,IFERROR(VLOOKUP(SMALL(#REF!,COUNTIF(#REF!,\"<\"&F25)+1),#REF!, 2,0),\" \"))","v":" "},null,8,"200M-2-8",{"$f":"IF(ISERROR(VLOOKUP(J25,'KAYIT LİSTESİ'!$B$4:$H$664,2,0)),\"\",(VLOOKUP(J25,'KAYIT LİSTESİ'!$B$4:$H$664,2,0)))","v":""},{"$f":"IF(ISERROR(VLOOKUP(J25,'KAYIT LİSTESİ'!$B$4:$H$664,4,0)),\"\",(VLOOKUP(J25,'KAYIT LİSTESİ'!$B$4:$H$664,4,0)))","v":""},{"$f":"IF(ISERROR(VLOOKUP(J25,'KAYIT LİSTESİ'!$B$4:$H$664,5,0)),\"\",(VLOOKUP(J25,'KAYIT LİSTESİ'!$B$4:$H$664,5,0)))","v":""},{"$f":"IF(ISERROR(VLOOKUP(J25,'KAYIT LİSTESİ'!$B$4:$H$664,6,0)),\"\",(VLOOKUP(J25,'KAYIT LİSTESİ'!$B$4:$H$664,6,0)))","v":""}," "]
[19,null,null,null,null,null,{"$f":"IF(ISTEXT(F26),0,IFERROR(VLOOKUP(SMALL(#REF!,COUNTIF(#REF!,\"<\"&F26)+1),#REF!, 2,0),\" \"))","v":" "},null,"3. SERİ",null,null,null,"Rüzgar:"]
[20,null,null,null,null,null,{"$f":"IF(ISTEXT(F27),0,IFERROR(VLOOKUP(SMALL(#REF!,COUNTIF(#REF!,\"<\"&F27)+1),#REF!, 2,0),\" \"))","v":" "},null,"Sıra No","Formül","Göğüs No","Doğum Tarihi","Adı ve Soyadı","İli-Okulu","Elektronik Kronometre","El Kronometre","Seri Geliş"]
[21,null,null,null,null,null,{"$f":"IF(ISTEXT(F28),0,IFERROR(VLOOKUP(SMALL(#REF!,COUNTIF(#REF!,\"<\"&F28)+1),#REF!, 2,0),\" \"))","v":" "},null,1,"200M-3-1",{"$f":"IF(ISERROR(VLOOKUP(J28,'KAYIT LİSTESİ'!$B$4:$H$664,2,0)),\"\",(VLOOKUP(J28,'KAYIT LİSTESİ'!$B$4:$H$664,2,0)))","v":""},{"$f":"IF(ISERROR(VLOOKUP(J28,'KAYIT LİSTESİ'!$B$4:$H$664,4,0)),\"\",(VLOOKUP(J28,'KAYIT LİSTESİ'!$B$4:$H$664,4,0)))","v":""},{"$f":"IF(ISERROR(VLOOKUP(J28,'KAYIT LİSTESİ'!$B$4:$H$664,5,0)),\"\",(VLOOKUP(J28,'KAYIT LİSTESİ'!$B$4:$H$664,5,0)))","v":""},{"$f":"IF(ISERROR(VLOOKUP(J28,'KAYIT LİSTESİ'!$B$4:$H$664,6,0)),\"\",(VLOOKUP(J28,'KAYIT LİSTESİ'!$B$4:$H$664,6,0)))","v":""},{"$f":"IF(IF(OR(P28=\"NM\",P28=\"DNF\",P28=\"DNS\",P28=\"DQ\",P28=\"\"),P28,(ROUNDUP(P28,)+24))=0,\" \",IF(OR(P28=\"NM\",P28=\"DNF\",P28=\"DNS\",P28=\"DQ\",P28=\"\"),P28,(ROUNDUP(P28,)+24)))","v":" "}]
[22,null,null,null,null,null,{"$f":"IF(ISTEXT(F29),0,IFERROR(VLOOKUP(SMALL(#REF!,COUNTIF(#REF!,\"<\"&F29)+1),#REF!, 2,0),\" \"))","v":" "},null,2,"200M-3-2",{"$f":"IF(ISERROR(VLOOKUP(J29,'KAYIT LİSTESİ'!$B$4:$H$664,2,0)),\"\",(VLOOKUP(J29,'KAYIT LİSTESİ'!$B$4:$H$664,2,0)))","v":""},{"$f":"IF(ISERROR(VLOOKUP(J29,'KAYIT LİSTESİ'!$B$4:$H$664,4,0)),\"\",(VLOOKUP(J29,'KAYIT LİSTESİ'!$B$4:$H$664,4,0)))","v":""},{"$f":"IF(ISERROR(VLOOKUP(J29,'KAYIT LİSTESİ'!$B$4:$H$664,5,0)),\"\",(VLOOKUP(J29,'KAYIT LİSTESİ'!$B$4:$H$664,5,0)))","v":""},{"$f":"IF(ISERROR(VLOOKUP(J29,'KAYIT LİSTESİ'!$B$4:$H$664,6,0)),\"\",(VLOOKUP(J29,'KAYIT LİSTESİ'!$B$4:$H$664,6,0)))","v":""}," "]
[23,null,null,null,null,null,{"$f":"IF(ISTEXT(F30),0,IFERROR(VLOOKUP(SMALL(#REF!,COUNTIF(#REF!,\"<\"&F30)+1),#REF!, 2,0),\" \"))","v":" "},null,3,"200M-3-3",{"$f":"IF(ISERROR(VLOOKUP(J30,'KAYIT LİSTESİ'!$B$4:$H$664,2,0)),\"\",(VLOOKUP(J30,'KAYIT LİSTESİ'!$B$4:$H$664,2,0)))","v":""},{"$f":"IF(ISERROR(VLOOKUP(J30,'KAYIT LİSTESİ'!$B$4:$H$664,4,0)),\"\",(VLOOKUP(J30,'KAYIT LİSTESİ'!$B$4:$H$664,4,0)))","v":""},{"$f":"IF(ISERROR(VLOOKUP(J30,'KAYIT LİSTESİ'!$B$4:$H$664,5,0)),\"\",(VLOOKUP(J30,'KAYIT LİSTESİ'!$B$4:$H$664,5,0)))","v":""},{"$f":"IF(ISERROR(VLOOKUP(J30,'KAYIT LİSTESİ'!$B$4:$H$664,6,0)),\"\",(VLOOKUP(J30,'KAYIT LİSTESİ'!$B$4:$H$664,6,0)))","v":""}," "]
[24,null,null,null,null,null,{"$f":"IF(ISTEXT(F31),0,IFERROR(VLOOKUP(SMALL(#REF!,COUNTIF(#REF!,\"<\"&F31)+1),#REF!, 2,0),\" \"))","v":" "},null,4,"200M-3-4",{"$f":"IF(ISERROR(VLOOKUP(J31,'KAYIT LİSTESİ'!$B$4:$H$664,2,0)),\"\",(VLOOKUP(J31,'KAYIT LİSTESİ'!$B$4:$H$664,2,0)))","v":""},{"$f":"IF(ISERROR(VLOOKUP(J31,'KAYIT LİSTESİ'!$B$4:$H$664,4,0)),\"\",(VLOOKUP(J31,'KAYIT LİSTESİ'!$B$4:$H$664,4,0)))","v":""},{"$f":"IF(ISERROR(VLOOKUP(J31,'KAYIT LİSTESİ'!$B$4:$H$664,5,0)),\"\",(VLOOKUP(J31,'KAYIT LİSTESİ'!$B$4:$H$664,5,0)))","v":""},{"$f":"IF(ISERROR(VLOOKUP(J31,'KAYIT LİSTESİ'!$B$4:$H$664,6,0)),\"\",(VLOOKUP(J31,'KAYIT LİSTESİ'!$B$4:$H$664,6,0)))","v":""}," "]
[25,null,null,null,null,null,{"$f":"IF(ISTEXT(F32),0,IFERROR(VLOOKUP(SMALL(#REF!,COUNTIF(#REF!,\"<\"&F32)+1),#REF!, 2,0),\" \"))","v":" "},null,5,"200M-3-5",{"$f":"IF(ISERROR(VLOOKUP(J32,'KAYIT LİSTESİ'!$B$4:$H$664,2,0)),\"\",(VLOOKUP(J32,'KAYIT LİSTESİ'!$B$4:$H$664,2,0)))","v":""},{"$f":"IF(ISERROR(VLOOKUP(J32,'KAYIT LİSTESİ'!$B$4:$H$664,4,0)),\"\",(VLOOKUP(J32,'KAYIT LİSTESİ'!$B$4:$H$664,4,0)))","v":""},{"$f":"IF(ISERROR(VLOOKUP(J32,'KAYIT LİSTESİ'!$B$4:$H$664,5,0)),\"\",(VLOOKUP(J32,'KAYIT LİSTESİ'!$B$4:$H$664,5,0)))","v":""},{"$f":"IF(ISERROR(VLOOKUP(J32,'KAYIT LİSTESİ'!$B$4:$H$664,6,0)),\"\",(VLOOKUP(J32,'KAYIT LİSTESİ'!$B$4:$H$664,6,0)))","v":""}," "]
[26,null,null,null,null,null,{"$f":"IF(ISTEXT(F33),0,IFERROR(VLOOKUP(SMALL(#REF!,COUNTIF(#REF!,\"<\"&F33)+1),#REF!, 2,0),\" \"))","v":" "},null,6,"200M-3-6",{"$f":"IF(ISERROR(VLOOKUP(J33,'KAYIT LİSTESİ'!$B$4:$H$664,2,0)),\"\",(VLOOKUP(J33,'KAYIT LİSTESİ'!$B$4:$H$664,2,0)))","v":""},{"$f":"IF(ISERROR(VLOOKUP(J33,'KAYIT LİSTESİ'!$B$4:$H$664,4,0)),\"\",(VLOOKUP(J33,'KAYIT LİSTESİ'!$B$4:$H$664,4,0)))","v":""},{"$f":"IF(ISERROR(VLOOKUP(J33,'KAYIT LİSTESİ'!$B$4:$H$664,5,0)),\"\",(VLOOKUP(J33,'KAYIT LİSTESİ'!$B$4:$H$664,5,0)))","v":""},{"$f":"IF(ISERROR(VLOOKUP(J33,'KAYIT LİSTESİ'!$B$4:$H$664,6,0)),\"\",(VLOOKUP(J33,'KAYIT LİSTESİ'!$B$4:$H$664,6,0)))","v":""}," "]
[27,null,null,null,null,null,{"$f":"IF(ISTEXT(F34),0,IFERROR(VLOOKUP(SMALL(#REF!,COUNTIF(#REF!,\"<\"&F34)+1),#REF!, 2,0),\" \"))","v":" "},null,7,"200M-3-7",{"$f":"IF(ISERROR(VLOOKUP(J34,'KAYIT LİSTESİ'!$B$4:$H$664,2,0)),\"\",(VLOOKUP(J34,'KAYIT LİSTESİ'!$B$4:$H$664,2,0)))","v":""},{"$f":"IF(ISERROR(VLOOKUP(J34,'KAYIT LİSTESİ'!$B$4:$H$664,4,0)),\"\",(VLOOKUP(J34,'KAYIT LİSTESİ'!$B$4:$H$664,4,0)))","v":""},{"$f":"IF(ISERROR(VLOOKUP(J34,'KAYIT LİSTESİ'!$B$4:$H$664,5,0)),\"\",(VLOOKUP(J34,'KAYIT LİSTESİ'!$B$4:$H$664,5,0)))","v":""},{"$f":"IF(ISERROR(VLOOKUP(J34,'KAYIT LİSTESİ'!$B$4:$H$664,6,0)),\"\",(VLOOKUP(J34,'KAYIT LİSTESİ'!$B$4:$H$664,6,0)))","v":""}," "]
[28,null,null,null,null,null,{"$f":"IF(ISTEXT(F35),0,IFERROR(VLOOKUP(SMALL(#REF!,COUNTIF(#REF!,\"<\"&F35)+1),#REF!, 2,0),\" \"))","v":" "},null,8,"200M-3-8",{"$f":"IF(ISERROR(VLOOKUP(J35,'KAYIT LİSTESİ'!$B$4:$H$664,2,0)),\"\",(VLOOKUP(J35,'KAYIT LİSTESİ'!$B$4:$H$664,2,0)))","v":""},{"$f":"IF(ISERROR(VLOOKUP(J35,'KAYIT LİSTESİ'!$B$4:$H$664,4,0)),\"\",(VLOOKUP(J35,'KAYIT LİSTESİ'!$B$4:$H$664,4,0)))","v":""},{"$f":"IF(ISERROR(VLOOKUP(J35,'KAYIT LİSTESİ'!$B$4:$H$664,5,0)),\"\",(VLOOKUP(J35,'KAYIT LİSTESİ'!$B$4:$H$664,5,0)))","v":""},{"$f":"IF(ISERROR(VLOOKUP(J35,'KAYIT LİSTESİ'!$B$4:$H$664,6,0)),\"\",(VLOOKUP(J35,'KAYIT LİSTESİ'!$B$4:$H$664,6,0)))","v":""}," "]
[29,null,null,null,null,null,{"$f":"IF(ISTEXT(F36),0,IFERROR(VLOOKUP(SMALL(#REF!,COUNTIF(#REF!,\"<\"&F36)+1),#REF!, 2,0),\" \"))","v":" "},null,"4. SERİ",null,null,null,"Rüzgar:"]
[30,null,null,null,null,null,{"$f":"IF(ISTEXT(F37),0,IFERROR(VLOOKUP(SMALL(#REF!,COUNTIF(#REF!,\"<\"&F37)+1),#REF!, 2,0),\" \"))","v":" "},null,"Sıra No","Formül","Göğüs No","Doğum Tarihi","Adı ve Soyadı","İli-Okulu","Elektronik Kronometre","El Kronometre","Seri Geliş"]
[31,null,null,null,null,null,{"$f":"IF(ISTEXT(F38),0,IFERROR(VLOOKUP(SMALL(#REF!,COUNTIF(#REF!,\"<\"&F38)+1),#REF!, 2,0),\" \"))","v":" "},null,1,"200M-4-1",{"$f":"IF(ISERROR(VLOOKUP(J38,'KAYIT LİSTESİ'!$B$4:$H$664,2,0)),\"\",(VLOOKUP(J38,'KAYIT LİSTESİ'!$B$4:$H$664,2,0)))","v":""},{"$f":"IF(ISERROR(VLOOKUP(J38,'KAYIT LİSTESİ'!$B$4:$H$664,4,0)),\"\",(VLOOKUP(J38,'KAYIT LİSTESİ'!$B$4:$H$664,4,0)))","v":""},{"$f":"IF(ISERROR(VLOOKUP(J38,'KAYIT LİSTESİ'!$B$4:$H$664,5,0)),\"\",(VLOOKUP(J38,'KAYIT LİSTESİ'!$B$4:$H$664,5,0)))","v":""},{"$f":"IF(ISERROR(VLOOKUP(J38,'KAYIT LİSTESİ'!$B$4:$H$664,6,0)),\"\",(VLOOKUP(J38,'KAYIT LİSTESİ'!$B$4:$H$664,6,0)))","v":""}]
[32,null,null,null,null,null,{"$f":"IF(ISTEXT(F39),0,IFERROR(VLOOKUP(SMALL(#REF!,COUNTIF(#REF!,\"<\"&F39)+1),#REF!, 2,0),\" \"))","v":" "},null,2,"200M-4-2",{"$f":"IF(ISERROR(VLOOKUP(J39,'KAYIT LİSTESİ'!$B$4:$H$664,2,0)),\"\",(VLOOKUP(J39,'KAYIT LİSTESİ'!$B$4:$H$664,2,0)))","v":""},{"$f":"IF(ISERROR(VLOOKUP(J39,'KAYIT LİSTESİ'!$B$4:$H$664,4,0)),\"\",(VLOOKUP(J39,'KAYIT LİSTESİ'!$B$4:$H$664,4,0)))","v":""},{"$f":"IF(ISERROR(VLOOKUP(J39,'KAYIT LİSTESİ'!$B$4:$H$664,5,0)),\"\",(VLOOKUP(J39,'KAYIT LİSTESİ'!$B$4:$H$664,5,0)))","v":""},{"$f":"IF(ISERROR(VLOOKUP(J39,'KAYIT LİSTESİ'!$B$4:$H$664,6,0)),\"\",(VLOOKUP(J39,'KAYIT LİSTESİ'!$B$4:$H$664,6,0)))","v":""}]
[33,null,null,null,null,null,{"$f":"IF(ISTEXT(F40),0,IFERROR(VLOOKUP(SMALL(#REF!,COUNTIF(#REF!,\"<\"&F40)+1),#REF!, 2,0),\" \"))","v":" "},null,3,"200M-4-3",{"$f":"IF(ISERROR(VLOOKUP(J40,'KAYIT LİSTESİ'!$B$4:$H$664,2,0)),\"\",(VLOOKUP(J40,'KAYIT LİSTESİ'!$B$4:$H$664,2,0)))","v":""},{"$f":"IF(ISERROR(VLOOKUP(J40,'KAYIT LİSTESİ'!$B$4:$H$664,4,0)),\"\",(VLOOKUP(J40,'KAYIT LİSTESİ'!$B$4:$H$664,4,0)))","v":""},{"$f":"IF(ISERROR(VLOOKUP(J40,'KAYIT LİSTESİ'!$B$4:$H$664,5,0)),\"\",(VLOOKUP(J40,'KAYIT LİSTESİ'!$B$4:$H$664,5,0)))","v":""},{"$f":"IF(ISERROR(VLOOKUP(J40,'KAYIT LİSTESİ'!$B$4:$H$664,6,0)),\"\",(VLOOKUP(J40,'KAYIT LİSTESİ'!$B$4:$H$664,6,0)))","v":""}]
[34,null,null,null,null,null,{"$f":"IF(ISTEXT(F41),0,IFERROR(VLOOKUP(SMALL(#REF!,COUNTIF(#REF!,\"<\"&F41)+1),#REF!, 2,0),\" \"))","v":" "},null,4,"200M-4-4",{"$f":"IF(ISERROR(VLOOKUP(J41,'KAYIT LİSTESİ'!$B$4:$H$664,2,0)),\"\",(VLOOKUP(J41,'KAYIT LİSTESİ'!$B$4:$H$664,2,0)))","v":""},{"$f":"IF(ISERROR(VLOOKUP(J41,'KAYIT LİSTESİ'!$B$4:$H$664,4,0)),\"\",(VLOOKUP(J41,'KAYIT LİSTESİ'!$B$4:$H$664,4,0)))","v":""},{"$f":"IF(ISERROR(VLOOKUP(J41,'KAYIT LİSTESİ'!$B$4:$H$664,5,0)),\"\",(VLOOKUP(J41,'KAYIT LİSTESİ'!$B$4:$H$664,5,0)))","v":""},{"$f":"IF(ISERROR(VLOOKUP(J41,'KAYIT LİSTESİ'!$B$4:$H$664,6,0)),\"\",(VLOOKUP(J41,'KAYIT LİSTESİ'!$B$4:$H$664,6,0)))","v":""}]
[35,null,null,null,null,null,{"$f":"IF(ISTEXT(F42),0,IFERROR(VLOOKUP(SMALL(#REF!,COUNTIF(#REF!,\"<\"&F42)+1),#REF!, 2,0),\" \"))","v":" "},null,5,"200M-4-5",{"$f":"IF(ISERROR(VLOOKUP(J42,'KAYIT LİSTESİ'!$B$4:$H$664,2,0)),\"\",(VLOOKUP(J42,'KAYIT LİSTESİ'!$B$4:$H$664,2,0)))","v":""},{"$f":"IF(ISERROR(VLOOKUP(J42,'KAYIT LİSTESİ'!$B$4:$H$664,4,0)),\"\",(VLOOKUP(J42,'KAYIT LİSTESİ'!$B$4:$H$664,4,0)))","v":""},{"$f":"IF(ISERROR(VLOOKUP(J42,'KAYIT LİSTESİ'!$B$4:$H$664,5,0)),\"\",(VLOOKUP(J42,'KAYIT LİSTESİ'!$B$4:$H$664,5,0)))","v":""},{"$f":"IF(ISERROR(VLOOKUP(J42,'KAYIT LİSTESİ'!$B$4:$H$664,6,0)),\"\",(VLOOKUP(J42,'KAYIT LİSTESİ'!$B$4:$H$664,6,0)))","v":""}]
[36,null,null,null,null,null,{"$f":"IF(ISTEXT(F43),0,IFERROR(VLOOKUP(SMALL(#REF!,COUNTIF(#REF!,\"<\"&F43)+1),#REF!, 2,0),\" \"))","v":" "},null,6,"200M-4-6",{"$f":"IF(ISERROR(VLOOKUP(J43,'KAYIT LİSTESİ'!$B$4:$H$664,2,0)),\"\",(VLOOKUP(J43,'KAYIT LİSTESİ'!$B$4:$H$664,2,0)))","v":""},{"$f":"IF(ISERROR(VLOOKUP(J43,'KAYIT LİSTESİ'!$B$4:$H$664,4,0)),\"\",(VLOOKUP(J43,'KAYIT LİSTESİ'!$B$4:$H$664,4,0)))","v":""},{"$f":"IF(ISERROR(VLOOKUP(J43,'KAYIT LİSTESİ'!$B$4:$H$664,5,0)),\"\",(VLOOKUP(J43,'KAYIT LİSTESİ'!$B$4:$H$664,5,0)))","v":""},{"$f":"IF(ISERROR(VLOOKUP(J43,'KAYIT LİSTESİ'!$B$4:$H$664,6,0)),\"\",(VLOOKUP(J43,'KAYIT LİSTESİ'!$B$4:$H$664,6,0)))","v":""}]
[37,null,null,null,null,null,{"$f":"IF(ISTEXT(F44),0,IFERROR(VLOOKUP(SMALL(#REF!,COUNTIF(#REF!,\"<\"&F44)+1),#REF!, 2,0),\" \"))","v":" "},null,7,"200M-4-7",{"$f":"IF(ISERROR(VLOOKUP(J44,'KAYIT LİSTESİ'!$B$4:$H$664,2,0)),\"\",(VLOOKUP(J44,'KAYIT LİSTESİ'!$B$4:$H$664,2,0)))","v":""},{"$f":"IF(ISERROR(VLOOKUP(J44,'KAYIT LİSTESİ'!$B$4:$H$664,4,0)),\"\",(VLOOKUP(J44,'KAYIT LİSTESİ'!$B$4:$H$664,4,0)))","v":""},{"$f":"IF(ISERROR(VLOOKUP(J44,'KAYIT LİSTESİ'!$B$4:$H$664,5,0)),\"\",(VLOOKUP(J44,'KAYIT LİSTESİ'!$B$4:$H$664,5,0)))","v":""},{"$f":"IF(ISERROR(VLOOKUP(J44,'KAYIT LİSTESİ'!$B$4:$H$664,6,0)),\"\",(VLOOKUP(J44,'KAYIT LİSTESİ'!$B$4:$H$664,6,0)))","v":""}]
[38,null,null,null,null,null,{"$f":"IF(ISTEXT(F45),0,IFERROR(VLOOKUP(SMALL(#REF!,COUNTIF(#REF!,\"<\"&F45)+1),#REF!, 2,0),\" \"))","v":" "},null,8,"200M-4-8",{"$f":"IF(ISERROR(VLOOKUP(J45,'KAYIT LİSTESİ'!$B$4:$H$664,2,0)),\"\",(VLOOKUP(J45,'KAYIT LİSTESİ'!$B$4:$H$664,2,0)))","v":""},{"$f":"IF(ISERROR(VLOOKUP(J45,'KAYIT LİSTESİ'!$B$4:$H$664,4,0)),\"\",(VLOOKUP(J45,'KAYIT LİSTESİ'!$B$4:$H$664,4,0)))","v":""},{"$f":"IF(ISERROR(VLOOKUP(J45,'KAYIT LİSTESİ'!$B$4:$H$664,5,0)),\"\",(VLOOKUP(J45,'KAYIT LİSTESİ'!$B$4:$H$664,5,0)))","v":""},{"$f":"IF(ISERROR(VLOOKUP(J45,'KAYIT LİSTESİ'!$B$4:$H$664,6,0)),\"\",(VLOOKUP(J45,'KAYIT LİSTESİ'!$B$4:$H$664,6,0)))","v":""}]
[]
["Müsabakalar Direktörü",null,null,null,"Baş Hakem","Lider",null,"Sekreter",null,null,null,null,"Hakem","Hakem",null,"Hakem"]

{"sheet":"3000m.Eng","index":15,"n_rows":47,"n_cols":17,"rows_kept":47,"cut":false,"hidden":false,"merged":[[0,0,0,16],[1,0,1,16],[2,0,2,2],[2,3,2,4],[2,5,2,6],[2,8,2,11],[2,13,2,16],[5,5,6,5],[5,6,6,6],[3,0,3,2],[3,3,3,4],[3,13,3,16],[4,13,4,16],[5,0,6,0],[5,1,6,1],[5,2,6,2],[5,3,6,3],[5,4,6,4]]}
[{"$f":"('YARIŞMA BİLGİLERİ'!A2)","v":"Türkiye Atletizm Federasyonu\nMersin Atletizm İl Temsilciliği\n"}]
[{"$f":"'YARIŞMA BİLGİLERİ'!F19","v":"Olimpik Baraj  Yarışmaları"}]
["Yarışma :",null,null,{"$f":"#REF!","v":{"$error":"#REF!"}},null,"Baraj Derecesi ",null,":",{"$f":"#REF!","v":{"$error":"#REF!"}}]
["Kategori :",null,null,{"$f":"'YARIŞMA BİLGİLERİ'!F21","v":"Kadınlar"},null,null,null,null,null,null,null,null,"Tarih-Saat :",{"$f":"#REF!","v":{"$error":"#REF!"}}]
[null,null,null,null,null,null,null,null,null,null,null,null,null,{"$f":"NOW()","v":42222.536638541664}]
["Sıra No","Göğüs No","Doğum Tarihi\nGün/Ay/Yıl","Adı ve Soyadı","İli-Okulu","Derece","Puan",null,"1. SERİ"]
[null,null,null,null,null,null,null,null,"Sıra No","Formül","Göğüs No","Doğum Tarihi","Adı ve Soyadı","İli-Okulu","Elektronik Kronometre","El Kronometre","Seri Geliş"]
[1,null,null,null,null,null,{"$f":"IF(ISTEXT(F8),0,IFERROR(VLOOKUP(SMALL(#REF!,COUNTIF(#REF!,\"<\"&F8)+1),#REF!, 2,0),\" \"))","v":" "},null,1,"3000M.ENG-1-1",{"$f":"IF(ISERROR(VLOOKUP(J8,'KAYIT LİSTESİ'!$B$4:$H$664,2,0)),\"\",(VLOOKUP(J8,'KAYIT LİSTESİ'!$B$4:$H$664,2,0)))","v":""},{"$f":"IF(ISERROR(VLOOKUP(J8,'KAYIT LİSTESİ'!$B$4:$H$664,4,0)),\"\",(VLOOKUP(J8,'KAYIT LİSTESİ'!$B$4:$H$664,4,0)))","v":""},{"$f":"IF(ISERROR(VLOOKUP(J8,'KAYIT LİSTESİ'!$B$4:$H$664,5,0)),\"\",(VLOOKUP(J8,'KAYIT LİSTESİ'!$B$4:$H$664,5,0)))","v":""},{"$f":"IF(ISERROR(VLOOKUP(J8,'KAYIT LİSTESİ'!$B$4:$H$664,6,0)),\"\",(VLOOKUP(J8,'KAYIT LİSTESİ'!$B$4:$H$664,6,0)))","v":""},{"$f":"IF(IF(OR(P8=\"NM\",P8=\"DNF\",P8=\"DNS\",P8=\"DQ\",P8=\"\"),P8,(ROUNDUP(P8,)+24))=0,\" \",IF(OR(P8=\"NM\",P8=\"DNF\",P8=\"DNS\",P8=\"DQ\",P8=\"\"),P8,(ROUNDUP(P8,)+24)))","v":" "}]
[2,null,null,null,null,null,{"$f":"IF(ISTEXT(F9),0,IFERROR(VLOOKUP(SMALL(#REF!,COUNTIF(#REF!,\"<\"&F9)+1),#REF!, 2,0),\" \"))","v":" "},null,2,"3000M.ENG-1-2",{"$f":"IF(ISERROR(VLOOKUP(J9,'KAYIT LİSTESİ'!$B$4:$H$664,2,0)),\"\",(VLOOKUP(J9,'KAYIT LİSTESİ'!$B$4:$H$664,2,0)))","v":" "},{"$f":"IF(ISERROR(VLOOKUP(J9,'KAYIT LİSTESİ'!$B$4:$H$664,4,0)),\"\",(VLOOKUP(J9,'KAYIT LİSTESİ'!$B$4:$H$664,4,0)))","v":"00:00:00"},{"$f":"IF(ISERROR(VLOOKUP(J9,'KAYIT LİSTESİ'!$B$4:$H$664,5,0)),\"\",(VLOOKUP(J9,'KAYIT LİSTESİ'!$B$4:$H$664,5,0)))","v":"KATILIM YOK."},{"$f":"IF(ISERROR(VLOOKUP(J9,'KAYIT LİSTESİ'!$B$4:$H$664,6,0)),\"\",(VLOOKUP(J9,'KAYIT LİSTESİ'!$B$4:$H$664,6,0)))","v":0}," "]
[3,null,null,null,null,null,{"$f":"IF(ISTEXT(F10),0,IFERROR(VLOOKUP(SMALL(#REF!,COUNTIF(#REF!,\"<\"&F10)+1),#REF!, 2,0),\" \"))","v":" "},null,3,"3000M.ENG-1-3",{"$f":"IF(ISERROR(VLOOKUP(J10,'KAYIT LİSTESİ'!$B$4:$H$664,2,0)),\"\",(VLOOKUP(J10,'KAYIT LİSTESİ'!$B$4:$H$664,2,0)))","v":""},{"$f":"IF(ISERROR(VLOOKUP(J10,'KAYIT LİSTESİ'!$B$4:$H$664,4,0)),\"\",(VLOOKUP(J10,'KAYIT LİSTESİ'!$B$4:$H$664,4,0)))","v":""},{"$f":"IF(ISERROR(VLOOKUP(J10,'KAYIT LİSTESİ'!$B$4:$H$664,5,0)),\"\",(VLOOKUP(J10,'KAYIT LİSTESİ'!$B$4:$H$664,5,0)))","v":""},{"$f":"IF(ISERROR(VLOOKUP(J10,'KAYIT LİSTESİ'!$B$4:$H$664,6,0)),\"\",(VLOOKUP(J10,'KAYIT LİSTESİ'!$B$4:$H$664,6,0)))","v":""}," "]
[4,null,null,null,null,null,{"$f":"IF(ISTEXT(F11),0,IFERROR(VLOOKUP(SMALL(#REF!,COUNTIF(#REF!,\"<\"&F11)+1),#REF!, 2,0),\" \"))","v":" "},null,4,"3000M.ENG-1-4",{"$f":"IF(ISERROR(VLOOKUP(J11,'KAYIT LİSTESİ'!$B$4:$H$664,2,0)),\"\",(VLOOKUP(J11,'KAYIT LİSTESİ'!$B$4:$H$664,2,0)))","v":""},{"$f":"IF(ISERROR(VLOOKUP(J11,'KAYIT LİSTESİ'!$B$4:$H$664,4,0)),\"\",(VLOOKUP(J11,'KAYIT LİSTESİ'!$B$4:$H$664,4,0)))","v":""},{"$f":"IF(ISERROR(VLOOKUP(J11,'KAYIT LİSTESİ'!$B$4:$H$664,5,0)),\"\",(VLOOKUP(J11,'KAYIT LİSTESİ'!$B$4:$H$664,5,0)))","v":""},{"$f":"IF(ISERROR(VLOOKUP(J11,'KAYIT LİSTESİ'!$B$4:$H$664,6,0)),\"\",(VLOOKUP(J11,'KAYIT LİSTESİ'!$B$4:$H$664,6,0)))","v":""}," "]
[5,null,null,null,null,null,{"$f":"IF(ISTEXT(F12),0,IFERROR(VLOOKUP(SMALL(#REF!,COUNTIF(#REF!,\"<\"&F12)+1),#REF!, 2,0),\" \"))","v":" "},null,5,"3000M.ENG-1-5",{"$f":"IF(ISERROR(VLOOKUP(J12,'KAYIT LİSTESİ'!$B$4:$H$664,2,0)),\"\",(VLOOKUP(J12,'KAYIT LİSTESİ'!$B$4:$H$664,2,0)))","v":""},{"$f":"IF(ISERROR(VLOOKUP(J12,'KAYIT LİSTESİ'!$B$4:$H$664,4,0)),\"\",(VLOOKUP(J12,'KAYIT LİSTESİ'!$B$4:$H$664,4,0)))","v":""},{"$f":"IF(ISERROR(VLOOKUP(J12,'KAYIT LİSTESİ'!$B$4:$H$664,5,0)),\"\",(VLOOKUP(J12,'KAYIT LİSTESİ'!$B$4:$H$664,5,0)))","v":""},{"$f":"IF(ISERROR(VLOOKUP(J12,'KAYIT LİSTESİ'!$B$4:$H$664,6,0)),\"\",(VLOOKUP(J12,'KAYIT LİSTESİ'!$B$4:$H$664,6,0)))","v":""}," "]
[6,null,null,null,null,null,{"$f":"IF(ISTEXT(F13),0,IFERROR(VLOOKUP(SMALL(#REF!,COUNTIF(#REF!,\"<\"&F13)+1),#REF!, 2,0),\" \"))","v":" "},null,6,"3000M.ENG-1-6",{"$f":"IF(ISERROR(VLOOKUP(J13,'KAYIT LİSTESİ'!$B$4:$H$664,2,0)),\"\",(VLOOKUP(J13,'KAYIT LİSTESİ'!$B$4:$H$664,2,0)))","v":""},{"$f":"IF(ISERROR(VLOOKUP(J13,'KAYIT LİSTESİ'!$B$4:$H$664,4,0)),\"\",(VLOOKUP(J13,'KAYIT LİSTESİ'!$B$4:$H$664,4,0)))","v":""},{"$f":"IF(ISERROR(VLOOKUP(J13,'KAYIT LİSTESİ'!$B$4:$H$664,5,0)),\"\",(VLOOKUP(J13,'KAYIT LİSTESİ'!$B$4:$H$664,5,0)))","v":""},{"$f":"IF(ISERROR(VLOOKUP(J13,'KAYIT LİSTESİ'!$B$4:$H$664,6,0)),\"\",(VLOOKUP(J13,'KAYIT LİSTESİ'!$B$4:$H$664,6,0)))","v":""}," "]
[7,null,null,null,null,null,{"$f":"IF(ISTEXT(F14),0,IFERROR(VLOOKUP(SMALL(#REF!,COUNTIF(#REF!,\"<\"&F14)+1),#REF!, 2,0),\" \"))","v":" "},null,7,"3000M.ENG-1-7",{"$f":"IF(ISERROR(VLOOKUP(J14,'KAYIT LİSTESİ'!$B$4:$H$664,2,0)),\"\",(VLOOKUP(J14,'KAYIT LİSTESİ'!$B$4:$H$664,2,0)))","v":""},{"$f":"IF(ISERROR(VLOOKUP(J14,'KAYIT LİSTESİ'!$B$4:$H$664,4,0)),\"\",(VLOOKUP(J14,'KAYIT LİSTESİ'!$B$4:$H$664,4,0)))","v":""},{"$f":"IF(ISERROR(VLOOKUP(J14,'KAYIT LİSTESİ'!$B$4:$H$664,5,0)),\"\",(VLOOKUP(J14,'KAYIT LİSTESİ'!$B$4:$H$664,5,0)))","v":""},{"$f":"IF(ISERROR(VLOOKUP(J14,'KAYIT LİSTESİ'!$B$4:$H$664,6,0)),\"\",(VLOOKUP(J14,'KAYIT LİSTESİ'!$B$4:$H$664,6,0)))","v":""}," "]
[8,null,null,null,null,null,{"$f":"IF(ISTEXT(F15),0,IFERROR(VLOOKUP(SMALL(#REF!,COUNTIF(#REF!,\"<\"&F15)+1),#REF!, 2,0),\" \"))","v":" "},null,8,"3000M.ENG-1-8",{"$f":"IF(ISERROR(VLOOKUP(J15,'KAYIT LİSTESİ'!$B$4:$H$664,2,0)),\"\",(VLOOKUP(J15,'KAYIT LİSTESİ'!$B$4:$H$664,2,0)))","v":""},{"$f":"IF(ISERROR(VLOOKUP(J15,'KAYIT LİSTESİ'!$B$4:$H$664,4,0)),\"\",(VLOOKUP(J15,'KAYIT LİSTESİ'!$B$4:$H$664,4,0)))","v":""},{"$f":"IF(ISERROR(VLOOKUP(J15,'KAYIT LİSTESİ'!$B$4:$H$664,5,0)),\"\",(VLOOKUP(J15,'KAYIT LİSTESİ'!$B$4:$H$664,5,0)))","v":""},{"$f":"IF(ISERROR(VLOOKUP(J15,'KAYIT LİSTESİ'!$B$4:$H$664,6,0)),\"\",(VLOOKUP(J15,'KAYIT LİSTESİ'!$B$4:$H$664,6,0)))","v":""}," "]
[9,null,null,null,null,null,{"$f":"IF(ISTEXT(F16),0,IFERROR(VLOOKUP(SMALL(#REF!,COUNTIF(#REF!,\"<\"&F16)+1),#REF!, 2,0),\" \"))","v":" "},null,"2. SERİ"]
[10,null,null,null,null,null,{"$f":"IF(ISTEXT(F17),0,IFERROR(VLOOKUP(SMALL(#REF!,COUNTIF(#REF!,\"<\"&F17)+1),#REF!, 2,0),\" \"))","v":" "},null,"Sıra No","Formül","Göğüs No","Doğum Tarihi","Adı ve Soyadı","İli-Okulu","Elektronik Kronometre","El Kronometre","Seri Geliş"]
[11,null,null,null,null,null,{"$f":"IF(ISTEXT(F18),0,IFERROR(VLOOKUP(SMALL(#REF!,COUNTIF(#REF!,\"<\"&F18)+1),#REF!, 2,0),\" \"))","v":" "},null,1,"300M.ENG-2-1",{"$f":"IF(ISERROR(VLOOKUP(J18,'KAYIT LİSTESİ'!$B$4:$H$664,2,0)),\"\",(VLOOKUP(J18,'KAYIT LİSTESİ'!$B$4:$H$664,2,0)))","v":""},{"$f":"IF(ISERROR(VLOOKUP(J18,'KAYIT LİSTESİ'!$B$4:$H$664,4,0)),\"\",(VLOOKUP(J18,'KAYIT LİSTESİ'!$B$4:$H$664,4,0)))","v":""},{"$f":"IF(ISERROR(VLOOKUP(J18,'KAYIT LİSTESİ'!$B$4:$H$664,5,0)),\"\",(VLOOKUP(J18,'KAYIT LİSTESİ'!$B$4:$H$664,5,0)))","v":""},{"$f":"IF(ISERROR(VLOOKUP(J18,'KAYIT LİSTESİ'!$B$4:$H$664,6,0)),\"\",(VLOOKUP(J18,'KAYIT LİSTESİ'!$B$4:$H$664,6,0)))","v":""},{"$f":"IF(IF(OR(P18=\"NM\",P18=\"DNF\",P18=\"DNS\",P18=\"DQ\",P18=\"\"),P18,(ROUNDUP(P18,)+24))=0,\" \",IF(OR(P18=\"NM\",P18=\"DNF\",P18=\"DNS\",P18=\"DQ\",P18=\"\"),P18,(ROUNDUP(P18,)+24)))","v":" "}]
[12,null,null,null,null,null,{"$f":"IF(ISTEXT(F19),0,IFERROR(VLOOKUP(SMALL(#REF!,COUNTIF(#REF!,\"<\"&F19)+1),#REF!, 2,0),\" \"))","v":" "},null,2,"300M.ENG-2-2",{"$f":"IF(ISERROR(VLOOKUP(J19,'KAYIT LİSTESİ'!$B$4:$H$664,2,0)),\"\",(VLOOKUP(J19,'KAYIT LİSTESİ'!$B$4:$H$664,2,0)))","v":""},{"$f":"IF(ISERROR(VLOOKUP(J19,'KAYIT LİSTESİ'!$B$4:$H$664,4,0)),\"\",(VLOOKUP(J19,'KAYIT LİSTESİ'!$B$4:$H$664,4,0)))","v":""},{"$f":"IF(ISERROR(VLOOKUP(J19,'KAYIT LİSTESİ'!$B$4:$H$664,5,0)),\"\",(VLOOKUP(J19,'KAYIT LİSTESİ'!$B$4:$H$664,5,0)))","v":""},{"$f":"IF(ISERROR(VLOOKUP(J19,'KAYIT LİSTESİ'!$B$4:$H$664,6,0)),\"\",(VLOOKUP(J19,'KAYIT LİSTESİ'!$B$4:$H$664,6,0)))","v":""}," "]
[13,null,null,null,null,null,{"$f":"IF(ISTEXT(F20),0,IFERROR(VLOOKUP(SMALL(#REF!,COUNTIF(#REF!,\"<\"&F20)+1),#REF!, 2,0),\" \"))","v":" "},null,3,"300M.ENG-2-3",{"$f":"IF(ISERROR(VLOOKUP(J20,'KAYIT LİSTESİ'!$B$4:$H$664,2,0)),\"\",(VLOOKUP(J20,'KAYIT LİSTESİ'!$B$4:$H$664,2,0)))","v":""},{"$f":"IF(ISERROR(VLOOKUP(J20,'KAYIT LİSTESİ'!$B$4:$H$664,4,0)),\"\",(VLOOKUP(J20,'KAYIT LİSTESİ'!$B$4:$H$664,4,0)))","v":""},{"$f":"IF(ISERROR(VLOOKUP(J20,'KAYIT LİSTESİ'!$B$4:$H$664,5,0)),\"\",(VLOOKUP(J20,'KAYIT LİSTESİ'!$B$4:$H$664,5,0)))","v":""},{"$f":"IF(ISERROR(VLOOKUP(J20,'KAYIT LİSTESİ'!$B$4:$H$664,6,0)),\"\",(VLOOKUP(J20,'KAYIT LİSTESİ'!$B$4:$H$664,6,0)))","v":""}," "]
[14,null,null,null,null,null,{"$f":"IF(ISTEXT(F21),0,IFERROR(VLOOKUP(SMALL(#REF!,COUNTIF(#REF!,\"<\"&F21)+1),#REF!, 2,0),\" \"))","v":" "},null,4,"300M.ENG-2-4",{"$f":"IF(ISERROR(VLOOKUP(J21,'KAYIT LİSTESİ'!$B$4:$H$664,2,0)),\"\",(VLOOKUP(J21,'KAYIT LİSTESİ'!$B$4:$H$664,2,0)))","v":""},{"$f":"IF(ISERROR(VLOOKUP(J21,'KAYIT LİSTESİ'!$B$4:$H$664,4,0)),\"\",(VLOOKUP(J21,'KAYIT LİSTESİ'!$B$4:$H$664,4,0)))","v":""},{"$f":"IF(ISERROR(VLOOKUP(J21,'KAYIT LİSTESİ'!$B$4:$H$664,5,0)),\"\",(VLOOKUP(J21,'KAYIT LİSTESİ'!$B$4:$H$664,5,0)))","v":""},{"$f":"IF(ISERROR(VLOOKUP(J21,'KAYIT LİSTESİ'!$B$4:$H$664,6,0)),\"\",(VLOOKUP(J21,'KAYIT LİSTESİ'!$B$4:$H$664,6,0)))","v":""}," "]
[15,null,null,null,null,null,{"$f":"IF(ISTEXT(F22),0,IFERROR(VLOOKUP(SMALL(#REF!,COUNTIF(#REF!,\"<\"&F22)+1),#REF!, 2,0),\" \"))","v":" "},null,5,"300M.ENG-2-5",{"$f":"IF(ISERROR(VLOOKUP(J22,'KAYIT LİSTESİ'!$B$4:$H$664,2,0)),\"\",(VLOOKUP(J22,'KAYIT LİSTESİ'!$B$4:$H$664,2,0)))","v":""},{"$f":"IF(ISERROR(VLOOKUP(J22,'KAYIT LİSTESİ'!$B$4:$H$664,4,0)),\"\",(VLOOKUP(J22,'KAYIT LİSTESİ'!$B$4:$H$664,4,0)))","v":""},{"$f":"IF(ISERROR(VLOOKUP(J22,'KAYIT LİSTESİ'!$B$4:$H$664,5,0)),\"\",(VLOOKUP(J22,'KAYIT LİSTESİ'!$B$4:$H$664,5,0)))","v":""},{"$f":"IF(ISERROR(VLOOKUP(J22,'KAYIT LİSTESİ'!$B$4:$H$664,6,0)),\"\",(VLOOKUP(J22,'KAYIT LİSTESİ'!$B$4:$H$664,6,0)))","v":""}," "]
[16,null,null,null,null,null,{"$f":"IF(ISTEXT(F23),0,IFERROR(VLOOKUP(SMALL(#REF!,COUNTIF(#REF!,\"<\"&F23)+1),#REF!, 2,0),\" \"))","v":" "},null,6,"300M.ENG-2-6",{"$f":"IF(ISERROR(VLOOKUP(J23,'KAYIT LİSTESİ'!$B$4:$H$664,2,0)),\"\",(VLOOKUP(J23,'KAYIT LİSTESİ'!$B$4:$H$664,2,0)))","v":""},{"$f":"IF(ISERROR(VLOOKUP(J23,'KAYIT LİSTESİ'!$B$4:$H$664,4,0)),\"\",(VLOOKUP(J23,'KAYIT LİSTESİ'!$B$4:$H$664,4,0)))","v":""},{"$f":"IF(ISERROR(VLOOKUP(J23,'KAYIT LİSTESİ'!$B$4:$H$664,5,0)),\"\",(VLOOKUP(J23,'KAYIT LİSTESİ'!$B$4:$H$664,5,0)))","v":""},{"$f":"IF(ISERROR(VLOOKUP(J23,'KAYIT LİSTESİ'!$B$4:$H$664,6,0)),\"\",(VLOOKUP(J23,'KAYIT LİSTESİ'!$B$4:$H$664,6,0)))","v":""}," "]
[17,null,null,null,null,null,{"$f":"IF(ISTEXT(F24),0,IFERROR(VLOOKUP(SMALL(#REF!,COUNTIF(#REF!,\"<\"&F24)+1),#REF!, 2,0),\" \"))","v":" "},null,7,"300M.ENG-2-7",{"$f":"IF(ISERROR(VLOOKUP(J24,'KAYIT LİSTESİ'!$B$4:$H$664,2,0)),\"\",(VLOOKUP(J24,'KAYIT LİSTESİ'!$B$4:$H$664,2,0)))","v":""},{"$f":"IF(ISERROR(VLOOKUP(J24,'KAYIT LİSTESİ'!$B$4:$H$664,4,0)),\"\",(VLOOKUP(J24,'KAYIT LİSTESİ'!$B$4:$H$664,4,0)))","v":""},{"$f":"IF(ISERROR(VLOOKUP(J24,'KAYIT LİSTESİ'!$B$4:$H$664,5,0)),\"\",(VLOOKUP(J24,'KAYIT LİSTESİ'!$B$4:$H$664,5,0)))","v":""},{"$f":"IF(ISERROR(VLOOKUP(J24,'KAYIT LİSTESİ'!$B$4:$H$664,6,0)),\"\",(VLOOKUP(J24,'KAYIT LİSTESİ'!$B$4:$H$664,6,0)))","v":""}," "]
[18,null,null,null,null,null,{"$f":"IF(ISTEXT(F25),0,IFERROR(VLOOKUP(SMALL(#REF!,COUNTIF(#REF!,\"<\"&F25)+1),#REF!, 2,0),\" \"))","v":" "},null,8,"300M.ENG-2-8",{"$f":"IF(ISERROR(VLOOKUP(J25,'KAYIT LİSTESİ'!$B$4:$H$664,2,0)),\"\",(VLOOKUP(J25,'KAYIT LİSTESİ'!$B$4:$H$664,2,0)))","v":""},{"$f":"IF(ISERROR(VLOOKUP(J25,'KAYIT LİSTESİ'!$B$4:$H$664,4,0)),\"\",(VLOOKUP(J25,'KAYIT LİSTESİ'!$B$4:$H$664,4,0)))","v":""},{"$f":"IF(ISERROR(VLOOKUP(J25,'KAYIT LİSTESİ'!$B$4:$H$664,5,0)),\"\",(VLOOKUP(J25,'KAYIT LİSTESİ'!$B$4:$H$664,5,0)))","v":""},{"$f":"IF(ISERROR(VLOOKUP(J25,'KAYIT LİSTESİ'!$B$4:$H$664,6,0)),\"\",(VLOOKUP(J25,'KAYIT LİSTESİ'!$B$4:$H$664,6,0)))","v":""}," "]
[19,null,null,null,null,null,{"$f":"IF(ISTEXT(F26),0,IFERROR(VLOOKUP(SMALL(#REF!,COUNTIF(#REF!,\"<\"&F26)+1),#REF!, 2,0),\" \"))","v":" "},null,"3. SERİ"]
[20,null,null,null,null,null,{"$f":"IF(ISTEXT(F27),0,IFERROR(VLOOKUP(SMALL(#REF!,COUNTIF(#REF!,\"<\"&F27)+1),#REF!, 2,0),\" \"))","v":" "},null,"Sıra No","Formül","Göğüs No","Doğum Tarihi","Adı ve Soyadı","İli-Okulu","Elektronik Kronometre","El Kronometre","Seri Geliş"]
[21,null,null,null,null,null,{"$f":"IF(ISTEXT(F28),0,IFERROR(VLOOKUP(SMALL(#REF!,COUNTIF(#REF!,\"<\"&F28)+1),#REF!, 2,0),\" \"))","v":" "},null,1,"300M.ENG-3-1",{"$f":"IF(ISERROR(VLOOKUP(J28,'KAYIT LİSTESİ'!$B$4:$H$664,2,0)),\"\",(VLOOKUP(J28,'KAYIT LİSTESİ'!$B$4:$H$664,2,0)))","v":""},{"$f":"IF(ISERROR(VLOOKUP(J28,'KAYIT LİSTESİ'!$B$4:$H$664,4,0)),\"\",(VLOOKUP(J28,'KAYIT LİSTESİ'!$B$4:$H$664,4,0)))","v":""},{"$f":"IF(ISERROR(VLOOKUP(J28,'KAYIT LİSTESİ'!$B$4:$H$664,5,0)),\"\",(VLOOKUP(J28,'KAYIT LİSTESİ'!$B$4:$H$664,5,0)))","v":""},{"$f":"IF(ISERROR(VLOOKUP(J28,'KAYIT LİSTESİ'!$B$4:$H$664,6,0)),\"\",(VLOOKUP(J28,'KAYIT LİSTESİ'!$B$4:$H$664,6,0)))","v":""},{"$f":"IF(IF(OR(P28=\"NM\",P28=\"DNF\",P28=\"DNS\",P28=\"DQ\",P28=\"\"),P28,(ROUNDUP(P28,)+24))=0,\" \",IF(OR(P28=\"NM\",P28=\"DNF\",P28=\"DNS\",P28=\"DQ\",P28=\"\"),P28,(ROUNDUP(P28,)+24)))","v":" "}]
[22,null,null,null,null,null,{"$f":"IF(ISTEXT(F29),0,IFERROR(VLOOKUP(SMALL(#REF!,COUNTIF(#REF!,\"<\"&F29)+1),#REF!, 2,0),\" \"))","v":" "},null,2,"300M.ENG-3-2",{"$f":"IF(ISERROR(VLOOKUP(J29,'KAYIT LİSTESİ'!$B$4:$H$664,2,0)),\"\",(VLOOKUP(J29,'KAYIT LİSTESİ'!$B$4:$H$664,2,0)))","v":""},{"$f":"IF(ISERROR(VLOOKUP(J29,'KAYIT LİSTESİ'!$B$4:$H$664,4,0)),\"\",(VLOOKUP(J29,'KAYIT LİSTESİ'!$B$4:$H$664,4,0)))","v":""},{"$f":"IF(ISERROR(VLOOKUP(J29,'KAYIT LİSTESİ'!$B$4:$H$664,5,0)),\"\",(VLOOKUP(J29,'KAYIT LİSTESİ'!$B$4:$H$664,5,0)))","v":""},{"$f":"IF(ISERROR(VLOOKUP(J29,'KAYIT LİSTESİ'!$B$4:$H$664,6,0)),\"\",(VLOOKUP(J29,'KAYIT LİSTESİ'!$B$4:$H$664,6,0)))","v":""}," "]
[23,null,null,null,null,null,{"$f":"IF(ISTEXT(F30),0,IFERROR(VLOOKUP(SMALL(#REF!,COUNTIF(#REF!,\"<\"&F30)+1),#REF!, 2,0),\" \"))","v":" "},null,3,"300M.ENG-3-3",{"$f":"IF(ISERROR(VLOOKUP(J30,'KAYIT LİSTESİ'!$B$4:$H$664,2,0)),\"\",(VLOOKUP(J30,'KAYIT LİSTESİ'!$B$4:$H$664,2,0)))","v":""},{"$f":"IF(ISERROR(VLOOKUP(J30,'KAYIT LİSTESİ'!$B$4:$H$664,4,0)),\"\",(VLOOKUP(J30,'KAYIT LİSTESİ'!$B$4:$H$664,4,0)))","v":""},{"$f":"IF(ISERROR(VLOOKUP(J30,'KAYIT LİSTESİ'!$B$4:$H$664,5,0)),\"\",(VLOOKUP(J30,'KAYIT LİSTESİ'!$B$4:$H$664,5,0)))","v":""},{"$f":"IF(ISERROR(VLOOKUP(J30,'KAYIT LİSTESİ'!$B$4:$H$664,6,0)),\"\",(VLOOKUP(J30,'KAYIT LİSTESİ'!$B$4:$H$664,6,0)))","v":""}," "]
[24,null,null,null,null,null,{"$f":"IF(ISTEXT(F31),0,IFERROR(VLOOKUP(SMALL(#REF!,COUNTIF(#REF!,\"<\"&F31)+1),#REF!, 2,0),\" \"))","v":" "},null,4,"300M.ENG-3-4",{"$f":"IF(ISERROR(VLOOKUP(J31,'KAYIT LİSTESİ'!$B$4:$H$664,2,0)),\"\",(VLOOKUP(J31,'KAYIT LİSTESİ'!$B$4:$H$664,2,0)))","v":""},{"$f":"IF(ISERROR(VLOOKUP(J31,'KAYIT LİSTESİ'!$B$4:$H$664,4,0)),\"\",(VLOOKUP(J31,'KAYIT LİSTESİ'!$B$4:$H$664,4,0)))","v":""},{"$f":"IF(ISERROR(VLOOKUP(J31,'KAYIT LİSTESİ'!$B$4:$H$664,5,0)),\"\",(VLOOKUP(J31,'KAYIT LİSTESİ'!$B$4:$H$664,5,0)))","v":""},{"$f":"IF(ISERROR(VLOOKUP(J31,'KAYIT LİSTESİ'!$B$4:$H$664,6,0)),\"\",(VLOOKUP(J31,'KAYIT LİSTESİ'!$B$4:$H$664,6,0)))","v":""}," "]
[25,null,null,null,null,null,{"$f":"IF(ISTEXT(F32),0,IFERROR(VLOOKUP(SMALL(#REF!,COUNTIF(#REF!,\"<\"&F32)+1),#REF!, 2,0),\" \"))","v":" "},null,5,"300M.ENG-3-5",{"$f":"IF(ISERROR(VLOOKUP(J32,'KAYIT LİSTESİ'!$B$4:$H$664,2,0)),\"\",(VLOOKUP(J32,'KAYIT LİSTESİ'!$B$4:$H$664,2,0)))","v":""},{"$f":"IF(ISERROR(VLOOKUP(J32,'KAYIT LİSTESİ'!$B$4:$H$664,4,0)),\"\",(VLOOKUP(J32,'KAYIT LİSTESİ'!$B$4:$H$664,4,0)))","v":""},{"$f":"IF(ISERROR(VLOOKUP(J32,'KAYIT LİSTESİ'!$B$4:$H$664,5,0)),\"\",(VLOOKUP(J32,'KAYIT LİSTESİ'!$B$4:$H$664,5,0)))","v":""},{"$f":"IF(ISERROR(VLOOKUP(J32,'KAYIT LİSTESİ'!$B$4:$H$664,6,0)),\"\",(VLOOKUP(J32,'KAYIT LİSTESİ'!$B$4:$H$664,6,0)))","v":""}," "]
[26,null,null,null,null,null,{"$f":"IF(ISTEXT(F33),0,IFERROR(VLOOKUP(SMALL(#REF!,COUNTIF(#REF!,\"<\"&F33)+1),#REF!, 2,0),\" \"))","v":" "},null,6,"300M.ENG-3-6",{"$f":"IF(ISERROR(VLOOKUP(J33,'KAYIT LİSTESİ'!$B$4:$H$664,2,0)),\"\",(VLOOKUP(J33,'KAYIT LİSTESİ'!$B$4:$H$664,2,0)))","v":""},{"$f":"IF(ISERROR(VLOOKUP(J33,'KAYIT LİSTESİ'!$B$4:$H$664,4,0)),\"\",(VLOOKUP(J33,'KAYIT LİSTESİ'!$B$4:$H$664,4,0)))","v":""},{"$f":"IF(ISERROR(VLOOKUP(J33,'KAYIT LİSTESİ'!$B$4:$H$664,5,0)),\"\",(VLOOKUP(J33,'KAYIT LİSTESİ'!$B$4:$H$664,5,0)))","v":""},{"$f":"IF(ISERROR(VLOOKUP(J33,'KAYIT LİSTESİ'!$B$4:$H$664,6,0)),\"\",(VLOOKUP(J33,'KAYIT LİSTESİ'!$B$4:$H$664,6,0)))","v":""}," "]
[27,null,null,null,null,null,{"$f":"IF(ISTEXT(F34),0,IFERROR(VLOOKUP(SMALL(#REF!,COUNTIF(#REF!,\"<\"&F34)+1),#REF!, 2,0),\" \"))","v":" "},null,7,"300M.ENG-3-7",{"$f":"IF(ISERROR(VLOOKUP(J34,'KAYIT LİSTESİ'!$B$4:$H$664,2,0)),\"\",(VLOOKUP(J34,'KAYIT LİSTESİ'!$B$4:$H$664,2,0)))","v":""},{"$f":"IF(ISERROR(VLOOKUP(J34,'KAYIT LİSTESİ'!$B$4:$H$664,4,0)),\"\",(VLOOKUP(J34,'KAYIT LİSTESİ'!$B$4:$H$664,4,0)))","v":""},{"$f":"IF(ISERROR(VLOOKUP(J34,'KAYIT LİSTESİ'!$B$4:$H$664,5,0)),\"\",(VLOOKUP(J34,'KAYIT LİSTESİ'!$B$4:$H$664,5,0)))","v":""},{"$f":"IF(ISERROR(VLOOKUP(J34,'KAYIT LİSTESİ'!$B$4:$H$664,6,0)),\"\",(VLOOKUP(J34,'KAYIT LİSTESİ'!$B$4:$H$664,6,0)))","v":""}," "]
[28,null,null,null,null,null,{"$f":"IF(ISTEXT(F35),0,IFERROR(VLOOKUP(SMALL(#REF!,COUNTIF(#REF!,\"<\"&F35)+1),#REF!, 2,0),\" \"))","v":" "},null,8,"300M.ENG-3-8",{"$f":"IF(ISERROR(VLOOKUP(J35,'KAYIT LİSTESİ'!$B$4:$H$664,2,0)),\"\",(VLOOKUP(J35,'KAYIT LİSTESİ'!$B$4:$H$664,2,0)))","v":""},{"$f":"IF(ISERROR(VLOOKUP(J35,'KAYIT LİSTESİ'!$B$4:$H$664,4,0)),\"\",(VLOOKUP(J35,'KAYIT LİSTESİ'!$B$4:$H$664,4,0)))","v":""},{"$f":"IF(ISERROR(VLOOKUP(J35,'KAYIT LİSTESİ'!$B$4:$H$664,5,0)),\"\",(VLOOKUP(J35,'KAYIT LİSTESİ'!$B$4:$H$664,5,0)))","v":""},{"$f":"IF(ISERROR(VLOOKUP(J35,'KAYIT LİSTESİ'!$B$4:$H$664,6,0)),\"\",(VLOOKUP(J35,'KAYIT LİSTESİ'!$B$4:$H$664,6,0)))","v":""}," "]
[29,null,null,null,null,null,{"$f":"IF(ISTEXT(F36),0,IFERROR(VLOOKUP(SMALL(#REF!,COUNTIF(#REF!,\"<\"&F36)+1),#REF!, 2,0),\" \"))","v":" "},null,"4. SERİ"]
[30,null,null,null,null,null,{"$f":"IF(ISTEXT(F37),0,IFERROR(VLOOKUP(SMALL(#REF!,COUNTIF(#REF!,\"<\"&F37)+1),#REF!, 2,0),\" \"))","v":" "},null,"Sıra No","Formül","Göğüs No","Doğum Tarihi","Adı ve Soyadı","İli-Okulu","Elektronik Kronometre","El Kronometre","Seri Geliş"]
[31,null,null,null,null,null,{"$f":"IF(ISTEXT(F38),0,IFERROR(VLOOKUP(SMALL(#REF!,COUNTIF(#REF!,\"<\"&F38)+1),#REF!, 2,0),\" \"))","v":" "},null,1,"300M.ENG-4-1",{"$f":"IF(ISERROR(VLOOKUP(J38,'KAYIT LİSTESİ'!$B$4:$H$664,2,0)),\"\",(VLOOKUP(J38,'KAYIT LİSTESİ'!$B$4:$H$664,2,0)))","v":""},{"$f":"IF(ISERROR(VLOOKUP(J38,'KAYIT LİSTESİ'!$B$4:$H$664,4,0)),\"\",(VLOOKUP(J38,'KAYIT LİSTESİ'!$B$4:$H$664,4,0)))","v":""},{"$f":"IF(ISERROR(VLOOKUP(J38,'KAYIT LİSTESİ'!$B$4:$H$664,5,0)),\"\",(VLOOKUP(J38,'KAYIT LİSTESİ'!$B$4:$H$664,5,0)))","v":""},{"$f":"IF(ISERROR(VLOOKUP(J38,'KAYIT LİSTESİ'!$B$4:$H$664,6,0)),\"\",(VLOOKUP(J38,'KAYIT LİSTESİ'!$B$4:$H$664,6,0)))","v":""}]
[32,null,null,null,null,null,{"$f":"IF(ISTEXT(F39),0,IFERROR(VLOOKUP(SMALL(#REF!,COUNTIF(#REF!,\"<\"&F39)+1),#REF!, 2,0),\" \"))","v":" "},null,2,"300M.ENG-4-2",{"$f":"IF(ISERROR(VLOOKUP(J39,'KAYIT LİSTESİ'!$B$4:$H$664,2,0)),\"\",(VLOOKUP(J39,'KAYIT LİSTESİ'!$B$4:$H$664,2,0)))","v":""},{"$f":"IF(ISERROR(VLOOKUP(J39,'KAYIT LİSTESİ'!$B$4:$H$664,4,0)),\"\",(VLOOKUP(J39,'KAYIT LİSTESİ'!$B$4:$H$664,4,0)))","v":""},{"$f":"IF(ISERROR(VLOOKUP(J39,'KAYIT LİSTESİ'!$B$4:$H$664,5,0)),\"\",(VLOOKUP(J39,'KAYIT LİSTESİ'!$B$4:$H$664,5,0)))","v":""},{"$f":"IF(ISERROR(VLOOKUP(J39,'KAYIT LİSTESİ'!$B$4:$H$664,6,0)),\"\",(VLOOKUP(J39,'KAYIT LİSTESİ'!$B$4:$H$664,6,0)))","v":""}]
[33,null,null,null,null,null,{"$f":"IF(ISTEXT(F40),0,IFERROR(VLOOKUP(SMALL(#REF!,COUNTIF(#REF!,\"<\"&F40)+1),#REF!, 2,0),\" \"))","v":" "},null,3,"300M.ENG-4-3",{"$f":"IF(ISERROR(VLOOKUP(J40,'KAYIT LİSTESİ'!$B$4:$H$664,2,0)),\"\",(VLOOKUP(J40,'KAYIT LİSTESİ'!$B$4:$H$664,2,0)))","v":""},{"$f":"IF(ISERROR(VLOOKUP(J40,'KAYIT LİSTESİ'!$B$4:$H$664,4,0)),\"\",(VLOOKUP(J40,'KAYIT LİSTESİ'!$B$4:$H$664,4,0)))","v":""},{"$f":"IF(ISERROR(VLOOKUP(J40,'KAYIT LİSTESİ'!$B$4:$H$664,5,0)),\"\",(VLOOKUP(J40,'KAYIT LİSTESİ'!$B$4:$H$664,5,0)))","v":""},{"$f":"IF(ISERROR(VLOOKUP(J40,'KAYIT LİSTESİ'!$B$4:$H$664,6,0)),\"\",(VLOOKUP(J40,'KAYIT LİSTESİ'!$B$4:$H$664,6,0)))","v":""}]
[34,null,null,null,null,null,{"$f":"IF(ISTEXT(F41),0,IFERROR(VLOOKUP(SMALL(#REF!,COUNTIF(#REF!,\"<\"&F41)+1),#REF!, 2,0),\" \"))","v":" "},null,4,"300M.ENG-4-4",{"$f":"IF(ISERROR(VLOOKUP(J41,'KAYIT LİSTESİ'!$B$4:$H$664,2,0)),\"\",(VLOOKUP(J41,'KAYIT LİSTESİ'!$B$4:$H$664,2,0)))","v":""},{"$f":"IF(ISERROR(VLOOKUP(J41,'KAYIT LİSTESİ'!$B$4:$H$664,4,0)),\"\",(VLOOKUP(J41,'KAYIT LİSTESİ'!$B$4:$H$664,4,0)))","v":""},{"$f":"IF(ISERROR(VLOOKUP(J41,'KAYIT LİSTESİ'!$B$4:$H$664,5,0)),\"\",(VLOOKUP(J41,'KAYIT LİSTESİ'!$B$4:$H$664,5,0)))","v":""},{"$f":"IF(ISERROR(VLOOKUP(J41,'KAYIT LİSTESİ'!$B$4:$H$664,6,0)),\"\",(VLOOKUP(J41,'KAYIT LİSTESİ'!$B$4:$H$664,6,0)))","v":""}]
[35,null,null,null,null,null,{"$f":"IF(ISTEXT(F42),0,IFERROR(VLOOKUP(SMALL(#REF!,COUNTIF(#REF!,\"<\"&F42)+1),#REF!, 2,0),\" \"))","v":" "},null,5,"300M.ENG-4-5",{"$f":"IF(ISERROR(VLOOKUP(J42,'KAYIT LİSTESİ'!$B$4:$H$664,2,0)),\"\",(VLOOKUP(J42,'KAYIT LİSTESİ'!$B$4:$H$664,2,0)))","v":""},{"$f":"IF(ISERROR(VLOOKUP(J42,'KAYIT LİSTESİ'!$B$4:$H$664,4,0)),\"\",(VLOOKUP(J42,'KAYIT LİSTESİ'!$B$4:$H$664,4,0)))","v":""},{"$f":"IF(ISERROR(VLOOKUP(J42,'KAYIT LİSTESİ'!$B$4:$H$664,5,0)),\"\",(VLOOKUP(J42,'KAYIT LİSTESİ'!$B$4:$H$664,5,0)))","v":""},{"$f":"IF(ISERROR(VLOOKUP(J42,'KAYIT LİSTESİ'!$B$4:$H$664,6,0)),\"\",(VLOOKUP(J42,'KAYIT LİSTESİ'!$B$4:$H$664,6,0)))","v":""}]
[36,null,null,null,null,null,{"$f":"IF(ISTEXT(F43),0,IFERROR(VLOOKUP(SMALL(#REF!,COUNTIF(#REF!,\"<\"&F43)+1),#REF!, 2,0),\" \"))","v":" "},null,6,"300M.ENG-4-6",{"$f":"IF(ISERROR(VLOOKUP(J43,'KAYIT LİSTESİ'!$B$4:$H$664,2,0)),\"\",(VLOOKUP(J43,'KAYIT LİSTESİ'!$B$4:$H$664,2,0)))","v":""},{"$f":"IF(ISERROR(VLOOKUP(J43,'KAYIT LİSTESİ'!$B$4:$H$664,4,0)),\"\",(VLOOKUP(J43,'KAYIT LİSTESİ'!$B$4:$H$664,4,0)))","v":""},{"$f":"IF(ISERROR(VLOOKUP(J43,'KAYIT LİSTESİ'!$B$4:$H$664,5,0)),\"\",(VLOOKUP(J43,'KAYIT LİSTESİ'!$B$4:$H$664,5,0)))","v":""},{"$f":"IF(ISERROR(VLOOKUP(J43,'KAYIT LİSTESİ'!$B$4:$H$664,6,0)),\"\",(VLOOKUP(J43,'KAYIT LİSTESİ'!$B$4:$H$664,6,0)))","v":""}]
[37,null,null,null,null,null,{"$f":"IF(ISTEXT(F44),0,IFERROR(VLOOKUP(SMALL(#REF!,COUNTIF(#REF!,\"<\"&F44)+1),#REF!, 2,0),\" \"))","v":" "},null,7,"300M.ENG-4-7",{"$f":"IF(ISERROR(VLOOKUP(J44,'KAYIT LİSTESİ'!$B$4:$H$664,2,0)),\"\",(VLOOKUP(J44,'KAYIT LİSTESİ'!$B$4:$H$664,2,0)))","v":""},{"$f":"IF(ISERROR(VLOOKUP(J44,'KAYIT LİSTESİ'!$B$4:$H$664,4,0)),\"\",(VLOOKUP(J44,'KAYIT LİSTESİ'!$B$4:$H$664,4,0)))","v":""},{"$f":"IF(ISERROR(VLOOKUP(J44,'KAYIT LİSTESİ'!$B$4:$H$664,5,0)),\"\",(VLOOKUP(J44,'KAYIT LİSTESİ'!$B$4:$H$664,5,0)))","v":""},{"$f":"IF(ISERROR(VLOOKUP(J44,'KAYIT LİSTESİ'!$B$4:$H$664,6,0)),\"\",(VLOOKUP(J44,'KAYIT LİSTESİ'!$B$4:$H$664,6,0)))","v":""}]
[38,null,null,null,null,null,{"$f":"IF(ISTEXT(F45),0,IFERROR(VLOOKUP(SMALL(#REF!,COUNTIF(#REF!,\"<\"&F45)+1),#REF!, 2,0),\" \"))","v":" "},null,8,"300M.ENG-4-8",{"$f":"IF(ISERROR(VLOOKUP(J45,'KAYIT LİSTESİ'!$B$4:$H$664,2,0)),\"\",(VLOOKUP(J45,'KAYIT LİSTESİ'!$B$4:$H$664,2,0)))","v":""},{"$f":"IF(ISERROR(VLOOKUP(J45,'KAYIT LİSTESİ'!$B$4:$H$664,4,0)),\"\",(VLOOKUP(J45,'KAYIT LİSTESİ'!$B$4:$H$664,4,0)))","v":""},{"$f":"IF(ISERROR(VLOOKUP(J45,'KAYIT LİSTESİ'!$B$4:$H$664,5,0)),\"\",(VLOOKUP(J45,'KAYIT LİSTESİ'!$B$4:$H$664,5,0)))","v":""},{"$f":"IF(ISERROR(VLOOKUP(J45,'KAYIT LİSTESİ'!$B$4:$H$664,6,0)),\"\",(VLOOKUP(J45,'KAYIT LİSTESİ'!$B$4:$H$664,6,0)))","v":""}]
[]
["Müsabakalar Direktörü",null,null,null,"Baş Hakem","Lider",null,"Sekreter",null,null,null,null,"Hakem","Hakem",null,"Hakem"]

{"sheet":"5000m.","index":16,"n_rows":49,"n_cols":17,"rows_kept":49,"cut":false,"hidden":false,"merged":[[0,0,0,16],[1,0,1,16],[2,0,2,2],[2,3,2,4],[2,5,2,6],[2,8,2,11],[2,13,2,16],[5,6,6,6],[3,0,3,2],[3,3,3,4],[3,13,3,16],[4,13,4,16],[5,0,6,0],[5,1,6,1],[5,2,6,2],[5,3,6,3],[5,4,6,4],[5,5,6,5]]}
[{"$f":"('YARIŞMA BİLGİLERİ'!A2)","v":"Türkiye Atletizm Federasyonu\nMersin Atletizm İl Temsilciliği\n"}]
[{"$f":"'YARIŞMA BİLGİLERİ'!F19","v":"Olimpik Baraj  Yarışmaları"}]
["Yarışma :",null,null,{"$f":"#REF!","v":{"$error":"#REF!"}},null,"Baraj Derecesi ",null,":",{"$f":"#REF!","v":{"$error":"#REF!"}}]
["Kategori :",null,null,{"$f":"'YARIŞMA BİLGİLERİ'!F21","v":"Kadınlar"},null,null,null,null,null,null,null,null,"Tarih-Saat ",{"$f":"#REF!","v":{"$error":"#REF!"}}]
[null,null,null,null,null,null,null,null,null,null,null,null,null,","]
["Sıra No","Göğüs No","Doğum Tarihi\nGün/Ay/Yıl","Adı ve Soyadı","İli-Okulu","Derece","Puan",null,"1. SERİ"]
[null,null,null,null,null,null,null,null,"Sıra No","Formül","Göğüs No","Doğum Tarihi","Adı ve Soyadı","İli-Okulu","Elektronik Kronometre","El Kronometre","Seri Geliş"]
[1,null,null,null,null,null,{"$f":"IF(ISTEXT(F8),0,IFERROR(VLOOKUP(SMALL(#REF!,COUNTIF(#REF!,\"<\"&F8)+1),#REF!, 2,0),\" \"))","v":" "},null,1,"5000M-1-1",{"$f":"IF(ISERROR(VLOOKUP(J8,'KAYIT LİSTESİ'!$B$4:$H$664,2,0)),\"\",(VLOOKUP(J8,'KAYIT LİSTESİ'!$B$4:$H$664,2,0)))","v":""},{"$f":"IF(ISERROR(VLOOKUP(J8,'KAYIT LİSTESİ'!$B$4:$H$664,4,0)),\"\",(VLOOKUP(J8,'KAYIT LİSTESİ'!$B$4:$H$664,4,0)))","v":""},{"$f":"IF(ISERROR(VLOOKUP(J8,'KAYIT LİSTESİ'!$B$4:$H$664,5,0)),\"\",(VLOOKUP(J8,'KAYIT LİSTESİ'!$B$4:$H$664,5,0)))","v":""},{"$f":"IF(ISERROR(VLOOKUP(J8,'KAYIT LİSTESİ'!$B$4:$H$664,6,0)),\"\",(VLOOKUP(J8,'KAYIT LİSTESİ'!$B$4:$H$664,6,0)))","v":""},{"$f":"IF(IF(OR(P8=\"NM\",P8=\"DNF\",P8=\"DNS\",P8=\"DQ\",P8=\"\"),P8,(ROUNDUP(P8,)+24))=0,\" \",IF(OR(P8=\"NM\",P8=\"DNF\",P8=\"DNS\",P8=\"DQ\",P8=\"\"),P8,(ROUNDUP(P8,)+24)))","v":" "}]
[2,null,null,null,null,null,{"$f":"IF(ISTEXT(F9),0,IFERROR(VLOOKUP(SMALL(#REF!,COUNTIF(#REF!,\"<\"&F9)+1),#REF!, 2,0),\" \"))","v":" "},null,2,"5000M-1-2",{"$f":"IF(ISERROR(VLOOKUP(J9,'KAYIT LİSTESİ'!$B$4:$H$664,2,0)),\"\",(VLOOKUP(J9,'KAYIT LİSTESİ'!$B$4:$H$664,2,0)))","v":616},{"$f":"IF(ISERROR(VLOOKUP(J9,'KAYIT LİSTESİ'!$B$4:$H$664,4,0)),\"\",(VLOOKUP(J9,'KAYIT LİSTESİ'!$B$4:$H$664,4,0)))","v":"1995-12-06"},{"$f":"IF(ISERROR(VLOOKUP(J9,'KAYIT LİSTESİ'!$B$4:$H$664,5,0)),\"\",(VLOOKUP(J9,'KAYIT LİSTESİ'!$B$4:$H$664,5,0)))","v":"SABAHAT AKPINAR"},{"$f":"IF(ISERROR(VLOOKUP(J9,'KAYIT LİSTESİ'!$B$4:$H$664,6,0)),\"\",(VLOOKUP(J9,'KAYIT LİSTESİ'!$B$4:$H$664,6,0)))","v":"HATAY"}," "]
[3,null,null,null,null,null,{"$f":"IF(ISTEXT(F10),0,IFERROR(VLOOKUP(SMALL(#REF!,COUNTIF(#REF!,\"<\"&F10)+1),#REF!, 2,0),\" \"))","v":" "},null,3,"5000M-1-3",{"$f":"IF(ISERROR(VLOOKUP(J10,'KAYIT LİSTESİ'!$B$4:$H$664,2,0)),\"\",(VLOOKUP(J10,'KAYIT LİSTESİ'!$B$4:$H$664,2,0)))","v":613},{"$f":"IF(ISERROR(VLOOKUP(J10,'KAYIT LİSTESİ'!$B$4:$H$664,4,0)),\"\",(VLOOKUP(J10,'KAYIT LİSTESİ'!$B$4:$H$664,4,0)))","v":"1995-12-07"},{"$f":"IF(ISERROR(VLOOKUP(J10,'KAYIT LİSTESİ'!$B$4:$H$664,5,0)),\"\",(VLOOKUP(J10,'KAYIT LİSTESİ'!$B$4:$H$664,5,0)))","v":"EMİNE HATUN TUNA"},{"$f":"IF(ISERROR(VLOOKUP(J10,'KAYIT LİSTESİ'!$B$4:$H$664,6,0)),\"\",(VLOOKUP(J10,'KAYIT LİSTESİ'!$B$4:$H$664,6,0)))","v":"HATAY"}," "]
[4,null,null,null,null,null,{"$f":"IF(ISTEXT(F11),0,IFERROR(VLOOKUP(SMALL(#REF!,COUNTIF(#REF!,\"<\"&F11)+1),#REF!, 2,0),\" \"))","v":" "},null,4,"5000M-1-4",{"$f":"IF(ISERROR(VLOOKUP(J11,'KAYIT LİSTESİ'!$B$4:$H$664,2,0)),\"\",(VLOOKUP(J11,'KAYIT LİSTESİ'!$B$4:$H$664,2,0)))","v":""},{"$f":"IF(ISERROR(VLOOKUP(J11,'KAYIT LİSTESİ'!$B$4:$H$664,4,0)),\"\",(VLOOKUP(J11,'KAYIT LİSTESİ'!$B$4:$H$664,4,0)))","v":""},{"$f":"IF(ISERROR(VLOOKUP(J11,'KAYIT LİSTESİ'!$B$4:$H$664,5,0)),\"\",(VLOOKUP(J11,'KAYIT LİSTESİ'!$B$4:$H$664,5,0)))","v":""},{"$f":"IF(ISERROR(VLOOKUP(J11,'KAYIT LİSTESİ'!$B$4:$H$664,6,0)),\"\",(VLOOKUP(J11,'KAYIT LİSTESİ'!$B$4:$H$664,6,0)))","v":""}," "]
[5,null,null,null,null,null,{"$f":"IF(ISTEXT(F12),0,IFERROR(VLOOKUP(SMALL(#REF!,COUNTIF(#REF!,\"<\"&F12)+1),#REF!, 2,0),\" \"))","v":" "},null,5,"5000M-1-5",{"$f":"IF(ISERROR(VLOOKUP(J12,'KAYIT LİSTESİ'!$B$4:$H$664,2,0)),\"\",(VLOOKUP(J12,'KAYIT LİSTESİ'!$B$4:$H$664,2,0)))","v":""},{"$f":"IF(ISERROR(VLOOKUP(J12,'KAYIT LİSTESİ'!$B$4:$H$664,4,0)),\"\",(VLOOKUP(J12,'KAYIT LİSTESİ'!$B$4:$H$664,4,0)))","v":""},{"$f":"IF(ISERROR(VLOOKUP(J12,'KAYIT LİSTESİ'!$B$4:$H$664,5,0)),\"\",(VLOOKUP(J12,'KAYIT LİSTESİ'!$B$4:$H$664,5,0)))","v":""},{"$f":"IF(ISERROR(VLOOKUP(J12,'KAYIT LİSTESİ'!$B$4:$H$664,6,0)),\"\",(VLOOKUP(J12,'KAYIT LİSTESİ'!$B$4:$H$664,6,0)))","v":""}," "]
[6,null,null,null,null,null,{"$f":"IF(ISTEXT(F13),0,IFERROR(VLOOKUP(SMALL(#REF!,COUNTIF(#REF!,\"<\"&F13)+1),#REF!, 2,0),\" \"))","v":" "},null,6,"5000M-1-6",{"$f":"IF(ISERROR(VLOOKUP(J13,'KAYIT LİSTESİ'!$B$4:$H$664,2,0)),\"\",(VLOOKUP(J13,'KAYIT LİSTESİ'!$B$4:$H$664,2,0)))","v":""},{"$f":"IF(ISERROR(VLOOKUP(J13,'KAYIT LİSTESİ'!$B$4:$H$664,4,0)),\"\",(VLOOKUP(J13,'KAYIT LİSTESİ'!$B$4:$H$664,4,0)))","v":""},{"$f":"IF(ISERROR(VLOOKUP(J13,'KAYIT LİSTESİ'!$B$4:$H$664,5,0)),\"\",(VLOOKUP(J13,'KAYIT LİSTESİ'!$B$4:$H$664,5,0)))","v":""},{"$f":"IF(ISERROR(VLOOKUP(J13,'KAYIT LİSTESİ'!$B$4:$H$664,6,0)),\"\",(VLOOKUP(J13,'KAYIT LİSTESİ'!$B$4:$H$664,6,0)))","v":""}," "]
[7,null,null,null,null,null,{"$f":"IF(ISTEXT(F14),0,IFERROR(VLOOKUP(SMALL(#REF!,COUNTIF(#REF!,\"<\"&F14)+1),#REF!, 2,0),\" \"))","v":" "},null,7,"5000M-1-7",{"$f":"IF(ISERROR(VLOOKUP(J14,'KAYIT LİSTESİ'!$B$4:$H$664,2,0)),\"\",(VLOOKUP(J14,'KAYIT LİSTESİ'!$B$4:$H$664,2,0)))","v":""},{"$f":"IF(ISERROR(VLOOKUP(J14,'KAYIT LİSTESİ'!$B$4:$H$664,4,0)),\"\",(VLOOKUP(J14,'KAYIT LİSTESİ'!$B$4:$H$664,4,0)))","v":""},{"$f":"IF(ISERROR(VLOOKUP(J14,'KAYIT LİSTESİ'!$B$4:$H$664,5,0)),\"\",(VLOOKUP(J14,'KAYIT LİSTESİ'!$B$4:$H$664,5,0)))","v":""},{"$f":"IF(ISERROR(VLOOKUP(J14,'KAYIT LİSTESİ'!$B$4:$H$664,6,0)),\"\",(VLOOKUP(J14,'KAYIT LİSTESİ'!$B$4:$H$664,6,0)))","v":""}," "]
[8,null,null,null,null,null,{"$f":"IF(ISTEXT(F15),0,IFERROR(VLOOKUP(SMALL(#REF!,COUNTIF(#REF!,\"<\"&F15)+1),#REF!, 2,0),\" \"))","v":" "},null,8,"5000M-1-8",{"$f":"IF(ISERROR(VLOOKUP(J15,'KAYIT LİSTESİ'!$B$4:$H$664,2,0)),\"\",(VLOOKUP(J15,'KAYIT LİSTESİ'!$B$4:$H$664,2,0)))","v":""},{"$f":"IF(ISERROR(VLOOKUP(J15,'KAYIT LİSTESİ'!$B$4:$H$664,4,0)),\"\",(VLOOKUP(J15,'KAYIT LİSTESİ'!$B$4:$H$664,4,0)))","v":""},{"$f":"IF(ISERROR(VLOOKUP(J15,'KAYIT LİSTESİ'!$B$4:$H$664,5,0)),\"\",(VLOOKUP(J15,'KAYIT LİSTESİ'!$B$4:$H$664,5,0)))","v":""},{"$f":"IF(ISERROR(VLOOKUP(J15,'KAYIT LİSTESİ'!$B$4:$H$664,6,0)),\"\",(VLOOKUP(J15,'KAYIT LİSTESİ'!$B$4:$H$664,6,0)))","v":""}," "]
[9,null,null,null,null,null,{"$f":"IF(ISTEXT(F16),0,IFERROR(VLOOKUP(SMALL(#REF!,COUNTIF(#REF!,\"<\"&F16)+1),#REF!, 2,0),\" \"))","v":" "},null,9,"5000M-1-9",{"$f":"IF(ISERROR(VLOOKUP(J16,'KAYIT LİSTESİ'!$B$4:$H$664,2,0)),\"\",(VLOOKUP(J16,'KAYIT LİSTESİ'!$B$4:$H$664,2,0)))","v":""},{"$f":"IF(ISERROR(VLOOKUP(J16,'KAYIT LİSTESİ'!$B$4:$H$664,4,0)),\"\",(VLOOKUP(J16,'KAYIT LİSTESİ'!$B$4:$H$664,4,0)))","v":""},{"$f":"IF(ISERROR(VLOOKUP(J16,'KAYIT LİSTESİ'!$B$4:$H$664,5,0)),\"\",(VLOOKUP(J16,'KAYIT LİSTESİ'!$B$4:$H$664,5,0)))","v":""},{"$f":"IF(ISERROR(VLOOKUP(J16,'KAYIT LİSTESİ'!$B$4:$H$664,6,0)),\"\",(VLOOKUP(J16,'KAYIT LİSTESİ'!$B$4:$H$664,6,0)))","v":""}," "]
[10,null,null,null,null,null,{"$f":"IF(ISTEXT(F17),0,IFERROR(VLOOKUP(SMALL(#REF!,COUNTIF(#REF!,\"<\"&F17)+1),#REF!, 2,0),\" \"))","v":" "},null,10,"5000M-1-10",{"$f":"IF(ISERROR(VLOOKUP(J17,'KAYIT LİSTESİ'!$B$4:$H$664,2,0)),\"\",(VLOOKUP(J17,'KAYIT LİSTESİ'!$B$4:$H$664,2,0)))","v":""},{"$f":"IF(ISERROR(VLOOKUP(J17,'KAYIT LİSTESİ'!$B$4:$H$664,4,0)),\"\",(VLOOKUP(J17,'KAYIT LİSTESİ'!$B$4:$H$664,4,0)))","v":""},{"$f":"IF(ISERROR(VLOOKUP(J17,'KAYIT LİSTESİ'!$B$4:$H$664,5,0)),\"\",(VLOOKUP(J17,'KAYIT LİSTESİ'!$B$4:$H$664,5,0)))","v":""},{"$f":"IF(ISERROR(VLOOKUP(J17,'KAYIT LİSTESİ'!$B$4:$H$664,6,0)),\"\",(VLOOKUP(J17,'KAYIT LİSTESİ'!$B$4:$H$664,6,0)))","v":""}," "]
[11,null,null,null,null,null,{"$f":"IF(ISTEXT(F18),0,IFERROR(VLOOKUP(SMALL(#REF!,COUNTIF(#REF!,\"<\"&F18)+1),#REF!, 2,0),\" \"))","v":" "},null,11,"5000M-1-11",{"$f":"IF(ISERROR(VLOOKUP(J18,'KAYIT LİSTESİ'!$B$4:$H$664,2,0)),\"\",(VLOOKUP(J18,'KAYIT LİSTESİ'!$B$4:$H$664,2,0)))","v":""},{"$f":"IF(ISERROR(VLOOKUP(J18,'KAYIT LİSTESİ'!$B$4:$H$664,4,0)),\"\",(VLOOKUP(J18,'KAYIT LİSTESİ'!$B$4:$H$664,4,0)))","v":""},{"$f":"IF(ISERROR(VLOOKUP(J18,'KAYIT LİSTESİ'!$B$4:$H$664,5,0)),\"\",(VLOOKUP(J18,'KAYIT LİSTESİ'!$B$4:$H$664,5,0)))","v":""},{"$f":"IF(ISERROR(VLOOKUP(J18,'KAYIT LİSTESİ'!$B$4:$H$664,6,0)),\"\",(VLOOKUP(J18,'KAYIT LİSTESİ'!$B$4:$H$664,6,0)))","v":""}," "]
[12,null,null,null,null,null,{"$f":"IF(ISTEXT(F19),0,IFERROR(VLOOKUP(SMALL(#REF!,COUNTIF(#REF!,\"<\"&F19)+1),#REF!, 2,0),\" \"))","v":" "},null,12,"5000M-1-12",{"$f":"IF(ISERROR(VLOOKUP(J19,'KAYIT LİSTESİ'!$B$4:$H$664,2,0)),\"\",(VLOOKUP(J19,'KAYIT LİSTESİ'!$B$4:$H$664,2,0)))","v":""},{"$f":"IF(ISERROR(VLOOKUP(J19,'KAYIT LİSTESİ'!$B$4:$H$664,4,0)),\"\",(VLOOKUP(J19,'KAYIT LİSTESİ'!$B$4:$H$664,4,0)))","v":""},{"$f":"IF(ISERROR(VLOOKUP(J19,'KAYIT LİSTESİ'!$B$4:$H$664,5,0)),\"\",(VLOOKUP(J19,'KAYIT LİSTESİ'!$B$4:$H$664,5,0)))","v":""},{"$f":"IF(ISERROR(VLOOKUP(J19,'KAYIT LİSTESİ'!$B$4:$H$664,6,0)),\"\",(VLOOKUP(J19,'KAYIT LİSTESİ'!$B$4:$H$664,6,0)))","v":""}," "]
[13,null,null,null,null,null,{"$f":"IF(ISTEXT(F20),0,IFERROR(VLOOKUP(SMALL(#REF!,COUNTIF(#REF!,\"<\"&F20)+1),#REF!, 2,0),\" \"))","v":" "},null,"2. SERİ"]
[14,null,null,null,null,null,{"$f":"IF(ISTEXT(F21),0,IFERROR(VLOOKUP(SMALL(#REF!,COUNTIF(#REF!,\"<\"&F21)+1),#REF!, 2,0),\" \"))","v":" "},null,"Sıra No","Formül","Göğüs No","Doğum Tarihi","Adı ve Soyadı","İli-Okulu","Elektronik Kronometre","El Kronometre","Seri Geliş"]
[15,null,null,null,null,null,{"$f":"IF(ISTEXT(F22),0,IFERROR(VLOOKUP(SMALL(#REF!,COUNTIF(#REF!,\"<\"&F22)+1),#REF!, 2,0),\" \"))","v":" "},null,1,null,{"$f":"IF(ISERROR(VLOOKUP(J22,'KAYIT LİSTESİ'!$B$4:$H$664,2,0)),\"\",(VLOOKUP(J22,'KAYIT LİSTESİ'!$B$4:$H$664,2,0)))","v":""},{"$f":"IF(ISERROR(VLOOKUP(J22,'KAYIT LİSTESİ'!$B$4:$H$664,4,0)),\"\",(VLOOKUP(J22,'KAYIT LİSTESİ'!$B$4:$H$664,4,0)))","v":""},{"$f":"IF(ISERROR(VLOOKUP(J22,'KAYIT LİSTESİ'!$B$4:$H$664,5,0)),\"\",(VLOOKUP(J22,'KAYIT LİSTESİ'!$B$4:$H$664,5,0)))","v":""},{"$f":"IF(ISERROR(VLOOKUP(J22,'KAYIT LİSTESİ'!$B$4:$H$664,6,0)),\"\",(VLOOKUP(J22,'KAYIT LİSTESİ'!$B$4:$H$664,6,0)))","v":""},{"$f":"IF(IF(OR(P22=\"NM\",P22=\"DNF\",P22=\"DNS\",P22=\"DQ\",P22=\"\"),P22,(ROUNDUP(P22,)+24))=0,\" \",IF(OR(P22=\"NM\",P22=\"DNF\",P22=\"DNS\",P22=\"DQ\",P22=\"\"),P22,(ROUNDUP(P22,)+24)))","v":" "}]
[16,null,null,null,null,null,{"$f":"IF(ISTEXT(F23),0,IFERROR(VLOOKUP(SMALL(#REF!,COUNTIF(#REF!,\"<\"&F23)+1),#REF!, 2,0),\" \"))","v":" "},null,2,null,{"$f":"IF(ISERROR(VLOOKUP(J23,'KAYIT LİSTESİ'!$B$4:$H$664,2,0)),\"\",(VLOOKUP(J23,'KAYIT LİSTESİ'!$B$4:$H$664,2,0)))","v":""},{"$f":"IF(ISERROR(VLOOKUP(J23,'KAYIT LİSTESİ'!$B$4:$H$664,4,0)),\"\",(VLOOKUP(J23,'KAYIT LİSTESİ'!$B$4:$H$664,4,0)))","v":""},{"$f":"IF(ISERROR(VLOOKUP(J23,'KAYIT LİSTESİ'!$B$4:$H$664,5,0)),\"\",(VLOOKUP(J23,'KAYIT LİSTESİ'!$B$4:$H$664,5,0)))","v":""},{"$f":"IF(ISERROR(VLOOKUP(J23,'KAYIT LİSTESİ'!$B$4:$H$664,6,0)),\"\",(VLOOKUP(J23,'KAYIT LİSTESİ'!$B$4:$H$664,6,0)))","v":""}," "]
[17,null,null,null,null,null,{"$f":"IF(ISTEXT(F24),0,IFERROR(VLOOKUP(SMALL(#REF!,COUNTIF(#REF!,\"<\"&F24)+1),#REF!, 2,0),\" \"))","v":" "},null,3,null,{"$f":"IF(ISERROR(VLOOKUP(J24,'KAYIT LİSTESİ'!$B$4:$H$664,2,0)),\"\",(VLOOKUP(J24,'KAYIT LİSTESİ'!$B$4:$H$664,2,0)))","v":""},{"$f":"IF(ISERROR(VLOOKUP(J24,'KAYIT LİSTESİ'!$B$4:$H$664,4,0)),\"\",(VLOOKUP(J24,'KAYIT LİSTESİ'!$B$4:$H$664,4,0)))","v":""},{"$f":"IF(ISERROR(VLOOKUP(J24,'KAYIT LİSTESİ'!$B$4:$H$664,5,0)),\"\",(VLOOKUP(J24,'KAYIT LİSTESİ'!$B$4:$H$664,5,0)))","v":""},{"$f":"IF(ISERROR(VLOOKUP(J24,'KAYIT LİSTESİ'!$B$4:$H$664,6,0)),\"\",(VLOOKUP(J24,'KAYIT LİSTESİ'!$B$4:$H$664,6,0)))","v":""}," "]
[18,null,null,null,null,null,{"$f":"IF(ISTEXT(F25),0,IFERROR(VLOOKUP(SMALL(#REF!,COUNTIF(#REF!,\"<\"&F25)+1),#REF!, 2,0),\" \"))","v":" "},null,4,null,{"$f":"IF(ISERROR(VLOOKUP(J25,'KAYIT LİSTESİ'!$B$4:$H$664,2,0)),\"\",(VLOOKUP(J25,'KAYIT LİSTESİ'!$B$4:$H$664,2,0)))","v":""},{"$f":"IF(ISERROR(VLOOKUP(J25,'KAYIT LİSTESİ'!$B$4:$H$664,4,0)),\"\",(VLOOKUP(J25,'KAYIT LİSTESİ'!$B$4:$H$664,4,0)))","v":""},{"$f":"IF(ISERROR(VLOOKUP(J25,'KAYIT LİSTESİ'!$B$4:$H$664,5,0)),\"\",(VLOOKUP(J25,'KAYIT LİSTESİ'!$B$4:$H$664,5,0)))","v":""},{"$f":"IF(ISERROR(VLOOKUP(J25,'KAYIT LİSTESİ'!$B$4:$H$664,6,0)),\"\",(VLOOKUP(J25,'KAYIT LİSTESİ'!$B$4:$H$664,6,0)))","v":""}," "]
[19,null,null,null,null,null,{"$f":"IF(ISTEXT(F26),0,IFERROR(VLOOKUP(SMALL(#REF!,COUNTIF(#REF!,\"<\"&F26)+1),#REF!, 2,0),\" \"))","v":" "},null,5,null,{"$f":"IF(ISERROR(VLOOKUP(J26,'KAYIT LİSTESİ'!$B$4:$H$664,2,0)),\"\",(VLOOKUP(J26,'KAYIT LİSTESİ'!$B$4:$H$664,2,0)))","v":""},{"$f":"IF(ISERROR(VLOOKUP(J26,'KAYIT LİSTESİ'!$B$4:$H$664,4,0)),\"\",(VLOOKUP(J26,'KAYIT LİSTESİ'!$B$4:$H$664,4,0)))","v":""},{"$f":"IF(ISERROR(VLOOKUP(J26,'KAYIT LİSTESİ'!$B$4:$H$664,5,0)),\"\",(VLOOKUP(J26,'KAYIT LİSTESİ'!$B$4:$H$664,5,0)))","v":""},{"$f":"IF(ISERROR(VLOOKUP(J26,'KAYIT LİSTESİ'!$B$4:$H$664,6,0)),\"\",(VLOOKUP(J26,'KAYIT LİSTESİ'!$B$4:$H$664,6,0)))","v":""}," "]
[20,null,null,null,null,null,{"$f":"IF(ISTEXT(F27),0,IFERROR(VLOOKUP(SMALL(#REF!,COUNTIF(#REF!,\"<\"&F27)+1),#REF!, 2,0),\" \"))","v":" "},null,6,null,{"$f":"IF(ISERROR(VLOOKUP(J27,'KAYIT LİSTESİ'!$B$4:$H$664,2,0)),\"\",(VLOOKUP(J27,'KAYIT LİSTESİ'!$B$4:$H$664,2,0)))","v":""},{"$f":"IF(ISERROR(VLOOKUP(J27,'KAYIT LİSTESİ'!$B$4:$H$664,4,0)),\"\",(VLOOKUP(J27,'KAYIT LİSTESİ'!$B$4:$H$664,4,0)))","v":""},{"$f":"IF(ISERROR(VLOOKUP(J27,'KAYIT LİSTESİ'!$B$4:$H$664,5,0)),\"\",(VLOOKUP(J27,'KAYIT LİSTESİ'!$B$4:$H$664,5,0)))","v":""},{"$f":"IF(ISERROR(VLOOKUP(J27,'KAYIT LİSTESİ'!$B$4:$H$664,6,0)),\"\",(VLOOKUP(J27,'KAYIT LİSTESİ'!$B$4:$H$664,6,0)))","v":""}," "]
[21,null,null,null,null,null,{"$f":"IF(ISTEXT(F28),0,IFERROR(VLOOKUP(SMALL(#REF!,COUNTIF(#REF!,\"<\"&F28)+1),#REF!, 2,0),\" \"))","v":" "},null,7,null,{"$f":"IF(ISERROR(VLOOKUP(J28,'KAYIT LİSTESİ'!$B$4:$H$664,2,0)),\"\",(VLOOKUP(J28,'KAYIT LİSTESİ'!$B$4:$H$664,2,0)))","v":""},{"$f":"IF(ISERROR(VLOOKUP(J28,'KAYIT LİSTESİ'!$B$4:$H$664,4,0)),\"\",(VLOOKUP(J28,'KAYIT LİSTESİ'!$B$4:$H$664,4,0)))","v":""},{"$f":"IF(ISERROR(VLOOKUP(J28,'KAYIT LİSTESİ'!$B$4:$H$664,5,0)),\"\",(VLOOKUP(J28,'KAYIT LİSTESİ'!$B$4:$H$664,5,0)))","v":""},{"$f":"IF(ISERROR(VLOOKUP(J28,'KAYIT LİSTESİ'!$B$4:$H$664,6,0)),\"\",(VLOOKUP(J28,'KAYIT LİSTESİ'!$B$4:$H$664,6,0)))","v":""}," "]
[22,null,null,null,null,null,{"$f":"IF(ISTEXT(F29),0,IFERROR(VLOOKUP(SMALL(#REF!,COUNTIF(#REF!,\"<\"&F29)+1),#REF!, 2,0),\" \"))","v":" "},null,8,null,{"$f":"IF(ISERROR(VLOOKUP(J29,'KAYIT LİSTESİ'!$B$4:$H$664,2,0)),\"\",(VLOOKUP(J29,'KAYIT LİSTESİ'!$B$4:$H$664,2,0)))","v":""},{"$f":"IF(ISERROR(VLOOKUP(J29,'KAYIT LİSTESİ'!$B$4:$H$664,4,0)),\"\",(VLOOKUP(J29,'KAYIT LİSTESİ'!$B$4:$H$664,4,0)))","v":""},{"$f":"IF(ISERROR(VLOOKUP(J29,'KAYIT LİSTESİ'!$B$4:$H$664,5,0)),\"\",(VLOOKUP(J29,'KAYIT LİSTESİ'!$B$4:$H$664,5,0)))","v":""},{"$f":"IF(ISERROR(VLOOKUP(J29,'KAYIT LİSTESİ'!$B$4:$H$664,6,0)),\"\",(VLOOKUP(J29,'KAYIT LİSTESİ'!$B$4:$H$664,6,0)))","v":""}," "]
[23,null,null,null,null,null,{"$f":"IF(ISTEXT(F30),0,IFERROR(VLOOKUP(SMALL(#REF!,COUNTIF(#REF!,\"<\"&F30)+1),#REF!, 2,0),\" \"))","v":" "},null,9,null,{"$f":"IF(ISERROR(VLOOKUP(J30,'KAYIT LİSTESİ'!$B$4:$H$664,2,0)),\"\",(VLOOKUP(J30,'KAYIT LİSTESİ'!$B$4:$H$664,2,0)))","v":""},{"$f":"IF(ISERROR(VLOOKUP(J30,'KAYIT LİSTESİ'!$B$4:$H$664,4,0)),\"\",(VLOOKUP(J30,'KAYIT LİSTESİ'!$B$4:$H$664,4,0)))","v":""},{"$f":"IF(ISERROR(VLOOKUP(J30,'KAYIT LİSTESİ'!$B$4:$H$664,5,0)),\"\",(VLOOKUP(J30,'KAYIT LİSTESİ'!$B$4:$H$664,5,0)))","v":""},{"$f":"IF(ISERROR(VLOOKUP(J30,'KAYIT LİSTESİ'!$B$4:$H$664,6,0)),\"\",(VLOOKUP(J30,'KAYIT LİSTESİ'!$B$4:$H$664,6,0)))","v":""}," "]
[24,null,null,null,null,null,{"$f":"IF(ISTEXT(F31),0,IFERROR(VLOOKUP(SMALL(#REF!,COUNTIF(#REF!,\"<\"&F31)+1),#REF!, 2,0),\" \"))","v":" "},null,10,null,{"$f":"IF(ISERROR(VLOOKUP(J31,'KAYIT LİSTESİ'!$B$4:$H$664,2,0)),\"\",(VLOOKUP(J31,'KAYIT LİSTESİ'!$B$4:$H$664,2,0)))","v":""},{"$f":"IF(ISERROR(VLOOKUP(J31,'KAYIT LİSTESİ'!$B$4:$H$664,4,0)),\"\",(VLOOKUP(J31,'KAYIT LİSTESİ'!$B$4:$H$664,4,0)))","v":""},{"$f":"IF(ISERROR(VLOOKUP(J31,'KAYIT LİSTESİ'!$B$4:$H$664,5,0)),\"\",(VLOOKUP(J31,'KAYIT LİSTESİ'!$B$4:$H$664,5,0)))","v":""},{"$f":"IF(ISERROR(VLOOKUP(J31,'KAYIT LİSTESİ'!$B$4:$H$664,6,0)),\"\",(VLOOKUP(J31,'KAYIT LİSTESİ'!$B$4:$H$664,6,0)))","v":""}," "]
[25,null,null,null,null,null,{"$f":"IF(ISTEXT(F32),0,IFERROR(VLOOKUP(SMALL(#REF!,COUNTIF(#REF!,\"<\"&F32)+1),#REF!, 2,0),\" \"))","v":" "},null,11,null,{"$f":"IF(ISERROR(VLOOKUP(J32,'KAYIT LİSTESİ'!$B$4:$H$664,2,0)),\"\",(VLOOKUP(J32,'KAYIT LİSTESİ'!$B$4:$H$664,2,0)))","v":""},{"$f":"IF(ISERROR(VLOOKUP(J32,'KAYIT LİSTESİ'!$B$4:$H$664,4,0)),\"\",(VLOOKUP(J32,'KAYIT LİSTESİ'!$B$4:$H$664,4,0)))","v":""},{"$f":"IF(ISERROR(VLOOKUP(J32,'KAYIT LİSTESİ'!$B$4:$H$664,5,0)),\"\",(VLOOKUP(J32,'KAYIT LİSTESİ'!$B$4:$H$664,5,0)))","v":""},{"$f":"IF(ISERROR(VLOOKUP(J32,'KAYIT LİSTESİ'!$B$4:$H$664,6,0)),\"\",(VLOOKUP(J32,'KAYIT LİSTESİ'!$B$4:$H$664,6,0)))","v":""}," "]
[26,null,null,null,null,null,{"$f":"IF(ISTEXT(F33),0,IFERROR(VLOOKUP(SMALL(#REF!,COUNTIF(#REF!,\"<\"&F33)+1),#REF!, 2,0),\" \"))","v":" "},null,12,null,{"$f":"IF(ISERROR(VLOOKUP(J33,'KAYIT LİSTESİ'!$B$4:$H$664,2,0)),\"\",(VLOOKUP(J33,'KAYIT LİSTESİ'!$B$4:$H$664,2,0)))","v":""},{"$f":"IF(ISERROR(VLOOKUP(J33,'KAYIT LİSTESİ'!$B$4:$H$664,4,0)),\"\",(VLOOKUP(J33,'KAYIT LİSTESİ'!$B$4:$H$664,4,0)))","v":""},{"$f":"IF(ISERROR(VLOOKUP(J33,'KAYIT LİSTESİ'!$B$4:$H$664,5,0)),\"\",(VLOOKUP(J33,'KAYIT LİSTESİ'!$B$4:$H$664,5,0)))","v":""},{"$f":"IF(ISERROR(VLOOKUP(J33,'KAYIT LİSTESİ'!$B$4:$H$664,6,0)),\"\",(VLOOKUP(J33,'KAYIT LİSTESİ'!$B$4:$H$664,6,0)))","v":""}," "]
[41,null,null,null,null,null,{"$f":"IF(ISTEXT(F34),0,IFERROR(VLOOKUP(SMALL(#REF!,COUNTIF(#REF!,\"<\"&F34)+1),#REF!, 2,0),\" \"))","v":" "},null,"4. SERİ"]
[42,null,null,null,null,null,{"$f":"IF(ISTEXT(F35),0,IFERROR(VLOOKUP(SMALL(#REF!,COUNTIF(#REF!,\"<\"&F35)+1),#REF!, 2,0),\" \"))","v":" "},null,"Sıra No","Formül","Göğüs No","Doğum Tarihi","Adı ve Soyadı","İli-Okulu","Elektronik Kronometre","El Kronometre","Seri Geliş"]
[43,null,null,null,null,null,{"$f":"IF(ISTEXT(F36),0,IFERROR(VLOOKUP(SMALL(#REF!,COUNTIF(#REF!,\"<\"&F36)+1),#REF!, 2,0),\" \"))","v":" "},null,1,"800M-4-1",{"$f":"IF(ISERROR(VLOOKUP(J36,'KAYIT LİSTESİ'!$B$4:$H$664,2,0)),\"\",(VLOOKUP(J36,'KAYIT LİSTESİ'!$B$4:$H$664,2,0)))","v":""},{"$f":"IF(ISERROR(VLOOKUP(J36,'KAYIT LİSTESİ'!$B$4:$H$664,4,0)),\"\",(VLOOKUP(J36,'KAYIT LİSTESİ'!$B$4:$H$664,4,0)))","v":""},{"$f":"IF(ISERROR(VLOOKUP(J36,'KAYIT LİSTESİ'!$B$4:$H$664,5,0)),\"\",(VLOOKUP(J36,'KAYIT LİSTESİ'!$B$4:$H$664,5,0)))","v":""},{"$f":"IF(ISERROR(VLOOKUP(J36,'KAYIT LİSTESİ'!$B$4:$H$664,6,0)),\"\",(VLOOKUP(J36,'KAYIT LİSTESİ'!$B$4:$H$664,6,0)))","v":""}]
[44,null,null,null,null,null,{"$f":"IF(ISTEXT(F37),0,IFERROR(VLOOKUP(SMALL(#REF!,COUNTIF(#REF!,\"<\"&F37)+1),#REF!, 2,0),\" \"))","v":" "},null,2,"800M-4-2",{"$f":"IF(ISERROR(VLOOKUP(J37,'KAYIT LİSTESİ'!$B$4:$H$664,2,0)),\"\",(VLOOKUP(J37,'KAYIT LİSTESİ'!$B$4:$H$664,2,0)))","v":""},{"$f":"IF(ISERROR(VLOOKUP(J37,'KAYIT LİSTESİ'!$B$4:$H$664,4,0)),\"\",(VLOOKUP(J37,'KAYIT LİSTESİ'!$B$4:$H$664,4,0)))","v":""},{"$f":"IF(ISERROR(VLOOKUP(J37,'KAYIT LİSTESİ'!$B$4:$H$664,5,0)),\"\",(VLOOKUP(J37,'KAYIT LİSTESİ'!$B$4:$H$664,5,0)))","v":""},{"$f":"IF(ISERROR(VLOOKUP(J37,'KAYIT LİSTESİ'!$B$4:$H$664,6,0)),\"\",(VLOOKUP(J37,'KAYIT LİSTESİ'!$B$4:$H$664,6,0)))","v":""}]
[45,null,null,null,null,null,{"$f":"IF(ISTEXT(F38),0,IFERROR(VLOOKUP(SMALL(#REF!,COUNTIF(#REF!,\"<\"&F38)+1),#REF!, 2,0),\" \"))","v":" "},null,3,"800M-4-3",{"$f":"IF(ISERROR(VLOOKUP(J38,'KAYIT LİSTESİ'!$B$4:$H$664,2,0)),\"\",(VLOOKUP(J38,'KAYIT LİSTESİ'!$B$4:$H$664,2,0)))","v":""},{"$f":"IF(ISERROR(VLOOKUP(J38,'KAYIT LİSTESİ'!$B$4:$H$664,4,0)),\"\",(VLOOKUP(J38,'KAYIT LİSTESİ'!$B$4:$H$664,4,0)))","v":""},{"$f":"IF(ISERROR(VLOOKUP(J38,'KAYIT LİSTESİ'!$B$4:$H$664,5,0)),\"\",(VLOOKUP(J38,'KAYIT LİSTESİ'!$B$4:$H$664,5,0)))","v":""},{"$f":"IF(ISERROR(VLOOKUP(J38,'KAYIT LİSTESİ'!$B$4:$H$664,6,0)),\"\",(VLOOKUP(J38,'KAYIT LİSTESİ'!$B$4:$H$664,6,0)))","v":""}]
[46,null,null,null,null,null,{"$f":"IF(ISTEXT(F39),0,IFERROR(VLOOKUP(SMALL(#REF!,COUNTIF(#REF!,\"<\"&F39)+1),#REF!, 2,0),\" \"))","v":" "},null,4,"800M-4-4",{"$f":"IF(ISERROR(VLOOKUP(J39,'KAYIT LİSTESİ'!$B$4:$H$664,2,0)),\"\",(VLOOKUP(J39,'KAYIT LİSTESİ'!$B$4:$H$664,2,0)))","v":""},{"$f":"IF(ISERROR(VLOOKUP(J39,'KAYIT LİSTESİ'!$B$4:$H$664,4,0)),\"\",(VLOOKUP(J39,'KAYIT LİSTESİ'!$B$4:$H$664,4,0)))","v":""},{"$f":"IF(ISERROR(VLOOKUP(J39,'KAYIT LİSTESİ'!$B$4:$H$664,5,0)),\"\",(VLOOKUP(J39,'KAYIT LİSTESİ'!$B$4:$H$664,5,0)))","v":""},{"$f":"IF(ISERROR(VLOOKUP(J39,'KAYIT LİSTESİ'!$B$4:$H$664,6,0)),\"\",(VLOOKUP(J39,'KAYIT LİSTESİ'!$B$4:$H$664,6,0)))","v":""}]
[47,null,null,null,null,null,{"$f":"IF(ISTEXT(F40),0,IFERROR(VLOOKUP(SMALL(#REF!,COUNTIF(#REF!,\"<\"&F40)+1),#REF!, 2,0),\" \"))","v":" "},null,5,"800M-4-5",{"$f":"IF(ISERROR(VLOOKUP(J40,'KAYIT LİSTESİ'!$B$4:$H$664,2,0)),\"\",(VLOOKUP(J40,'KAYIT LİSTESİ'!$B$4:$H$664,2,0)))","v":""},{"$f":"IF(ISERROR(VLOOKUP(J40,'KAYIT LİSTESİ'!$B$4:$H$664,4,0)),\"\",(VLOOKUP(J40,'KAYIT LİSTESİ'!$B$4:$H$664,4,0)))","v":""},{"$f":"IF(ISERROR(VLOOKUP(J40,'KAYIT LİSTESİ'!$B$4:$H$664,5,0)),\"\",(VLOOKUP(J40,'KAYIT LİSTESİ'!$B$4:$H$664,5,0)))","v":""},{"$f":"IF(ISERROR(VLOOKUP(J40,'KAYIT LİSTESİ'!$B$4:$H$664,6,0)),\"\",(VLOOKUP(J40,'KAYIT LİSTESİ'!$B$4:$H$664,6,0)))","v":""}]
[48,null,null,null,null,null,{"$f":"IF(ISTEXT(F41),0,IFERROR(VLOOKUP(SMALL(#REF!,COUNTIF(#REF!,\"<\"&F41)+1),#REF!, 2,0),\" \"))","v":" "},null,6,"800M-4-6",{"$f":"IF(ISERROR(VLOOKUP(J41,'KAYIT LİSTESİ'!$B$4:$H$664,2,0)),\"\",(VLOOKUP(J41,'KAYIT LİSTESİ'!$B$4:$H$664,2,0)))","v":""},{"$f":"IF(ISERROR(VLOOKUP(J41,'KAYIT LİSTESİ'!$B$4:$H$664,4,0)),\"\",(VLOOKUP(J41,'KAYIT LİSTESİ'!$B$4:$H$664,4,0)))","v":""},{"$f":"IF(ISERROR(VLOOKUP(J41,'KAYIT LİSTESİ'!$B$4:$H$664,5,0)),\"\",(VLOOKUP(J41,'KAYIT LİSTESİ'!$B$4:$H$664,5,0)))","v":""},{"$f":"IF(ISERROR(VLOOKUP(J41,'KAYIT LİSTESİ'!$B$4:$H$664,6,0)),\"\",(VLOOKUP(J41,'KAYIT LİSTESİ'!$B$4:$H$664,6,0)))","v":""}]
[49,null,null,null,null,null,{"$f":"IF(ISTEXT(F42),0,IFERROR(VLOOKUP(SMALL(#REF!,COUNTIF(#REF!,\"<\"&F42)+1),#REF!, 2,0),\" \"))","v":" "},null,7,"800M-4-7",{"$f":"IF(ISERROR(VLOOKUP(J42,'KAYIT LİSTESİ'!$B$4:$H$664,2,0)),\"\",(VLOOKUP(J42,'KAYIT LİSTESİ'!$B$4:$H$664,2,0)))","v":""},{"$f":"IF(ISERROR(VLOOKUP(J42,'KAYIT LİSTESİ'!$B$4:$H$664,4,0)),\"\",(VLOOKUP(J42,'KAYIT LİSTESİ'!$B$4:$H$664,4,0)))","v":""},{"$f":"IF(ISERROR(VLOOKUP(J42,'KAYIT LİSTESİ'!$B$4:$H$664,5,0)),\"\",(VLOOKUP(J42,'KAYIT LİSTESİ'!$B$4:$H$664,5,0)))","v":""},{"$f":"IF(ISERROR(VLOOKUP(J42,'KAYIT LİSTESİ'!$B$4:$H$664,6,0)),\"\",(VLOOKUP(J42,'KAYIT LİSTESİ'!$B$4:$H$664,6,0)))","v":""}]
[50,null,null,null,null,null,{"$f":"IF(ISTEXT(F43),0,IFERROR(VLOOKUP(SMALL(#REF!,COUNTIF(#REF!,\"<\"&F43)+1),#REF!, 2,0),\" \"))","v":" "},null,8,"800M-4-8",{"$f":"IF(ISERROR(VLOOKUP(J43,'KAYIT LİSTESİ'!$B$4:$H$664,2,0)),\"\",(VLOOKUP(J43,'KAYIT LİSTESİ'!$B$4:$H$664,2,0)))","v":""},{"$f":"IF(ISERROR(VLOOKUP(J43,'KAYIT LİSTESİ'!$B$4:$H$664,4,0)),\"\",(VLOOKUP(J43,'KAYIT LİSTESİ'!$B$4:$H$664,4,0)))","v":""},{"$f":"IF(ISERROR(VLOOKUP(J43,'KAYIT LİSTESİ'!$B$4:$H$664,5,0)),\"\",(VLOOKUP(J43,'KAYIT LİSTESİ'!$B$4:$H$664,5,0)))","v":""},{"$f":"IF(ISERROR(VLOOKUP(J43,'KAYIT LİSTESİ'!$B$4:$H$664,6,0)),\"\",(VLOOKUP(J43,'KAYIT LİSTESİ'!$B$4:$H$664,6,0)))","v":""}]
[51,null,null,null,null,null,{"$f":"IF(ISTEXT(F44),0,IFERROR(VLOOKUP(SMALL(#REF!,COUNTIF(#REF!,\"<\"&F44)+1),#REF!, 2,0),\" \"))","v":" "},null,9,"800M-4-9",{"$f":"IF(ISERROR(VLOOKUP(J44,'KAYIT LİSTESİ'!$B$4:$H$664,2,0)),\"\",(VLOOKUP(J44,'KAYIT LİSTESİ'!$B$4:$H$664,2,0)))","v":""},{"$f":"IF(ISERROR(VLOOKUP(J44,'KAYIT LİSTESİ'!$B$4:$H$664,4,0)),\"\",(VLOOKUP(J44,'KAYIT LİSTESİ'!$B$4:$H$664,4,0)))","v":""},{"$f":"IF(ISERROR(VLOOKUP(J44,'KAYIT LİSTESİ'!$B$4:$H$664,5,0)),\"\",(VLOOKUP(J44,'KAYIT LİSTESİ'!$B$4:$H$664,5,0)))","v":""},{"$f":"IF(ISERROR(VLOOKUP(J44,'KAYIT LİSTESİ'!$B$4:$H$664,6,0)),\"\",(VLOOKUP(J44,'KAYIT LİSTESİ'!$B$4:$H$664,6,0)))","v":""}]
[52,null,null,null,null,null,{"$f":"IF(ISTEXT(F45),0,IFERROR(VLOOKUP(SMALL(#REF!,COUNTIF(#REF!,\"<\"&F45)+1),#REF!, 2,0),\" \"))","v":" "},null,10,"800M-4-10",{"$f":"IF(ISERROR(VLOOKUP(J45,'KAYIT LİSTESİ'!$B$4:$H$664,2,0)),\"\",(VLOOKUP(J45,'KAYIT LİSTESİ'!$B$4:$H$664,2,0)))","v":""},{"$f":"IF(ISERROR(VLOOKUP(J45,'KAYIT LİSTESİ'!$B$4:$H$664,4,0)),\"\",(VLOOKUP(J45,'KAYIT LİSTESİ'!$B$4:$H$664,4,0)))","v":""},{"$f":"IF(ISERROR(VLOOKUP(J45,'KAYIT LİSTESİ'!$B$4:$H$664,5,0)),\"\",(VLOOKUP(J45,'KAYIT LİSTESİ'!$B$4:$H$664,5,0)))","v":""},{"$f":"IF(ISERROR(VLOOKUP(J45,'KAYIT LİSTESİ'!$B$4:$H$664,6,0)),\"\",(VLOOKUP(J45,'KAYIT LİSTESİ'!$B$4:$H$664,6,0)))","v":""}]
[53,null,null,null,null,null,{"$f":"IF(ISTEXT(F46),0,IFERROR(VLOOKUP(SMALL(#REF!,COUNTIF(#REF!,\"<\"&F46)+1),#REF!, 2,0),\" \"))","v":" "},null,11,"800M-4-11",{"$f":"IF(ISERROR(VLOOKUP(J46,'KAYIT LİSTESİ'!$B$4:$H$664,2,0)),\"\",(VLOOKUP(J46,'KAYIT LİSTESİ'!$B$4:$H$664,2,0)))","v":""},{"$f":"IF(ISERROR(VLOOKUP(J46,'KAYIT LİSTESİ'!$B$4:$H$664,4,0)),\"\",(VLOOKUP(J46,'KAYIT LİSTESİ'!$B$4:$H$664,4,0)))","v":""},{"$f":"IF(ISERROR(VLOOKUP(J46,'KAYIT LİSTESİ'!$B$4:$H$664,5,0)),\"\",(VLOOKUP(J46,'KAYIT LİSTESİ'!$B$4:$H$664,5,0)))","v":""},{"$f":"IF(ISERROR(VLOOKUP(J46,'KAYIT LİSTESİ'!$B$4:$H$664,6,0)),\"\",(VLOOKUP(J46,'KAYIT LİSTESİ'!$B$4:$H$664,6,0)))","v":""}]
[54,null,null,null,null,null,{"$f":"IF(ISTEXT(F47),0,IFERROR(VLOOKUP(SMALL(#REF!,COUNTIF(#REF!,\"<\"&F47)+1),#REF!, 2,0),\" \"))","v":" "},null,12,"800M-4-12",{"$f":"IF(ISERROR(VLOOKUP(J47,'KAYIT LİSTESİ'!$B$4:$H$664,2,0)),\"\",(VLOOKUP(J47,'KAYIT LİSTESİ'!$B$4:$H$664,2,0)))","v":""},{"$f":"IF(ISERROR(VLOOKUP(J47,'KAYIT LİSTESİ'!$B$4:$H$664,4,0)),\"\",(VLOOKUP(J47,'KAYIT LİSTESİ'!$B$4:$H$664,4,0)))","v":""},{"$f":"IF(ISERROR(VLOOKUP(J47,'KAYIT LİSTESİ'!$B$4:$H$664,5,0)),\"\",(VLOOKUP(J47,'KAYIT LİSTESİ'!$B$4:$H$664,5,0)))","v":""},{"$f":"IF(ISERROR(VLOOKUP(J47,'KAYIT LİSTESİ'!$B$4:$H$664,6,0)),\"\",(VLOOKUP(J47,'KAYIT LİSTESİ'!$B$4:$H$664,6,0)))","v":""}]
[]
["Müsabakalar Direktörü",null,null,null,"Baş Hakem","Lider",null,"Sekreter",null,null,null,null,"Hakem","Hakem",null,"Hakem"]

{"sheet":"400m.Eng","index":17,"n_rows":47,"n_cols":17,"rows_kept":47,"cut":false,"hidden":false,"merged":[[0,0,0,16],[1,0,1,16],[2,0,2,2],[2,3,2,4],[2,5,2,6],[2,8,2,11],[2,13,2,16],[5,6,6,6],[3,0,3,2],[3,3,3,4],[3,13,3,16],[4,13,4,16],[5,0,6,0],[5,1,6,1],[5,2,6,2],[5,3,6,3],[5,4,6,4],[5,5,6,5]]}
[{"$f":"('YARIŞMA BİLGİLERİ'!A2)","v":"Türkiye Atletizm Federasyonu\nMersin Atletizm İl Temsilciliği\n"}]
[{"$f":"'YARIŞMA BİLGİLERİ'!F19","v":"Olimpik Baraj  Yarışmaları"}]
["Yarışma :",null,null,{"$f":"#REF!","v":{"$error":"#REF!"}},null,"Baraj Derecesi ",null,":",{"$f":"#REF!","v":{"$error":"#REF!"}}]
["Kategori :",null,null,{"$f":"'YARIŞMA BİLGİLERİ'!F21","v":"Kadınlar"},null,null,null,null,null,null,null,null,"Tarih-Saat :",{"$f":"#REF!","v":{"$error":"#REF!"}}]
[null,null,null,null,null,null,null,null,null,null,null,null,null,{"$f":"NOW()","v":42222.536638541664}]
["Sıra No","Göğüs No","Doğum Tarihi\nGün/Ay/Yıl","Adı ve Soyadı","İli-Okulu","Derece","Puan",null,"1. SERİ"]
[null,null,null,null,null,null,null,null,"Sıra No","Formül","Göğüs No","Doğum Tarihi","Adı ve Soyadı","İli-Okulu","Elektronik Kronometre","El Kronometre","Seri Geliş"]
[1,null,null,null,null,null,{"$f":"IF(ISTEXT(F8),0,IFERROR(VLOOKUP(SMALL(#REF!,COUNTIF(#REF!,\"<\"&F8)+1),#REF!, 2,0),\" \"))","v":" "},null,1,"400M.ENG-1-1",{"$f":"IF(ISERROR(VLOOKUP(J8,'KAYIT LİSTESİ'!$B$4:$H$664,2,0)),\"\",(VLOOKUP(J8,'KAYIT LİSTESİ'!$B$4:$H$664,2,0)))","v":""},{"$f":"IF(ISERROR(VLOOKUP(J8,'KAYIT LİSTESİ'!$B$4:$H$664,4,0)),\"\",(VLOOKUP(J8,'KAYIT LİSTESİ'!$B$4:$H$664,4,0)))","v":""},{"$f":"IF(ISERROR(VLOOKUP(J8,'KAYIT LİSTESİ'!$B$4:$H$664,5,0)),\"\",(VLOOKUP(J8,'KAYIT LİSTESİ'!$B$4:$H$664,5,0)))","v":""},{"$f":"IF(ISERROR(VLOOKUP(J8,'KAYIT LİSTESİ'!$B$4:$H$664,6,0)),\"\",(VLOOKUP(J8,'KAYIT LİSTESİ'!$B$4:$H$664,6,0)))","v":""},{"$f":"IF(IF(OR(P8=\"NM\",P8=\"DNF\",P8=\"DNS\",P8=\"DQ\",P8=\"\"),P8,(ROUNDUP(P8,)+24))=0,\" \",IF(OR(P8=\"NM\",P8=\"DNF\",P8=\"DNS\",P8=\"DQ\",P8=\"\"),P8,(ROUNDUP(P8,)+24)))","v":" "}]
[2,null,null,null,null,null,{"$f":"IF(ISTEXT(F9),0,IFERROR(VLOOKUP(SMALL(#REF!,COUNTIF(#REF!,\"<\"&F9)+1),#REF!, 2,0),\" \"))","v":" "},null,2,"400M.ENG-1-2",{"$f":"IF(ISERROR(VLOOKUP(J9,'KAYIT LİSTESİ'!$B$4:$H$664,2,0)),\"\",(VLOOKUP(J9,'KAYIT LİSTESİ'!$B$4:$H$664,2,0)))","v":631},{"$f":"IF(ISERROR(VLOOKUP(J9,'KAYIT LİSTESİ'!$B$4:$H$664,4,0)),\"\",(VLOOKUP(J9,'KAYIT LİSTESİ'!$B$4:$H$664,4,0)))","v":"14.02.1990"},{"$f":"IF(ISERROR(VLOOKUP(J9,'KAYIT LİSTESİ'!$B$4:$H$664,5,0)),\"\",(VLOOKUP(J9,'KAYIT LİSTESİ'!$B$4:$H$664,5,0)))","v":"ELİF YİLDİRİM"},{"$f":"IF(ISERROR(VLOOKUP(J9,'KAYIT LİSTESİ'!$B$4:$H$664,6,0)),\"\",(VLOOKUP(J9,'KAYIT LİSTESİ'!$B$4:$H$664,6,0)))","v":"BURSA"}," "]
[3,null,null,null,null,null,{"$f":"IF(ISTEXT(F10),0,IFERROR(VLOOKUP(SMALL(#REF!,COUNTIF(#REF!,\"<\"&F10)+1),#REF!, 2,0),\" \"))","v":" "},null,3,"400M.ENG-1-3",{"$f":"IF(ISERROR(VLOOKUP(J10,'KAYIT LİSTESİ'!$B$4:$H$664,2,0)),\"\",(VLOOKUP(J10,'KAYIT LİSTESİ'!$B$4:$H$664,2,0)))","v":""},{"$f":"IF(ISERROR(VLOOKUP(J10,'KAYIT LİSTESİ'!$B$4:$H$664,4,0)),\"\",(VLOOKUP(J10,'KAYIT LİSTESİ'!$B$4:$H$664,4,0)))","v":""},{"$f":"IF(ISERROR(VLOOKUP(J10,'KAYIT LİSTESİ'!$B$4:$H$664,5,0)),\"\",(VLOOKUP(J10,'KAYIT LİSTESİ'!$B$4:$H$664,5,0)))","v":""},{"$f":"IF(ISERROR(VLOOKUP(J10,'KAYIT LİSTESİ'!$B$4:$H$664,6,0)),\"\",(VLOOKUP(J10,'KAYIT LİSTESİ'!$B$4:$H$664,6,0)))","v":""}," "]
[4,null,null,null,null,null,{"$f":"IF(ISTEXT(F11),0,IFERROR(VLOOKUP(SMALL(#REF!,COUNTIF(#REF!,\"<\"&F11)+1),#REF!, 2,0),\" \"))","v":" "},null,4,"400M.ENG-1-4",{"$f":"IF(ISERROR(VLOOKUP(J11,'KAYIT LİSTESİ'!$B$4:$H$664,2,0)),\"\",(VLOOKUP(J11,'KAYIT LİSTESİ'!$B$4:$H$664,2,0)))","v":""},{"$f":"IF(ISERROR(VLOOKUP(J11,'KAYIT LİSTESİ'!$B$4:$H$664,4,0)),\"\",(VLOOKUP(J11,'KAYIT LİSTESİ'!$B$4:$H$664,4,0)))","v":""},{"$f":"IF(ISERROR(VLOOKUP(J11,'KAYIT LİSTESİ'!$B$4:$H$664,5,0)),\"\",(VLOOKUP(J11,'KAYIT LİSTESİ'!$B$4:$H$664,5,0)))","v":""},{"$f":"IF(ISERROR(VLOOKUP(J11,'KAYIT LİSTESİ'!$B$4:$H$664,6,0)),\"\",(VLOOKUP(J11,'KAYIT LİSTESİ'!$B$4:$H$664,6,0)))","v":""}," "]
[5,null,null,null,null,null,{"$f":"IF(ISTEXT(F12),0,IFERROR(VLOOKUP(SMALL(#REF!,COUNTIF(#REF!,\"<\"&F12)+1),#REF!, 2,0),\" \"))","v":" "},null,5,"400M.ENG-1-5",{"$f":"IF(ISERROR(VLOOKUP(J12,'KAYIT LİSTESİ'!$B$4:$H$664,2,0)),\"\",(VLOOKUP(J12,'KAYIT LİSTESİ'!$B$4:$H$664,2,0)))","v":""},{"$f":"IF(ISERROR(VLOOKUP(J12,'KAYIT LİSTESİ'!$B$4:$H$664,4,0)),\"\",(VLOOKUP(J12,'KAYIT LİSTESİ'!$B$4:$H$664,4,0)))","v":""},{"$f":"IF(ISERROR(VLOOKUP(J12,'KAYIT LİSTESİ'!$B$4:$H$664,5,0)),\"\",(VLOOKUP(J12,'KAYIT LİSTESİ'!$B$4:$H$664,5,0)))","v":""},{"$f":"IF(ISERROR(VLOOKUP(J12,'KAYIT LİSTESİ'!$B$4:$H$664,6,0)),\"\",(VLOOKUP(J12,'KAYIT LİSTESİ'!$B$4:$H$664,6,0)))","v":""}," "]
[6,null,null,null,null,null,{"$f":"IF(ISTEXT(F13),0,IFERROR(VLOOKUP(SMALL(#REF!,COUNTIF(#REF!,\"<\"&F13)+1),#REF!, 2,0),\" \"))","v":" "},null,6,"400M.ENG-1-6",{"$f":"IF(ISERROR(VLOOKUP(J13,'KAYIT LİSTESİ'!$B$4:$H$664,2,0)),\"\",(VLOOKUP(J13,'KAYIT LİSTESİ'!$B$4:$H$664,2,0)))","v":""},{"$f":"IF(ISERROR(VLOOKUP(J13,'KAYIT LİSTESİ'!$B$4:$H$664,4,0)),\"\",(VLOOKUP(J13,'KAYIT LİSTESİ'!$B$4:$H$664,4,0)))","v":""},{"$f":"IF(ISERROR(VLOOKUP(J13,'KAYIT LİSTESİ'!$B$4:$H$664,5,0)),\"\",(VLOOKUP(J13,'KAYIT LİSTESİ'!$B$4:$H$664,5,0)))","v":""},{"$f":"IF(ISERROR(VLOOKUP(J13,'KAYIT LİSTESİ'!$B$4:$H$664,6,0)),\"\",(VLOOKUP(J13,'KAYIT LİSTESİ'!$B$4:$H$664,6,0)))","v":""}," "]
[7,null,null,null,null,null,{"$f":"IF(ISTEXT(F14),0,IFERROR(VLOOKUP(SMALL(#REF!,COUNTIF(#REF!,\"<\"&F14)+1),#REF!, 2,0),\" \"))","v":" "},null,7,"400M.ENG-1-7",{"$f":"IF(ISERROR(VLOOKUP(J14,'KAYIT LİSTESİ'!$B$4:$H$664,2,0)),\"\",(VLOOKUP(J14,'KAYIT LİSTESİ'!$B$4:$H$664,2,0)))","v":""},{"$f":"IF(ISERROR(VLOOKUP(J14,'KAYIT LİSTESİ'!$B$4:$H$664,4,0)),\"\",(VLOOKUP(J14,'KAYIT LİSTESİ'!$B$4:$H$664,4,0)))","v":""},{"$f":"IF(ISERROR(VLOOKUP(J14,'KAYIT LİSTESİ'!$B$4:$H$664,5,0)),\"\",(VLOOKUP(J14,'KAYIT LİSTESİ'!$B$4:$H$664,5,0)))","v":""},{"$f":"IF(ISERROR(VLOOKUP(J14,'KAYIT LİSTESİ'!$B$4:$H$664,6,0)),\"\",(VLOOKUP(J14,'KAYIT LİSTESİ'!$B$4:$H$664,6,0)))","v":""}," "]
[8,null,null,null,null,null,{"$f":"IF(ISTEXT(F15),0,IFERROR(VLOOKUP(SMALL(#REF!,COUNTIF(#REF!,\"<\"&F15)+1),#REF!, 2,0),\" \"))","v":" "},null,8,"400M.ENG-1-8",{"$f":"IF(ISERROR(VLOOKUP(J15,'KAYIT LİSTESİ'!$B$4:$H$664,2,0)),\"\",(VLOOKUP(J15,'KAYIT LİSTESİ'!$B$4:$H$664,2,0)))","v":""},{"$f":"IF(ISERROR(VLOOKUP(J15,'KAYIT LİSTESİ'!$B$4:$H$664,4,0)),\"\",(VLOOKUP(J15,'KAYIT LİSTESİ'!$B$4:$H$664,4,0)))","v":""},{"$f":"IF(ISERROR(VLOOKUP(J15,'KAYIT LİSTESİ'!$B$4:$H$664,5,0)),\"\",(VLOOKUP(J15,'KAYIT LİSTESİ'!$B$4:$H$664,5,0)))","v":""},{"$f":"IF(ISERROR(VLOOKUP(J15,'KAYIT LİSTESİ'!$B$4:$H$664,6,0)),\"\",(VLOOKUP(J15,'KAYIT LİSTESİ'!$B$4:$H$664,6,0)))","v":""}," "]
[9,null,null,null,null,null,{"$f":"IF(ISTEXT(F16),0,IFERROR(VLOOKUP(SMALL(#REF!,COUNTIF(#REF!,\"<\"&F16)+1),#REF!, 2,0),\" \"))","v":" "},null,"2. SERİ"]
[10,null,null,null,null,null,{"$f":"IF(ISTEXT(F17),0,IFERROR(VLOOKUP(SMALL(#REF!,COUNTIF(#REF!,\"<\"&F17)+1),#REF!, 2,0),\" \"))","v":" "},null,"Sıra No","Formül","Göğüs No","Doğum Tarihi","Adı ve Soyadı","İli-Okulu","Elektronik Kronometre","El Kronometre","Seri Geliş"]
[11,null,null,null,null,null,{"$f":"IF(ISTEXT(F18),0,IFERROR(VLOOKUP(SMALL(#REF!,COUNTIF(#REF!,\"<\"&F18)+1),#REF!, 2,0),\" \"))","v":" "},null,1,"400M.ENG-2-1",{"$f":"IF(ISERROR(VLOOKUP(J18,'KAYIT LİSTESİ'!$B$4:$H$664,2,0)),\"\",(VLOOKUP(J18,'KAYIT LİSTESİ'!$B$4:$H$664,2,0)))","v":""},{"$f":"IF(ISERROR(VLOOKUP(J18,'KAYIT LİSTESİ'!$B$4:$H$664,4,0)),\"\",(VLOOKUP(J18,'KAYIT LİSTESİ'!$B$4:$H$664,4,0)))","v":""},{"$f":"IF(ISERROR(VLOOKUP(J18,'KAYIT LİSTESİ'!$B$4:$H$664,5,0)),\"\",(VLOOKUP(J18,'KAYIT LİSTESİ'!$B$4:$H$664,5,0)))","v":""},{"$f":"IF(ISERROR(VLOOKUP(J18,'KAYIT LİSTESİ'!$B$4:$H$664,6,0)),\"\",(VLOOKUP(J18,'KAYIT LİSTESİ'!$B$4:$H$664,6,0)))","v":""},{"$f":"IF(IF(OR(P18=\"NM\",P18=\"DNF\",P18=\"DNS\",P18=\"DQ\",P18=\"\"),P18,(ROUNDUP(P18,)+24))=0,\" \",IF(OR(P18=\"NM\",P18=\"DNF\",P18=\"DNS\",P18=\"DQ\",P18=\"\"),P18,(ROUNDUP(P18,)+24)))","v":" "}]
[12,null,null,null,null,null,{"$f":"IF(ISTEXT(F19),0,IFERROR(VLOOKUP(SMALL(#REF!,COUNTIF(#REF!,\"<\"&F19)+1),#REF!, 2,0),\" \"))","v":" "},null,2,"400M.ENG-2-2",{"$f":"IF(ISERROR(VLOOKUP(J19,'KAYIT LİSTESİ'!$B$4:$H$664,2,0)),\"\",(VLOOKUP(J19,'KAYIT LİSTESİ'!$B$4:$H$664,2,0)))","v":""},{"$f":"IF(ISERROR(VLOOKUP(J19,'KAYIT LİSTESİ'!$B$4:$H$664,4,0)),\"\",(VLOOKUP(J19,'KAYIT LİSTESİ'!$B$4:$H$664,4,0)))","v":""},{"$f":"IF(ISERROR(VLOOKUP(J19,'KAYIT LİSTESİ'!$B$4:$H$664,5,0)),\"\",(VLOOKUP(J19,'KAYIT LİSTESİ'!$B$4:$H$664,5,0)))","v":""},{"$f":"IF(ISERROR(VLOOKUP(J19,'KAYIT LİSTESİ'!$B$4:$H$664,6,0)),\"\",(VLOOKUP(J19,'KAYIT LİSTESİ'!$B$4:$H$664,6,0)))","v":""}," "]
[13,null,null,null,null,null,{"$f":"IF(ISTEXT(F20),0,IFERROR(VLOOKUP(SMALL(#REF!,COUNTIF(#REF!,\"<\"&F20)+1),#REF!, 2,0),\" \"))","v":" "},null,3,"400M.ENG-2-3",{"$f":"IF(ISERROR(VLOOKUP(J20,'KAYIT LİSTESİ'!$B$4:$H$664,2,0)),\"\",(VLOOKUP(J20,'KAYIT LİSTESİ'!$B$4:$H$664,2,0)))","v":""},{"$f":"IF(ISERROR(VLOOKUP(J20,'KAYIT LİSTESİ'!$B$4:$H$664,4,0)),\"\",(VLOOKUP(J20,'KAYIT LİSTESİ'!$B$4:$H$664,4,0)))","v":""},{"$f":"IF(ISERROR(VLOOKUP(J20,'KAYIT LİSTESİ'!$B$4:$H$664,5,0)),\"\",(VLOOKUP(J20,'KAYIT LİSTESİ'!$B$4:$H$664,5,0)))","v":""},{"$f":"IF(ISERROR(VLOOKUP(J20,'KAYIT LİSTESİ'!$B$4:$H$664,6,0)),\"\",(VLOOKUP(J20,'KAYIT LİSTESİ'!$B$4:$H$664,6,0)))","v":""}," "]
[14,null,null,null,null,null,{"$f":"IF(ISTEXT(F21),0,IFERROR(VLOOKUP(SMALL(#REF!,COUNTIF(#REF!,\"<\"&F21)+1),#REF!, 2,0),\" \"))","v":" "},null,4,"400M.ENG-2-4",{"$f":"IF(ISERROR(VLOOKUP(J21,'KAYIT LİSTESİ'!$B$4:$H$664,2,0)),\"\",(VLOOKUP(J21,'KAYIT LİSTESİ'!$B$4:$H$664,2,0)))","v":""},{"$f":"IF(ISERROR(VLOOKUP(J21,'KAYIT LİSTESİ'!$B$4:$H$664,4,0)),\"\",(VLOOKUP(J21,'KAYIT LİSTESİ'!$B$4:$H$664,4,0)))","v":""},{"$f":"IF(ISERROR(VLOOKUP(J21,'KAYIT LİSTESİ'!$B$4:$H$664,5,0)),\"\",(VLOOKUP(J21,'KAYIT LİSTESİ'!$B$4:$H$664,5,0)))","v":""},{"$f":"IF(ISERROR(VLOOKUP(J21,'KAYIT LİSTESİ'!$B$4:$H$664,6,0)),\"\",(VLOOKUP(J21,'KAYIT LİSTESİ'!$B$4:$H$664,6,0)))","v":""}," "]
[15,null,null,null,null,null,{"$f":"IF(ISTEXT(F22),0,IFERROR(VLOOKUP(SMALL(#REF!,COUNTIF(#REF!,\"<\"&F22)+1),#REF!, 2,0),\" \"))","v":" "},null,5,"400M.ENG-2-5",{"$f":"IF(ISERROR(VLOOKUP(J22,'KAYIT LİSTESİ'!$B$4:$H$664,2,0)),\"\",(VLOOKUP(J22,'KAYIT LİSTESİ'!$B$4:$H$664,2,0)))","v":""},{"$f":"IF(ISERROR(VLOOKUP(J22,'KAYIT LİSTESİ'!$B$4:$H$664,4,0)),\"\",(VLOOKUP(J22,'KAYIT LİSTESİ'!$B$4:$H$664,4,0)))","v":""},{"$f":"IF(ISERROR(VLOOKUP(J22,'KAYIT LİSTESİ'!$B$4:$H$664,5,0)),\"\",(VLOOKUP(J22,'KAYIT LİSTESİ'!$B$4:$H$664,5,0)))","v":""},{"$f":"IF(ISERROR(VLOOKUP(J22,'KAYIT LİSTESİ'!$B$4:$H$664,6,0)),\"\",(VLOOKUP(J22,'KAYIT LİSTESİ'!$B$4:$H$664,6,0)))","v":""}," "]
[16,null,null,null,null,null,{"$f":"IF(ISTEXT(F23),0,IFERROR(VLOOKUP(SMALL(#REF!,COUNTIF(#REF!,\"<\"&F23)+1),#REF!, 2,0),\" \"))","v":" "},null,6,"400M.ENG-2-6",{"$f":"IF(ISERROR(VLOOKUP(J23,'KAYIT LİSTESİ'!$B$4:$H$664,2,0)),\"\",(VLOOKUP(J23,'KAYIT LİSTESİ'!$B$4:$H$664,2,0)))","v":""},{"$f":"IF(ISERROR(VLOOKUP(J23,'KAYIT LİSTESİ'!$B$4:$H$664,4,0)),\"\",(VLOOKUP(J23,'KAYIT LİSTESİ'!$B$4:$H$664,4,0)))","v":""},{"$f":"IF(ISERROR(VLOOKUP(J23,'KAYIT LİSTESİ'!$B$4:$H$664,5,0)),\"\",(VLOOKUP(J23,'KAYIT LİSTESİ'!$B$4:$H$664,5,0)))","v":""},{"$f":"IF(ISERROR(VLOOKUP(J23,'KAYIT LİSTESİ'!$B$4:$H$664,6,0)),\"\",(VLOOKUP(J23,'KAYIT LİSTESİ'!$B$4:$H$664,6,0)))","v":""}," "]
[17,null,null,null,null,null,{"$f":"IF(ISTEXT(F24),0,IFERROR(VLOOKUP(SMALL(#REF!,COUNTIF(#REF!,\"<\"&F24)+1),#REF!, 2,0),\" \"))","v":" "},null,7,"400M.ENG-2-7",{"$f":"IF(ISERROR(VLOOKUP(J24,'KAYIT LİSTESİ'!$B$4:$H$664,2,0)),\"\",(VLOOKUP(J24,'KAYIT LİSTESİ'!$B$4:$H$664,2,0)))","v":""},{"$f":"IF(ISERROR(VLOOKUP(J24,'KAYIT LİSTESİ'!$B$4:$H$664,4,0)),\"\",(VLOOKUP(J24,'KAYIT LİSTESİ'!$B$4:$H$664,4,0)))","v":""},{"$f":"IF(ISERROR(VLOOKUP(J24,'KAYIT LİSTESİ'!$B$4:$H$664,5,0)),\"\",(VLOOKUP(J24,'KAYIT LİSTESİ'!$B$4:$H$664,5,0)))","v":""},{"$f":"IF(ISERROR(VLOOKUP(J24,'KAYIT LİSTESİ'!$B$4:$H$664,6,0)),\"\",(VLOOKUP(J24,'KAYIT LİSTESİ'!$B$4:$H$664,6,0)))","v":""}," "]
[18,null,null,null,null,null,{"$f":"IF(ISTEXT(F25),0,IFERROR(VLOOKUP(SMALL(#REF!,COUNTIF(#REF!,\"<\"&F25)+1),#REF!, 2,0),\" \"))","v":" "},null,8,"400M.ENG-2-8",{"$f":"IF(ISERROR(VLOOKUP(J25,'KAYIT LİSTESİ'!$B$4:$H$664,2,0)),\"\",(VLOOKUP(J25,'KAYIT LİSTESİ'!$B$4:$H$664,2,0)))","v":""},{"$f":"IF(ISERROR(VLOOKUP(J25,'KAYIT LİSTESİ'!$B$4:$H$664,4,0)),\"\",(VLOOKUP(J25,'KAYIT LİSTESİ'!$B$4:$H$664,4,0)))","v":""},{"$f":"IF(ISERROR(VLOOKUP(J25,'KAYIT LİSTESİ'!$B$4:$H$664,5,0)),\"\",(VLOOKUP(J25,'KAYIT LİSTESİ'!$B$4:$H$664,5,0)))","v":""},{"$f":"IF(ISERROR(VLOOKUP(J25,'KAYIT LİSTESİ'!$B$4:$H$664,6,0)),\"\",(VLOOKUP(J25,'KAYIT LİSTESİ'!$B$4:$H$664,6,0)))","v":""}," "]
[19,null,null,null,null,null,{"$f":"IF(ISTEXT(F26),0,IFERROR(VLOOKUP(SMALL(#REF!,COUNTIF(#REF!,\"<\"&F26)+1),#REF!, 2,0),\" \"))","v":" "},null,"3. SERİ"]
[20,null,null,null,null,null,{"$f":"IF(ISTEXT(F27),0,IFERROR(VLOOKUP(SMALL(#REF!,COUNTIF(#REF!,\"<\"&F27)+1),#REF!, 2,0),\" \"))","v":" "},null,"Sıra No","Formül","Göğüs No","Doğum Tarihi","Adı ve Soyadı","İli-Okulu","Elektronik Kronometre","El Kronometre","Seri Geliş"]
[21,null,null,null,null,null,{"$f":"IF(ISTEXT(F28),0,IFERROR(VLOOKUP(SMALL(#REF!,COUNTIF(#REF!,\"<\"&F28)+1),#REF!, 2,0),\" \"))","v":" "},null,1,"300M.ENG-3-1",{"$f":"IF(ISERROR(VLOOKUP(J28,'KAYIT LİSTESİ'!$B$4:$H$664,2,0)),\"\",(VLOOKUP(J28,'KAYIT LİSTESİ'!$B$4:$H$664,2,0)))","v":""},{"$f":"IF(ISERROR(VLOOKUP(J28,'KAYIT LİSTESİ'!$B$4:$H$664,4,0)),\"\",(VLOOKUP(J28,'KAYIT LİSTESİ'!$B$4:$H$664,4,0)))","v":""},{"$f":"IF(ISERROR(VLOOKUP(J28,'KAYIT LİSTESİ'!$B$4:$H$664,5,0)),\"\",(VLOOKUP(J28,'KAYIT LİSTESİ'!$B$4:$H$664,5,0)))","v":""},{"$f":"IF(ISERROR(VLOOKUP(J28,'KAYIT LİSTESİ'!$B$4:$H$664,6,0)),\"\",(VLOOKUP(J28,'KAYIT LİSTESİ'!$B$4:$H$664,6,0)))","v":""},{"$f":"IF(IF(OR(P28=\"NM\",P28=\"DNF\",P28=\"DNS\",P28=\"DQ\",P28=\"\"),P28,(ROUNDUP(P28,)+24))=0,\" \",IF(OR(P28=\"NM\",P28=\"DNF\",P28=\"DNS\",P28=\"DQ\",P28=\"\"),P28,(ROUNDUP(P28,)+24)))","v":" "}]
[22,null,null,null,null,null,{"$f":"IF(ISTEXT(F29),0,IFERROR(VLOOKUP(SMALL(#REF!,COUNTIF(#REF!,\"<\"&F29)+1),#REF!, 2,0),\" \"))","v":" "},null,2,"300M.ENG-3-2",{"$f":"IF(ISERROR(VLOOKUP(J29,'KAYIT LİSTESİ'!$B$4:$H$664,2,0)),\"\",(VLOOKUP(J29,'KAYIT LİSTESİ'!$B$4:$H$664,2,0)))","v":""},{"$f":"IF(ISERROR(VLOOKUP(J29,'KAYIT LİSTESİ'!$B$4:$H$664,4,0)),\"\",(VLOOKUP(J29,'KAYIT LİSTESİ'!$B$4:$H$664,4,0)))","v":""},{"$f":"IF(ISERROR(VLOOKUP(J29,'KAYIT LİSTESİ'!$B$4:$H$664,5,0)),\"\",(VLOOKUP(J29,'KAYIT LİSTESİ'!$B$4:$H$664,5,0)))","v":""},{"$f":"IF(ISERROR(VLOOKUP(J29,'KAYIT LİSTESİ'!$B$4:$H$664,6,0)),\"\",(VLOOKUP(J29,'KAYIT LİSTESİ'!$B$4:$H$664,6,0)))","v":""}," "]
[23,null,null,null,null,null,{"$f":"IF(ISTEXT(F30),0,IFERROR(VLOOKUP(SMALL(#REF!,COUNTIF(#REF!,\"<\"&F30)+1),#REF!, 2,0),\" \"))","v":" "},null,3,"300M.ENG-3-3",{"$f":"IF(ISERROR(VLOOKUP(J30,'KAYIT LİSTESİ'!$B$4:$H$664,2,0)),\"\",(VLOOKUP(J30,'KAYIT LİSTESİ'!$B$4:$H$664,2,0)))","v":""},{"$f":"IF(ISERROR(VLOOKUP(J30,'KAYIT LİSTESİ'!$B$4:$H$664,4,0)),\"\",(VLOOKUP(J30,'KAYIT LİSTESİ'!$B$4:$H$664,4,0)))","v":""},{"$f":"IF(ISERROR(VLOOKUP(J30,'KAYIT LİSTESİ'!$B$4:$H$664,5,0)),\"\",(VLOOKUP(J30,'KAYIT LİSTESİ'!$B$4:$H$664,5,0)))","v":""},{"$f":"IF(ISERROR(VLOOKUP(J30,'KAYIT LİSTESİ'!$B$4:$H$664,6,0)),\"\",(VLOOKUP(J30,'KAYIT LİSTESİ'!$B$4:$H$664,6,0)))","v":""}," "]
[24,null,null,null,null,null,{"$f":"IF(ISTEXT(F31),0,IFERROR(VLOOKUP(SMALL(#REF!,COUNTIF(#REF!,\"<\"&F31)+1),#REF!, 2,0),\" \"))","v":" "},null,4,"300M.ENG-3-4",{"$f":"IF(ISERROR(VLOOKUP(J31,'KAYIT LİSTESİ'!$B$4:$H$664,2,0)),\"\",(VLOOKUP(J31,'KAYIT LİSTESİ'!$B$4:$H$664,2,0)))","v":""},{"$f":"IF(ISERROR(VLOOKUP(J31,'KAYIT LİSTESİ'!$B$4:$H$664,4,0)),\"\",(VLOOKUP(J31,'KAYIT LİSTESİ'!$B$4:$H$664,4,0)))","v":""},{"$f":"IF(ISERROR(VLOOKUP(J31,'KAYIT LİSTESİ'!$B$4:$H$664,5,0)),\"\",(VLOOKUP(J31,'KAYIT LİSTESİ'!$B$4:$H$664,5,0)))","v":""},{"$f":"IF(ISERROR(VLOOKUP(J31,'KAYIT LİSTESİ'!$B$4:$H$664,6,0)),\"\",(VLOOKUP(J31,'KAYIT LİSTESİ'!$B$4:$H$664,6,0)))","v":""}," "]
[25,null,null,null,null,null,{"$f":"IF(ISTEXT(F32),0,IFERROR(VLOOKUP(SMALL(#REF!,COUNTIF(#REF!,\"<\"&F32)+1),#REF!, 2,0),\" \"))","v":" "},null,5,"300M.ENG-3-5",{"$f":"IF(ISERROR(VLOOKUP(J32,'KAYIT LİSTESİ'!$B$4:$H$664,2,0)),\"\",(VLOOKUP(J32,'KAYIT LİSTESİ'!$B$4:$H$664,2,0)))","v":""},{"$f":"IF(ISERROR(VLOOKUP(J32,'KAYIT LİSTESİ'!$B$4:$H$664,4,0)),\"\",(VLOOKUP(J32,'KAYIT LİSTESİ'!$B$4:$H$664,4,0)))","v":""},{"$f":"IF(ISERROR(VLOOKUP(J32,'KAYIT LİSTESİ'!$B$4:$H$664,5,0)),\"\",(VLOOKUP(J32,'KAYIT LİSTESİ'!$B$4:$H$664,5,0)))","v":""},{"$f":"IF(ISERROR(VLOOKUP(J32,'KAYIT LİSTESİ'!$B$4:$H$664,6,0)),\"\",(VLOOKUP(J32,'KAYIT LİSTESİ'!$B$4:$H$664,6,0)))","v":""}," "]
[26,null,null,null,null,null,{"$f":"IF(ISTEXT(F33),0,IFERROR(VLOOKUP(SMALL(#REF!,COUNTIF(#REF!,\"<\"&F33)+1),#REF!, 2,0),\" \"))","v":" "},null,6,"300M.ENG-3-6",{"$f":"IF(ISERROR(VLOOKUP(J33,'KAYIT LİSTESİ'!$B$4:$H$664,2,0)),\"\",(VLOOKUP(J33,'KAYIT LİSTESİ'!$B$4:$H$664,2,0)))","v":""},{"$f":"IF(ISERROR(VLOOKUP(J33,'KAYIT LİSTESİ'!$B$4:$H$664,4,0)),\"\",(VLOOKUP(J33,'KAYIT LİSTESİ'!$B$4:$H$664,4,0)))","v":""},{"$f":"IF(ISERROR(VLOOKUP(J33,'KAYIT LİSTESİ'!$B$4:$H$664,5,0)),\"\",(VLOOKUP(J33,'KAYIT LİSTESİ'!$B$4:$H$664,5,0)))","v":""},{"$f":"IF(ISERROR(VLOOKUP(J33,'KAYIT LİSTESİ'!$B$4:$H$664,6,0)),\"\",(VLOOKUP(J33,'KAYIT LİSTESİ'!$B$4:$H$664,6,0)))","v":""}," "]
[27,null,null,null,null,null,{"$f":"IF(ISTEXT(F34),0,IFERROR(VLOOKUP(SMALL(#REF!,COUNTIF(#REF!,\"<\"&F34)+1),#REF!, 2,0),\" \"))","v":" "},null,7,"300M.ENG-3-7",{"$f":"IF(ISERROR(VLOOKUP(J34,'KAYIT LİSTESİ'!$B$4:$H$664,2,0)),\"\",(VLOOKUP(J34,'KAYIT LİSTESİ'!$B$4:$H$664,2,0)))","v":""},{"$f":"IF(ISERROR(VLOOKUP(J34,'KAYIT LİSTESİ'!$B$4:$H$664,4,0)),\"\",(VLOOKUP(J34,'KAYIT LİSTESİ'!$B$4:$H$664,4,0)))","v":""},{"$f":"IF(ISERROR(VLOOKUP(J34,'KAYIT LİSTESİ'!$B$4:$H$664,5,0)),\"\",(VLOOKUP(J34,'KAYIT LİSTESİ'!$B$4:$H$664,5,0)))","v":""},{"$f":"IF(ISERROR(VLOOKUP(J34,'KAYIT LİSTESİ'!$B$4:$H$664,6,0)),\"\",(VLOOKUP(J34,'KAYIT LİSTESİ'!$B$4:$H$664,6,0)))","v":""}," "]
[28,null,null,null,null,null,{"$f":"IF(ISTEXT(F35),0,IFERROR(VLOOKUP(SMALL(#REF!,COUNTIF(#REF!,\"<\"&F35)+1),#REF!, 2,0),\" \"))","v":" "},null,8,"300M.ENG-3-8",{"$f":"IF(ISERROR(VLOOKUP(J35,'KAYIT LİSTESİ'!$B$4:$H$664,2,0)),\"\",(VLOOKUP(J35,'KAYIT LİSTESİ'!$B$4:$H$664,2,0)))","v":""},{"$f":"IF(ISERROR(VLOOKUP(J35,'KAYIT LİSTESİ'!$B$4:$H$664,4,0)),\"\",(VLOOKUP(J35,'KAYIT LİSTESİ'!$B$4:$H$664,4,0)))","v":""},{"$f":"IF(ISERROR(VLOOKUP(J35,'KAYIT LİSTESİ'!$B$4:$H$664,5,0)),\"\",(VLOOKUP(J35,'KAYIT LİSTESİ'!$B$4:$H$664,5,0)))","v":""},{"$f":"IF(ISERROR(VLOOKUP(J35,'KAYIT LİSTESİ'!$B$4:$H$664,6,0)),\"\",(VLOOKUP(J35,'KAYIT LİSTESİ'!$B$4:$H$664,6,0)))","v":""}," "]
[29,null,null,null,null,null,{"$f":"IF(ISTEXT(F36),0,IFERROR(VLOOKUP(SMALL(#REF!,COUNTIF(#REF!,\"<\"&F36)+1),#REF!, 2,0),\" \"))","v":" "},null,"4. SERİ"]
[30,null,null,null,null,null,{"$f":"IF(ISTEXT(F37),0,IFERROR(VLOOKUP(SMALL(#REF!,COUNTIF(#REF!,\"<\"&F37)+1),#REF!, 2,0),\" \"))","v":" "},null,"Sıra No","Formül","Göğüs No","Doğum Tarihi","Adı ve Soyadı","İli-Okulu","Elektronik Kronometre","El Kronometre","Seri Geliş"]
[31,null,null,null,null,null,{"$f":"IF(ISTEXT(F38),0,IFERROR(VLOOKUP(SMALL(#REF!,COUNTIF(#REF!,\"<\"&F38)+1),#REF!, 2,0),\" \"))","v":" "},null,1,"300M.ENG-4-1",{"$f":"IF(ISERROR(VLOOKUP(J38,'KAYIT LİSTESİ'!$B$4:$H$664,2,0)),\"\",(VLOOKUP(J38,'KAYIT LİSTESİ'!$B$4:$H$664,2,0)))","v":""},{"$f":"IF(ISERROR(VLOOKUP(J38,'KAYIT LİSTESİ'!$B$4:$H$664,4,0)),\"\",(VLOOKUP(J38,'KAYIT LİSTESİ'!$B$4:$H$664,4,0)))","v":""},{"$f":"IF(ISERROR(VLOOKUP(J38,'KAYIT LİSTESİ'!$B$4:$H$664,5,0)),\"\",(VLOOKUP(J38,'KAYIT LİSTESİ'!$B$4:$H$664,5,0)))","v":""},{"$f":"IF(ISERROR(VLOOKUP(J38,'KAYIT LİSTESİ'!$B$4:$H$664,6,0)),\"\",(VLOOKUP(J38,'KAYIT LİSTESİ'!$B$4:$H$664,6,0)))","v":""}]
[32,null,null,null,null,null,{"$f":"IF(ISTEXT(F39),0,IFERROR(VLOOKUP(SMALL(#REF!,COUNTIF(#REF!,\"<\"&F39)+1),#REF!, 2,0),\" \"))","v":" "},null,2,"300M.ENG-4-2",{"$f":"IF(ISERROR(VLOOKUP(J39,'KAYIT LİSTESİ'!$B$4:$H$664,2,0)),\"\",(VLOOKUP(J39,'KAYIT LİSTESİ'!$B$4:$H$664,2,0)))","v":""},{"$f":"IF(ISERROR(VLOOKUP(J39,'KAYIT LİSTESİ'!$B$4:$H$664,4,0)),\"\",(VLOOKUP(J39,'KAYIT LİSTESİ'!$B$4:$H$664,4,0)))","v":""},{"$f":"IF(ISERROR(VLOOKUP(J39,'KAYIT LİSTESİ'!$B$4:$H$664,5,0)),\"\",(VLOOKUP(J39,'KAYIT LİSTESİ'!$B$4:$H$664,5,0)))","v":""},{"$f":"IF(ISERROR(VLOOKUP(J39,'KAYIT LİSTESİ'!$B$4:$H$664,6,0)),\"\",(VLOOKUP(J39,'KAYIT LİSTESİ'!$B$4:$H$664,6,0)))","v":""}]
[33,null,null,null,null,null,{"$f":"IF(ISTEXT(F40),0,IFERROR(VLOOKUP(SMALL(#REF!,COUNTIF(#REF!,\"<\"&F40)+1),#REF!, 2,0),\" \"))","v":" "},null,3,"300M.ENG-4-3",{"$f":"IF(ISERROR(VLOOKUP(J40,'KAYIT LİSTESİ'!$B$4:$H$664,2,0)),\"\",(VLOOKUP(J40,'KAYIT LİSTESİ'!$B$4:$H$664,2,0)))","v":""},{"$f":"IF(ISERROR(VLOOKUP(J40,'KAYIT LİSTESİ'!$B$4:$H$664,4,0)),\"\",(VLOOKUP(J40,'KAYIT LİSTESİ'!$B$4:$H$664,4,0)))","v":""},{"$f":"IF(ISERROR(VLOOKUP(J40,'KAYIT LİSTESİ'!$B$4:$H$664,5,0)),\"\",(VLOOKUP(J40,'KAYIT LİSTESİ'!$B$4:$H$664,5,0)))","v":""},{"$f":"IF(ISERROR(VLOOKUP(J40,'KAYIT LİSTESİ'!$B$4:$H$664,6,0)),\"\",(VLOOKUP(J40,'KAYIT LİSTESİ'!$B$4:$H$664,6,0)))","v":""}]
[34,null,null,null,null,null,{"$f":"IF(ISTEXT(F41),0,IFERROR(VLOOKUP(SMALL(#REF!,COUNTIF(#REF!,\"<\"&F41)+1),#REF!, 2,0),\" \"))","v":" "},null,4,"300M.ENG-4-4",{"$f":"IF(ISERROR(VLOOKUP(J41,'KAYIT LİSTESİ'!$B$4:$H$664,2,0)),\"\",(VLOOKUP(J41,'KAYIT LİSTESİ'!$B$4:$H$664,2,0)))","v":""},{"$f":"IF(ISERROR(VLOOKUP(J41,'KAYIT LİSTESİ'!$B$4:$H$664,4,0)),\"\",(VLOOKUP(J41,'KAYIT LİSTESİ'!$B$4:$H$664,4,0)))","v":""},{"$f":"IF(ISERROR(VLOOKUP(J41,'KAYIT LİSTESİ'!$B$4:$H$664,5,0)),\"\",(VLOOKUP(J41,'KAYIT LİSTESİ'!$B$4:$H$664,5,0)))","v":""},{"$f":"IF(ISERROR(VLOOKUP(J41,'KAYIT LİSTESİ'!$B$4:$H$664,6,0)),\"\",(VLOOKUP(J41,'KAYIT LİSTESİ'!$B$4:$H$664,6,0)))","v":""}]
[35,null,null,null,null,null,{"$f":"IF(ISTEXT(F42),0,IFERROR(VLOOKUP(SMALL(#REF!,COUNTIF(#REF!,\"<\"&F42)+1),#REF!, 2,0),\" \"))","v":" "},null,5,"300M.ENG-4-5",{"$f":"IF(ISERROR(VLOOKUP(J42,'KAYIT LİSTESİ'!$B$4:$H$664,2,0)),\"\",(VLOOKUP(J42,'KAYIT LİSTESİ'!$B$4:$H$664,2,0)))","v":""},{"$f":"IF(ISERROR(VLOOKUP(J42,'KAYIT LİSTESİ'!$B$4:$H$664,4,0)),\"\",(VLOOKUP(J42,'KAYIT LİSTESİ'!$B$4:$H$664,4,0)))","v":""},{"$f":"IF(ISERROR(VLOOKUP(J42,'KAYIT LİSTESİ'!$B$4:$H$664,5,0)),\"\",(VLOOKUP(J42,'KAYIT LİSTESİ'!$B$4:$H$664,5,0)))","v":""},{"$f":"IF(ISERROR(VLOOKUP(J42,'KAYIT LİSTESİ'!$B$4:$H$664,6,0)),\"\",(VLOOKUP(J42,'KAYIT LİSTESİ'!$B$4:$H$664,6,0)))","v":""}]
[36,null,null,null,null,null,{"$f":"IF(ISTEXT(F43),0,IFERROR(VLOOKUP(SMALL(#REF!,COUNTIF(#REF!,\"<\"&F43)+1),#REF!, 2,0),\" \"))","v":" "},null,6,"300M.ENG-4-6",{"$f":"IF(ISERROR(VLOOKUP(J43,'KAYIT LİSTESİ'!$B$4:$H$664,2,0)),\"\",(VLOOKUP(J43,'KAYIT LİSTESİ'!$B$4:$H$664,2,0)))","v":""},{"$f":"IF(ISERROR(VLOOKUP(J43,'KAYIT LİSTESİ'!$B$4:$H$664,4,0)),\"\",(VLOOKUP(J43,'KAYIT LİSTESİ'!$B$4:$H$664,4,0)))","v":""},{"$f":"IF(ISERROR(VLOOKUP(J43,'KAYIT LİSTESİ'!$B$4:$H$664,5,0)),\"\",(VLOOKUP(J43,'KAYIT LİSTESİ'!$B$4:$H$664,5,0)))","v":""},{"$f":"IF(ISERROR(VLOOKUP(J43,'KAYIT LİSTESİ'!$B$4:$H$664,6,0)),\"\",(VLOOKUP(J43,'KAYIT LİSTESİ'!$B$4:$H$664,6,0)))","v":""}]
[37,null,null,null,null,null,{"$f":"IF(ISTEXT(F44),0,IFERROR(VLOOKUP(SMALL(#REF!,COUNTIF(#REF!,\"<\"&F44)+1),#REF!, 2,0),\" \"))","v":" "},null,7,"300M.ENG-4-7",{"$f":"IF(ISERROR(VLOOKUP(J44,'KAYIT LİSTESİ'!$B$4:$H$664,2,0)),\"\",(VLOOKUP(J44,'KAYIT LİSTESİ'!$B$4:$H$664,2,0)))","v":""},{"$f":"IF(ISERROR(VLOOKUP(J44,'KAYIT LİSTESİ'!$B$4:$H$664,4,0)),\"\",(VLOOKUP(J44,'KAYIT LİSTESİ'!$B$4:$H$664,4,0)))","v":""},{"$f":"IF(ISERROR(VLOOKUP(J44,'KAYIT LİSTESİ'!$B$4:$H$664,5,0)),\"\",(VLOOKUP(J44,'KAYIT LİSTESİ'!$B$4:$H$664,5,0)))","v":""},{"$f":"IF(ISERROR(VLOOKUP(J44,'KAYIT LİSTESİ'!$B$4:$H$664,6,0)),\"\",(VLOOKUP(J44,'KAYIT LİSTESİ'!$B$4:$H$664,6,0)))","v":""}]
[38,null,null,null,null,null,{"$f":"IF(ISTEXT(F45),0,IFERROR(VLOOKUP(SMALL(#REF!,COUNTIF(#REF!,\"<\"&F45)+1),#REF!, 2,0),\" \"))","v":" "},null,8,"300M.ENG-4-8",{"$f":"IF(ISERROR(VLOOKUP(J45,'KAYIT LİSTESİ'!$B$4:$H$664,2,0)),\"\",(VLOOKUP(J45,'KAYIT LİSTESİ'!$B$4:$H$664,2,0)))","v":""},{"$f":"IF(ISERROR(VLOOKUP(J45,'KAYIT LİSTESİ'!$B$4:$H$664,4,0)),\"\",(VLOOKUP(J45,'KAYIT LİSTESİ'!$B$4:$H$664,4,0)))","v":""},{"$f":"IF(ISERROR(VLOOKUP(J45,'KAYIT LİSTESİ'!$B$4:$H$664,5,0)),\"\",(VLOOKUP(J45,'KAYIT LİSTESİ'!$B$4:$H$664,5,0)))","v":""},{"$f":"IF(ISERROR(VLOOKUP(J45,'KAYIT LİSTESİ'!$B$4:$H$664,6,0)),\"\",(VLOOKUP(J45,'KAYIT LİSTESİ'!$B$4:$H$664,6,0)))","v":""}]
[]
["Müsabakalar Direktörü",null,null,null,"Baş Hakem","Lider",null,"Sekreter",null,null,null,null,"Hakem","Hakem",null,"Hakem"]

{"sheet":"Disk","index":18,"n_rows":101,"n_cols":18,"rows_kept":101,"cut":false,"hidden":false,"merged":[[5,15,6,15],[5,14,6,14],[5,0,6,0],[5,4,6,4],[5,3,6,3],[3,0,3,2],[48,0,48,3],[48,6,48,12],[48,13,48,14],[4,13,4,14],[5,6,5,12],[5,13,6,13],[5,5,6,5],[5,2,6,2],[5,1,6,1],[3,3,3,4],[3,12,3,14],[2,6,2,7],[0,0,0,14],[2,0,2,2],[2,3,2,4],[1,0,1,15]]}
[{"$f":"'YARIŞMA BİLGİLERİ'!A2:K2","v":"Türkiye Atletizm Federasyonu\nMersin Atletizm İl Temsilciliği\n"},null,null,null,null,null,null,null,null,null,null,null,null,null,null,null,"DERECE"]
[{"$f":"'YARIŞMA BİLGİLERİ'!A14:K14","v":"Olimpik Baraj  Yarışmaları"},null,null,null,null,null,null,null,null,null,null,null,null,null,null,null,330,1]
["Yarışma :",null,null,{"$f":"#REF!","v":{"$error":"#REF!"}},null,"Baraj Derecesi :",{"$f":"#REF!","v":{"$error":"#REF!"}},null,null,null,null,null,null,null,null,null,347,2]
["Kategori :      ",null,null,{"$f":"'YARIŞMA BİLGİLERİ'!F21","v":"Kadınlar"},null,"Ağırlık","750 gr",null,null,null,null,"Tarih-Saat  :",{"$f":"#REF!","v":{"$error":"#REF!"}},null,null,null,364,3]
[null,null,null,null,null,null,null,null,null,null,null,null,null,{"$f":"NOW()","v":42222.536638541664},null,null,381,4]
["SIRA NO",null,"GÖĞÜS NO","DOĞUM TARİHİ\nGün/Ay/Yıl","ADI VE SOYADI","İli-Okulu","A  T  M  A  L  A  R",null,null,null,null,null,null,"SONUÇ","PUAN","KLASMAN",398,5]
[null,null,null,null,null,null,1,2,3,"ARA DERECE",4,5,6,null,null,null,415,6]
[1,"DİSK-1",{"$f":"IF(ISERROR(VLOOKUP(B8,'KAYIT LİSTESİ'!$B$4:$H$664,2,0)),\"\",(VLOOKUP(B8,'KAYIT LİSTESİ'!$B$4:$H$664,2,0)))","v":607},{"$f":"IF(ISERROR(VLOOKUP(B8,'KAYIT LİSTESİ'!$B$4:$H$664,4,0)),\"\",(VLOOKUP(B8,'KAYIT LİSTESİ'!$B$4:$H$664,4,0)))","v":"1997-10-01"},{"$f":"IF(ISERROR(VLOOKUP(B8,'KAYIT LİSTESİ'!$B$4:$H$664,5,0)),\"\",(VLOOKUP(B8,'KAYIT LİSTESİ'!$B$4:$H$664,5,0)))","v":"MELİKE TAN"},{"$f":"IF(ISERROR(VLOOKUP(B8,'KAYIT LİSTESİ'!$B$4:$H$664,6,0)),\"\",(VLOOKUP(B8,'KAYIT LİSTESİ'!$B$4:$H$664,6,0)))","v":"MERSİN"},null,null,null,{"$f":"IF(COUNT(G8:I8)=0,\"\",MAX(G8:I8))","v":""},null,null,null,{"$f":"MAX(G8:M8)","v":0},{"$f":"IF(LEN(N8)>0,VLOOKUP(N8,#REF!,3)-IF(COUNTIF(#REF!,N8)=0,0,0),\" \")","v":{"$error":"#REF!"}},null,432,7]
[2,"DİSK-2",{"$f":"IF(ISERROR(VLOOKUP(B9,'KAYIT LİSTESİ'!$B$4:$H$664,2,0)),\"\",(VLOOKUP(B9,'KAYIT LİSTESİ'!$B$4:$H$664,2,0)))","v":611},{"$f":"IF(ISERROR(VLOOKUP(B9,'KAYIT LİSTESİ'!$B$4:$H$664,4,0)),\"\",(VLOOKUP(B9,'KAYIT LİSTESİ'!$B$4:$H$664,4,0)))","v":"1999-08-28"},{"$f":"IF(ISERROR(VLOOKUP(B9,'KAYIT LİSTESİ'!$B$4:$H$664,5,0)),\"\",(VLOOKUP(B9,'KAYIT LİSTESİ'!$B$4:$H$664,5,0)))","v":"AYSEL YILMAZ"},{"$f":"IF(ISERROR(VLOOKUP(B9,'KAYIT LİSTESİ'!$B$4:$H$664,6,0)),\"\",(VLOOKUP(B9,'KAYIT LİSTESİ'!$B$4:$H$664,6,0)))","v":"GAZİANTEP"},null,null,null,{"$f":"IF(COUNT(G9:I9)=0,\"\",MAX(G9:I9))","v":""},null,null,null,{"$f":"MAX(G9:M9)","v":0},{"$f":"IF(LEN(N9)>0,VLOOKUP(N9,#REF!,3)-IF(COUNTIF(#REF!,N9)=0,0,0),\" \")","v":{"$error":"#REF!"}},null,448,8]
[3,"DİSK-3",{"$f":"IF(ISERROR(VLOOKUP(B10,'KAYIT LİSTESİ'!$B$4:$H$664,2,0)),\"\",(VLOOKUP(B10,'KAYIT LİSTESİ'!$B$4:$H$664,2,0)))","v":""},{"$f":"IF(ISERROR(VLOOKUP(B10,'KAYIT LİSTESİ'!$B$4:$H$664,4,0)),\"\",(VLOOKUP(B10,'KAYIT LİSTESİ'!$B$4:$H$664,4,0)))","v":""},{"$f":"IF(ISERROR(VLOOKUP(B10,'KAYIT LİSTESİ'!$B$4:$H$664,5,0)),\"\",(VLOOKUP(B10,'KAYIT LİSTESİ'!$B$4:$H$664,5,0)))","v":""},{"$f":"IF(ISERROR(VLOOKUP(B10,'KAYIT LİSTESİ'!$B$4:$H$664,6,0)),\"\",(VLOOKUP(B10,'KAYIT LİSTESİ'!$B$4:$H$664,6,0)))","v":""},null,null,null,"",null,null,null,0,{"$f":"IF(LEN(N10)>0,VLOOKUP(N10,#REF!,3)-IF(COUNTIF(#REF!,N10)=0,0,0),\" \")","v":{"$error":"#REF!"}},null,464,9]
[4,"DİSK-4",{"$f":"IF(ISERROR(VLOOKUP(B11,'KAYIT LİSTESİ'!$B$4:$H$664,2,0)),\"\",(VLOOKUP(B11,'KAYIT LİSTESİ'!$B$4:$H$664,2,0)))","v":""},{"$f":"IF(ISERROR(VLOOKUP(B11,'KAYIT LİSTESİ'!$B$4:$H$664,4,0)),\"\",(VLOOKUP(B11,'KAYIT LİSTESİ'!$B$4:$H$664,4,0)))","v":""},{"$f":"IF(ISERROR(VLOOKUP(B11,'KAYIT LİSTESİ'!$B$4:$H$664,5,0)),\"\",(VLOOKUP(B11,'KAYIT LİSTESİ'!$B$4:$H$664,5,0)))","v":""},{"$f":"IF(ISERROR(VLOOKUP(B11,'KAYIT LİSTESİ'!$B$4:$H$664,6,0)),\"\",(VLOOKUP(B11,'KAYIT LİSTESİ'!$B$4:$H$664,6,0)))","v":""},null,null,null,"",null,null,null,0,{"$f":"IF(LEN(N11)>0,VLOOKUP(N11,#REF!,3)-IF(COUNTIF(#REF!,N11)=0,0,0),\" \")","v":{"$error":"#REF!"}},null,480,10]
[5,"DİSK-5",{"$f":"IF(ISERROR(VLOOKUP(B12,'KAYIT LİSTESİ'!$B$4:$H$664,2,0)),\"\",(VLOOKUP(B12,'KAYIT LİSTESİ'!$B$4:$H$664,2,0)))","v":""},{"$f":"IF(ISERROR(VLOOKUP(B12,'KAYIT LİSTESİ'!$B$4:$H$664,4,0)),\"\",(VLOOKUP(B12,'KAYIT LİSTESİ'!$B$4:$H$664,4,0)))","v":""},{"$f":"IF(ISERROR(VLOOKUP(B12,'KAYIT LİSTESİ'!$B$4:$H$664,5,0)),\"\",(VLOOKUP(B12,'KAYIT LİSTESİ'!$B$4:$H$664,5,0)))","v":""},{"$f":"IF(ISERROR(VLOOKUP(B12,'KAYIT LİSTESİ'!$B$4:$H$664,6,0)),\"\",(VLOOKUP(B12,'KAYIT LİSTESİ'!$B$4:$H$664,6,0)))","v":""},null,null,null,"",null,null,null,0,{"$f":"IF(LEN(N12)>0,VLOOKUP(N12,#REF!,3)-IF(COUNTIF(#REF!,N12)=0,0,0),\" \")","v":{"$error":"#REF!"}},null,496,11]
[6,"DİSK-6",{"$f":"IF(ISERROR(VLOOKUP(B13,'KAYIT LİSTESİ'!$B$4:$H$664,2,0)),\"\",(VLOOKUP(B13,'KAYIT LİSTESİ'!$B$4:$H$664,2,0)))","v":""},{"$f":"IF(ISERROR(VLOOKUP(B13,'KAYIT LİSTESİ'!$B$4:$H$664,4,0)),\"\",(VLOOKUP(B13,'KAYIT LİSTESİ'!$B$4:$H$664,4,0)))","v":""},{"$f":"IF(ISERROR(VLOOKUP(B13,'KAYIT LİSTESİ'!$B$4:$H$664,5,0)),\"\",(VLOOKUP(B13,'KAYIT LİSTESİ'!$B$4:$H$664,5,0)))","v":""},{"$f":"IF(ISERROR(VLOOKUP(B13,'KAYIT LİSTESİ'!$B$4:$H$664,6,0)),\"\",(VLOOKUP(B13,'KAYIT LİSTESİ'!$B$4:$H$664,6,0)))","v":""},null,null,null,"",null,null,null,0,{"$f":"IF(LEN(N13)>0,VLOOKUP(N13,#REF!,3)-IF(COUNTIF(#REF!,N13)=0,0,0),\" \")","v":{"$error":"#REF!"}},null,512,12]
[7,"DİSK-7",{"$f":"IF(ISERROR(VLOOKUP(B14,'KAYIT LİSTESİ'!$B$4:$H$664,2,0)),\"\",(VLOOKUP(B14,'KAYIT LİSTESİ'!$B$4:$H$664,2,0)))","v":""},{"$f":"IF(ISERROR(VLOOKUP(B14,'KAYIT LİSTESİ'!$B$4:$H$664,4,0)),\"\",(VLOOKUP(B14,'KAYIT LİSTESİ'!$B$4:$H$664,4,0)))","v":""},{"$f":"IF(ISERROR(VLOOKUP(B14,'KAYIT LİSTESİ'!$B$4:$H$664,5,0)),\"\",(VLOOKUP(B14,'KAYIT LİSTESİ'!$B$4:$H$664,5,0)))","v":""},{"$f":"IF(ISERROR(VLOOKUP(B14,'KAYIT LİSTESİ'!$B$4:$H$664,6,0)),\"\",(VLOOKUP(B14,'KAYIT LİSTESİ'!$B$4:$H$664,6,0)))","v":""},null,null,null,"",null,null,null,0,{"$f":"IF(LEN(N14)>0,VLOOKUP(N14,#REF!,3)-IF(COUNTIF(#REF!,N14)=0,0,0),\" \")","v":{"$error":"#REF!"}},null,528,13]
[8,"DİSK-8",{"$f":"IF(ISERROR(VLOOKUP(B15,'KAYIT LİSTESİ'!$B$4:$H$664,2,0)),\"\",(VLOOKUP(B15,'KAYIT LİSTESİ'!$B$4:$H$664,2,0)))","v":""},{"$f":"IF(ISERROR(VLOOKUP(B15,'KAYIT LİSTESİ'!$B$4:$H$664,4,0)),\"\",(VLOOKUP(B15,'KAYIT LİSTESİ'!$B$4:$H$664,4,0)))","v":""},{"$f":"IF(ISERROR(VLOOKUP(B15,'KAYIT LİSTESİ'!$B$4:$H$664,5,0)),\"\",(VLOOKUP(B15,'KAYIT LİSTESİ'!$B$4:$H$664,5,0)))","v":""},{"$f":"IF(ISERROR(VLOOKUP(B15,'KAYIT LİSTESİ'!$B$4:$H$664,6,0)),\"\",(VLOOKUP(B15,'KAYIT LİSTESİ'!$B$4:$H$664,6,0)))","v":""},null,null,null,"",null,null,null,0,{"$f":"IF(LEN(N15)>0,VLOOKUP(N15,#REF!,3)-IF(COUNTIF(#REF!,N15)=0,0,0),\" \")","v":{"$error":"#REF!"}},null,544,14]
[9,"DİSK-9",{"$f":"IF(ISERROR(VLOOKUP(B16,'KAYIT LİSTESİ'!$B$4:$H$664,2,0)),\"\",(VLOOKUP(B16,'KAYIT LİSTESİ'!$B$4:$H$664,2,0)))","v":""},{"$f":"IF(ISERROR(VLOOKUP(B16,'KAYIT LİSTESİ'!$B$4:$H$664,4,0)),\"\",(VLOOKUP(B16,'KAYIT LİSTESİ'!$B$4:$H$664,4,0)))","v":""},{"$f":"IF(ISERROR(VLOOKUP(B16,'KAYIT LİSTESİ'!$B$4:$H$664,5,0)),\"\",(VLOOKUP(B16,'KAYIT LİSTESİ'!$B$4:$H$664,5,0)))","v":""},{"$f":"IF(ISERROR(VLOOKUP(B16,'KAYIT LİSTESİ'!$B$4:$H$664,6,0)),\"\",(VLOOKUP(B16,'KAYIT LİSTESİ'!$B$4:$H$664,6,0)))","v":""},null,null,null,"",null,null,null,0,{"$f":"IF(LEN(N16)>0,VLOOKUP(N16,#REF!,3)-IF(COUNTIF(#REF!,N16)=0,0,0),\" \")","v":{"$error":"#REF!"}},null,560,15]
[10,"DİSK-10",{"$f":"IF(ISERROR(VLOOKUP(B17,'KAYIT LİSTESİ'!$B$4:$H$664,2,0)),\"\",(VLOOKUP(B17,'KAYIT LİSTESİ'!$B$4:$H$664,2,0)))","v":""},{"$f":"IF(ISERROR(VLOOKUP(B17,'KAYIT LİSTESİ'!$B$4:$H$664,4,0)),\"\",(VLOOKUP(B17,'KAYIT LİSTESİ'!$B$4:$H$664,4,0)))","v":""},{"$f":"IF(ISERROR(VLOOKUP(B17,'KAYIT LİSTESİ'!$B$4:$H$664,5,0)),\"\",(VLOOKUP(B17,'KAYIT LİSTESİ'!$B$4:$H$664,5,0)))","v":""},{"$f":"IF(ISERROR(VLOOKUP(B17,'KAYIT LİSTESİ'!$B$4:$H$664,6,0)),\"\",(VLOOKUP(B17,'KAYIT LİSTESİ'!$B$4:$H$664,6,0)))","v":""},null,null,null,"",null,null,null,0,{"$f":"IF(LEN(N17)>0,VLOOKUP(N17,#REF!,3)-IF(COUNTIF(#REF!,N17)=0,0,0),\" \")","v":{"$error":"#REF!"}},null,576,16]
[11,"DİSK-11",{"$f":"IF(ISERROR(VLOOKUP(B18,'KAYIT LİSTESİ'!$B$4:$H$664,2,0)),\"\",(VLOOKUP(B18,'KAYIT LİSTESİ'!$B$4:$H$664,2,0)))","v":""},{"$f":"IF(ISERROR(VLOOKUP(B18,'KAYIT LİSTESİ'!$B$4:$H$664,4,0)),\"\",(VLOOKUP(B18,'KAYIT LİSTESİ'!$B$4:$H$664,4,0)))","v":""},{"$f":"IF(ISERROR(VLOOKUP(B18,'KAYIT LİSTESİ'!$B$4:$H$664,5,0)),\"\",(VLOOKUP(B18,'KAYIT LİSTESİ'!$B$4:$H$664,5,0)))","v":""},{"$f":"IF(ISERROR(VLOOKUP(B18,'KAYIT LİSTESİ'!$B$4:$H$664,6,0)),\"\",(VLOOKUP(B18,'KAYIT LİSTESİ'!$B$4:$H$664,6,0)))","v":""},null,null,null,"",null,null,null,0,{"$f":"IF(LEN(N18)>0,VLOOKUP(N18,#REF!,3)-IF(COUNTIF(#REF!,N18)=0,0,0),\" \")","v":{"$error":"#REF!"}},null,592,17]
[12,"DİSK-12",{"$f":"IF(ISERROR(VLOOKUP(B19,'KAYIT LİSTESİ'!$B$4:$H$664,2,0)),\"\",(VLOOKUP(B19,'KAYIT LİSTESİ'!$B$4:$H$664,2,0)))","v":""},{"$f":"IF(ISERROR(VLOOKUP(B19,'KAYIT LİSTESİ'!$B$4:$H$664,4,0)),\"\",(VLOOKUP(B19,'KAYIT LİSTESİ'!$B$4:$H$664,4,0)))","v":""},{"$f":"IF(ISERROR(VLOOKUP(B19,'KAYIT LİSTESİ'!$B$4:$H$664,5,0)),\"\",(VLOOKUP(B19,'KAYIT LİSTESİ'!$B$4:$H$664,5,0)))","v":""},{"$f":"IF(ISERROR(VLOOKUP(B19,'KAYIT LİSTESİ'!$B$4:$H$664,6,0)),\"\",(VLOOKUP(B19,'KAYIT LİSTESİ'!$B$4:$H$664,6,0)))","v":""},null,null,null,"",null,null,null,0,{"$f":"IF(LEN(N19)>0,VLOOKUP(N19,#REF!,3)-IF(COUNTIF(#REF!,N19)=0,0,0),\" \")","v":{"$error":"#REF!"}},null,608,18]
[13,"DİSK-13",{"$f":"IF(ISERROR(VLOOKUP(B20,'KAYIT LİSTESİ'!$B$4:$H$664,2,0)),\"\",(VLOOKUP(B20,'KAYIT LİSTESİ'!$B$4:$H$664,2,0)))","v":""},{"$f":"IF(ISERROR(VLOOKUP(B20,'KAYIT LİSTESİ'!$B$4:$H$664,4,0)),\"\",(VLOOKUP(B20,'KAYIT LİSTESİ'!$B$4:$H$664,4,0)))","v":""},{"$f":"IF(ISERROR(VLOOKUP(B20,'KAYIT LİSTESİ'!$B$4:$H$664,5,0)),\"\",(VLOOKUP(B20,'KAYIT LİSTESİ'!$B$4:$H$664,5,0)))","v":""},{"$f":"IF(ISERROR(VLOOKUP(B20,'KAYIT LİSTESİ'!$B$4:$H$664,6,0)),\"\",(VLOOKUP(B20,'KAYIT LİSTESİ'!$B$4:$H$664,6,0)))","v":""},null,null,null,"",null,null,null,0,{"$f":"IF(LEN(N20)>0,VLOOKUP(N20,#REF!,3)-IF(COUNTIF(#REF!,N20)=0,0,0),\" \")","v":{"$error":"#REF!"}},null,624,19]
[14,"DİSK-14",{"$f":"IF(ISERROR(VLOOKUP(B21,'KAYIT LİSTESİ'!$B$4:$H$664,2,0)),\"\",(VLOOKUP(B21,'KAYIT LİSTESİ'!$B$4:$H$664,2,0)))","v":""},{"$f":"IF(ISERROR(VLOOKUP(B21,'KAYIT LİSTESİ'!$B$4:$H$664,4,0)),\"\",(VLOOKUP(B21,'KAYIT LİSTESİ'!$B$4:$H$664,4,0)))","v":""},{"$f":"IF(ISERROR(VLOOKUP(B21,'KAYIT LİSTESİ'!$B$4:$H$664,5,0)),\"\",(VLOOKUP(B21,'KAYIT LİSTESİ'!$B$4:$H$664,5,0)))","v":""},{"$f":"IF(ISERROR(VLOOKUP(B21,'KAYIT LİSTESİ'!$B$4:$H$664,6,0)),\"\",(VLOOKUP(B21,'KAYIT LİSTESİ'!$B$4:$H$664,6,0)))","v":""},null,null,null,"",null,null,null,0,{"$f":"IF(LEN(N21)>0,VLOOKUP(N21,#REF!,3)-IF(COUNTIF(#REF!,N21)=0,0,0),\" \")","v":{"$error":"#REF!"}},null,640,20]
[15,"DİSK-15",{"$f":"IF(ISERROR(VLOOKUP(B22,'KAYIT LİSTESİ'!$B$4:$H$664,2,0)),\"\",(VLOOKUP(B22,'KAYIT LİSTESİ'!$B$4:$H$664,2,0)))","v":""},{"$f":"IF(ISERROR(VLOOKUP(B22,'KAYIT LİSTESİ'!$B$4:$H$664,4,0)),\"\",(VLOOKUP(B22,'KAYIT LİSTESİ'!$B$4:$H$664,4,0)))","v":""},{"$f":"IF(ISERROR(VLOOKUP(B22,'KAYIT LİSTESİ'!$B$4:$H$664,5,0)),\"\",(VLOOKUP(B22,'KAYIT LİSTESİ'!$B$4:$H$664,5,0)))","v":""},{"$f":"IF(ISERROR(VLOOKUP(B22,'KAYIT LİSTESİ'!$B$4:$H$664,6,0)),\"\",(VLOOKUP(B22,'KAYIT LİSTESİ'!$B$4:$H$664,6,0)))","v":""},null,null,null,"",null,null,null,0,{"$f":"IF(LEN(N22)>0,VLOOKUP(N22,#REF!,3)-IF(COUNTIF(#REF!,N22)=0,0,0),\" \")","v":{"$error":"#REF!"}},null,656,21]
[16,"DİSK-16",{"$f":"IF(ISERROR(VLOOKUP(B23,'KAYIT LİSTESİ'!$B$4:$H$664,2,0)),\"\",(VLOOKUP(B23,'KAYIT LİSTESİ'!$B$4:$H$664,2,0)))","v":""},{"$f":"IF(ISERROR(VLOOKUP(B23,'KAYIT LİSTESİ'!$B$4:$H$664,4,0)),\"\",(VLOOKUP(B23,'KAYIT LİSTESİ'!$B$4:$H$664,4,0)))","v":""},{"$f":"IF(ISERROR(VLOOKUP(B23,'KAYIT LİSTESİ'!$B$4:$H$664,5,0)),\"\",(VLOOKUP(B23,'KAYIT LİSTESİ'!$B$4:$H$664,5,0)))","v":""},{"$f":"IF(ISERROR(VLOOKUP(B23,'KAYIT LİSTESİ'!$B$4:$H$664,6,0)),\"\",(VLOOKUP(B23,'KAYIT LİSTESİ'!$B$4:$H$664,6,0)))","v":""},null,null,null,"",null,null,null,0,{"$f":"IF(LEN(N23)>0,VLOOKUP(N23,#REF!,3)-IF(COUNTIF(#REF!,N23)=0,0,0),\" \")","v":{"$error":"#REF!"}},null,672,22]
[17,"DİSK-17",{"$f":"IF(ISERROR(VLOOKUP(B24,'KAYIT LİSTESİ'!$B$4:$H$664,2,0)),\"\",(VLOOKUP(B24,'KAYIT LİSTESİ'!$B$4:$H$664,2,0)))","v":""},{"$f":"IF(ISERROR(VLOOKUP(B24,'KAYIT LİSTESİ'!$B$4:$H$664,4,0)),\"\",(VLOOKUP(B24,'KAYIT LİSTESİ'!$B$4:$H$664,4,0)))","v":""},{"$f":"IF(ISERROR(VLOOKUP(B24,'KAYIT LİSTESİ'!$B$4:$H$664,5,0)),\"\",(VLOOKUP(B24,'KAYIT LİSTESİ'!$B$4:$H$664,5,0)))","v":""},{"$f":"IF(ISERROR(VLOOKUP(B24,'KAYIT LİSTESİ'!$B$4:$H$664,6,0)),\"\",(VLOOKUP(B24,'KAYIT LİSTESİ'!$B$4:$H$664,6,0)))","v":""},null,null,null,"",null,null,null,0,{"$f":"IF(LEN(N24)>0,VLOOKUP(N24,#REF!,3)-IF(COUNTIF(#REF!,N24)=0,0,0),\" \")","v":{"$error":"#REF!"}},null,688,23]
[18,"DİSK-18",{"$f":"IF(ISERROR(VLOOKUP(B25,'KAYIT LİSTESİ'!$B$4:$H$664,2,0)),\"\",(VLOOKUP(B25,'KAYIT LİSTESİ'!$B$4:$H$664,2,0)))","v":""},{"$f":"IF(ISERROR(VLOOKUP(B25,'KAYIT LİSTESİ'!$B$4:$H$664,4,0)),\"\",(VLOOKUP(B25,'KAYIT LİSTESİ'!$B$4:$H$664,4,0)))","v":""},{"$f":"IF(ISERROR(VLOOKUP(B25,'KAYIT LİSTESİ'!$B$4:$H$664,5,0)),\"\",(VLOOKUP(B25,'KAYIT LİSTESİ'!$B$4:$H$664,5,0)))","v":""},{"$f":"IF(ISERROR(VLOOKUP(B25,'KAYIT LİSTESİ'!$B$4:$H$664,6,0)),\"\",(VLOOKUP(B25,'KAYIT LİSTESİ'!$B$4:$H$664,6,0)))","v":""},null,null,null,"",null,null,null,0,{"$f":"IF(LEN(N25)>0,VLOOKUP(N25,#REF!,3)-IF(COUNTIF(#REF!,N25)=0,0,0),\" \")","v":{"$error":"#REF!"}},null,704,24]
[19,"DİSK-19",{"$f":"IF(ISERROR(VLOOKUP(B26,'KAYIT LİSTESİ'!$B$4:$H$664,2,0)),\"\",(VLOOKUP(B26,'KAYIT LİSTESİ'!$B$4:$H$664,2,0)))","v":""},{"$f":"IF(ISERROR(VLOOKUP(B26,'KAYIT LİSTESİ'!$B$4:$H$664,4,0)),\"\",(VLOOKUP(B26,'KAYIT LİSTESİ'!$B$4:$H$664,4,0)))","v":""},{"$f":"IF(ISERROR(VLOOKUP(B26,'KAYIT LİSTESİ'!$B$4:$H$664,5,0)),\"\",(VLOOKUP(B26,'KAYIT LİSTESİ'!$B$4:$H$664,5,0)))","v":""},{"$f":"IF(ISERROR(VLOOKUP(B26,'KAYIT LİSTESİ'!$B$4:$H$664,6,0)),\"\",(VLOOKUP(B26,'KAYIT LİSTESİ'!$B$4:$H$664,6,0)))","v":""},null,null,null,"",null,null,null,0,{"$f":"IF(LEN(N26)>0,VLOOKUP(N26,#REF!,3)-IF(COUNTIF(#REF!,N26)=0,0,0),\" \")","v":{"$error":"#REF!"}},null,720,25]
[20,"DİSK-20",{"$f":"IF(ISERROR(VLOOKUP(B27,'KAYIT LİSTESİ'!$B$4:$H$664,2,0)),\"\",(VLOOKUP(B27,'KAYIT LİSTESİ'!$B$4:$H$664,2,0)))","v":""},{"$f":"IF(ISERROR(VLOOKUP(B27,'KAYIT LİSTESİ'!$B$4:$H$664,4,0)),\"\",(VLOOKUP(B27,'KAYIT LİSTESİ'!$B$4:$H$664,4,0)))","v":""},{"$f":"IF(ISERROR(VLOOKUP(B27,'KAYIT LİSTESİ'!$B$4:$H$664,5,0)),\"\",(VLOOKUP(B27,'KAYIT LİSTESİ'!$B$4:$H$664,5,0)))","v":""},{"$f":"IF(ISERROR(VLOOKUP(B27,'KAYIT LİSTESİ'!$B$4:$H$664,6,0)),\"\",(VLOOKUP(B27,'KAYIT LİSTESİ'!$B$4:$H$664,6,0)))","v":""},null,null,null,"",null,null,null,0,{"$f":"IF(LEN(N27)>0,VLOOKUP(N27,#REF!,3)-IF(COUNTIF(#REF!,N27)=0,0,0),\" \")","v":{"$error":"#REF!"}},null,736,26]
[21,"DİSK-21",{"$f":"IF(ISERROR(VLOOKUP(B28,'KAYIT LİSTESİ'!$B$4:$H$664,2,0)),\"\",(VLOOKUP(B28,'KAYIT LİSTESİ'!$B$4:$H$664,2,0)))","v":""},{"$f":"IF(ISERROR(VLOOKUP(B28,'KAYIT LİSTESİ'!$B$4:$H$664,4,0)),\"\",(VLOOKUP(B28,'KAYIT LİSTESİ'!$B$4:$H$664,4,0)))","v":""},{"$f":"IF(ISERROR(VLOOKUP(B28,'KAYIT LİSTESİ'!$B$4:$H$664,5,0)),\"\",(VLOOKUP(B28,'KAYIT LİSTESİ'!$B$4:$H$664,5,0)))","v":""},{"$f":"IF(ISERROR(VLOOKUP(B28,'KAYIT LİSTESİ'!$B$4:$H$664,6,0)),\"\",(VLOOKUP(B28,'KAYIT LİSTESİ'!$B$4:$H$664,6,0)))","v":""},null,null,null,"",null,null,null,0,{"$f":"IF(LEN(N28)>0,VLOOKUP(N28,#REF!,3)-IF(COUNTIF(#REF!,N28)=0,0,0),\" \")","v":{"$error":"#REF!"}},null,752,27]
[22,"DİSK-22",{"$f":"IF(ISERROR(VLOOKUP(B29,'KAYIT LİSTESİ'!$B$4:$H$664,2,0)),\"\",(VLOOKUP(B29,'KAYIT LİSTESİ'!$B$4:$H$664,2,0)))","v":""},{"$f":"IF(ISERROR(VLOOKUP(B29,'KAYIT LİSTESİ'!$B$4:$H$664,4,0)),\"\",(VLOOKUP(B29,'KAYIT LİSTESİ'!$B$4:$H$664,4,0)))","v":""},{"$f":"IF(ISERROR(VLOOKUP(B29,'KAYIT LİSTESİ'!$B$4:$H$664,5,0)),\"\",(VLOOKUP(B29,'KAYIT LİSTESİ'!$B$4:$H$664,5,0)))","v":""},{"$f":"IF(ISERROR(VLOOKUP(B29,'KAYIT LİSTESİ'!$B$4:$H$664,6,0)),\"\",(VLOOKUP(B29,'KAYIT LİSTESİ'!$B$4:$H$664,6,0)))","v":""},null,null,null,"",null,null,null,0,{"$f":"IF(LEN(N29)>0,VLOOKUP(N29,#REF!,3)-IF(COUNTIF(#REF!,N29)=0,0,0),\" \")","v":{"$error":"#REF!"}},null,768,28]
[23,"DİSK-23",{"$f":"IF(ISERROR(VLOOKUP(B30,'KAYIT LİSTESİ'!$B$4:$H$664,2,0)),\"\",(VLOOKUP(B30,'KAYIT LİSTESİ'!$B$4:$H$664,2,0)))","v":""},{"$f":"IF(ISERROR(VLOOKUP(B30,'KAYIT LİSTESİ'!$B$4:$H$664,4,0)),\"\",(VLOOKUP(B30,'KAYIT LİSTESİ'!$B$4:$H$664,4,0)))","v":""},{"$f":"IF(ISERROR(VLOOKUP(B30,'KAYIT LİSTESİ'!$B$4:$H$664,5,0)),\"\",(VLOOKUP(B30,'KAYIT LİSTESİ'!$B$4:$H$664,5,0)))","v":""},{"$f":"IF(ISERROR(VLOOKUP(B30,'KAYIT LİSTESİ'!$B$4:$H$664,6,0)),\"\",(VLOOKUP(B30,'KAYIT LİSTESİ'!$B$4:$H$664,6,0)))","v":""},null,null,null,"",null,null,null,0,{"$f":"IF(LEN(N30)>0,VLOOKUP(N30,#REF!,3)-IF(COUNTIF(#REF!,N30)=0,0,0),\" \")","v":{"$error":"#REF!"}},null,784,29]
[24,"DİSK-24",{"$f":"IF(ISERROR(VLOOKUP(B31,'KAYIT LİSTESİ'!$B$4:$H$664,2,0)),\"\",(VLOOKUP(B31,'KAYIT LİSTESİ'!$B$4:$H$664,2,0)))","v":""},{"$f":"IF(ISERROR(VLOOKUP(B31,'KAYIT LİSTESİ'!$B$4:$H$664,4,0)),\"\",(VLOOKUP(B31,'KAYIT LİSTESİ'!$B$4:$H$664,4,0)))","v":""},{"$f":"IF(ISERROR(VLOOKUP(B31,'KAYIT LİSTESİ'!$B$4:$H$664,5,0)),\"\",(VLOOKUP(B31,'KAYIT LİSTESİ'!$B$4:$H$664,5,0)))","v":""},{"$f":"IF(ISERROR(VLOOKUP(B31,'KAYIT LİSTESİ'!$B$4:$H$664,6,0)),\"\",(VLOOKUP(B31,'KAYIT LİSTESİ'!$B$4:$H$664,6,0)))","v":""},null,null,null,"",null,null,null,0,{"$f":"IF(LEN(N31)>0,VLOOKUP(N31,#REF!,3)-IF(COUNTIF(#REF!,N31)=0,0,0),\" \")","v":{"$error":"#REF!"}},null,800,30]
[25,"DİSK-25",{"$f":"IF(ISERROR(VLOOKUP(B32,'KAYIT LİSTESİ'!$B$4:$H$664,2,0)),\"\",(VLOOKUP(B32,'KAYIT LİSTESİ'!$B$4:$H$664,2,0)))","v":""},{"$f":"IF(ISERROR(VLOOKUP(B32,'KAYIT LİSTESİ'!$B$4:$H$664,4,0)),\"\",(VLOOKUP(B32,'KAYIT LİSTESİ'!$B$4:$H$664,4,0)))","v":""},{"$f":"IF(ISERROR(VLOOKUP(B32,'KAYIT LİSTESİ'!$B$4:$H$664,5,0)),\"\",(VLOOKUP(B32,'KAYIT LİSTESİ'!$B$4:$H$664,5,0)))","v":""},{"$f":"IF(ISERROR(VLOOKUP(B32,'KAYIT LİSTESİ'!$B$4:$H$664,6,0)),\"\",(VLOOKUP(B32,'KAYIT LİSTESİ'!$B$4:$H$664,6,0)))","v":""},null,null,null,"",null,null,null,0,{"$f":"IF(LEN(N32)>0,VLOOKUP(N32,#REF!,3)-IF(COUNTIF(#REF!,N32)=0,0,0),\" \")","v":{"$error":"#REF!"}},null,816,31]
[26,"DİSK-26",{"$f":"IF(ISERROR(VLOOKUP(B33,'KAYIT LİSTESİ'!$B$4:$H$664,2,0)),\"\",(VLOOKUP(B33,'KAYIT LİSTESİ'!$B$4:$H$664,2,0)))","v":""},{"$f":"IF(ISERROR(VLOOKUP(B33,'KAYIT LİSTESİ'!$B$4:$H$664,4,0)),\"\",(VLOOKUP(B33,'KAYIT LİSTESİ'!$B$4:$H$664,4,0)))","v":""},{"$f":"IF(ISERROR(VLOOKUP(B33,'KAYIT LİSTESİ'!$B$4:$H$664,5,0)),\"\",(VLOOKUP(B33,'KAYIT LİSTESİ'!$B$4:$H$664,5,0)))","v":""},{"$f":"IF(ISERROR(VLOOKUP(B33,'KAYIT LİSTESİ'!$B$4:$H$664,6,0)),\"\",(VLOOKUP(B33,'KAYIT LİSTESİ'!$B$4:$H$664,6,0)))","v":""},null,null,null,"",null,null,null,0,{"$f":"IF(LEN(N33)>0,VLOOKUP(N33,#REF!,3)-IF(COUNTIF(#REF!,N33)=0,0,0),\" \")","v":{"$error":"#REF!"}},null,832,32]
[27,"DİSK-27",{"$f":"IF(ISERROR(VLOOKUP(B34,'KAYIT LİSTESİ'!$B$4:$H$664,2,0)),\"\",(VLOOKUP(B34,'KAYIT LİSTESİ'!$B$4:$H$664,2,0)))","v":""},{"$f":"IF(ISERROR(VLOOKUP(B34,'KAYIT LİSTESİ'!$B$4:$H$664,4,0)),\"\",(VLOOKUP(B34,'KAYIT LİSTESİ'!$B$4:$H$664,4,0)))","v":""},{"$f":"IF(ISERROR(VLOOKUP(B34,'KAYIT LİSTESİ'!$B$4:$H$664,5,0)),\"\",(VLOOKUP(B34,'KAYIT LİSTESİ'!$B$4:$H$664,5,0)))","v":""},{"$f":"IF(ISERROR(VLOOKUP(B34,'KAYIT LİSTESİ'!$B$4:$H$664,6,0)),\"\",(VLOOKUP(B34,'KAYIT LİSTESİ'!$B$4:$H$664,6,0)))","v":""},null,null,null,"",null,null,null,0,{"$f":"IF(LEN(N34)>0,VLOOKUP(N34,#REF!,3)-IF(COUNTIF(#REF!,N34)=0,0,0),\" \")","v":{"$error":"#REF!"}},null,848,33]
[28,"DİSK-28",{"$f":"IF(ISERROR(VLOOKUP(B35,'KAYIT LİSTESİ'!$B$4:$H$664,2,0)),\"\",(VLOOKUP(B35,'KAYIT LİSTESİ'!$B$4:$H$664,2,0)))","v":""},{"$f":"IF(ISERROR(VLOOKUP(B35,'KAYIT LİSTESİ'!$B$4:$H$664,4,0)),\"\",(VLOOKUP(B35,'KAYIT LİSTESİ'!$B$4:$H$664,4,0)))","v":""},{"$f":"IF(ISERROR(VLOOKUP(B35,'KAYIT LİSTESİ'!$B$4:$H$664,5,0)),\"\",(VLOOKUP(B35,'KAYIT LİSTESİ'!$B$4:$H$664,5,0)))","v":""},{"$f":"IF(ISERROR(VLOOKUP(B35,'KAYIT LİSTESİ'!$B$4:$H$664,6,0)),\"\",(VLOOKUP(B35,'KAYIT LİSTESİ'!$B$4:$H$664,6,0)))","v":""},null,null,null,"",null,null,null,0,{"$f":"IF(LEN(N35)>0,VLOOKUP(N35,#REF!,3)-IF(COUNTIF(#REF!,N35)=0,0,0),\" \")","v":{"$error":"#REF!"}},null,864,34]
[29,"DİSK-29",{"$f":"IF(ISERROR(VLOOKUP(B36,'KAYIT LİSTESİ'!$B$4:$H$664,2,0)),\"\",(VLOOKUP(B36,'KAYIT LİSTESİ'!$B$4:$H$664,2,0)))","v":""},{"$f":"IF(ISERROR(VLOOKUP(B36,'KAYIT LİSTESİ'!$B$4:$H$664,4,0)),\"\",(VLOOKUP(B36,'KAYIT LİSTESİ'!$B$4:$H$664,4,0)))","v":""},{"$f":"IF(ISERROR(VLOOKUP(B36,'KAYIT LİSTESİ'!$B$4:$H$664,5,0)),\"\",(VLOOKUP(B36,'KAYIT LİSTESİ'!$B$4:$H$664,5,0)))","v":""},{"$f":"IF(ISERROR(VLOOKUP(B36,'KAYIT LİSTESİ'!$B$4:$H$664,6,0)),\"\",(VLOOKUP(B36,'KAYIT LİSTESİ'!$B$4:$H$664,6,0)))","v":""},null,null,null,"",null,null,null,0,{"$f":"IF(LEN(N36)>0,VLOOKUP(N36,#REF!,3)-IF(COUNTIF(#REF!,N36)=0,0,0),\" \")","v":{"$error":"#REF!"}},null,880,35]
[30,"DİSK-30",{"$f":"IF(ISERROR(VLOOKUP(B37,'KAYIT LİSTESİ'!$B$4:$H$664,2,0)),\"\",(VLOOKUP(B37,'KAYIT LİSTESİ'!$B$4:$H$664,2,0)))","v":""},{"$f":"IF(ISERROR(VLOOKUP(B37,'KAYIT LİSTESİ'!$B$4:$H$664,4,0)),\"\",(VLOOKUP(B37,'KAYIT LİSTESİ'!$B$4:$H$664,4,0)))","v":""},{"$f":"IF(ISERROR(VLOOKUP(B37,'KAYIT LİSTESİ'!$B$4:$H$664,5,0)),\"\",(VLOOKUP(B37,'KAYIT LİSTESİ'!$B$4:$H$664,5,0)))","v":""},{"$f":"IF(ISERROR(VLOOKUP(B37,'KAYIT LİSTESİ'!$B$4:$H$664,6,0)),\"\",(VLOOKUP(B37,'KAYIT LİSTESİ'!$B$4:$H$664,6,0)))","v":""},null,null,null,"",null,null,null,0,{"$f":"IF(LEN(N37)>0,VLOOKUP(N37,#REF!,3)-IF(COUNTIF(#REF!,N37)=0,0,0),\" \")","v":{"$error":"#REF!"}},null,895,36]
[31,"DİSK-31",{"$f":"IF(ISERROR(VLOOKUP(B38,'KAYIT LİSTESİ'!$B$4:$H$664,2,0)),\"\",(VLOOKUP(B38,'KAYIT LİSTESİ'!$B$4:$H$664,2,0)))","v":""},{"$f":"IF(ISERROR(VLOOKUP(B38,'KAYIT LİSTESİ'!$B$4:$H$664,4,0)),\"\",(VLOOKUP(B38,'KAYIT LİSTESİ'!$B$4:$H$664,4,0)))","v":""},{"$f":"IF(ISERROR(VLOOKUP(B38,'KAYIT LİSTESİ'!$B$4:$H$664,5,0)),\"\",(VLOOKUP(B38,'KAYIT LİSTESİ'!$B$4:$H$664,5,0)))","v":""},{"$f":"IF(ISERROR(VLOOKUP(B38,'KAYIT LİSTESİ'!$B$4:$H$664,6,0)),\"\",(VLOOKUP(B38,'KAYIT LİSTESİ'!$B$4:$H$664,6,0)))","v":""},null,null,null,"",null,null,null,0,{"$f":"IF(LEN(N38)>0,VLOOKUP(N38,#REF!,3)-IF(COUNTIF(#REF!,N38)=0,0,0),\" \")","v":{"$error":"#REF!"}},null,910,37]
[32,"DİSK-32",{"$f":"IF(ISERROR(VLOOKUP(B39,'KAYIT LİSTESİ'!$B$4:$H$664,2,0)),\"\",(VLOOKUP(B39,'KAYIT LİSTESİ'!$B$4:$H$664,2,0)))","v":""},{"$f":"IF(ISERROR(VLOOKUP(B39,'KAYIT LİSTESİ'!$B$4:$H$664,4,0)),\"\",(VLOOKUP(B39,'KAYIT LİSTESİ'!$B$4:$H$664,4,0)))","v":""},{"$f":"IF(ISERROR(VLOOKUP(B39,'KAYIT LİSTESİ'!$B$4:$H$664,5,0)),\"\",(VLOOKUP(B39,'KAYIT LİSTESİ'!$B$4:$H$664,5,0)))","v":""},{"$f":"IF(ISERROR(VLOOKUP(B39,'KAYIT LİSTESİ'!$B$4:$H$664,6,0)),\"\",(VLOOKUP(B39,'KAYIT LİSTESİ'!$B$4:$H$664,6,0)))","v":""},null,null,null,"",null,null,null,0,{"$f":"IF(LEN(N39)>0,VLOOKUP(N39,#REF!,3)-IF(COUNTIF(#REF!,N39)=0,0,0),\" \")","v":{"$error":"#REF!"}},null,925,38]
[33,"DİSK-33",{"$f":"IF(ISERROR(VLOOKUP(B40,'KAYIT LİSTESİ'!$B$4:$H$664,2,0)),\"\",(VLOOKUP(B40,'KAYIT LİSTESİ'!$B$4:$H$664,2,0)))","v":""},{"$f":"IF(ISERROR(VLOOKUP(B40,'KAYIT LİSTESİ'!$B$4:$H$664,4,0)),\"\",(VLOOKUP(B40,'KAYIT LİSTESİ'!$B$4:$H$664,4,0)))","v":""},{"$f":"IF(ISERROR(VLOOKUP(B40,'KAYIT LİSTESİ'!$B$4:$H$664,5,0)),\"\",(VLOOKUP(B40,'KAYIT LİSTESİ'!$B$4:$H$664,5,0)))","v":""},{"$f":"IF(ISERROR(VLOOKUP(B40,'KAYIT LİSTESİ'!$B$4:$H$664,6,0)),\"\",(VLOOKUP(B40,'KAYIT LİSTESİ'!$B$4:$H$664,6,0)))","v":""},null,null,null,"",null,null,null,0,{"$f":"IF(LEN(N40)>0,VLOOKUP(N40,#REF!,3)-IF(COUNTIF(#REF!,N40)=0,0,0),\" \")","v":{"$error":"#REF!"}},null,940,39]
[34,"DİSK-34",{"$f":"IF(ISERROR(VLOOKUP(B41,'KAYIT LİSTESİ'!$B$4:$H$664,2,0)),\"\",(VLOOKUP(B41,'KAYIT LİSTESİ'!$B$4:$H$664,2,0)))","v":""},{"$f":"IF(ISERROR(VLOOKUP(B41,'KAYIT LİSTESİ'!$B$4:$H$664,4,0)),\"\",(VLOOKUP(B41,'KAYIT LİSTESİ'!$B$4:$H$664,4,0)))","v":""},{"$f":"IF(ISERROR(VLOOKUP(B41,'KAYIT LİSTESİ'!$B$4:$H$664,5,0)),\"\",(VLOOKUP(B41,'KAYIT LİSTESİ'!$B$4:$H$664,5,0)))","v":""},{"$f":"IF(ISERROR(VLOOKUP(B41,'KAYIT LİSTESİ'!$B$4:$H$664,6,0)),\"\",(VLOOKUP(B41,'KAYIT LİSTESİ'!$B$4:$H$664,6,0)))","v":""},null,null,null,"",null,null,null,0,{"$f":"IF(LEN(N41)>0,VLOOKUP(N41,#REF!,3)-IF(COUNTIF(#REF!,N41)=0,0,0),\" \")","v":{"$error":"#REF!"}},null,955,40]
[null,"GÜLLE-35",{"$f":"IF(ISERROR(VLOOKUP(B42,'KAYIT LİSTESİ'!$B$4:$H$664,2,0)),\"\",(VLOOKUP(B42,'KAYIT LİSTESİ'!$B$4:$H$664,2,0)))","v":""},{"$f":"IF(ISERROR(VLOOKUP(B42,'KAYIT LİSTESİ'!$B$4:$H$664,4,0)),\"\",(VLOOKUP(B42,'KAYIT LİSTESİ'!$B$4:$H$664,4,0)))","v":""},{"$f":"IF(ISERROR(VLOOKUP(B42,'KAYIT LİSTESİ'!$B$4:$H$664,5,0)),\"\",(VLOOKUP(B42,'KAYIT LİSTESİ'!$B$4:$H$664,5,0)))","v":""},{"$f":"IF(ISERROR(VLOOKUP(B42,'KAYIT LİSTESİ'!$B$4:$H$664,6,0)),\"\",(VLOOKUP(B42,'KAYIT LİSTESİ'!$B$4:$H$664,6,0)))","v":""},null,null,null,"",null,null,null,0,{"$f":"IF(LEN(N42)>0,VLOOKUP(N42,#REF!,3)-IF(COUNTIF(#REF!,N42)=0,0,0),\" \")","v":{"$error":"#REF!"}},null,970,41]
[null,"GÜLLE-36",{"$f":"IF(ISERROR(VLOOKUP(B43,'KAYIT LİSTESİ'!$B$4:$H$664,2,0)),\"\",(VLOOKUP(B43,'KAYIT LİSTESİ'!$B$4:$H$664,2,0)))","v":""},{"$f":"IF(ISERROR(VLOOKUP(B43,'KAYIT LİSTESİ'!$B$4:$H$664,4,0)),\"\",(VLOOKUP(B43,'KAYIT LİSTESİ'!$B$4:$H$664,4,0)))","v":""},{"$f":"IF(ISERROR(VLOOKUP(B43,'KAYIT LİSTESİ'!$B$4:$H$664,5,0)),\"\",(VLOOKUP(B43,'KAYIT LİSTESİ'!$B$4:$H$664,5,0)))","v":""},{"$f":"IF(ISERROR(VLOOKUP(B43,'KAYIT LİSTESİ'!$B$4:$H$664,6,0)),\"\",(VLOOKUP(B43,'KAYIT LİSTESİ'!$B$4:$H$664,6,0)))","v":""},null,null,null,"",null,null,null,0,{"$f":"IF(LEN(N43)>0,VLOOKUP(N43,#REF!,3)-IF(COUNTIF(#REF!,N43)=0,0,0),\" \")","v":{"$error":"#REF!"}},null,985,42]
[null,"GÜLLE-37",{"$f":"IF(ISERROR(VLOOKUP(B44,'KAYIT LİSTESİ'!$B$4:$H$664,2,0)),\"\",(VLOOKUP(B44,'KAYIT LİSTESİ'!$B$4:$H$664,2,0)))","v":""},{"$f":"IF(ISERROR(VLOOKUP(B44,'KAYIT LİSTESİ'!$B$4:$H$664,4,0)),\"\",(VLOOKUP(B44,'KAYIT LİSTESİ'!$B$4:$H$664,4,0)))","v":""},{"$f":"IF(ISERROR(VLOOKUP(B44,'KAYIT LİSTESİ'!$B$4:$H$664,5,0)),\"\",(VLOOKUP(B44,'KAYIT LİSTESİ'!$B$4:$H$664,5,0)))","v":""},{"$f":"IF(ISERROR(VLOOKUP(B44,'KAYIT LİSTESİ'!$B$4:$H$664,6,0)),\"\",(VLOOKUP(B44,'KAYIT LİSTESİ'!$B$4:$H$664,6,0)))","v":""},null,null,null,"",null,null,null,0,{"$f":"IF(LEN(N44)>0,VLOOKUP(N44,#REF!,3)-IF(COUNTIF(#REF!,N44)=0,0,0),\" \")","v":{"$error":"#REF!"}},null,1000,43]
[null,"GÜLLE-38",{"$f":"IF(ISERROR(VLOOKUP(B45,'KAYIT LİSTESİ'!$B$4:$H$664,2,0)),\"\",(VLOOKUP(B45,'KAYIT LİSTESİ'!$B$4:$H$664,2,0)))","v":""},{"$f":"IF(ISERROR(VLOOKUP(B45,'KAYIT LİSTESİ'!$B$4:$H$664,4,0)),\"\",(VLOOKUP(B45,'KAYIT LİSTESİ'!$B$4:$H$664,4,0)))","v":""},{"$f":"IF(ISERROR(VLOOKUP(B45,'KAYIT LİSTESİ'!$B$4:$H$664,5,0)),\"\",(VLOOKUP(B45,'KAYIT LİSTESİ'!$B$4:$H$664,5,0)))","v":""},{"$f":"IF(ISERROR(VLOOKUP(B45,'KAYIT LİSTESİ'!$B$4:$H$664,6,0)),\"\",(VLOOKUP(B45,'KAYIT LİSTESİ'!$B$4:$H$664,6,0)))","v":""},null,null,null,"",null,null,null,0,{"$f":"IF(LEN(N45)>0,VLOOKUP(N45,#REF!,3)-IF(COUNTIF(#REF!,N45)=0,0,0),\" \")","v":{"$error":"#REF!"}},null,1015,44]
[null,"GÜLLE-39",{"$f":"IF(ISERROR(VLOOKUP(B46,'KAYIT LİSTESİ'!$B$4:$H$664,2,0)),\"\",(VLOOKUP(B46,'KAYIT LİSTESİ'!$B$4:$H$664,2,0)))","v":""},{"$f":"IF(ISERROR(VLOOKUP(B46,'KAYIT LİSTESİ'!$B$4:$H$664,4,0)),\"\",(VLOOKUP(B46,'KAYIT LİSTESİ'!$B$4:$H$664,4,0)))","v":""},{"$f":"IF(ISERROR(VLOOKUP(B46,'KAYIT LİSTESİ'!$B$4:$H$664,5,0)),\"\",(VLOOKUP(B46,'KAYIT LİSTESİ'!$B$4:$H$664,5,0)))","v":""},{"$f":"IF(ISERROR(VLOOKUP(B46,'KAYIT LİSTESİ'!$B$4:$H$664,6,0)),\"\",(VLOOKUP(B46,'KAYIT LİSTESİ'!$B$4:$H$664,6,0)))","v":""},null,null,null,"",null,null,null,0,{"$f":"IF(LEN(N46)>0,VLOOKUP(N46,#REF!,3)-IF(COUNTIF(#REF!,N46)=0,0,0),\" \")","v":{"$error":"#REF!"}},null,1030,45]
[null,"GÜLLE-40",{"$f":"IF(ISERROR(VLOOKUP(B47,'KAYIT LİSTESİ'!$B$4:$H$664,2,0)),\"\",(VLOOKUP(B47,'KAYIT LİSTESİ'!$B$4:$H$664,2,0)))","v":""},{"$f":"IF(ISERROR(VLOOKUP(B47,'KAYIT LİSTESİ'!$B$4:$H$664,4,0)),\"\",(VLOOKUP(B47,'KAYIT LİSTESİ'!$B$4:$H$664,4,0)))","v":""},{"$f":"IF(ISERROR(VLOOKUP(B47,'KAYIT LİSTESİ'!$B$4:$H$664,5,0)),\"\",(VLOOKUP(B47,'KAYIT LİSTESİ'!$B$4:$H$664,5,0)))","v":""},{"$f":"IF(ISERROR(VLOOKUP(B47,'KAYIT LİSTESİ'!$B$4:$H$664,6,0)),\"\",(VLOOKUP(B47,'KAYIT LİSTESİ'!$B$4:$H$664,6,0)))","v":""},null,null,null,"",null,null,null,0,{"$f":"IF(LEN(N47)>0,VLOOKUP(N47,#REF!,3)-IF(COUNTIF(#REF!,N47)=0,0,0),\" \")","v":{"$error":"#REF!"}},null,1045,46]
[null,null,null,null,null,null,null,null,null,null,null,null,null,null,null,null,1060,47]
["Müsabaka \nDirektörü",null,null,null,"Baş Hakem","Lider","Sekreter",null,null,null,null,null,null,"Hakem",null,null,1075,48]
[null,null,null,null,null,null,null,null,null,null,null,null,null,null,null,null,1090,49]
[null,null,null,null,null,null,null,null,null,null,null,null,null,null,null,null,1105,50]
[null,null,null,null,null,null,null,null,null,null,null,null,null,null,null,null,1120,51]
[null,null,null,null,null,null,null,null,null,null,null,null,null,null,null,null,1135,52]
[null,null,null,null,null,null,null,null,null,null,null,null,null,null,null,null,1150,53]
[null,null,null,null,null,null,null,null,null,null,null,null,null,null,null,null,1165,54]
[null,null,null,null,null,null,null,null,null,null,null,null,null,null,null,null,1180,55]
[null,null,null,null,null,null,null,null,null,null,null,null,null,null,null,null,1195,56]
[null,null,null,null,null,null,null,null,null,null,null,null,null,null,null,null,1210,57]
[null,null,null,null,null,null,null,null,null,null,null,null,null,null,null,null,1225,58]
[null,null,null,null,null,null,null,null,null,null,null,null,null,null,null,null,1240,59]
[null,null,null,null,null,null,null,null,null,null,null,null,null,null,null,null,1255,60]
[null,null,null,null,null,null,null,null,null,null,null,null,null,null,null,null,1270,61]
[null,null,null,null,null,null,null,null,null,null,null,null,null,null,null,null,1285,62]
[null,null,null,null,null,null,null,null,null,null,null,null,null,null,null,null,1300,63]
[null,null,null,null,null,null,null,null,null,null,null,null,null,null,null,null,1315,64]
[null,null,null,null,null,null,null,null,null,null,null,null,null,null,null,null,1330,65]
[null,null,null,null,null,null,null,null,null,null,null,null,null,null,null,null,1345,66]
[null,null,null,null,null,null,null,null,null,null,null,null,null,null,null,null,1360,67]
[null,null,null,null,null,null,null,null,null,null,null,null,null,null,null,null,1375,68]
[null,null,null,null,null,null,null,null,null,null,null,null,null,null,null,null,1390,69]
[null,null,null,null,null,null,null,null,null,null,null,null,null,null,null,null,1405,70]
[null,null,null,null,null,null,null,null,null,null,null,null,null,null,null,null,1420,71]
[null,null,null,null,null,null,null,null,null,null,null,null,null,null,null,null,1435,72]
[null,null,null,null,null,null,null,null,null,null,null,null,null,null,null,null,1450,73]
[null,null,null,null,null,null,null,null,null,null,null,null,null,null,null,null,1465,74]
[null,null,null,null,null,null,null,null,null,null,null,null,null,null,null,null,1480,75]
[null,null,null,null,null,null,null,null,null,null,null,null,null,null,null,null,1495,76]
[null,null,null,null,null,null,null,null,null,null,null,null,null,null,null,null,1510,77]
[null,null,null,null,null,null,null,null,null,null,null,null,null,null,null,null,1525,78]
[null,null,null,null,null,null,null,null,null,null,null,null,null,null,null,null,1540,79]
[null,null,null,null,null,null,null,null,null,null,null,null,null,null,null,null,1555,80]
[null,null,null,null,null,null,null,null,null,null,null,null,null,null,null,null,1570,81]
[null,null,null,null,null,null,null,null,null,null,null,null,null,null,null,null,1585,82]
[null,null,null,null,null,null,null,null,null,null,null,null,null,null,null,null,1600,83]
[null,null,null,null,null,null,null,null,null,null,null,null,null,null,null,null,1615,84]
[null,null,null,null,null,null,null,null,null,null,null,null,null,null,null,null,1630,85]
[null,null,null,null,null,null,null,null,null,null,null,null,null,null,null,null,1645,86]
[null,null,null,null,null,null,null,null,null,null,null,null,null,null,null,null,1660,87]
[null,null,null,null,null,null,null,null,null,null,null,null,null,null,null,null,1675,88]
[null,null,null,null,null,null,null,null,null,null,null,null,null,null,null,null,1690,89]
[null,null,null,null,null,null,null,null,null,null,null,null,null,null,null,null,1705,90]
[null,null,null,null,null,null,null,null,null,null,null,null,null,null,null,null,1720,91]
[null,null,null,null,null,null,null,null,null,null,null,null,null,null,null,null,1735,92]
[null,null,null,null,null,null,null,null,null,null,null,null,null,null,null,null,1750,93]
[null,null,null,null,null,null,null,null,null,null,null,null,null,null,null,null,1765,94]
[null,null,null,null,null,null,null,null,null,null,null,null,null,null,null,null,1780,95]
[null,null,null,null,null,null,null,null,null,null,null,null,null,null,null,null,1794,96]
[null,null,null,null,null,null,null,null,null,null,null,null,null,null,null,null,1808,97]
[null,null,null,null,null,null,null,null,null,null,null,null,null,null,null,null,1822,98]
[null,null,null,null,null,null,null,null,null,null,null,null,null,null,null,null,1836,99]
[null,null,null,null,null,null,null,null,null,null,null,null,null,null,null,null,1850,100]

{"sheet":"Cirit","index":19,"n_rows":102,"n_cols":18,"rows_kept":102,"cut":false,"hidden":false,"merged":[[5,15,6,15],[0,0,0,15],[1,0,1,15],[2,0,2,2],[2,3,2,4],[2,6,2,7],[2,12,2,14],[5,3,6,3],[5,4,6,4],[5,5,6,5],[3,0,3,2],[3,3,3,4],[3,12,3,14],[48,0,48,3],[48,6,48,12],[48,13,48,14],[4,13,4,14],[5,0,6,0],[5,1,6,1],[5,2,6,2],[5,6,5,12],[5,13,6,13],[5,14,6,14]]}
[{"$f":"'YARIŞMA BİLGİLERİ'!A2:K2","v":"Türkiye Atletizm Federasyonu\nMersin Atletizm İl Temsilciliği\n"},null,null,null,null,null,null,null,null,null,null,null,null,null,null,null,"derece"]
[{"$f":"'YARIŞMA BİLGİLERİ'!A14:K14","v":"Olimpik Baraj  Yarışmaları"},null,null,null,null,null,null,null,null,null,null,null,null,null,null,null,100,0]
["Yarışma :",null,null,{"$f":"#REF!","v":{"$error":"#REF!"}},null,"Baraj Derecesi :",{"$f":"#REF!","v":{"$error":"#REF!"}},null,null,null,null,null,null,null,null,null,1200,1]
["Kategori :      ",null,null,{"$f":"'YARIŞMA BİLGİLERİ'!F21","v":"Kadınlar"},null,"Ağırlık:","600gr",null,null,null,null,"Tarih-Saat  :",{"$f":"#REF!","v":{"$error":"#REF!"}},null,null,null,1254,2]
[null,null,null,null,null,null,null,null,null,null,null,null,null,{"$f":"NOW()","v":42222.536638541664},null,null,1308,3]
["SIRA NO",null,"GÖĞÜS NO","DOĞUM TARİHİ\nGün/Ay/Yıl","ADI VE SOYADI","İli-Okulu","A  T  M  A  L  A  R",null,null,null,null,null,null,"SONUÇ","PUAN","KLASMAN",1362,4]
[null,null,null,null,null,null,1,2,3,"ARA DERECE",4,5,6,null,null,null,1416,5]
[1,"CİRİT-1",{"$f":"IF(ISERROR(VLOOKUP(B8,'KAYIT LİSTESİ'!$B$4:$H$664,2,0)),\"\",(VLOOKUP(B8,'KAYIT LİSTESİ'!$B$4:$H$664,2,0)))","v":608},{"$f":"IF(ISERROR(VLOOKUP(B8,'KAYIT LİSTESİ'!$B$4:$H$664,4,0)),\"\",(VLOOKUP(B8,'KAYIT LİSTESİ'!$B$4:$H$664,4,0)))","v":"1998-04-03"},{"$f":"IF(ISERROR(VLOOKUP(B8,'KAYIT LİSTESİ'!$B$4:$H$664,5,0)),\"\",(VLOOKUP(B8,'KAYIT LİSTESİ'!$B$4:$H$664,5,0)))","v":"RABİA KARAMAN"},{"$f":"IF(ISERROR(VLOOKUP(B8,'KAYIT LİSTESİ'!$B$4:$H$664,6,0)),\"\",(VLOOKUP(B8,'KAYIT LİSTESİ'!$B$4:$H$664,6,0)))","v":"MERSİN"},null,null,null,{"$f":"IF(COUNT(G8:I8)=0,\"\",MAX(G8:I8))","v":""},null,null,null,{"$f":"MAX(G8:M8)","v":0},{"$f":"IF(LEN(N8)>0,VLOOKUP(N8,#REF!,2)-IF(COUNTIF(#REF!,N8)=0,0,0),\" \")","v":{"$error":"#REF!"}},null,1470,6]
[2,"CİRİT-2",{"$f":"IF(ISERROR(VLOOKUP(B9,'KAYIT LİSTESİ'!$B$4:$H$664,2,0)),\"\",(VLOOKUP(B9,'KAYIT LİSTESİ'!$B$4:$H$664,2,0)))","v":606},{"$f":"IF(ISERROR(VLOOKUP(B9,'KAYIT LİSTESİ'!$B$4:$H$664,4,0)),\"\",(VLOOKUP(B9,'KAYIT LİSTESİ'!$B$4:$H$664,4,0)))","v":"1998-08-05"},{"$f":"IF(ISERROR(VLOOKUP(B9,'KAYIT LİSTESİ'!$B$4:$H$664,5,0)),\"\",(VLOOKUP(B9,'KAYIT LİSTESİ'!$B$4:$H$664,5,0)))","v":"AYŞE SU KAŞ"},{"$f":"IF(ISERROR(VLOOKUP(B9,'KAYIT LİSTESİ'!$B$4:$H$664,6,0)),\"\",(VLOOKUP(B9,'KAYIT LİSTESİ'!$B$4:$H$664,6,0)))","v":"MERSİN"},null,null,null,{"$f":"IF(COUNT(G9:I9)=0,\"\",MAX(G9:I9))","v":""},null,null,null,{"$f":"MAX(G9:M9)","v":0},{"$f":"IF(LEN(N9)>0,VLOOKUP(N9,#REF!,2)-IF(COUNTIF(#REF!,N9)=0,0,0),\" \")","v":{"$error":"#REF!"}},null,1524,7]
[3,"CİRİT-3",{"$f":"IF(ISERROR(VLOOKUP(B10,'KAYIT LİSTESİ'!$B$4:$H$664,2,0)),\"\",(VLOOKUP(B10,'KAYIT LİSTESİ'!$B$4:$H$664,2,0)))","v":605},{"$f":"IF(ISERROR(VLOOKUP(B10,'KAYIT LİSTESİ'!$B$4:$H$664,4,0)),\"\",(VLOOKUP(B10,'KAYIT LİSTESİ'!$B$4:$H$664,4,0)))","v":"1993-09-22"},{"$f":"IF(ISERROR(VLOOKUP(B10,'KAYIT LİSTESİ'!$B$4:$H$664,5,0)),\"\",(VLOOKUP(B10,'KAYIT LİSTESİ'!$B$4:$H$664,5,0)))","v":"BERİVAN ŞAKIR"},{"$f":"IF(ISERROR(VLOOKUP(B10,'KAYIT LİSTESİ'!$B$4:$H$664,6,0)),\"\",(VLOOKUP(B10,'KAYIT LİSTESİ'!$B$4:$H$664,6,0)))","v":"MERSİN"},null,null,null,"",null,null,null,0,{"$f":"IF(LEN(N10)>0,VLOOKUP(N10,#REF!,2)-IF(COUNTIF(#REF!,N10)=0,0,0),\" \")","v":{"$error":"#REF!"}},null,1578,8]
[4,"CİRİT-4",{"$f":"IF(ISERROR(VLOOKUP(B11,'KAYIT LİSTESİ'!$B$4:$H$664,2,0)),\"\",(VLOOKUP(B11,'KAYIT LİSTESİ'!$B$4:$H$664,2,0)))","v":619},{"$f":"IF(ISERROR(VLOOKUP(B11,'KAYIT LİSTESİ'!$B$4:$H$664,4,0)),\"\",(VLOOKUP(B11,'KAYIT LİSTESİ'!$B$4:$H$664,4,0)))","v":"1997-03-27"},{"$f":"IF(ISERROR(VLOOKUP(B11,'KAYIT LİSTESİ'!$B$4:$H$664,5,0)),\"\",(VLOOKUP(B11,'KAYIT LİSTESİ'!$B$4:$H$664,5,0)))","v":"  Eda TUĞSUZ"},{"$f":"IF(ISERROR(VLOOKUP(B11,'KAYIT LİSTESİ'!$B$4:$H$664,6,0)),\"\",(VLOOKUP(B11,'KAYIT LİSTESİ'!$B$4:$H$664,6,0)))","v":"ANTALYA"},null,null,null,"",null,null,null,0,{"$f":"IF(LEN(N11)>0,VLOOKUP(N11,#REF!,2)-IF(COUNTIF(#REF!,N11)=0,0,0),\" \")","v":{"$error":"#REF!"}},null,1630,9]
[5,"CİRİT-5",{"$f":"IF(ISERROR(VLOOKUP(B12,'KAYIT LİSTESİ'!$B$4:$H$664,2,0)),\"\",(VLOOKUP(B12,'KAYIT LİSTESİ'!$B$4:$H$664,2,0)))","v":""},{"$f":"IF(ISERROR(VLOOKUP(B12,'KAYIT LİSTESİ'!$B$4:$H$664,4,0)),\"\",(VLOOKUP(B12,'KAYIT LİSTESİ'!$B$4:$H$664,4,0)))","v":""},{"$f":"IF(ISERROR(VLOOKUP(B12,'KAYIT LİSTESİ'!$B$4:$H$664,5,0)),\"\",(VLOOKUP(B12,'KAYIT LİSTESİ'!$B$4:$H$664,5,0)))","v":""},{"$f":"IF(ISERROR(VLOOKUP(B12,'KAYIT LİSTESİ'!$B$4:$H$664,6,0)),\"\",(VLOOKUP(B12,'KAYIT LİSTESİ'!$B$4:$H$664,6,0)))","v":""},null,null,null,"",null,null,null,0,{"$f":"IF(LEN(N12)>0,VLOOKUP(N12,#REF!,2)-IF(COUNTIF(#REF!,N12)=0,0,0),\" \")","v":{"$error":"#REF!"}},null,1684,10]
[6,"CİRİT-6",{"$f":"IF(ISERROR(VLOOKUP(B13,'KAYIT LİSTESİ'!$B$4:$H$664,2,0)),\"\",(VLOOKUP(B13,'KAYIT LİSTESİ'!$B$4:$H$664,2,0)))","v":""},{"$f":"IF(ISERROR(VLOOKUP(B13,'KAYIT LİSTESİ'!$B$4:$H$664,4,0)),\"\",(VLOOKUP(B13,'KAYIT LİSTESİ'!$B$4:$H$664,4,0)))","v":""},{"$f":"IF(ISERROR(VLOOKUP(B13,'KAYIT LİSTESİ'!$B$4:$H$664,5,0)),\"\",(VLOOKUP(B13,'KAYIT LİSTESİ'!$B$4:$H$664,5,0)))","v":""},{"$f":"IF(ISERROR(VLOOKUP(B13,'KAYIT LİSTESİ'!$B$4:$H$664,6,0)),\"\",(VLOOKUP(B13,'KAYIT LİSTESİ'!$B$4:$H$664,6,0)))","v":""},null,null,null,"",null,null,null,0,{"$f":"IF(LEN(N13)>0,VLOOKUP(N13,#REF!,2)-IF(COUNTIF(#REF!,N13)=0,0,0),\" \")","v":{"$error":"#REF!"}},null,1738,11]
[7,"CİRİT-7",{"$f":"IF(ISERROR(VLOOKUP(B14,'KAYIT LİSTESİ'!$B$4:$H$664,2,0)),\"\",(VLOOKUP(B14,'KAYIT LİSTESİ'!$B$4:$H$664,2,0)))","v":""},{"$f":"IF(ISERROR(VLOOKUP(B14,'KAYIT LİSTESİ'!$B$4:$H$664,4,0)),\"\",(VLOOKUP(B14,'KAYIT LİSTESİ'!$B$4:$H$664,4,0)))","v":""},{"$f":"IF(ISERROR(VLOOKUP(B14,'KAYIT LİSTESİ'!$B$4:$H$664,5,0)),\"\",(VLOOKUP(B14,'KAYIT LİSTESİ'!$B$4:$H$664,5,0)))","v":""},{"$f":"IF(ISERROR(VLOOKUP(B14,'KAYIT LİSTESİ'!$B$4:$H$664,6,0)),\"\",(VLOOKUP(B14,'KAYIT LİSTESİ'!$B$4:$H$664,6,0)))","v":""},null,null,null,"",null,null,null,0,{"$f":"IF(LEN(N14)>0,VLOOKUP(N14,#REF!,2)-IF(COUNTIF(#REF!,N14)=0,0,0),\" \")","v":{"$error":"#REF!"}},null,1790,12]
[8,"CİRİT-8",{"$f":"IF(ISERROR(VLOOKUP(B15,'KAYIT LİSTESİ'!$B$4:$H$664,2,0)),\"\",(VLOOKUP(B15,'KAYIT LİSTESİ'!$B$4:$H$664,2,0)))","v":""},{"$f":"IF(ISERROR(VLOOKUP(B15,'KAYIT LİSTESİ'!$B$4:$H$664,4,0)),\"\",(VLOOKUP(B15,'KAYIT LİSTESİ'!$B$4:$H$664,4,0)))","v":""},{"$f":"IF(ISERROR(VLOOKUP(B15,'KAYIT LİSTESİ'!$B$4:$H$664,5,0)),\"\",(VLOOKUP(B15,'KAYIT LİSTESİ'!$B$4:$H$664,5,0)))","v":""},{"$f":"IF(ISERROR(VLOOKUP(B15,'KAYIT LİSTESİ'!$B$4:$H$664,6,0)),\"\",(VLOOKUP(B15,'KAYIT LİSTESİ'!$B$4:$H$664,6,0)))","v":""},null,null,null,"",null,null,null,0,{"$f":"IF(LEN(N15)>0,VLOOKUP(N15,#REF!,2)-IF(COUNTIF(#REF!,N15)=0,0,0),\" \")","v":{"$error":"#REF!"}},null,1842,13]
[9,"CİRİT-9",{"$f":"IF(ISERROR(VLOOKUP(B16,'KAYIT LİSTESİ'!$B$4:$H$664,2,0)),\"\",(VLOOKUP(B16,'KAYIT LİSTESİ'!$B$4:$H$664,2,0)))","v":""},{"$f":"IF(ISERROR(VLOOKUP(B16,'KAYIT LİSTESİ'!$B$4:$H$664,4,0)),\"\",(VLOOKUP(B16,'KAYIT LİSTESİ'!$B$4:$H$664,4,0)))","v":""},{"$f":"IF(ISERROR(VLOOKUP(B16,'KAYIT LİSTESİ'!$B$4:$H$664,5,0)),\"\",(VLOOKUP(B16,'KAYIT LİSTESİ'!$B$4:$H$664,5,0)))","v":""},{"$f":"IF(ISERROR(VLOOKUP(B16,'KAYIT LİSTESİ'!$B$4:$H$664,6,0)),\"\",(VLOOKUP(B16,'KAYIT LİSTESİ'!$B$4:$H$664,6,0)))","v":""},null,null,null,"",null,null,null,0,{"$f":"IF(LEN(N16)>0,VLOOKUP(N16,#REF!,2)-IF(COUNTIF(#REF!,N16)=0,0,0),\" \")","v":{"$error":"#REF!"}},null,1894,14]
[10,"CİRİT-10",{"$f":"IF(ISERROR(VLOOKUP(B17,'KAYIT LİSTESİ'!$B$4:$H$664,2,0)),\"\",(VLOOKUP(B17,'KAYIT LİSTESİ'!$B$4:$H$664,2,0)))","v":""},{"$f":"IF(ISERROR(VLOOKUP(B17,'KAYIT LİSTESİ'!$B$4:$H$664,4,0)),\"\",(VLOOKUP(B17,'KAYIT LİSTESİ'!$B$4:$H$664,4,0)))","v":""},{"$f":"IF(ISERROR(VLOOKUP(B17,'KAYIT LİSTESİ'!$B$4:$H$664,5,0)),\"\",(VLOOKUP(B17,'KAYIT LİSTESİ'!$B$4:$H$664,5,0)))","v":""},{"$f":"IF(ISERROR(VLOOKUP(B17,'KAYIT LİSTESİ'!$B$4:$H$664,6,0)),\"\",(VLOOKUP(B17,'KAYIT LİSTESİ'!$B$4:$H$664,6,0)))","v":""},null,null,null,"",null,null,null,0,{"$f":"IF(LEN(N17)>0,VLOOKUP(N17,#REF!,2)-IF(COUNTIF(#REF!,N17)=0,0,0),\" \")","v":{"$error":"#REF!"}},null,1946,15]
[11,"CİRİT-11",{"$f":"IF(ISERROR(VLOOKUP(B18,'KAYIT LİSTESİ'!$B$4:$H$664,2,0)),\"\",(VLOOKUP(B18,'KAYIT LİSTESİ'!$B$4:$H$664,2,0)))","v":""},{"$f":"IF(ISERROR(VLOOKUP(B18,'KAYIT LİSTESİ'!$B$4:$H$664,4,0)),\"\",(VLOOKUP(B18,'KAYIT LİSTESİ'!$B$4:$H$664,4,0)))","v":""},{"$f":"IF(ISERROR(VLOOKUP(B18,'KAYIT LİSTESİ'!$B$4:$H$664,5,0)),\"\",(VLOOKUP(B18,'KAYIT LİSTESİ'!$B$4:$H$664,5,0)))","v":""},{"$f":"IF(ISERROR(VLOOKUP(B18,'KAYIT LİSTESİ'!$B$4:$H$664,6,0)),\"\",(VLOOKUP(B18,'KAYIT LİSTESİ'!$B$4:$H$664,6,0)))","v":""},null,null,null,"",null,null,null,0,{"$f":"IF(LEN(N18)>0,VLOOKUP(N18,#REF!,2)-IF(COUNTIF(#REF!,N18)=0,0,0),\" \")","v":{"$error":"#REF!"}},null,1998,16]
[12,"CİRİT-12",{"$f":"IF(ISERROR(VLOOKUP(B19,'KAYIT LİSTESİ'!$B$4:$H$664,2,0)),\"\",(VLOOKUP(B19,'KAYIT LİSTESİ'!$B$4:$H$664,2,0)))","v":""},{"$f":"IF(ISERROR(VLOOKUP(B19,'KAYIT LİSTESİ'!$B$4:$H$664,4,0)),\"\",(VLOOKUP(B19,'KAYIT LİSTESİ'!$B$4:$H$664,4,0)))","v":""},{"$f":"IF(ISERROR(VLOOKUP(B19,'KAYIT LİSTESİ'!$B$4:$H$664,5,0)),\"\",(VLOOKUP(B19,'KAYIT LİSTESİ'!$B$4:$H$664,5,0)))","v":""},{"$f":"IF(ISERROR(VLOOKUP(B19,'KAYIT LİSTESİ'!$B$4:$H$664,6,0)),\"\",(VLOOKUP(B19,'KAYIT LİSTESİ'!$B$4:$H$664,6,0)))","v":""},null,null,null,"",null,null,null,0,{"$f":"IF(LEN(N19)>0,VLOOKUP(N19,#REF!,2)-IF(COUNTIF(#REF!,N19)=0,0,0),\" \")","v":{"$error":"#REF!"}},null,2050,17]
[13,"CİRİT-13",{"$f":"IF(ISERROR(VLOOKUP(B20,'KAYIT LİSTESİ'!$B$4:$H$664,2,0)),\"\",(VLOOKUP(B20,'KAYIT LİSTESİ'!$B$4:$H$664,2,0)))","v":""},{"$f":"IF(ISERROR(VLOOKUP(B20,'KAYIT LİSTESİ'!$B$4:$H$664,4,0)),\"\",(VLOOKUP(B20,'KAYIT LİSTESİ'!$B$4:$H$664,4,0)))","v":""},{"$f":"IF(ISERROR(VLOOKUP(B20,'KAYIT LİSTESİ'!$B$4:$H$664,5,0)),\"\",(VLOOKUP(B20,'KAYIT LİSTESİ'!$B$4:$H$664,5,0)))","v":""},{"$f":"IF(ISERROR(VLOOKUP(B20,'KAYIT LİSTESİ'!$B$4:$H$664,6,0)),\"\",(VLOOKUP(B20,'KAYIT LİSTESİ'!$B$4:$H$664,6,0)))","v":""},null,null,null,"",null,null,null,0,{"$f":"IF(LEN(N20)>0,VLOOKUP(N20,#REF!,2)-IF(COUNTIF(#REF!,N20)=0,0,0),\" \")","v":{"$error":"#REF!"}},null,2100,18]
[14,"CİRİT-14",{"$f":"IF(ISERROR(VLOOKUP(B21,'KAYIT LİSTESİ'!$B$4:$H$664,2,0)),\"\",(VLOOKUP(B21,'KAYIT LİSTESİ'!$B$4:$H$664,2,0)))","v":""},{"$f":"IF(ISERROR(VLOOKUP(B21,'KAYIT LİSTESİ'!$B$4:$H$664,4,0)),\"\",(VLOOKUP(B21,'KAYIT LİSTESİ'!$B$4:$H$664,4,0)))","v":""},{"$f":"IF(ISERROR(VLOOKUP(B21,'KAYIT LİSTESİ'!$B$4:$H$664,5,0)),\"\",(VLOOKUP(B21,'KAYIT LİSTESİ'!$B$4:$H$664,5,0)))","v":""},{"$f":"IF(ISERROR(VLOOKUP(B21,'KAYIT LİSTESİ'!$B$4:$H$664,6,0)),\"\",(VLOOKUP(B21,'KAYIT LİSTESİ'!$B$4:$H$664,6,0)))","v":""},null,null,null,"",null,null,null,0,{"$f":"IF(LEN(N21)>0,VLOOKUP(N21,#REF!,2)-IF(COUNTIF(#REF!,N21)=0,0,0),\" \")","v":{"$error":"#REF!"}},null,2150,19]
[15,"CİRİT-15",{"$f":"IF(ISERROR(VLOOKUP(B22,'KAYIT LİSTESİ'!$B$4:$H$664,2,0)),\"\",(VLOOKUP(B22,'KAYIT LİSTESİ'!$B$4:$H$664,2,0)))","v":""},{"$f":"IF(ISERROR(VLOOKUP(B22,'KAYIT LİSTESİ'!$B$4:$H$664,4,0)),\"\",(VLOOKUP(B22,'KAYIT LİSTESİ'!$B$4:$H$664,4,0)))","v":""},{"$f":"IF(ISERROR(VLOOKUP(B22,'KAYIT LİSTESİ'!$B$4:$H$664,5,0)),\"\",(VLOOKUP(B22,'KAYIT LİSTESİ'!$B$4:$H$664,5,0)))","v":""},{"$f":"IF(ISERROR(VLOOKUP(B22,'KAYIT LİSTESİ'!$B$4:$H$664,6,0)),\"\",(VLOOKUP(B22,'KAYIT LİSTESİ'!$B$4:$H$664,6,0)))","v":""},null,null,null,"",null,null,null,0,{"$f":"IF(LEN(N22)>0,VLOOKUP(N22,#REF!,2)-IF(COUNTIF(#REF!,N22)=0,0,0),\" \")","v":{"$error":"#REF!"}},null,2200,20]
[16,"CİRİT-16",{"$f":"IF(ISERROR(VLOOKUP(B23,'KAYIT LİSTESİ'!$B$4:$H$664,2,0)),\"\",(VLOOKUP(B23,'KAYIT LİSTESİ'!$B$4:$H$664,2,0)))","v":""},{"$f":"IF(ISERROR(VLOOKUP(B23,'KAYIT LİSTESİ'!$B$4:$H$664,4,0)),\"\",(VLOOKUP(B23,'KAYIT LİSTESİ'!$B$4:$H$664,4,0)))","v":""},{"$f":"IF(ISERROR(VLOOKUP(B23,'KAYIT LİSTESİ'!$B$4:$H$664,5,0)),\"\",(VLOOKUP(B23,'KAYIT LİSTESİ'!$B$4:$H$664,5,0)))","v":""},{"$f":"IF(ISERROR(VLOOKUP(B23,'KAYIT LİSTESİ'!$B$4:$H$664,6,0)),\"\",(VLOOKUP(B23,'KAYIT LİSTESİ'!$B$4:$H$664,6,0)))","v":""},null,null,null,"",null,null,null,0,{"$f":"IF(LEN(N23)>0,VLOOKUP(N23,#REF!,2)-IF(COUNTIF(#REF!,N23)=0,0,0),\" \")","v":{"$error":"#REF!"}},null,2250,21]
[null,"CİRİT-17",{"$f":"IF(ISERROR(VLOOKUP(B24,'KAYIT LİSTESİ'!$B$4:$H$664,2,0)),\"\",(VLOOKUP(B24,'KAYIT LİSTESİ'!$B$4:$H$664,2,0)))","v":""},{"$f":"IF(ISERROR(VLOOKUP(B24,'KAYIT LİSTESİ'!$B$4:$H$664,4,0)),\"\",(VLOOKUP(B24,'KAYIT LİSTESİ'!$B$4:$H$664,4,0)))","v":""},{"$f":"IF(ISERROR(VLOOKUP(B24,'KAYIT LİSTESİ'!$B$4:$H$664,5,0)),\"\",(VLOOKUP(B24,'KAYIT LİSTESİ'!$B$4:$H$664,5,0)))","v":""},{"$f":"IF(ISERROR(VLOOKUP(B24,'KAYIT LİSTESİ'!$B$4:$H$664,6,0)),\"\",(VLOOKUP(B24,'KAYIT LİSTESİ'!$B$4:$H$664,6,0)))","v":""},null,null,null,"",null,null,null,0,{"$f":"IF(LEN(N24)>0,VLOOKUP(N24,#REF!,2)-IF(COUNTIF(#REF!,N24)=0,0,0),\" \")","v":{"$error":"#REF!"}},null,2300,22]
[null,"CİRİT-18",{"$f":"IF(ISERROR(VLOOKUP(B25,'KAYIT LİSTESİ'!$B$4:$H$664,2,0)),\"\",(VLOOKUP(B25,'KAYIT LİSTESİ'!$B$4:$H$664,2,0)))","v":""},{"$f":"IF(ISERROR(VLOOKUP(B25,'KAYIT LİSTESİ'!$B$4:$H$664,4,0)),\"\",(VLOOKUP(B25,'KAYIT LİSTESİ'!$B$4:$H$664,4,0)))","v":""},{"$f":"IF(ISERROR(VLOOKUP(B25,'KAYIT LİSTESİ'!$B$4:$H$664,5,0)),\"\",(VLOOKUP(B25,'KAYIT LİSTESİ'!$B$4:$H$664,5,0)))","v":""},{"$f":"IF(ISERROR(VLOOKUP(B25,'KAYIT LİSTESİ'!$B$4:$H$664,6,0)),\"\",(VLOOKUP(B25,'KAYIT LİSTESİ'!$B$4:$H$664,6,0)))","v":""},null,null,null,"",null,null,null,0,{"$f":"IF(LEN(N25)>0,VLOOKUP(N25,#REF!,2)-IF(COUNTIF(#REF!,N25)=0,0,0),\" \")","v":{"$error":"#REF!"}},null,2350,23]
[null,"CİRİT-19",{"$f":"IF(ISERROR(VLOOKUP(B26,'KAYIT LİSTESİ'!$B$4:$H$664,2,0)),\"\",(VLOOKUP(B26,'KAYIT LİSTESİ'!$B$4:$H$664,2,0)))","v":""},{"$f":"IF(ISERROR(VLOOKUP(B26,'KAYIT LİSTESİ'!$B$4:$H$664,4,0)),\"\",(VLOOKUP(B26,'KAYIT LİSTESİ'!$B$4:$H$664,4,0)))","v":""},{"$f":"IF(ISERROR(VLOOKUP(B26,'KAYIT LİSTESİ'!$B$4:$H$664,5,0)),\"\",(VLOOKUP(B26,'KAYIT LİSTESİ'!$B$4:$H$664,5,0)))","v":""},{"$f":"IF(ISERROR(VLOOKUP(B26,'KAYIT LİSTESİ'!$B$4:$H$664,6,0)),\"\",(VLOOKUP(B26,'KAYIT LİSTESİ'!$B$4:$H$664,6,0)))","v":""},null,null,null,"",null,null,null,0,{"$f":"IF(LEN(N26)>0,VLOOKUP(N26,#REF!,2)-IF(COUNTIF(#REF!,N26)=0,0,0),\" \")","v":{"$error":"#REF!"}},null,2400,24]
[null,"CİRİT-20",{"$f":"IF(ISERROR(VLOOKUP(B27,'KAYIT LİSTESİ'!$B$4:$H$664,2,0)),\"\",(VLOOKUP(B27,'KAYIT LİSTESİ'!$B$4:$H$664,2,0)))","v":""},{"$f":"IF(ISERROR(VLOOKUP(B27,'KAYIT LİSTESİ'!$B$4:$H$664,4,0)),\"\",(VLOOKUP(B27,'KAYIT LİSTESİ'!$B$4:$H$664,4,0)))","v":""},{"$f":"IF(ISERROR(VLOOKUP(B27,'KAYIT LİSTESİ'!$B$4:$H$664,5,0)),\"\",(VLOOKUP(B27,'KAYIT LİSTESİ'!$B$4:$H$664,5,0)))","v":""},{"$f":"IF(ISERROR(VLOOKUP(B27,'KAYIT LİSTESİ'!$B$4:$H$664,6,0)),\"\",(VLOOKUP(B27,'KAYIT LİSTESİ'!$B$4:$H$664,6,0)))","v":""},null,null,null,"",null,null,null,0,{"$f":"IF(LEN(N27)>0,VLOOKUP(N27,#REF!,2)-IF(COUNTIF(#REF!,N27)=0,0,0),\" \")","v":{"$error":"#REF!"}},null,2450,25]
[null,"CİRİT-21",{"$f":"IF(ISERROR(VLOOKUP(B28,'KAYIT LİSTESİ'!$B$4:$H$664,2,0)),\"\",(VLOOKUP(B28,'KAYIT LİSTESİ'!$B$4:$H$664,2,0)))","v":""},{"$f":"IF(ISERROR(VLOOKUP(B28,'KAYIT LİSTESİ'!$B$4:$H$664,4,0)),\"\",(VLOOKUP(B28,'KAYIT LİSTESİ'!$B$4:$H$664,4,0)))","v":""},{"$f":"IF(ISERROR(VLOOKUP(B28,'KAYIT LİSTESİ'!$B$4:$H$664,5,0)),\"\",(VLOOKUP(B28,'KAYIT LİSTESİ'!$B$4:$H$664,5,0)))","v":""},{"$f":"IF(ISERROR(VLOOKUP(B28,'KAYIT LİSTESİ'!$B$4:$H$664,6,0)),\"\",(VLOOKUP(B28,'KAYIT LİSTESİ'!$B$4:$H$664,6,0)))","v":""},null,null,null,"",null,null,null,0,{"$f":"IF(LEN(N28)>0,VLOOKUP(N28,#REF!,2)-IF(COUNTIF(#REF!,N28)=0,0,0),\" \")","v":{"$error":"#REF!"}},null,2498,26]
[null,"CİRİT-22",{"$f":"IF(ISERROR(VLOOKUP(B29,'KAYIT LİSTESİ'!$B$4:$H$664,2,0)),\"\",(VLOOKUP(B29,'KAYIT LİSTESİ'!$B$4:$H$664,2,0)))","v":""},{"$f":"IF(ISERROR(VLOOKUP(B29,'KAYIT LİSTESİ'!$B$4:$H$664,4,0)),\"\",(VLOOKUP(B29,'KAYIT LİSTESİ'!$B$4:$H$664,4,0)))","v":""},{"$f":"IF(ISERROR(VLOOKUP(B29,'KAYIT LİSTESİ'!$B$4:$H$664,5,0)),\"\",(VLOOKUP(B29,'KAYIT LİSTESİ'!$B$4:$H$664,5,0)))","v":""},{"$f":"IF(ISERROR(VLOOKUP(B29,'KAYIT LİSTESİ'!$B$4:$H$664,6,0)),\"\",(VLOOKUP(B29,'KAYIT LİSTESİ'!$B$4:$H$664,6,0)))","v":""},null,null,null,"",null,null,null,0,{"$f":"IF(LEN(N29)>0,VLOOKUP(N29,#REF!,2)-IF(COUNTIF(#REF!,N29)=0,0,0),\" \")","v":{"$error":"#REF!"}},null,2546,27]
[null,"CİRİT-23",{"$f":"IF(ISERROR(VLOOKUP(B30,'KAYIT LİSTESİ'!$B$4:$H$664,2,0)),\"\",(VLOOKUP(B30,'KAYIT LİSTESİ'!$B$4:$H$664,2,0)))","v":""},{"$f":"IF(ISERROR(VLOOKUP(B30,'KAYIT LİSTESİ'!$B$4:$H$664,4,0)),\"\",(VLOOKUP(B30,'KAYIT LİSTESİ'!$B$4:$H$664,4,0)))","v":""},{"$f":"IF(ISERROR(VLOOKUP(B30,'KAYIT LİSTESİ'!$B$4:$H$664,5,0)),\"\",(VLOOKUP(B30,'KAYIT LİSTESİ'!$B$4:$H$664,5,0)))","v":""},{"$f":"IF(ISERROR(VLOOKUP(B30,'KAYIT LİSTESİ'!$B$4:$H$664,6,0)),\"\",(VLOOKUP(B30,'KAYIT LİSTESİ'!$B$4:$H$664,6,0)))","v":""},null,null,null,"",null,null,null,0,{"$f":"IF(LEN(N30)>0,VLOOKUP(N30,#REF!,2)-IF(COUNTIF(#REF!,N30)=0,0,0),\" \")","v":{"$error":"#REF!"}},null,2594,28]
[null,"CİRİT-24",{"$f":"IF(ISERROR(VLOOKUP(B31,'KAYIT LİSTESİ'!$B$4:$H$664,2,0)),\"\",(VLOOKUP(B31,'KAYIT LİSTESİ'!$B$4:$H$664,2,0)))","v":""},{"$f":"IF(ISERROR(VLOOKUP(B31,'KAYIT LİSTESİ'!$B$4:$H$664,4,0)),\"\",(VLOOKUP(B31,'KAYIT LİSTESİ'!$B$4:$H$664,4,0)))","v":""},{"$f":"IF(ISERROR(VLOOKUP(B31,'KAYIT LİSTESİ'!$B$4:$H$664,5,0)),\"\",(VLOOKUP(B31,'KAYIT LİSTESİ'!$B$4:$H$664,5,0)))","v":""},{"$f":"IF(ISERROR(VLOOKUP(B31,'KAYIT LİSTESİ'!$B$4:$H$664,6,0)),\"\",(VLOOKUP(B31,'KAYIT LİSTESİ'!$B$4:$H$664,6,0)))","v":""},null,null,null,"",null,null,null,0,{"$f":"IF(LEN(N31)>0,VLOOKUP(N31,#REF!,2)-IF(COUNTIF(#REF!,N31)=0,0,0),\" \")","v":{"$error":"#REF!"}},null,2642,29]
[null,"CİRİT-25",{"$f":"IF(ISERROR(VLOOKUP(B32,'KAYIT LİSTESİ'!$B$4:$H$664,2,0)),\"\",(VLOOKUP(B32,'KAYIT LİSTESİ'!$B$4:$H$664,2,0)))","v":""},{"$f":"IF(ISERROR(VLOOKUP(B32,'KAYIT LİSTESİ'!$B$4:$H$664,4,0)),\"\",(VLOOKUP(B32,'KAYIT LİSTESİ'!$B$4:$H$664,4,0)))","v":""},{"$f":"IF(ISERROR(VLOOKUP(B32,'KAYIT LİSTESİ'!$B$4:$H$664,5,0)),\"\",(VLOOKUP(B32,'KAYIT LİSTESİ'!$B$4:$H$664,5,0)))","v":""},{"$f":"IF(ISERROR(VLOOKUP(B32,'KAYIT LİSTESİ'!$B$4:$H$664,6,0)),\"\",(VLOOKUP(B32,'KAYIT LİSTESİ'!$B$4:$H$664,6,0)))","v":""},null,null,null,"",null,null,null,0,{"$f":"IF(LEN(N32)>0,VLOOKUP(N32,#REF!,2)-IF(COUNTIF(#REF!,N32)=0,0,0),\" \")","v":{"$error":"#REF!"}},null,2690,30]
[null,"CİRİT-26",{"$f":"IF(ISERROR(VLOOKUP(B33,'KAYIT LİSTESİ'!$B$4:$H$664,2,0)),\"\",(VLOOKUP(B33,'KAYIT LİSTESİ'!$B$4:$H$664,2,0)))","v":""},{"$f":"IF(ISERROR(VLOOKUP(B33,'KAYIT LİSTESİ'!$B$4:$H$664,4,0)),\"\",(VLOOKUP(B33,'KAYIT LİSTESİ'!$B$4:$H$664,4,0)))","v":""},{"$f":"IF(ISERROR(VLOOKUP(B33,'KAYIT LİSTESİ'!$B$4:$H$664,5,0)),\"\",(VLOOKUP(B33,'KAYIT LİSTESİ'!$B$4:$H$664,5,0)))","v":""},{"$f":"IF(ISERROR(VLOOKUP(B33,'KAYIT LİSTESİ'!$B$4:$H$664,6,0)),\"\",(VLOOKUP(B33,'KAYIT LİSTESİ'!$B$4:$H$664,6,0)))","v":""},null,null,null,"",null,null,null,0,{"$f":"IF(LEN(N33)>0,VLOOKUP(N33,#REF!,2)-IF(COUNTIF(#REF!,N33)=0,0,0),\" \")","v":{"$error":"#REF!"}},null,2738,31]
[null,"CİRİT-27",{"$f":"IF(ISERROR(VLOOKUP(B34,'KAYIT LİSTESİ'!$B$4:$H$664,2,0)),\"\",(VLOOKUP(B34,'KAYIT LİSTESİ'!$B$4:$H$664,2,0)))","v":""},{"$f":"IF(ISERROR(VLOOKUP(B34,'KAYIT LİSTESİ'!$B$4:$H$664,4,0)),\"\",(VLOOKUP(B34,'KAYIT LİSTESİ'!$B$4:$H$664,4,0)))","v":""},{"$f":"IF(ISERROR(VLOOKUP(B34,'KAYIT LİSTESİ'!$B$4:$H$664,5,0)),\"\",(VLOOKUP(B34,'KAYIT LİSTESİ'!$B$4:$H$664,5,0)))","v":""},{"$f":"IF(ISERROR(VLOOKUP(B34,'KAYIT LİSTESİ'!$B$4:$H$664,6,0)),\"\",(VLOOKUP(B34,'KAYIT LİSTESİ'!$B$4:$H$664,6,0)))","v":""},null,null,null,"",null,null,null,0,{"$f":"IF(LEN(N34)>0,VLOOKUP(N34,#REF!,2)-IF(COUNTIF(#REF!,N34)=0,0,0),\" \")","v":{"$error":"#REF!"}},null,2786,32]
[null,"CİRİT-28",{"$f":"IF(ISERROR(VLOOKUP(B35,'KAYIT LİSTESİ'!$B$4:$H$664,2,0)),\"\",(VLOOKUP(B35,'KAYIT LİSTESİ'!$B$4:$H$664,2,0)))","v":""},{"$f":"IF(ISERROR(VLOOKUP(B35,'KAYIT LİSTESİ'!$B$4:$H$664,4,0)),\"\",(VLOOKUP(B35,'KAYIT LİSTESİ'!$B$4:$H$664,4,0)))","v":""},{"$f":"IF(ISERROR(VLOOKUP(B35,'KAYIT LİSTESİ'!$B$4:$H$664,5,0)),\"\",(VLOOKUP(B35,'KAYIT LİSTESİ'!$B$4:$H$664,5,0)))","v":""},{"$f":"IF(ISERROR(VLOOKUP(B35,'KAYIT LİSTESİ'!$B$4:$H$664,6,0)),\"\",(VLOOKUP(B35,'KAYIT LİSTESİ'!$B$4:$H$664,6,0)))","v":""},null,null,null,"",null,null,null,0,{"$f":"IF(LEN(N35)>0,VLOOKUP(N35,#REF!,2)-IF(COUNTIF(#REF!,N35)=0,0,0),\" \")","v":{"$error":"#REF!"}},null,2834,33]
[null,"CİRİT-29",{"$f":"IF(ISERROR(VLOOKUP(B36,'KAYIT LİSTESİ'!$B$4:$H$664,2,0)),\"\",(VLOOKUP(B36,'KAYIT LİSTESİ'!$B$4:$H$664,2,0)))","v":""},{"$f":"IF(ISERROR(VLOOKUP(B36,'KAYIT LİSTESİ'!$B$4:$H$664,4,0)),\"\",(VLOOKUP(B36,'KAYIT LİSTESİ'!$B$4:$H$664,4,0)))","v":""},{"$f":"IF(ISERROR(VLOOKUP(B36,'KAYIT LİSTESİ'!$B$4:$H$664,5,0)),\"\",(VLOOKUP(B36,'KAYIT LİSTESİ'!$B$4:$H$664,5,0)))","v":""},{"$f":"IF(ISERROR(VLOOKUP(B36,'KAYIT LİSTESİ'!$B$4:$H$664,6,0)),\"\",(VLOOKUP(B36,'KAYIT LİSTESİ'!$B$4:$H$664,6,0)))","v":""},null,null,null,"",null,null,null,0,{"$f":"IF(LEN(N36)>0,VLOOKUP(N36,#REF!,2)-IF(COUNTIF(#REF!,N36)=0,0,0),\" \")","v":{"$error":"#REF!"}},null,2880,34]
[null,"CİRİT-30",{"$f":"IF(ISERROR(VLOOKUP(B37,'KAYIT LİSTESİ'!$B$4:$H$664,2,0)),\"\",(VLOOKUP(B37,'KAYIT LİSTESİ'!$B$4:$H$664,2,0)))","v":""},{"$f":"IF(ISERROR(VLOOKUP(B37,'KAYIT LİSTESİ'!$B$4:$H$664,4,0)),\"\",(VLOOKUP(B37,'KAYIT LİSTESİ'!$B$4:$H$664,4,0)))","v":""},{"$f":"IF(ISERROR(VLOOKUP(B37,'KAYIT LİSTESİ'!$B$4:$H$664,5,0)),\"\",(VLOOKUP(B37,'KAYIT LİSTESİ'!$B$4:$H$664,5,0)))","v":""},{"$f":"IF(ISERROR(VLOOKUP(B37,'KAYIT LİSTESİ'!$B$4:$H$664,6,0)),\"\",(VLOOKUP(B37,'KAYIT LİSTESİ'!$B$4:$H$664,6,0)))","v":""},null,null,null,"",null,null,null,0,{"$f":"IF(LEN(N37)>0,VLOOKUP(N37,#REF!,2)-IF(COUNTIF(#REF!,N37)=0,0,0),\" \")","v":{"$error":"#REF!"}},null,2926,35]
[null,"CİRİT-31",{"$f":"IF(ISERROR(VLOOKUP(B38,'KAYIT LİSTESİ'!$B$4:$H$664,2,0)),\"\",(VLOOKUP(B38,'KAYIT LİSTESİ'!$B$4:$H$664,2,0)))","v":""},{"$f":"IF(ISERROR(VLOOKUP(B38,'KAYIT LİSTESİ'!$B$4:$H$664,4,0)),\"\",(VLOOKUP(B38,'KAYIT LİSTESİ'!$B$4:$H$664,4,0)))","v":""},{"$f":"IF(ISERROR(VLOOKUP(B38,'KAYIT LİSTESİ'!$B$4:$H$664,5,0)),\"\",(VLOOKUP(B38,'KAYIT LİSTESİ'!$B$4:$H$664,5,0)))","v":""},{"$f":"IF(ISERROR(VLOOKUP(B38,'KAYIT LİSTESİ'!$B$4:$H$664,6,0)),\"\",(VLOOKUP(B38,'KAYIT LİSTESİ'!$B$4:$H$664,6,0)))","v":""},null,null,null,"",null,null,null,0,{"$f":"IF(LEN(N38)>0,VLOOKUP(N38,#REF!,2)-IF(COUNTIF(#REF!,N38)=0,0,0),\" \")","v":{"$error":"#REF!"}},null,2972,36]
[null,"CİRİT-32",{"$f":"IF(ISERROR(VLOOKUP(B39,'KAYIT LİSTESİ'!$B$4:$H$664,2,0)),\"\",(VLOOKUP(B39,'KAYIT LİSTESİ'!$B$4:$H$664,2,0)))","v":""},{"$f":"IF(ISERROR(VLOOKUP(B39,'KAYIT LİSTESİ'!$B$4:$H$664,4,0)),\"\",(VLOOKUP(B39,'KAYIT LİSTESİ'!$B$4:$H$664,4,0)))","v":""},{"$f":"IF(ISERROR(VLOOKUP(B39,'KAYIT LİSTESİ'!$B$4:$H$664,5,0)),\"\",(VLOOKUP(B39,'KAYIT LİSTESİ'!$B$4:$H$664,5,0)))","v":""},{"$f":"IF(ISERROR(VLOOKUP(B39,'KAYIT LİSTESİ'!$B$4:$H$664,6,0)),\"\",(VLOOKUP(B39,'KAYIT LİSTESİ'!$B$4:$H$664,6,0)))","v":""},null,null,null,"",null,null,null,0,{"$f":"IF(LEN(N39)>0,VLOOKUP(N39,#REF!,2)-IF(COUNTIF(#REF!,N39)=0,0,0),\" \")","v":{"$error":"#REF!"}},null,3018,37]
[null,"CİRİT-33",{"$f":"IF(ISERROR(VLOOKUP(B40,'KAYIT LİSTESİ'!$B$4:$H$664,2,0)),\"\",(VLOOKUP(B40,'KAYIT LİSTESİ'!$B$4:$H$664,2,0)))","v":""},{"$f":"IF(ISERROR(VLOOKUP(B40,'KAYIT LİSTESİ'!$B$4:$H$664,4,0)),\"\",(VLOOKUP(B40,'KAYIT LİSTESİ'!$B$4:$H$664,4,0)))","v":""},{"$f":"IF(ISERROR(VLOOKUP(B40,'KAYIT LİSTESİ'!$B$4:$H$664,5,0)),\"\",(VLOOKUP(B40,'KAYIT LİSTESİ'!$B$4:$H$664,5,0)))","v":""},{"$f":"IF(ISERROR(VLOOKUP(B40,'KAYIT LİSTESİ'!$B$4:$H$664,6,0)),\"\",(VLOOKUP(B40,'KAYIT LİSTESİ'!$B$4:$H$664,6,0)))","v":""},null,null,null,"",null,null,null,0,{"$f":"IF(LEN(N40)>0,VLOOKUP(N40,#REF!,2)-IF(COUNTIF(#REF!,N40)=0,0,0),\" \")","v":{"$error":"#REF!"}},null,3064,38]
[null,"CİRİT-34",{"$f":"IF(ISERROR(VLOOKUP(B41,'KAYIT LİSTESİ'!$B$4:$H$664,2,0)),\"\",(VLOOKUP(B41,'KAYIT LİSTESİ'!$B$4:$H$664,2,0)))","v":""},{"$f":"IF(ISERROR(VLOOKUP(B41,'KAYIT LİSTESİ'!$B$4:$H$664,4,0)),\"\",(VLOOKUP(B41,'KAYIT LİSTESİ'!$B$4:$H$664,4,0)))","v":""},{"$f":"IF(ISERROR(VLOOKUP(B41,'KAYIT LİSTESİ'!$B$4:$H$664,5,0)),\"\",(VLOOKUP(B41,'KAYIT LİSTESİ'!$B$4:$H$664,5,0)))","v":""},{"$f":"IF(ISERROR(VLOOKUP(B41,'KAYIT LİSTESİ'!$B$4:$H$664,6,0)),\"\",(VLOOKUP(B41,'KAYIT LİSTESİ'!$B$4:$H$664,6,0)))","v":""},null,null,null,"",null,null,null,0,{"$f":"IF(LEN(N41)>0,VLOOKUP(N41,#REF!,2)-IF(COUNTIF(#REF!,N41)=0,0,0),\" \")","v":{"$error":"#REF!"}},null,3110,39]
[null,"CİRİT-35",{"$f":"IF(ISERROR(VLOOKUP(B42,'KAYIT LİSTESİ'!$B$4:$H$664,2,0)),\"\",(VLOOKUP(B42,'KAYIT LİSTESİ'!$B$4:$H$664,2,0)))","v":""},{"$f":"IF(ISERROR(VLOOKUP(B42,'KAYIT LİSTESİ'!$B$4:$H$664,4,0)),\"\",(VLOOKUP(B42,'KAYIT LİSTESİ'!$B$4:$H$664,4,0)))","v":""},{"$f":"IF(ISERROR(VLOOKUP(B42,'KAYIT LİSTESİ'!$B$4:$H$664,5,0)),\"\",(VLOOKUP(B42,'KAYIT LİSTESİ'!$B$4:$H$664,5,0)))","v":""},{"$f":"IF(ISERROR(VLOOKUP(B42,'KAYIT LİSTESİ'!$B$4:$H$664,6,0)),\"\",(VLOOKUP(B42,'KAYIT LİSTESİ'!$B$4:$H$664,6,0)))","v":""},null,null,null,"",null,null,null,0,{"$f":"IF(LEN(N42)>0,VLOOKUP(N42,#REF!,2)-IF(COUNTIF(#REF!,N42)=0,0,0),\" \")","v":{"$error":"#REF!"}},null,3156,40]
[null,"CİRİT-36",{"$f":"IF(ISERROR(VLOOKUP(B43,'KAYIT LİSTESİ'!$B$4:$H$664,2,0)),\"\",(VLOOKUP(B43,'KAYIT LİSTESİ'!$B$4:$H$664,2,0)))","v":""},{"$f":"IF(ISERROR(VLOOKUP(B43,'KAYIT LİSTESİ'!$B$4:$H$664,4,0)),\"\",(VLOOKUP(B43,'KAYIT LİSTESİ'!$B$4:$H$664,4,0)))","v":""},{"$f":"IF(ISERROR(VLOOKUP(B43,'KAYIT LİSTESİ'!$B$4:$H$664,5,0)),\"\",(VLOOKUP(B43,'KAYIT LİSTESİ'!$B$4:$H$664,5,0)))","v":""},{"$f":"IF(ISERROR(VLOOKUP(B43,'KAYIT LİSTESİ'!$B$4:$H$664,6,0)),\"\",(VLOOKUP(B43,'KAYIT LİSTESİ'!$B$4:$H$664,6,0)))","v":""},null,null,null,"",null,null,null,0,{"$f":"IF(LEN(N43)>0,VLOOKUP(N43,#REF!,2)-IF(COUNTIF(#REF!,N43)=0,0,0),\" \")","v":{"$error":"#REF!"}},null,3202,41]
[null,"CİRİT-37",{"$f":"IF(ISERROR(VLOOKUP(B44,'KAYIT LİSTESİ'!$B$4:$H$664,2,0)),\"\",(VLOOKUP(B44,'KAYIT LİSTESİ'!$B$4:$H$664,2,0)))","v":""},{"$f":"IF(ISERROR(VLOOKUP(B44,'KAYIT LİSTESİ'!$B$4:$H$664,4,0)),\"\",(VLOOKUP(B44,'KAYIT LİSTESİ'!$B$4:$H$664,4,0)))","v":""},{"$f":"IF(ISERROR(VLOOKUP(B44,'KAYIT LİSTESİ'!$B$4:$H$664,5,0)),\"\",(VLOOKUP(B44,'KAYIT LİSTESİ'!$B$4:$H$664,5,0)))","v":""},{"$f":"IF(ISERROR(VLOOKUP(B44,'KAYIT LİSTESİ'!$B$4:$H$664,6,0)),\"\",(VLOOKUP(B44,'KAYIT LİSTESİ'!$B$4:$H$664,6,0)))","v":""},null,null,null,"",null,null,null,0,{"$f":"IF(LEN(N44)>0,VLOOKUP(N44,#REF!,2)-IF(COUNTIF(#REF!,N44)=0,0,0),\" \")","v":{"$error":"#REF!"}},null,3248,42]
[null,"CİRİT-38",{"$f":"IF(ISERROR(VLOOKUP(B45,'KAYIT LİSTESİ'!$B$4:$H$664,2,0)),\"\",(VLOOKUP(B45,'KAYIT LİSTESİ'!$B$4:$H$664,2,0)))","v":""},{"$f":"IF(ISERROR(VLOOKUP(B45,'KAYIT LİSTESİ'!$B$4:$H$664,4,0)),\"\",(VLOOKUP(B45,'KAYIT LİSTESİ'!$B$4:$H$664,4,0)))","v":""},{"$f":"IF(ISERROR(VLOOKUP(B45,'KAYIT LİSTESİ'!$B$4:$H$664,5,0)),\"\",(VLOOKUP(B45,'KAYIT LİSTESİ'!$B$4:$H$664,5,0)))","v":""},{"$f":"IF(ISERROR(VLOOKUP(B45,'KAYIT LİSTESİ'!$B$4:$H$664,6,0)),\"\",(VLOOKUP(B45,'KAYIT LİSTESİ'!$B$4:$H$664,6,0)))","v":""},null,null,null,"",null,null,null,0,{"$f":"IF(LEN(N45)>0,VLOOKUP(N45,#REF!,2)-IF(COUNTIF(#REF!,N45)=0,0,0),\" \")","v":{"$error":"#REF!"}},null,3292,43]
[null,"CİRİT-39",{"$f":"IF(ISERROR(VLOOKUP(B46,'KAYIT LİSTESİ'!$B$4:$H$664,2,0)),\"\",(VLOOKUP(B46,'KAYIT LİSTESİ'!$B$4:$H$664,2,0)))","v":""},{"$f":"IF(ISERROR(VLOOKUP(B46,'KAYIT LİSTESİ'!$B$4:$H$664,4,0)),\"\",(VLOOKUP(B46,'KAYIT LİSTESİ'!$B$4:$H$664,4,0)))","v":""},{"$f":"IF(ISERROR(VLOOKUP(B46,'KAYIT LİSTESİ'!$B$4:$H$664,5,0)),\"\",(VLOOKUP(B46,'KAYIT LİSTESİ'!$B$4:$H$664,5,0)))","v":""},{"$f":"IF(ISERROR(VLOOKUP(B46,'KAYIT LİSTESİ'!$B$4:$H$664,6,0)),\"\",(VLOOKUP(B46,'KAYIT LİSTESİ'!$B$4:$H$664,6,0)))","v":""},null,null,null,"",null,null,null,0,{"$f":"IF(LEN(N46)>0,VLOOKUP(N46,#REF!,2)-IF(COUNTIF(#REF!,N46)=0,0,0),\" \")","v":{"$error":"#REF!"}},null,3336,44]
[null,"CİRİT-40",{"$f":"IF(ISERROR(VLOOKUP(B47,'KAYIT LİSTESİ'!$B$4:$H$664,2,0)),\"\",(VLOOKUP(B47,'KAYIT LİSTESİ'!$B$4:$H$664,2,0)))","v":""},{"$f":"IF(ISERROR(VLOOKUP(B47,'KAYIT LİSTESİ'!$B$4:$H$664,4,0)),\"\",(VLOOKUP(B47,'KAYIT LİSTESİ'!$B$4:$H$664,4,0)))","v":""},{"$f":"IF(ISERROR(VLOOKUP(B47,'KAYIT LİSTESİ'!$B$4:$H$664,5,0)),\"\",(VLOOKUP(B47,'KAYIT LİSTESİ'!$B$4:$H$664,5,0)))","v":""},{"$f":"IF(ISERROR(VLOOKUP(B47,'KAYIT LİSTESİ'!$B$4:$H$664,6,0)),\"\",(VLOOKUP(B47,'KAYIT LİSTESİ'!$B$4:$H$664,6,0)))","v":""},null,null,null,"",null,null,null,0,{"$f":"IF(LEN(N47)>0,VLOOKUP(N47,#REF!,2)-IF(COUNTIF(#REF!,N47)=0,0,0),\" \")","v":{"$error":"#REF!"}},null,3380,45]
[null,null,null,null,null,null,null,null,null,null,null,null,null,null,null,null,3424,46]
["Müsabaka \nDirektörü",null,null,null,"Baş Hakem","Lider","Sekreter",null,null,null,null,null,null,"Hakem",null,null,3468,47]
[null,null,null,null,null,null,null,null,null,null,null,null,null,null,null,null,3512,48]
[null,null,null,null,null,null,null,null,null,null,null,null,null,null,null,null,3556,49]
[null,null,null,null,null,null,null,null,null,null,null,null,null,null,null,null,3600,50]
[null,null,null,null,null,null,null,null,null,null,null,null,null,null,null,null,3644,51]
[null,null,null,null,null,null,null,null,null,null,null,null,null,null,null,null,3688,52]
[null,null,null,null,null,null,null,null,null,null,null,null,null,null,null,null,3732,53]
[null,null,null,null,null,null,null,null,null,null,null,null,null,null,null,null,3776,54]
[null,null,null,null,null,null,null,null,null,null,null,null,null,null,null,null,3820,55]
[null,null,null,null,null,null,null,null,null,null,null,null,null,null,null,null,3864,56]
[null,null,null,null,null,null,null,null,null,null,null,null,null,null,null,null,3908,57]
[null,null,null,null,null,null,null,null,null,null,null,null,null,null,null,null,3952,58]
[null,null,null,null,null,null,null,null,null,null,null,null,null,null,null,null,3994,59]
[null,null,null,null,null,null,null,null,null,null,null,null,null,null,null,null,4036,60]
[null,null,null,null,null,null,null,null,null,null,null,null,null,null,null,null,4078,61]
[null,null,null,null,null,null,null,null,null,null,null,null,null,null,null,null,4120,62]
[null,null,null,null,null,null,null,null,null,null,null,null,null,null,null,null,4162,63]
[null,null,null,null,null,null,null,null,null,null,null,null,null,null,null,null,4204,64]
[null,null,null,null,null,null,null,null,null,null,null,null,null,null,null,null,4246,65]
[null,null,null,null,null,null,null,null,null,null,null,null,null,null,null,null,4288,66]
[null,null,null,null,null,null,null,null,null,null,null,null,null,null,null,null,4330,67]
[null,null,null,null,null,null,null,null,null,null,null,null,null,null,null,null,4370,68]
[null,null,null,null,null,null,null,null,null,null,null,null,null,null,null,null,4410,69]
[null,null,null,null,null,null,null,null,null,null,null,null,null,null,null,null,4450,70]
[null,null,null,null,null,null,null,null,null,null,null,null,null,null,null,null,4490,71]
[null,null,null,null,null,null,null,null,null,null,null,null,null,null,null,null,4530,72]
[null,null,null,null,null,null,null,null,null,null,null,null,null,null,null,null,4570,73]
[null,null,null,null,null,null,null,null,null,null,null,null,null,null,null,null,4610,74]
[null,null,null,null,null,null,null,null,null,null,null,null,null,null,null,null,4650,75]
[null,null,null,null,null,null,null,null,null,null,null,null,null,null,null,null,4690,76]
[null,null,null,null,null,null,null,null,null,null,null,null,null,null,null,null,4730,77]
[null,null,null,null,null,null,null,null,null,null,null,null,null,null,null,null,4770,78]
[null,null,null,null,null,null,null,null,null,null,null,null,null,null,null,null,4810,79]
[null,null,null,null,null,null,null,null,null,null,null,null,null,null,null,null,4850,80]
[null,null,null,null,null,null,null,null,null,null,null,null,null,null,null,null,4890,81]
[null,null,null,null,null,null,null,null,null,null,null,null,null,null,null,null,4930,82]
[null,null,null,null,null,null,null,null,null,null,null,null,null,null,null,null,4970,83]
[null,null,null,null,null,null,null,null,null,null,null,null,null,null,null,null,5008,84]
[null,null,null,null,null,null,null,null,null,null,null,null,null,null,null,null,5046,85]
[null,null,null,null,null,null,null,null,null,null,null,null,null,null,null,null,5084,86]
[null,null,null,null,null,null,null,null,null,null,null,null,null,null,null,null,5122,87]
[null,null,null,null,null,null,null,null,null,null,null,null,null,null,null,null,5160,88]
[null,null,null,null,null,null,null,null,null,null,null,null,null,null,null,null,5198,89]
[null,null,null,null,null,null,null,null,null,null,null,null,null,null,null,null,5236,90]
[null,null,null,null,null,null,null,null,null,null,null,null,null,null,null,null,5274,91]
[null,null,null,null,null,null,null,null,null,null,null,null,null,null,null,null,5312,92]
[null,null,null,null,null,null,null,null,null,null,null,null,null,null,null,null,5348,93]
[null,null,null,null,null,null,null,null,null,null,null,null,null,null,null,null,5384,94]
[null,null,null,null,null,null,null,null,null,null,null,null,null,null,null,null,5420,95]
[null,null,null,null,null,null,null,null,null,null,null,null,null,null,null,null,5456,96]
[null,null,null,null,null,null,null,null,null,null,null,null,null,null,null,null,5492,97]
[null,null,null,null,null,null,null,null,null,null,null,null,null,null,null,null,5528,98]
[null,null,null,null,null,null,null,null,null,null,null,null,null,null,null,null,5564,99]
[null,null,null,null,null,null,null,null,null,null,null,null,null,null,null,null,5600,100]